{"text_format":"1","workbook":"xlsx","n_sheets":9,"sheets":["Accueil","HELP","KPTiva","Sauvegarde","Calculator","DRUGS","Domino ABC","CLEMENTS","KAMP"],"not_rendered":{"charts":4,"images":16,"macros":1,"external_links":0,"defined_names":76,"comments":0,"pivot_tables":0},"unopened":[],"bounds":{"document_bytes":16777216,"sheet_cells":100000,"rows_first":2000,"rows_last":500,"rows_between":2000,"halvings":0,"cell_chars":16384,"cell_head_chars":4096},"cells_cut":0,"cells_raw":0,"read":"whole","date_system":"1900"}

{"sheet":"Accueil","index":0,"n_rows":24,"n_cols":10,"rows_kept":24,"cut":false,"hidden":false,"merged":[[14,2,14,5],[4,9,4,13],[19,2,19,5],[20,2,20,5]]}
[]
[]
[]
[]
[]
[]
[null,null,null,null,null,null,null,null,null,"1. Select the File tab and choose Options."]
[null,null,null,null,null,null,null,null,null,"2. Select Trust Center, and then choose Trust Center Settings."]
[null,null,null,null,null,null,null,null,null,"3. In the Trust Center, select Macro Settings."]
[]
[]
[]
[]
[]
[null,null,"KetaPK release 1.04. Georges Mion ©  2026"]
[]
[]
[]
[]
[null,null,"if macros are"]
[null,null,"already enabled"]
[]
[]
[null,null,null,"OR"]

{"sheet":"HELP","index":1,"n_rows":47,"n_cols":19,"rows_kept":47,"cut":false,"hidden":false,"merged":[[46,15,46,17],[20,1,20,11],[21,1,21,11],[5,15,5,22],[7,15,7,22],[12,3,12,9],[13,3,13,9],[19,1,19,11],[4,3,6,9],[10,1,10,11],[16,1,16,11],[11,3,11,7],[11,8,11,9],[8,3,8,9]]}
[]
[]
[null,null,null,null,null,null,null,null,null,null,null,null,null,null,"Zoom value:",null,112,null,"You can use this control to adjust the zoom"]
[]
[null,null,null,"KetaPK release 1.04. Georges Mion ©  2026"]
[null,null,null,null,null,null,null,null,null,null,null,null,null,null,null,"Enable macros!"]
[]
[null,null,null,null,null,null,null,null,null,null,null,null,null,null,null,"Use the correct decimal separator!"]
[null,null,null,"Before starting KetaPK (Ketamine Pharmaco Kinetics) with Excel"]
[]
[null,"KetaPK simulates esketamine or racemic ketamine plasmatic concentrations after IV administration (bolus or infusion)"]
[]
[null,null,null,"KetaPK is ONLY for educational purpose"]
[null,null,null,"and should NOT be used for therapeutic management"]
[]
[]
[null,"BEWARE: KetaPK has been written with Microsoft Excel 2016.  "]
[]
[]
[null,"With another software, malfunction may affect macrocommands. "]
[null,"You must ABSOLUTELY activate macros"]
[null,"DECIMALS (e.g., 2.5 mg) must be entered with the CORRECT SEPARATOR  (point or comma depending on your system)."]
[]
[]
[null,"STEPS",1,"First, enter patient weight, height and age"]
[null,null,null,"You are in Excel environment: do not forget to press the \"enter\" key !"]
[null,null,2,"Check drug concentration !!"]
[null,null,null,"You can convert mg, mL, mg/kg, mg/kg/h, µg/kg/min with the calculator"]
[]
[null,null,3,"Choose your drug  (Esketamine or racemate) "]
[]
[null,null,4,"You may inject either  IV boluses (mg), or infusions (mg/kg/h and µg/kg/min)"]
[]
[null,null,5,"Time is displayed as minutes (0 - 300 min). The bigger your screen, the better!"]
[]
[null,null,6,"To stop an infusion, you must enter a \"zero\" value at the time (min) it is stopped"]
[null,null,null,"Infused volume is the incremental quantity of administered solution (depends on drug concentration)"]
[]
[null,null,null,null,null,"The control panel displays plasmatic drug concentrations (ng/mL)"]
[]
[null,null,null,null,null,"The color depends of the concentration effect (see \"Models\" panel)"]
[]
[null,null,7,"You can display labels on the curves, with special colour codes (go to drugs for explanation)"]
[]
[null,null,8,"You can save all the calculated concentrations and use them in another File"]
[]
[null,null,9,"BEWARE: It is advised to erase all entered data between each simulation (New simulation) ",null,null,null,null,null,null,null,null,null,null,null,"ENJOY !"]

{"sheet":"KPTiva","index":2,"n_rows":4440,"n_cols":87,"rows_kept":4440,"cut":false,"hidden":false,"merged":[[4,1,4,4],[33,73,34,73],[7,1,7,4],[2,3,2,6],[3,2,3,3]]}
[]
[]
[]
[null,null,5,null,"mg/mL"]
[]
[]
[]
[null,"PATIENT"]
[]
[null,"Age",40,null,"Years old"]
[]
[null,"Weight",70,null,"Kg"]
[]
[null,"Height",170,null,"cm"]
[]
[null,null,"BMI",null,{"$f":"10000*Poids/(C14*C14)","v":24.221453287197232},null,"Kg/m2"]
[]
[]
[]
[]
[]
[]
[]
[]
[null,null,null,"Zoom (%)"]
[null,null,null,null,90]
[]
[]
[null,null,null,null,"Time",null,"min",null,0,5,10,15,20,25,30,35,40,45,50,55,60,65,70,75,80,85,90,95,100,105,110,115,120,125,130,135,140,145,150,155,160,165,170,175,180,185,190,195,200,205,210,215,220,225,230,235,240,245,250,255,260,265,270,275,280,285,290,295,300]
[]
[null,null,null,null,"Bolus",null,"mg"]
[null,null,null,null,"Infusion",null,null,null,"Enter the boluses and infusion rate (mg/kg/h or µg/kg/min)",null,null,null,null,null,null,null,null,null,null,null,null,null,null,null,null,null,null,null,null,null,null,null,null,null,null,null,null,null,null,null,null,null,null,null,null,null,null,null,null,null,null,null,null,null,null,null,null,null,null,null,null,null,null,null,null,null,null,null,null,null,null,null,null,null,null,null,null,null,null,null,null,null,null,"Mode"]
[null,null,null,null,"mg/kg/h",null,null,{"$f":"G33","v":0},{"$f":"H33","v":0},0,0,0,0,0,0,0,0,0,0,0,0,0,0,0,0,0,0,0,0,0,0,0,0,0,0,0,0,0,0,0,0,0,0,0,0,0,0,0,0,0,0,0,0,0,0,0,0,0,0,0,0,0,0,0,0,0,0,0,0,null,null,null,null,"REGLES DE MISE EN FORME CONDITIONNELLE",null,null,null,null,null,null,null,null,null,"Cellule TEST",null,null,1000]
[null,null,null,null,"µg/kg/min",null,null,{"$f":"G34","v":0},{"$f":"H34","v":0},0,0,0,0,0,0,0,0,0,0,0,0,0,0,0,0,0,0,0,0,0,0,0,0,0,0,0,0,0,0,0,0,0,0,0,0,0,0,0,0,0,0,0,0,0,0,0,0,0,0,0,0,0,0,0,0,0,0,0,0,null,null,null,null,"Eskétamine"]
[]
[null,null,null,null,"Volume",null,"mL",null,{"$f":"(I31/Concentration_Ketamine) + (    (5*I33*Poids)/(60*Concentration_Ketamine)      ) + (       (5*I34*Poids)/(1000*Concentration_Ketamine)        )","v":0},{"$f":"I36 + (J31/Concentration_Ketamine) + (    (5*J33*Poids)/(60*Concentration_Ketamine)      ) + (       (5*J34*Poids)/(1000*Concentration_Ketamine)        )","v":0},0,0,0,0,0,0,0,0,0,0,0,0,0,0,0,0,0,0,0,0,0,0,0,0,0,0,0,0,0,0,{"$f":"AN36 + (AO31/Concentration_Ketamine) + (    (5*AO33*Poids)/(60*Concentration_Ketamine)      ) + (       (5*AO34*Poids)/(1000*Concentration_Ketamine)        )","v":0},0,0,0,0,0,0,0,0,0,0,0,0,0,0,0,0,0,0,0,0,0,0,0,0,0,0,0,0,null,null,null,null,null,0,10,10,50,50,150,150,350,350,500,500,1000,1000]
[null,null,null,null,null,null,null,null,null,null,null,null,null,null,null,null,null,null,null,null,null,null,null,null,null,null,null,null,null,null,null,null,null,null,null,null,null,null,null,null,null,null,null,null,null,null,null,null,null,null,null,null,null,null,null,null,null,null,null,null,null,null,null,null,null,null,null,null,null,null,null,null,null,"Kétamine"]
[null,null,null,null,"PK MODELS",null,null,null,"Plasmatic Concentrations (ng/mL)",null,null,null,null,null,null,null,null,null,null,null,null,null,null,null,null,null,null,null,null,null,null,null,null,null,null,null,null,null,null,null,null,null,null,null,null,null,null,null,null,null,null,null,null,null,null,null,null,null,null,null,null,null,null,null,null,null,null,null,null,null,null,null,null,null,0,20,20,100,100,300,300,700,700,700,1000,2000,2000]
[]
[null,true,"Labels",null,"DOMINO",null,null,0,{"$f":"'Domino ABC'!J79","v":0},{"$f":"'Domino ABC'!K79","v":0},{"$f":"'Domino ABC'!L79","v":0},{"$f":"'Domino ABC'!M79","v":0},{"$f":"'Domino ABC'!N79","v":0},{"$f":"'Domino ABC'!O79","v":0},{"$f":"'Domino ABC'!P79","v":0},{"$f":"'Domino ABC'!Q79","v":0},{"$f":"'Domino ABC'!R79","v":0},{"$f":"'Domino ABC'!S79","v":0},{"$f":"'Domino ABC'!T79","v":0},{"$f":"'Domino ABC'!U79","v":0},{"$f":"'Domino ABC'!V79","v":0},{"$f":"'Domino ABC'!W79","v":0},{"$f":"'Domino ABC'!X79","v":0},{"$f":"'Domino ABC'!Y79","v":0},{"$f":"'Domino ABC'!Z79","v":0},{"$f":"'Domino ABC'!AA79","v":0},{"$f":"'Domino ABC'!AB79","v":0},{"$f":"'Domino ABC'!AC79","v":0},{"$f":"'Domino ABC'!AD79","v":0},{"$f":"'Domino ABC'!AE79","v":0},{"$f":"'Domino ABC'!AF79","v":0},{"$f":"'Domino ABC'!AG79","v":0},{"$f":"'Domino ABC'!AH79","v":0},{"$f":"'Domino ABC'!AI79","v":0},{"$f":"'Domino ABC'!AJ79","v":0},{"$f":"'Domino ABC'!AK79","v":0},{"$f":"'Domino ABC'!AL79","v":0},{"$f":"'Domino ABC'!AM79","v":0},{"$f":"'Domino ABC'!AN79","v":0},{"$f":"'Domino ABC'!AO79","v":0},{"$f":"'Domino ABC'!AP79","v":0},{"$f":"'Domino ABC'!AQ79","v":0},{"$f":"'Domino ABC'!AR79","v":0},{"$f":"'Domino ABC'!AS79","v":0},{"$f":"'Domino ABC'!AT79","v":0},{"$f":"'Domino ABC'!AU79","v":0},{"$f":"'Domino ABC'!AV79","v":0},{"$f":"'Domino ABC'!AW79","v":0},{"$f":"'Domino ABC'!AX79","v":0},{"$f":"'Domino ABC'!AY79","v":0},{"$f":"'Domino ABC'!AZ79","v":0},{"$f":"'Domino ABC'!BA79","v":0},{"$f":"'Domino ABC'!BB79","v":0},{"$f":"'Domino ABC'!BC79","v":0},{"$f":"'Domino ABC'!BD79","v":0},{"$f":"'Domino ABC'!BE79","v":0},{"$f":"'Domino ABC'!BF79","v":0},{"$f":"'Domino ABC'!BG79","v":0},{"$f":"'Domino ABC'!BH79","v":0},{"$f":"'Domino ABC'!BI79","v":0},{"$f":"'Domino ABC'!BJ79","v":0},{"$f":"'Domino ABC'!BK79","v":0},{"$f":"'Domino ABC'!BL79","v":0},{"$f":"'Domino ABC'!BM79","v":0},{"$f":"'Domino ABC'!BN79","v":0},{"$f":"'Domino ABC'!BO79","v":0},{"$f":"'Domino ABC'!BP79","v":0},{"$f":"'Domino ABC'!BQ79","v":0},{"$f":"'Domino ABC'!BR79","v":0}]
[null,null,null,null,null,null,null,null,null,null,null,null,null,null,null,null,null,null,null,null,null,null,null,null,null,null,null,null,null,null,null,null,null,null,null,null,null,null,null,null,null,null,null,null,null,null,null,null,null,null,null,null,null,null,null,null,null,null,null,null,null,null,null,null,null,null,null,null,null,null,null,null,null,"ZONE VARIABLE SELON MODE K OU ESK"]
[null,false,"Labels",null,"CLEMENTS",null,null,0,{"$f":"CLEMENTS!J79","v":0},{"$f":"CLEMENTS!K79","v":0},{"$f":"CLEMENTS!L79","v":0},{"$f":"CLEMENTS!M79","v":0},{"$f":"CLEMENTS!N79","v":0},{"$f":"CLEMENTS!O79","v":0},{"$f":"CLEMENTS!P79","v":0},{"$f":"CLEMENTS!Q79","v":0},{"$f":"CLEMENTS!R79","v":0},{"$f":"CLEMENTS!S79","v":0},{"$f":"CLEMENTS!T79","v":0},{"$f":"CLEMENTS!U79","v":0},{"$f":"CLEMENTS!V79","v":0},{"$f":"CLEMENTS!W79","v":0},{"$f":"CLEMENTS!X79","v":0},{"$f":"CLEMENTS!Y79","v":0},{"$f":"CLEMENTS!Z79","v":0},{"$f":"CLEMENTS!AA79","v":0},{"$f":"CLEMENTS!AB79","v":0},{"$f":"CLEMENTS!AC79","v":0},{"$f":"CLEMENTS!AD79","v":0},{"$f":"CLEMENTS!AE79","v":0},{"$f":"CLEMENTS!AF79","v":0},{"$f":"CLEMENTS!AG79","v":0},{"$f":"CLEMENTS!AH79","v":0},{"$f":"CLEMENTS!AI79","v":0},{"$f":"CLEMENTS!AJ79","v":0},{"$f":"CLEMENTS!AK79","v":0},{"$f":"CLEMENTS!AL79","v":0},{"$f":"CLEMENTS!AM79","v":0},{"$f":"CLEMENTS!AN79","v":0},{"$f":"CLEMENTS!AO79","v":0},{"$f":"CLEMENTS!AP79","v":0},{"$f":"CLEMENTS!AQ79","v":0},{"$f":"CLEMENTS!AR79","v":0},{"$f":"CLEMENTS!AS79","v":0},{"$f":"CLEMENTS!AT79","v":0},{"$f":"CLEMENTS!AU79","v":0},{"$f":"CLEMENTS!AV79","v":0},{"$f":"CLEMENTS!AW79","v":0},{"$f":"CLEMENTS!AX79","v":0},{"$f":"CLEMENTS!AY79","v":0},{"$f":"CLEMENTS!AZ79","v":0},{"$f":"CLEMENTS!BA79","v":0},{"$f":"CLEMENTS!BB79","v":0},{"$f":"CLEMENTS!BC79","v":0},{"$f":"CLEMENTS!BD79","v":0},{"$f":"CLEMENTS!BE79","v":0},{"$f":"CLEMENTS!BF79","v":0},{"$f":"CLEMENTS!BG79","v":0},{"$f":"CLEMENTS!BH79","v":0},{"$f":"CLEMENTS!BI79","v":0},{"$f":"CLEMENTS!BJ79","v":0},{"$f":"CLEMENTS!BK79","v":0},{"$f":"CLEMENTS!BL79","v":0},{"$f":"CLEMENTS!BM79","v":0},{"$f":"CLEMENTS!BN79","v":0},{"$f":"CLEMENTS!BO79","v":0},{"$f":"CLEMENTS!BP79","v":0},{"$f":"CLEMENTS!BQ79","v":0},{"$f":"CLEMENTS!BR79","v":0},null,null,null,null,null,0,10,10,50,50,150,150,350,350,500,500,1000,1000]
[]
[null,false,"Labels",null,"KAMP",null,null,0,{"$f":"KAMP!J79","v":0},{"$f":"KAMP!K79","v":0},{"$f":"KAMP!L79","v":0},{"$f":"KAMP!M79","v":0},{"$f":"KAMP!N79","v":0},{"$f":"KAMP!O79","v":0},{"$f":"KAMP!P79","v":0},{"$f":"KAMP!Q79","v":0},{"$f":"KAMP!R79","v":0},{"$f":"KAMP!S79","v":0},{"$f":"KAMP!T79","v":0},{"$f":"KAMP!U79","v":0},{"$f":"KAMP!V79","v":0},{"$f":"KAMP!W79","v":0},{"$f":"KAMP!X79","v":0},{"$f":"KAMP!Y79","v":0},{"$f":"KAMP!Z79","v":0},{"$f":"KAMP!AA79","v":0},{"$f":"KAMP!AB79","v":0},{"$f":"KAMP!AC79","v":0},{"$f":"KAMP!AD79","v":0},{"$f":"KAMP!AE79","v":0},{"$f":"KAMP!AF79","v":0},{"$f":"KAMP!AG79","v":0},{"$f":"KAMP!AH79","v":0},{"$f":"KAMP!AI79","v":0},{"$f":"KAMP!AJ79","v":0},{"$f":"KAMP!AK79","v":0},{"$f":"KAMP!AL79","v":0},{"$f":"KAMP!AM79","v":0},{"$f":"KAMP!AN79","v":0},{"$f":"KAMP!AO79","v":0},{"$f":"KAMP!AP79","v":0},{"$f":"KAMP!AQ79","v":0},{"$f":"KAMP!AR79","v":0},{"$f":"KAMP!AS79","v":0},{"$f":"KAMP!AT79","v":0},{"$f":"KAMP!AU79","v":0},{"$f":"KAMP!AV79","v":0},{"$f":"KAMP!AW79","v":0},{"$f":"KAMP!AX79","v":0},{"$f":"KAMP!AY79","v":0},{"$f":"KAMP!AZ79","v":0},{"$f":"KAMP!BA79","v":0},{"$f":"KAMP!BB79","v":0},{"$f":"KAMP!BC79","v":0},{"$f":"KAMP!BD79","v":0},{"$f":"KAMP!BE79","v":0},{"$f":"KAMP!BF79","v":0},{"$f":"KAMP!BG79","v":0},{"$f":"KAMP!BH79","v":0},{"$f":"KAMP!BI79","v":0},{"$f":"KAMP!BJ79","v":0},{"$f":"KAMP!BK79","v":0},{"$f":"KAMP!BL79","v":0},{"$f":"KAMP!BM79","v":0},{"$f":"KAMP!BN79","v":0},{"$f":"KAMP!BO79","v":0},{"$f":"KAMP!BP79","v":0},{"$f":"KAMP!BQ79","v":0},{"$f":"KAMP!BR79","v":0}]
[]
[]
[]
[]
[]
[]
[]
[]
[]
[]
[]
[]
[]
[]
[]
[]
[]
[]
[]
[]
[]
[]
[]
[]
[]
[]
[]
[]
[null,null,null,null,null,null,null,null,null,null,null,null,{"$f":"M60","v":0}]
[]
[]
[]
[]
[]
[]
[]
[]
[]
[]
[]
[]
[]
[]
[]
[]
[]
[]
[]
[]
[]
[]
[]
[]
[]
[]
[]
[]
[]
[]
[]
[]
[]
[]
[]
[]
[]
[]
[]
[]
[]
[]
[]
[]
[]
[]
[]
[]
[]
[]
[]
[]
[]
[]
[]
[]
[]
[]
[]
[]
[]
[]
[]
[]
[]
[]
[]
[]
[]
[]
[]
[]
[]
[]
[]
[]
[]
[]
[]
[]
[]
[]
[]
[]
[]
[]
[]
[]
[]
[]
[]
[]
[]
[]
[]
[]
[]
[]
[]
[]
[]
[]
[]
[]
[]
[]
[]
[]
[]
[]
[]
[]
[]
[]
[]
[]
[]
[]
[]
[]
[]
[]
[]
[]
[]
[]
[]
[]
[]
[]
[]
[]
[]
[]
[]
[]
[]
[]
[]
[]
[]
[]
[]
[]
[]
[]
[]
[]
[]
[]
[]
[]
[]
[]
[]
[]
[]
[]
[]
[]
[]
[]
[]
[]
[]
[]
[]
[]
[]
[]
[]
[]
[]
[]
[]
[]
[]
[]
[]
[]
[]
[]
[]
[]
[]
[]
[]
[]
[]
[]
[]
[]
[]
[]
[]
[]
[]
[]
[]
[]
[]
[]
[]
[]
[]
[]
[]
[]
[]
[]
[]
[]
[]
[]
[]
[]
[]
[]
[]
[]
[]
[]
[]
[]
[]
[]
[]
[]
[]
[]
[]
[]
[]
[]
[]
[]
[]
[]
[]
[]
[]
[]
[]
[]
[]
[]
[]
[]
[]
[]
[]
[]
[]
[]
[]
[]
[]
[]
[]
[]
[]
[]
[]
[]
[]
[]
[]
[]
[]
[]
[]
[]
[]
[]
[]
[]
[]
[]
[]
[]
[]
[]
[]
[]
[]
[]
[]
[]
[]
[]
[]
[]
[]
[]
[]
[]
[]
[]
[]
[]
[]
[]
[]
[]
[]
[]
[]
[]
[]
[]
[]
[]
[]
[]
[]
[]
[]
[]
[]
[]
[]
[]
[]
[]
[]
[]
[]
[]
[]
[]
[]
[]
[]
[]
[]
[]
[]
[]
[]
[]
[]
[]
[]
[]
[]
[]
[]
[]
[]
[]
[]
[]
[]
[]
[]
[]
[]
[]
[]
[]
[]
[]
[]
[]
[]
[]
[]
[]
[]
[]
[]
[]
[]
[]
[]
[]
[]
[]
[]
[]
[]
[]
[]
[]
[]
[]
[]
[]
[]
[]
[]
[]
[]
[]
[]
[]
[]
[]
[]
[]
[]
[]
[]
[]
[]
[]
[]
[]
[]
[]
[]
[]
[]
[]
[]
[]
[]
[]
[]
[]
[]
[]
[]
[]
[]
[]
[]
[]
[]
[]
[]
[]
[]
[]
[]
[]
[]
[]
[]
[]
[]
[]
[]
[]
[]
[]
[]
[]
[]
[]
[]
[]
[]
[]
[]
[]
[]
[]
[]
[]
[]
[]
[]
[]
[]
[]
[]
[]
[]
[]
[]
[]
[]
[]
[]
[]
[]
[]
[]
[]
[]
[]
[]
[]
[]
[]
[]
[]
[]
[]
[]
[]
[]
[]
[]
[]
[]
[]
[]
[]
[]
[]
[]
[]
[]
[]
[]
[]
[]
[]
[]
[]
[]
[]
[]
[]
[]
[]
[]
[]
[]
[]
[]
[]
[]
[]
[]
[]
[]
[]
[]
[]
[]
[]
[]
[]
[]
[]
[]
[]
[]
[]
[]
[]
[]
[]
[]
[]
[]
[]
[]
[]
[]
[]
[]
[]
[]
[]
[]
[]
[]
[]
[]
[]
[]
[]
[]
[]
[]
[]
[]
[]
[]
[]
[]
[]
[]
[]
[]
[]
[]
[]
[]
[]
[]
[]
[]
[]
[]
[]
[]
[]
[]
[]
[]
[]
[]
[]
[]
[]
[]
[]
[]
[]
[]
[]
[]
[]
[]
[]
[]
[]
[]
[]
[]
[]
[]
[]
[]
[]
[]
[]
[]
[]
[]
[]
[]
[]
[]
[]
[]
[]
[]
[]
[]
[]
[]
[]
[]
[]
[]
[]
[]
[]
[]
[]
[]
[]
[]
[]
[]
[]
[]
[]
[]
[]
[]
[]
[]
[]
[]
[]
[]
[]
[]
[]
[]
[]
[]
[]
[]
[]
[]
[]
[]
[]
[]
[]
[]
[]
[]
[]
[]
[]
[]
[]
[]
[]
[]
[]
[]
[]
[]
[]
[]
[]
[]
[]
[]
[]
[]
[]
[]
[]
[]
[]
[]
[]
[]
[]
[]
[]
[]
[]
[]
[]
[]
[]
[]
[]
[]
[]
[]
[]
[]
[]
[]
[]
[]
[]
[]
[]
[]
[]
[]
[]
[]
[]
[]
[]
[]
[]
[]
[]
[]
[]
[]
[]
[]
[]
[]
[]
[]
[]
[]
[]
[]
[]
[]
[]
[]
[]
[]
[]
[]
[]
[]
[]
[]
[]
[]
[]
[]
[]
[]
[]
[]
[]
[]
[]
[]
[]
[]
[]
[]
[]
[]
[]
[]
[]
[]
[]
[]
[]
[]
[]
[]
[]
[]
[]
[]
[]
[]
[]
[]
[]
[]
[]
[]
[]
[]
[]
[]
[]
[]
[]
[]
[]
[]
[]
[]
[]
[]
[]
[]
[]
[]
[]
[]
[]
[]
[]
[]
[]
[]
[]
[]
[]
[]
[]
[]
[]
[]
[]
[]
[]
[]
[]
[]
[]
[]
[]
[]
[]
[]
[]
[]
[]
[]
[]
[]
[]
[]
[]
[]
[]
[]
[]
[]
[]
[]
[]
[]
[]
[]
[]
[]
[]
[]
[]
[]
[]
[]
[]
[]
[]
[]
[]
[]
[]
[]
[]
[]
[]
[]
[]
[]
[]
[]
[]
[]
[]
[]
[]
[]
[]
[]
[]
[]
[]
[]
[]
[]
[]
[]
[]
[]
[]
[]
[]
[]
[]
[]
[]
[]
[]
[]
[]
[]
[]
[]
[]
[]
[]
[]
[]
[]
[]
[]
[]
[]
[]
[]
[]
[]
[]
[]
[]
[]
[]
[]
[]
[]
[]
[]
[]
[]
[]
[]
[]
[]
[]
[]
[]
[]
[]
[]
[]
[]
[]
[]
[]
[]
[]
[]
[]
[]
[]
[]
[]
[]
[]
[]
[]
[]
[]
[]
[]
[]
[]
[]
[]
[]
[]
[]
[]
[]
[]
[]
[]
[]
[]
[]
[]
[]
[]
[]
[]
[]
[]
[]
[]
[]
[]
[]
[]
[]
[]
[]
[]
[]
[]
[]
[]
[]
[]
[]
[]
[]
[]
[]
[]
[]
[]
[]
[]
[]
[]
[]
[]
[]
[]
[]
[]
[]
[]
[]
[]
[]
[]
[]
[]
[]
[]
[]
[]
[]
[]
[]
[]
[]
[]
[]
[]
[]
[]
[]
[]
[]
[]
[]
[]
[]
[]
[]
[]
[]
[]
[]
[]
[]
[]
[]
[]
[]
[]
[]
[]
[]
[]
[]
[]
[]
[]
[]
[]
[]
[]
[]
[]
[]
[]
[]
[]
[]
[]
[]
[]
[]
[]
[]
[]
[]
[]
[]
[]
[]
[]
[]
[]
[]
[]
[]
[]
[]
[]
[]
[]
[]
[]
[]
[]
[]
[]
[]
[]
[]
[]
[]
[]
[]
[]
[]
[]
[]
[]
[]
[]
[]
[]
[]
[]
[]
[]
[]
[]
[]
[]
[]
[]
[]
[]
[]
[]
[]
[]
[]
[]
[]
[]
[]
[]
[]
[]
[]
[]
[]
[]
[]
[]
[]
[]
[]
[]
[]
[]
[]
[]
[]
[]
[]
[]
[]
[]
[]
[]
[]
[]
[]
[]
[]
[]
[]
[]
[]
[]
[]
[]
[]
[]
[]
[]
[]
[]
[]
[]
[]
[]
[]
[]
[]
[]
[]
[]
[]
[]
[]
[]
[]
[]
[]
[]
[]
[]
[]
[]
[]
[]
[]
[]
[]
[]
[]
[]
[]
[]
[]
[]
[]
[]
[]
[]
[]
[]
[]
[]
[]
[]
[]
[]
[]
[]
[]
[]
[]
[]
[]
[]
[]
[]
[]
[]
[]
[]
[]
[]
[]
[]
[]
[]
[]
[]
[]
[]
[]
[]
[]
[]
[]
[]
[]
[]
[]
[]
[]
[]
[]
[]
[]
[]
[]
[]
[]
[]
[]
[]
[]
[]
[]
[]
[]
[]
[]
[]
[]
[]
[]
[]
[]
[]
[]
[]
[]
[]
[]
[]
[]
[]
[]
[]
[]
[]
[]
[]
[]
[]
[]
[]
[]
[]
[]
[]
[]
[]
[]
[]
[]
[]
[]
[]
[]
[]
[]
[]
[]
[]
[]
[]
[]
[]
[]
[]
[]
[]
[]
[]
[]
[]
[]
[]
[]
[]
[]
[]
[]
[]
[]
[]
[]
[]
[]
[]
[]
[]
[]
[]
[]
[]
[]
[]
[]
[]
[]
[]
[]
[]
[]
[]
[]
[]
[]
[]
[]
[]
[]
[]
[]
[]
[]
[]
[]
[]
[]
[]
[]
[]
[]
[]
[]
[]
[]
[]
[]
[]
[]
[]
[]
[]
[]
[]
[]
[]
[]
[]
[]
[]
[]
[]
[]
[]
[]
[]
[]
[]
[]
[]
[]
[]
[]
[]
[]
[]
[]
[]
[]
[]
[]
[]
[]
[]
[]
[]
[]
[]
[]
[]
[]
[]
[]
[]
[]
[]
[]
[]
[]
[]
[]
[]
[]
[]
[]
[]
[]
[]
[]
[]
[]
[]
[]
[]
[]
[]
[]
[]
[]
[]
[]
[]
[]
[]
[]
[]
[]
[]
[]
[]
[]
[]
[]
[]
[]
[]
[]
[]
[]
[]
[]
[]
[]
[]
[]
[]
[]
[]
[]
[]
[]
[]
[]
[]
[]
[]
[]
[]
[]
[]
[]
[]
[]
[]
[]
[]
[]
[]
[]
[]
[]
[]
[]
[]
[]
[]
[]
[]
[]
[]
[]
[]
[]
[]
[]
[]
[]
[]
[]
[]
[]
[]
[]
[]
[]
[]
[]
[]
[]
[]
[]
[]
[]
[]
[]
[]
[]
[]
[]
[]
[]
[]
[]
[]
[]
[]
[]
[]
[]
[]
[]
[]
[]
[]
[]
[]
[]
[]
[]
[]
[]
[]
[]
[]
[]
[]
[]
[]
[]
[]
[]
[]
[]
[]
[]
[]
[]
[]
[]
[]
[]
[]
[]
[]
[]
[]
[]
[]
[]
[]
[]
[]
[]
[]
[]
[]
[]
[]
[]
[]
[]
[]
[]
[]
[]
[]
[]
[]
[]
[]
[]
[]
[]
[]
[]
[]
[]
[]
[]
[]
[]
[]
[]
[]
[]
[]
[]
[]
[]
[]
[]
[]
[]
[]
[]
[]
[]
[]
[]
[]
[]
[]
[]
[]
[]
[]
[]
[]
[]
[]
[]
[]
[]
[]
[]
[]
[]
[]
[]
[]
[]
[]
[]
[]
[]
[]
[]
[]
[]
[]
[]
[]
[]
[]
[]
[]
[]
[]
[]
[]
[]
[]
[]
[]
[]
[]
[]
[]
[]
[]
[]
[]
[]
[]
[]
[]
[]
[]
[]
[]
[]
[]
[]
[]
[]
[]
[]
[]
[]
[]
[]
[]
[]
[]
[]
[]
[]
[]
[]
[]
[]
[]
[]
[]
[]
[]
[]
[]
[]
[]
[]
[]
[]
[]
[]
[]
[]
[]
[]
[]
[]
[]
[]
[]
[]
[]
[]
[]
[]
[]
[]
[]
[]
[]
[]
[]
[]
[]
[]
[]
[]
[]
[]
[]
[]
[]
[]
[]
[]
[]
[]
[]
[]
[]
[]
[]
[]
[]
[]
[]
[]
[]
[]
[]
[]
[]
[]
[]
[]
[]
[]
[]
[]
[]
[]
[]
[]
[]
[]
[]
[]
[]
[]
[]
[]
[]
[]
[]
[]
[]
[]
[]
[]
[]
[]
[]
[]
[]
[]
[]
[]
[]
[]
[]
[]
[]
[]
[]
[]
[]
[]
[]
[]
[]
[]
[]
[]
[]
[]
[]
[]
[]
[]
[]
[]
[]
[]
[]
[]
[]
[]
[]
[]
[]
[]
[]
[]
[]
[]
[]
[]
[]
[]
[]
[]
[]
[]
[]
[]
[]
[]
[]
[]
[]
[]
[]
[]
[]
[]
[]
[]
[]
[]
[]
[]
[]
[]
[]
[]
[]
[]
[]
[]
[]
[]
[]
[]
[]
[]
[]
[]
[]
[]
[]
[]
[]
[]
[]
[]
[]
[]
[]
[]
[]
[]
[]
[]
[]
[]
[]
[]
[]
[]
[]
[]
[]
[]
[]
[]
[]
[]
[]
[]
[]
[]
[]
[]
[]
[]
[]
[]
[]
[]
[]
[]
[]
[]
[]
[]
[]
[]
[]
[]
[]
[]
[]
[]
[]
[]
[]
[]
[]
[]
[]
[]
[]
[]
[]
[]
[]
[]
[]
[]
[]
[]
[]
[]
[]
[]
[]
[]
[]
[]
[]
[]
[]
[]
[]
[]
[]
[]
[]
[]
[]
[]
[]
[]
[]
[]
[]
[]
[]
[]
[]
[]
[]
[]
[]
[]
[]
[]
[]
[]
[]
[]
[]
[]
[]
[]
[]
[]
[]
[]
[]
[]
[]
[]
[]
[]
[]
[]
[]
[]
[]
[]
[]
[]
[]
[]
[]
[]
[]
[]
[]
[]
[]
[]
[]
[]
[]
[]
[]
[]
[]
[]
[]
[]
[]
[]
[]
[]
[]
[]
[]
[]
[]
[]
[]
[]
[]
[]
[]
[]
[]
[]
[]
[]
[]
[]
[]
[]
[]
[]
[]
[]
[]
[]
[]
[]
[]
[]
[]
[]
[]
[]
[]
[]
[]
[]
[]
[]
[]
[]
[]
[]
[]
[]
[]
[]
[]
[]
[]
[]
[]
[]
[]
[]
[]
[]
[]
[]
[]
[]
[]
[]
[]
[]
[]
[]
[]
[]
[]
[]
[]
[]
[]
[]
[]
[]
[]
[]
[]
[]
[]
[]
[]
[]
[]
[]
[]
[]
[]
[]
[]
[]
[]
[]
[]
[]
[]
[]
[]
[]
[]
[]
[]
[]
[]
[]
[]
[]
[]
[]
[]
[]
[]
[]
[]
[]
[]
[]
[]
[]
[]
[]
[]
[]
[]
[]
[]
[]
[]
[]
[]
[]
[]
[]
[]
[]
[]
[]
[]
[]
[]
[]
[]
[]
[]
[]
[]
[]
[]
[]
[]
[]
[]
[]
[]
[]
[]
[]
[]
[]
[]
[]
[]
[]
[]
[]
[]
[]
[]
[]
[]
[]
[]
[]
[]
[]
[]
[]
[]
[]
[]
[]
[]
[]
[]
[]
[]
[]
[]
[]
[]
[]
[]
[]
[]
[]
[]
[]
[]
[]
[]
[]
[]
[]
[]
[]
[]
[]
[]
[]
[]
[]
[]
[]
[]
[]
[]
[]
[]
[]
[]
[]
[]
[]
[]
[]
[]
[]
[]
[]
[]
[]
[]
[]
[]
[]
[]
[]
[]
[]
[]
[]
[]
[]
[]
[]
[]
[]
[]
[]
[]
[]
[]
[]
[]
[]
[]
[]
[]
[]
[]
[]
[]
[]
[]
[]
[]
[]
[]
[]
[]
[]
[]
[]
[]
[]
[]
[]
[]
[]
[]
[]
[]
[]
[]
[]
[]
[]
[]
[]
[]
[]
[]
[]
[]
[]
[]
[]
[]
[]
[]
[]
[]
[]
[]
[]
[]
[]
[]
[]
[]
[]
[]
[]
[]
[]
[]
[]
[]
[]
[]
[]
[]
[]
[]
[]
[]
[]
[]
[]
[]
[]
[]
[]
[]
[]
[]
[]
[]
[]
[]
[]
[]
[]
[]
[]
[]
[]
[]
[]
[]
[]
[]
[]
[]
[]
[]
[]
[]
[]
[]
[]
[]
[]
[]
[]
[]
[]
[]
[]
[]
[]
[]
[]
[]
[]
[]
[]
[]
[]
[]
[]
[]
[]
[]
[]
[]
[]
[]
[]
[]
[]
[]
[]
[]
[]
[]
[]
[]
[]
[]
[]
[]
[]
[]
[]
[]
[]
[]
[]
[]
[]
[]
[]
[]
[]
[]
[]
[]
[]
[]
[]
[]
[]
[]
[]
[]
[]
[]
[]
[]
[]
[]
[]
[]
[]
[]
[]
[]
[]
[]
[]
[]
[]
[]
[]
[]
[]
[]
[]
[]
[]
[]
[]
[]
[]
[]
[]
[]
[]
[]
[]
[]
[]
[]
[]
[]
[]
[]
[]
[]
[]
[]
[]
[]
[]
[]
[]
[]
[]
[]
[]
[]
[]
[]
[]
[]
[]
[]
[]
[]
[]
[]
[]
[]
[]
[]
[]
[]
[]
[]
[]
[]
[]
[]
[]
[]
[]
[]
[]
[]
[]
[]
[]
[]
[]
[]
[]
[]
[]
[]
[]
[]
[]
[]
[]
[]
[]
[]
[]
[]
[]
[]
[]
[]
[]
[]
[]
[]
[]
[]
[]
[]
[]
[]
[]
[]
[]
[]
[]
[]
[]
[]
[]
[]
[]
[]
[]
[]
[]
[]
[]
[]
[]
[]
[]
[]
[]
[]
[]
[]
[]
[]
[]
[]
[]
[]
[]
[]
[]
[]
[]
[]
[]
[]
[]
[]
[]
[]
[]
[]
[]
[]
[]
[]
[]
[]
[]
[]
[]
[]
[]
[]
[]
[]
[]
[]
[]
[]
[]
[]
[]
[]
[]
[]
[]
[]
[]
[]
[]
[]
[]
[]
[]
[]
[]
[]
[]
[]
[]
[]
[]
[]
[]
[]
[]
[]
[]
[]
[]
[]
[]
[]
[]
[]
[]
[]
[]
[]
[]
[]
[]
[]
[]
[]
[]
[]
[]
[]
[]
[]
[]
[]
[]
[]
[]
[]
[]
[]
[]
[]
[]
[]
[]
[]
[]
[]
[]
[]
[]
[]
[]
[]
[]
[]
[]
[]
[]
[]
[]
[]
[]
[]
[]
[]
[]
[]
[]
[]
[]
[]
[]
[]
[]
[]
[]
[]
[]
[]
[]
[]
[]
[]
[]
[]
[]
[]
[]
[]
[]
[]
[]
[]
[]
[]
[]
[]
[]
[]
[]
[]
[]
[]
[]
[]
[]
[]
[]
[]
[]
[]
[]
[]
[]
[]
[]
[]
[]
[]
[]
[]
[]
[]
[]
[]
[]
[]
[]
[]
[]
[]
[]
[]
[]
[]
[]
[]
[]
[]
[]
[]
[]
[]
[]
[]
[]
[]
[]
[]
[]
[]
[]
[]
[]
[]
[]
[]
[]
[]
[]
[]
[]
[]
[]
[]
[]
[]
[]
[]
[]
[]
[]
[]
[]
[]
[]
[]
[]
[]
[]
[]
[]
[]
[]
[]
[]
[]
[]
[]
[]
[]
[]
[]
[]
[]
[]
[]
[]
[]
[]
[]
[]
[]
[]
[]
[]
[]
[]
[]
[]
[]
[]
[]
[]
[]
[]
[]
[]
[]
[]
[]
[]
[]
[]
[]
[]
[]
[]
[]
[]
[]
[]
[]
[]
[]
[]
[]
[]
[]
[]
[]
[]
[]
[]
[]
[]
[]
[]
[]
[]
[]
[]
[]
[]
[]
[]
[]
[]
[]
[]
[]
[]
[]
[]
[]
[]
[]
[]
[]
[]
[]
[]
[]
[]
[]
[]
[]
[]
[]
[]
[]
[]
[]
[]
[]
[]
[]
[]
[]
[]
[]
[]
[]
[]
[]
[]
[]
[]
[]
[]
[]
[]
[]
[]
[]
[]
[]
[]
[]
[]
[]
[]
[]
[]
[]
[]
[]
[]
[]
[]
[]
[]
[]
[]
[]
[]
[]
[]
[]
[]
[]
[]
[]
[]
[]
[]
[]
[]
[]
[]
[]
[]
[]
[]
[]
[]
[]
[]
[]
[]
[]
[]
[]
[]
[]
[]
[]
[]
[]
[]
[]
[]
[]
[]
[]
[]
[]
[]
[]
[]
[]
[]
[]
[]
[]
[]
[]
[]
[]
[]
[]
[]
[]
[]
[]
[]
[]
[]
[]
[]
[]
[]
[]
[]
[]
[]
[]
[]
[]
[]
[]
[]
[]
[]
[]
[]
[]
[]
[]
[]
[]
[]
[]
[]
[]
[]
[]
[]
[]
[]
[]
[]
[]
[]
[]
[]
[]
[]
[]
[]
[]
[]
[]
[]
[]
[]
[]
[]
[]
[]
[]
[]
[]
[]
[]
[]
[]
[]
[]
[]
[]
[]
[]
[]
[]
[]
[]
[]
[]
[]
[]
[]
[]
[]
[]
[]
[]
[]
[]
[]
[]
[]
[]
[]
[]
[]
[]
[]
[]
[]
[]
[]
[]
[]
[]
[]
[]
[]
[]
[]
[]
[]
[]
[]
[]
[]
[]
[]
[]
[]
[]
[]
[]
[]
[]
[]
[]
[]
[]
[]
[]
[]
[]
[]
[]
[]
[]
[]
[]
[]
[]
[]
[]
[]
[]
[]
[]
[]
[]
[]
[]
[]
[]
[]
[]
[]
[]
[]
[]
[]
[]
[]
[]
[]
[]
[]
[]
[]
[]
[]
[]
[]
[]
[]
[]
[]
[]
[]
[]
[]
[]
[]
[]
[]
[]
[]
[]
[]
[]
[]
[]
[]
[]
[]
[]
[]
[]
[]
[]
[]
[]
[]
[]
[]
[]
[]
[]
[]
[]
[]
[]
[]
[]
[]
[]
[]
[]
[]
[]
[]
[]
[]
[]
[]
[]
[]
[]
[]
[]
[]
[]
[]
[]
[]
[]
[]
[]
[]
[]
[]
[]
[]
[]
[]
[]
[]
[]
[]
[]
[]
[]
[]
[]
[]
[]
[]
[]
[]
[]
[]
[]
[]
[]
[]
[]
[]
[]
[]
[]
[]
[]
[]
[]
[]
[]
[]
[]
[]
[]
[]
[]
[]
[]
[]
[]
[]
[]
[]
[]
[]
[]
[]
[]
[]
[]
[]
[]
[]
[]
[]
[]
[]
[]
[]
[]
[]
[]
[]
[]
[]
[]
[]
[]
[]
[]
[]
[]
[]
[]
[]
[]
[]
[]
[]
[]
[]
[]
[]
[]
[]
[]
[]
[]
[]
[]
[]
[]
[]
[]
[]
[]
[]
[]
[]
[]
[]
[]
[]
[]
[]
[]
[]
[]
[]
[]
[]
[]
[]
[]
[]
[]
[]
[]
[]
[]
[]
[]
[]
[]
[]
[]
[]
[]
[]
[]
[]
[]
[]
[]
[]
[]
[]
[]
[]
[]
[]
[]
[]
[]
[]
[]
[]
[]
[]
[]
[]
[]
[]
[]
[]
[]
[]
[]
[]
[]
[]
[]
[]
[]
[]
[]
[]
[]
[]
[]
[]
[]
[]
[]
[]
[]
[]
[]
[]
[]
[]
[]
[]
[]
[]
[]
[]
[]
[]
[]
[]
[]
[]
[]
[]
[]
[]
[]
[]
[]
[]
[]
[]
[]
[]
[]
[]
[]
[]
[]
[]
[]
[]
[]
[]
[]
[]
[]
[]
[]
[]
[]
[]
[]
[]
[]
[]
[]
[]
[]
[]
[]
[]
[]
[]
[]
[]
[]
[]
[]
[]
[]
[]
[]
[]
[]
[]
[]
[]
[]
[]
[]
[]
[]
[]
[]
[]
[]
[]
[]
[]
[]
[]
[]
[]
[]
[]
[]
[]
[]
[]
[]
[]
[]
[]
[]
[]
[]
[]
[]
[]
[]
[]
[]
[]
[]
[]
[]
[]
[]
[]
[]
[]
[]
[]
[]
[]
[]
[]
[]
[]
[]
[]
[]
[]
[]
[]
[]
[]
[]
[]
[]
[]
[]
[]
[]
[]
[]
[]
[]
[]
[]
[]
[]
[]
[]
[]
[]
[]
[]
[]
[]
[]
[]
[]
[]
[]
[]
[]
[]
[]
[]
[]
[]
[]
[]
[]
[]
[]
[]
[]
[]
[]
[]
[]
[]
[]
[]
[]
[]
[]
[]
[]
[]
[]
[]
[]
[]
[]
[]
[]
[]
[]
[]
[]
[]
[]
[]
[]
[]
[]
[]
[]
[]
[]
[]
[]
[]
[]
[]
[]
[]
[]
[]
[]
[]
[]
[]
[]
[]
[]
[]
[]
[]
[]
[]
[]
[]
[]
[]
[]
[]
[]
[]
[]
[]
[]
[]
[]
[]
[]
[]
[]
[]
[]
[]
[]
[]
[]
[]
[]
[]
[]
[]
[]
[]
[]
[]
[]
[]
[]
[]
[]
[]
[]
[]
[]
[]
[]
[]
[]
[]
[]
[]
[]
[]
[]
[]
[]
[]
[]
[]
[]
[]
[]
[]
[]
[]
[]
[]
[]
[]
[]
[]
[]
[]
[]
[]
[]
[]
[]
[]
[]
[]
[]
[]
[]
[]
[]
[]
[]
[]
[]
[]
[]
[]
[]
[]
[]
[]
[]
[]
[]
[]
[]
[]
[]
[]
[]
[]
[]
[]
[]
[]
[]
[]
[]
[]
[]
[]
[]
[]
[]
[]
[]
[]
[]
[]
[]
[]
[]
[]
[]
[]
[]
[]
[]
[]
[]
[]
[]
[]
[]
[]
[]
[]
[]
[]
[]
[]
[]
[]
[]
[]
[]
[]
[]
[]
[]
[]
[]
[]
[]
[]
[]
[]
[]
[]
[]
[]
[]
[]
[]
[]
[]
[]
[]
[]
[]
[]
[]
[]
[]
[]
[]
[]
[]
[]
[]
[]
[]
[]
[]
[]
[]
[]
[]
[]
[]
[]
[]
[]
[]
[]
[]
[]
[]
[]
[]
[]
[]
[]
[]
[]
[]
[]
[]
[]
[]
[]
[]
[]
[]
[]
[]
[]
[]
[]
[]
[]
[]
[]
[]
[]
[]
[]
[]
[]
[]
[]
[]
[]
[]
[]
[]
[]
[]
[]
[]
[]
[]
[]
[]
[]
[]
[]
[]
[]
[]
[]
[]
[]
[]
[]
[]
[]
[]
[]
[]
[]
[]
[]
[]
[]
[]
[]
[]
[]
[]
[]
[]
[]
[]
[]
[]
[]
[]
[]
[]
[]
[]
[]
[]
[]
[]
[]
[]
[]
[]
[]
[]
[]
[]
[]
[]
[]
[]
[]
[]
[]
[]
[]
[]
[]
[]
[]
[]
[]
[]
[]
[]
[]
[]
[]
[]
[]
[]
[]
[]
[]
[]
[]
[]
[]
[]
[]
[]
[]
[]
[]
[]
[]
[]
[]
[]
[]
[]
[]
[]
[]
[]
[]
[]
[]
[]
[]
[]
[]
[]
[]
[]
[]
[]
[]
[]
[]
[]
[]
[]
[]
[]
[]
[]
[]
[]
[]
[]
[]
[]
[]
[]
[]
[]
[]
[]
[]
[]
[]
[]
[]
[]
[]
[]
[]
[]
[]
[]
[]
[]
[]
[]
[]
[]
[]
[]
[]
[]
[]
[]
[]
[]
[]
[]
[]
[]
[]
[]
[]
[]
[]
[]
[]
[]
[]
[]
[]
[]
[]
[]
[]
[]
[]
[]
[]
[]
[]
[]
[]
[]
[]
[]
[]
[]
[]
[]
[]
[]
[]
[]
[]
[]
[]
[]
[]
[]
[]
[]
[]
[]
[]
[]
[]
[]
[]
[]
[]
[]
[]
[]
[]
[]
[]
[]
[]
[]
[]
[]
[]
[]
[]
[]
[]
[]
[]
[]
[]
[]
[]
[]
[]
[]
[]
[]
[]
[]
[]
[]
[]
[]
[]
[]
[]
[]
[]
[]
[]
[]
[]
[]
[]
[]
[]
[]
[]
[]
[]
[]
[]
[]
[]
[]
[]
[]
[]
[]
[]
[]
[]
[]
[]
[]
[]
[]
[]
[]
[]
[]
[]
[]
[]
[]
[]
[]
[]
[]
[]
[]
[]
[]
[]
[]
[]
[]
[]
[]
[]
[]
[]
[]
[]
[]
[]
[]
[]
[]
[]
[]
[]
[]
[]
[]
[]
[]
[]
[]
[]
[]
[]
[]
[]
[]
[]
[]
[]
[]
[]
[]
[]
[]
[]
[]
[]
[]
[]
[]
[]
[]
[]
[]
[]
[]
[]
[null,true]

{"sheet":"Sauvegarde","index":3,"n_rows":11,"n_cols":62,"rows_kept":11,"cut":false,"hidden":false,"merged":[]}
[]
[]
[]
[]
["Time (Min)",0,5,10,15,20,25,30,35,40,45,50,55,60,65,70,75,80,85,90,95,100,105,110,115,120,125,130,135,140,145,150,155,160,165,170,175,180,185,190,195,200,205,210,215,220,225,230,235,240,245,250,255,260,265,270,275,280,285,290,295,300]
[]
["Domino"]
[]
["Clements"]
[]
["Kamp"]

{"sheet":"Calculator","index":4,"n_rows":27,"n_cols":14,"rows_kept":27,"cut":false,"hidden":false,"merged":[[2,8,2,12],[4,4,4,16],[6,4,6,5],[28,4,28,6],[28,8,28,12],[17,4,17,6],[18,4,18,6],[19,4,19,6],[20,4,20,6],[21,4,21,6],[22,4,22,6],[23,4,23,6],[24,4,24,6],[25,4,25,6],[26,4,26,6],[27,4,27,6],[20,8,20,9]]}
[]
[]
[null,null,null,null,null,null,null,null,"KetaPK CALCULATOR"]
[]
[null,null,null,null,"Enter data in yellow cells and read the equivalent values in the right appropriated colomn"]
[]
[null,null,null,null,"Weight =",null,{"$f":"Poids","v":70},"Kg"]
[]
[null,null,null,null,null,null,null,null,null,null,null,"BOLUS"]
[null,null,null,null,null,null,null,null,null,"mg/kg","mg",null,"mg","mg/kg"]
[null,null,null,null,null,null,null,null,null,null,{"$f":"Poids*J11","v":0},null,null,{"$f":"M11/G7","v":0}]
[]
[null,null,null,null,null,null,null,null,null,null,null,"INFUSION"]
[null,null,null,null,null,null,"Speed",null,"Unit","mg/kg/h","µg/kg/min","µg/min","mg/min","mg/h"]
[null,null,null,null,null,null,null,null,"mg/kg/h",".",{"$f":"(G15*1000)/60","v":0},{"$f":"(G15*Poids*1000)/60","v":0},{"$f":"L15/1000","v":0},{"$f":"M15*60","v":0}]
[null,null,null,null,null,null,null,null,"µg/kg/min",{"$f":"(G16*60)/(1000)","v":0},".",{"$f":"G7*G16","v":0},{"$f":"L16/1000","v":0},{"$f":"M16*60","v":0}]
[]
[]
[]
[]
[null,null,null,null,null,null,null,null,"Concentration",null,null,5]
[null,null,null,null,null,null,null,null,null,null,null,"Convert mg into mL"]
[]
[null,null,null,null,null,null,null,null,null,"mg",null,{"$f":"I24/L21","v":0},"mL"]
[null,null,null,null,null,null,null,null,null,null,null,"Convert mL into mg"]
[]
[null,null,null,null,null,null,null,null,null,"mL",null,{"$f":"I27*L21","v":0},"mg"]

{"sheet":"DRUGS","index":5,"n_rows":22,"n_cols":40,"rows_kept":22,"cut":false,"hidden":false,"merged":[[1,17,2,20],[21,4,21,37],[19,14,19,21],[15,14,15,21],[17,14,17,21],[5,8,5,10],[15,25,15,39],[16,25,16,39],[6,27,6,31],[6,33,6,37],[18,25,18,39],[4,27,4,37],[5,2,5,4],[6,17,6,18],[6,15,6,16],[6,20,6,21]]}
[]
[null,null,null,null,null,null,null,null,null,null,null,null,null,null,null,null,null,"MODELS"]
[]
[]
[null,null,null,null,null,null,null,null,null,null,null,null,null,"Common therapeutic ranges (from light sedation to deep anesthesia)",null,null,null,null,null,null,null,null,null,null,null,null,null,"PKPD    Multi - Exponential models"]
[null,null,"Esketamine:  Cp / effect",null,null,null,null,null,"Racemic  Cp / effect",null,null,null,null,null,null,null,null,null,null,null,null,null,null,null,null,null,null,"A",null,"B",null,"C",null,"Alpha",null,"Beta",null,"Gamma",null,"dose"]
[null,null,null,null,null,null,null,null,null,null,null,null,null,null,null,"BOLUS",null,"INFUSION",null,null,"Cp",null,null,null,null,"Model",null,"U/mL",null,null,null,null,null,"min-1",null,null,null,null,null,"mg/kg"]
[null,null,null,"ng/mL","Corresponding effect",null,null,null,null,"ng/mL","Corresponding effect"]
[null,null,5,"0-10","None",null,null,null,10,"0-20","None",null,null,null,"Esketamine","0.2-1","mg/kg","0.15-0.6","mg/kg/h",null,"20-1000","ng/mL",null,null,null,"Domino",null,14300,null,2340,null,197,null,{"$f":"81.1/60","v":1.3516666666666666},null,{"$f":"5.71/60","v":9.5166666666666663E-2},null,{"$f":"0.227/60","v":3.7833333333333334E-3},null,2]
[null,null,10," 10-50","Anti-hyperalgesic",null,null,null,20,"20-100","Anti-hyperalgesic"]
[null,null,50,"50-150","Analgesic",null,null,null,100,"100-300","Analgesic",null,null,null,"Racemic","0,25-2","mg/kg","0,2-0,5","mg/kg/h",null,"40-2000","µg/mL",null,null,null,"Clements",null,108,null,39,null,null,null,3.9399999999999998E-2,null,3.8E-3,null,null,null,0.25]
[null,null,150,"150-350","Psychedelic",null,null,null,300,"300-700","Psychedelic"]
[null,null,350,"350-500","Emergence",null,null,null,700,"700-1000","Emergence",null,null,null,null,null,null,null,null,null,null,null,null,null,null,"Kamp",null,1332,155,155,null,69,null,0.24658319371989834,null,3.8452445823020827E-2,null,4.0936361105756098E-3,null,0.5]
[null,null,500,"> 500","Narcosis",null,null,null,1000,"> 1000","Narcosis",null,null,null,null,"KetaPK uses the following models :"]
[null,null,1000,"> 1000","Excessive",null,null,null,2000,"> 2000","Excessive"]
[null,null,null,null,null,null,null,null,null,null,null,null,null,null,"Domino EF et al. Anesth Analg. 1982;61(2):87-92.",null,null,null,null,null,null,null,null,null,null,"PKSolver : to calculate the parameters of a curve c = f(t)"]
[null,null,null,null,null,null,null,null,null,null,null,null,null,null,null,null,null,null,null,null,null,null,null,null,null,"Zhang Y et al. PKSolver. Comput Methods Programs Biomed. 2010;99:306-14."]
[null,null,null,null,null,null,null,null,null,null,null,null,null,null,"Clements JA, Nimmo WS. Br J Anaesth. 1981;53(1):27-30."]
[null,null,null,null,null,null,null,null,null,null,null,null,null,null,null,null,null,null,null,null,null,null,null,null,null," WebPlotDigitizer: to extract data from charts",null,"l’indispensable WebPlotDigitizer"]
[null,null,null,null,null,null,null,null,null,null,null,null,null,null,"Kamp J et al. Anesthesiology. 2020;133:1192-1213."]
[]
[null,null,null,null,"Validation of KetaPK: We can see that the curve generated by KetaPK for each of the three models fits perfectly with the scatter plot of data provided by the respective publications."]

{"sheet":"Domino ABC","index":6,"n_rows":79,"n_cols":70,"rows_kept":79,"cut":false,"hidden":true,"merged":[[30,1,30,4],[5,6,5,8],[6,6,6,8],[7,6,7,8]]}
[]
[]
[]
[null," C(t) = q/OFA!Poids      *    [     (A*EXP(-alpha*(E$9-$F2))      +      B*EXP(-bêta*(E$9-$F2))      +     C*EXP(-gamma*(E$9-$F2 ))     ] "]
[]
[null,"Pour ramener à 5 minutes",null,null,null,null,"Bolus",null,null,{"$f":"KPTiva!I31","v":0},{"$f":"KPTiva!J31","v":0},{"$f":"KPTiva!K31","v":0},{"$f":"KPTiva!L31","v":0},{"$f":"KPTiva!M31","v":0},{"$f":"KPTiva!N31","v":0},{"$f":"KPTiva!O31","v":0},{"$f":"KPTiva!P31","v":0},{"$f":"KPTiva!Q31","v":0},{"$f":"KPTiva!R31","v":0},{"$f":"KPTiva!S31","v":0},{"$f":"KPTiva!T31","v":0},{"$f":"KPTiva!U31","v":0},{"$f":"KPTiva!V31","v":0},{"$f":"KPTiva!W31","v":0},{"$f":"KPTiva!X31","v":0},{"$f":"KPTiva!Y31","v":0},{"$f":"KPTiva!Z31","v":0},{"$f":"KPTiva!AA31","v":0},{"$f":"KPTiva!AB31","v":0},{"$f":"KPTiva!AC31","v":0},{"$f":"KPTiva!AD31","v":0},{"$f":"KPTiva!AE31","v":0},{"$f":"KPTiva!AF31","v":0},{"$f":"KPTiva!AG31","v":0},{"$f":"KPTiva!AH31","v":0},{"$f":"KPTiva!AI31","v":0},{"$f":"KPTiva!AJ31","v":0},{"$f":"KPTiva!AK31","v":0},{"$f":"KPTiva!AL31","v":0},{"$f":"KPTiva!AM31","v":0},{"$f":"KPTiva!AN31","v":0},{"$f":"KPTiva!AO31","v":0},{"$f":"KPTiva!AP31","v":0},{"$f":"KPTiva!AQ31","v":0},{"$f":"KPTiva!AR31","v":0},{"$f":"KPTiva!AS31","v":0},{"$f":"KPTiva!AT31","v":0},{"$f":"KPTiva!AU31","v":0},{"$f":"KPTiva!AV31","v":0},{"$f":"KPTiva!AW31","v":0},{"$f":"KPTiva!AX31","v":0},{"$f":"KPTiva!AY31","v":0},{"$f":"KPTiva!AZ31","v":0},{"$f":"KPTiva!BA31","v":0},{"$f":"KPTiva!BB31","v":0},{"$f":"KPTiva!BC31","v":0},{"$f":"KPTiva!BD31","v":0},{"$f":"KPTiva!BE31","v":0},{"$f":"KPTiva!BF31","v":0},{"$f":"KPTiva!BG31","v":0},{"$f":"KPTiva!BH31","v":0},{"$f":"KPTiva!BI31","v":0},{"$f":"KPTiva!BJ31","v":0},{"$f":"KPTiva!BK31","v":0},{"$f":"KPTiva!BL31","v":0},{"$f":"KPTiva!BM31","v":0},{"$f":"KPTiva!BN31","v":0},{"$f":"KPTiva!BO31","v":0},{"$f":"KPTiva!BP31","v":0},{"$f":"KPTiva!BQ31","v":0}]
[null,"il faut X par le poids et diviser par 12",null,null,null,null,"mg/kg/h",null,null,{"$f":"KPTiva!I33*Poids/12","v":0},{"$f":"KPTiva!J33*Poids/12","v":0},{"$f":"KPTiva!K33*Poids/12","v":0},{"$f":"KPTiva!L33*Poids/12","v":0},{"$f":"KPTiva!M33*Poids/12","v":0},{"$f":"KPTiva!N33*Poids/12","v":0},{"$f":"KPTiva!O33*Poids/12","v":0},{"$f":"KPTiva!P33*Poids/12","v":0},{"$f":"KPTiva!Q33*Poids/12","v":0},{"$f":"KPTiva!R33*Poids/12","v":0},{"$f":"KPTiva!S33*Poids/12","v":0},{"$f":"KPTiva!T33*Poids/12","v":0},{"$f":"KPTiva!U33*Poids/12","v":0},{"$f":"KPTiva!V33*Poids/12","v":0},{"$f":"KPTiva!W33*Poids/12","v":0},{"$f":"KPTiva!X33*Poids/12","v":0},{"$f":"KPTiva!Y33*Poids/12","v":0},{"$f":"KPTiva!Z33*Poids/12","v":0},{"$f":"KPTiva!AA33*Poids/12","v":0},{"$f":"KPTiva!AB33*Poids/12","v":0},{"$f":"KPTiva!AC33*Poids/12","v":0},{"$f":"KPTiva!AD33*Poids/12","v":0},{"$f":"KPTiva!AE33*Poids/12","v":0},{"$f":"KPTiva!AF33*Poids/12","v":0},{"$f":"KPTiva!AG33*Poids/12","v":0},{"$f":"KPTiva!AH33*Poids/12","v":0},{"$f":"KPTiva!AI33*Poids/12","v":0},{"$f":"KPTiva!AJ33*Poids/12","v":0},{"$f":"KPTiva!AK33*Poids/12","v":0},{"$f":"KPTiva!AL33*Poids/12","v":0},{"$f":"KPTiva!AM33*Poids/12","v":0},{"$f":"KPTiva!AN33*Poids/12","v":0},{"$f":"KPTiva!AO33*Poids/12","v":0},{"$f":"KPTiva!AP33*Poids/12","v":0},{"$f":"KPTiva!AQ33*Poids/12","v":0},{"$f":"KPTiva!AR33*Poids/12","v":0},{"$f":"KPTiva!AS33*Poids/12","v":0},{"$f":"KPTiva!AT33*Poids/12","v":0},{"$f":"KPTiva!AU33*Poids/12","v":0},{"$f":"KPTiva!AV33*Poids/12","v":0},{"$f":"KPTiva!AW33*Poids/12","v":0},{"$f":"KPTiva!AX33*Poids/12","v":0},{"$f":"KPTiva!AY33*Poids/12","v":0},{"$f":"KPTiva!AZ33*Poids/12","v":0},{"$f":"KPTiva!BA33*Poids/12","v":0},{"$f":"KPTiva!BB33*Poids/12","v":0},{"$f":"KPTiva!BC33*Poids/12","v":0},{"$f":"KPTiva!BD33*Poids/12","v":0},{"$f":"KPTiva!BE33*Poids/12","v":0},{"$f":"KPTiva!BF33*Poids/12","v":0},{"$f":"KPTiva!BG33*Poids/12","v":0},{"$f":"KPTiva!BH33*Poids/12","v":0},{"$f":"KPTiva!BI33*Poids/12","v":0},{"$f":"KPTiva!BJ33*Poids/12","v":0},{"$f":"KPTiva!BK33*Poids/12","v":0},{"$f":"KPTiva!BL33*Poids/12","v":0},{"$f":"KPTiva!BM33*Poids/12","v":0},{"$f":"KPTiva!BN33*Poids/12","v":0},{"$f":"KPTiva!BO33*Poids/12","v":0},{"$f":"KPTiva!BP33*Poids/12","v":0},{"$f":"KPTiva!BQ33*Poids/12","v":0}]
[null,"il faut diviser par 1000 et multiplier par 5",null,null,null,null,"µg/kg/min",null,null,{"$f":"(KPTiva!I34*Poids)/200","v":0},{"$f":"(KPTiva!J34*Poids)/200","v":0},{"$f":"(KPTiva!K34*Poids)/200","v":0},{"$f":"(KPTiva!L34*Poids)/200","v":0},{"$f":"(KPTiva!M34*Poids)/200","v":0},{"$f":"(KPTiva!N34*Poids)/200","v":0},{"$f":"(KPTiva!O34*Poids)/200","v":0},{"$f":"(KPTiva!P34*Poids)/200","v":0},{"$f":"(KPTiva!Q34*Poids)/200","v":0},{"$f":"(KPTiva!R34*Poids)/200","v":0},{"$f":"(KPTiva!S34*Poids)/200","v":0},{"$f":"(KPTiva!T34*Poids)/200","v":0},{"$f":"(KPTiva!U34*Poids)/200","v":0},{"$f":"(KPTiva!V34*Poids)/200","v":0},{"$f":"(KPTiva!W34*Poids)/200","v":0},{"$f":"(KPTiva!X34*Poids)/200","v":0},{"$f":"(KPTiva!Y34*Poids)/200","v":0},{"$f":"(KPTiva!Z34*Poids)/200","v":0},{"$f":"(KPTiva!AA34*Poids)/200","v":0},{"$f":"(KPTiva!AB34*Poids)/200","v":0},{"$f":"(KPTiva!AC34*Poids)/200","v":0},{"$f":"(KPTiva!AD34*Poids)/200","v":0},{"$f":"(KPTiva!AE34*Poids)/200","v":0},{"$f":"(KPTiva!AF34*Poids)/200","v":0},{"$f":"(KPTiva!AG34*Poids)/200","v":0},{"$f":"(KPTiva!AH34*Poids)/200","v":0},{"$f":"(KPTiva!AI34*Poids)/200","v":0},{"$f":"(KPTiva!AJ34*Poids)/200","v":0},{"$f":"(KPTiva!AK34*Poids)/200","v":0},{"$f":"(KPTiva!AL34*Poids)/200","v":0},{"$f":"(KPTiva!AM34*Poids)/200","v":0},{"$f":"(KPTiva!AN34*Poids)/200","v":0},{"$f":"(KPTiva!AO34*Poids)/200","v":0},{"$f":"(KPTiva!AP34*Poids)/200","v":0},{"$f":"(KPTiva!AQ34*Poids)/200","v":0},{"$f":"(KPTiva!AR34*Poids)/200","v":0},{"$f":"(KPTiva!AS34*Poids)/200","v":0},{"$f":"(KPTiva!AT34*Poids)/200","v":0},{"$f":"(KPTiva!AU34*Poids)/200","v":0},{"$f":"(KPTiva!AV34*Poids)/200","v":0},{"$f":"(KPTiva!AW34*Poids)/200","v":0},{"$f":"(KPTiva!AX34*Poids)/200","v":0},{"$f":"(KPTiva!AY34*Poids)/200","v":0},{"$f":"(KPTiva!AZ34*Poids)/200","v":0},{"$f":"(KPTiva!BA34*Poids)/200","v":0},{"$f":"(KPTiva!BB34*Poids)/200","v":0},{"$f":"(KPTiva!BC34*Poids)/200","v":0},{"$f":"(KPTiva!BD34*Poids)/200","v":0},{"$f":"(KPTiva!BE34*Poids)/200","v":0},{"$f":"(KPTiva!BF34*Poids)/200","v":0},{"$f":"(KPTiva!BG34*Poids)/200","v":0},{"$f":"(KPTiva!BH34*Poids)/200","v":0},{"$f":"(KPTiva!BI34*Poids)/200","v":0},{"$f":"(KPTiva!BJ34*Poids)/200","v":0},{"$f":"(KPTiva!BK34*Poids)/200","v":0},{"$f":"(KPTiva!BL34*Poids)/200","v":0},{"$f":"(KPTiva!BM34*Poids)/200","v":0},{"$f":"(KPTiva!BN34*Poids)/200","v":0},{"$f":"(KPTiva!BO34*Poids)/200","v":0},{"$f":"(KPTiva!BP34*Poids)/200","v":0},{"$f":"(KPTiva!BQ34*Poids)/200","v":0}]
[]
[null,null,null,null,null,null,"total mg",null,null,{"$f":"SUM(J6:J8)","v":0},{"$f":"SUM(K6:K8)","v":0},0,0,0,0,0,0,0,0,0,0,0,0,0,0,0,0,0,0,0,0,0,0,0,0,0,0,0,0,0,0,{"$f":"SUM(AP6:AP8)","v":0},0,0,0,0,0,0,0,0,0,0,0,0,0,0,0,0,0,0,0,0,0,0,0,0,{"$f":"SUM(BO6:BO8)","v":0},0,0,0]
[]
[]
[]
[null,null,null,null,null,null,"q (t)",null,null,{"$f":"J$10","v":0},0,0,0,0,0,0,0,0,0,0,0,0,0,0,0,0,0,0,0,0,0,0,0,0,0,0,0,0,0,0,0,0,0,0,0,0,0,0,0,0,0,0,0,0,0,0,0,0,0,0,0,0,0,0,0,0,0,0,0,{"$f":"BR$10","v":0}]
[null,null,null,null,null,null,"temps",null,null,0,5,10,15,20,25,30,35,40,45,50,55,60,65,70,75,80,85,90,95,100,105,110,115,120,125,130,135,140,145,150,155,160,165,170,175,180,185,190,195,200,205,210,215,220,225,230,235,240,245,250,255,260,265,270,275,280,285,290,295,300]
[null,null,null,null,null,null,{"$f":"J$10","v":0},0,null,{"$f":"  $G16/[0]!Poids      *      (     (A*EXP(-alpha*(J$15-$H16)))     +      (B*EXP(-bêta*(J$15-$H16)))    +   (_C*EXP(-gamma*(J$15-$H16 )))      )","v":0},{"$f":"  $G16/[0]!Poids      *      (     (A*EXP(-alpha*(K$15-$H16)))     +      (B*EXP(-bêta*(K$15-$H16)))    +   (_C*EXP(-gamma*(K$15-$H16 )))      )","v":0},{"$f":"  $G16/[0]!Poids      *      (     (A*EXP(-alpha*(L$15-$H16)))     +      (B*EXP(-bêta*(L$15-$H16)))    +   (_C*EXP(-gamma*(L$15-$H16 )))      )","v":0},{"$f":"  $G16/[0]!Poids      *      (     (A*EXP(-alpha*(M$15-$H16)))     +      (B*EXP(-bêta*(M$15-$H16)))    +   (_C*EXP(-gamma*(M$15-$H16 )))      )","v":0},{"$f":"  $G16/[0]!Poids      *      (     (A*EXP(-alpha*(N$15-$H16)))     +      (B*EXP(-bêta*(N$15-$H16)))    +   (_C*EXP(-gamma*(N$15-$H16 )))      )","v":0},{"$f":"  $G16/[0]!Poids      *      (     (A*EXP(-alpha*(O$15-$H16)))     +      (B*EXP(-bêta*(O$15-$H16)))    +   (_C*EXP(-gamma*(O$15-$H16 )))      )","v":0},{"$f":"  $G16/[0]!Poids      *      (     (A*EXP(-alpha*(P$15-$H16)))     +      (B*EXP(-bêta*(P$15-$H16)))    +   (_C*EXP(-gamma*(P$15-$H16 )))      )","v":0},{"$f":"  $G16/[0]!Poids      *      (     (A*EXP(-alpha*(Q$15-$H16)))     +      (B*EXP(-bêta*(Q$15-$H16)))    +   (_C*EXP(-gamma*(Q$15-$H16 )))      )","v":0},{"$f":"  $G16/[0]!Poids      *      (     (A*EXP(-alpha*(R$15-$H16)))     +      (B*EXP(-bêta*(R$15-$H16)))    +   (_C*EXP(-gamma*(R$15-$H16 )))      )","v":0},{"$f":"  $G16/[0]!Poids      *      (     (A*EXP(-alpha*(S$15-$H16)))     +      (B*EXP(-bêta*(S$15-$H16)))    +   (_C*EXP(-gamma*(S$15-$H16 )))      )","v":0},{"$f":"  $G16/[0]!Poids      *      (     (A*EXP(-alpha*(T$15-$H16)))     +      (B*EXP(-bêta*(T$15-$H16)))    +   (_C*EXP(-gamma*(T$15-$H16 )))      )","v":0},{"$f":"  $G16/[0]!Poids      *      (     (A*EXP(-alpha*(U$15-$H16)))     +      (B*EXP(-bêta*(U$15-$H16)))    +   (_C*EXP(-gamma*(U$15-$H16 )))      )","v":0},{"$f":"  $G16/[0]!Poids      *      (     (A*EXP(-alpha*(V$15-$H16)))     +      (B*EXP(-bêta*(V$15-$H16)))    +   (_C*EXP(-gamma*(V$15-$H16 )))      )","v":0},{"$f":"  $G16/[0]!Poids      *      (     (A*EXP(-alpha*(W$15-$H16)))     +      (B*EXP(-bêta*(W$15-$H16)))    +   (_C*EXP(-gamma*(W$15-$H16 )))      )","v":0},{"$f":"  $G16/[0]!Poids      *      (     (A*EXP(-alpha*(X$15-$H16)))     +      (B*EXP(-bêta*(X$15-$H16)))    +   (_C*EXP(-gamma*(X$15-$H16 )))      )","v":0},{"$f":"  $G16/[0]!Poids      *      (     (A*EXP(-alpha*(Y$15-$H16)))     +      (B*EXP(-bêta*(Y$15-$H16)))    +   (_C*EXP(-gamma*(Y$15-$H16 )))      )","v":0},{"$f":"  $G16/[0]!Poids      *      (     (A*EXP(-alpha*(Z$15-$H16)))     +      (B*EXP(-bêta*(Z$15-$H16)))    +   (_C*EXP(-gamma*(Z$15-$H16 )))      )","v":0},{"$f":"  $G16/[0]!Poids      *      (     (A*EXP(-alpha*(AA$15-$H16)))     +      (B*EXP(-bêta*(AA$15-$H16)))    +   (_C*EXP(-gamma*(AA$15-$H16 )))      )","v":0},{"$f":"  $G16/[0]!Poids      *      (     (A*EXP(-alpha*(AB$15-$H16)))     +      (B*EXP(-bêta*(AB$15-$H16)))    +   (_C*EXP(-gamma*(AB$15-$H16 )))      )","v":0},{"$f":"  $G16/[0]!Poids      *      (     (A*EXP(-alpha*(AC$15-$H16)))     +      (B*EXP(-bêta*(AC$15-$H16)))    +   (_C*EXP(-gamma*(AC$15-$H16 )))      )","v":0},{"$f":"  $G16/[0]!Poids      *      (     (A*EXP(-alpha*(AD$15-$H16)))     +      (B*EXP(-bêta*(AD$15-$H16)))    +   (_C*EXP(-gamma*(AD$15-$H16 )))      )","v":0},{"$f":"  $G16/[0]!Poids      *      (     (A*EXP(-alpha*(AE$15-$H16)))     +      (B*EXP(-bêta*(AE$15-$H16)))    +   (_C*EXP(-gamma*(AE$15-$H16 )))      )","v":0},{"$f":"  $G16/[0]!Poids      *      (     (A*EXP(-alpha*(AF$15-$H16)))     +      (B*EXP(-bêta*(AF$15-$H16)))    +   (_C*EXP(-gamma*(AF$15-$H16 )))      )","v":0},{"$f":"  $G16/[0]!Poids      *      (     (A*EXP(-alpha*(AG$15-$H16)))     +      (B*EXP(-bêta*(AG$15-$H16)))    +   (_C*EXP(-gamma*(AG$15-$H16 )))      )","v":0},{"$f":"  $G16/[0]!Poids      *      (     (A*EXP(-alpha*(AH$15-$H16)))     +      (B*EXP(-bêta*(AH$15-$H16)))    +   (_C*EXP(-gamma*(AH$15-$H16 )))      )","v":0},{"$f":"  $G16/[0]!Poids      *      (     (A*EXP(-alpha*(AI$15-$H16)))     +      (B*EXP(-bêta*(AI$15-$H16)))    +   (_C*EXP(-gamma*(AI$15-$H16 )))      )","v":0},{"$f":"  $G16/[0]!Poids      *      (     (A*EXP(-alpha*(AJ$15-$H16)))     +      (B*EXP(-bêta*(AJ$15-$H16)))    +   (_C*EXP(-gamma*(AJ$15-$H16 )))      )","v":0},{"$f":"  $G16/[0]!Poids      *      (     (A*EXP(-alpha*(AK$15-$H16)))     +      (B*EXP(-bêta*(AK$15-$H16)))    +   (_C*EXP(-gamma*(AK$15-$H16 )))      )","v":0},{"$f":"  $G16/[0]!Poids      *      (     (A*EXP(-alpha*(AL$15-$H16)))     +      (B*EXP(-bêta*(AL$15-$H16)))    +   (_C*EXP(-gamma*(AL$15-$H16 )))      )","v":0},{"$f":"  $G16/[0]!Poids      *      (     (A*EXP(-alpha*(AM$15-$H16)))     +      (B*EXP(-bêta*(AM$15-$H16)))    +   (_C*EXP(-gamma*(AM$15-$H16 )))      )","v":0},{"$f":"  $G16/[0]!Poids      *      (     (A*EXP(-alpha*(AN$15-$H16)))     +      (B*EXP(-bêta*(AN$15-$H16)))    +   (_C*EXP(-gamma*(AN$15-$H16 )))      )","v":0},{"$f":"  $G16/[0]!Poids      *      (     (A*EXP(-alpha*(AO$15-$H16)))     +      (B*EXP(-bêta*(AO$15-$H16)))    +   (_C*EXP(-gamma*(AO$15-$H16 )))      )","v":0},{"$f":"  $G16/[0]!Poids      *      (     (A*EXP(-alpha*(AP$15-$H16)))     +      (B*EXP(-bêta*(AP$15-$H16)))    +   (_C*EXP(-gamma*(AP$15-$H16 )))      )","v":0},{"$f":"  $G16/[0]!Poids      *      (     (A*EXP(-alpha*(AQ$15-$H16)))     +      (B*EXP(-bêta*(AQ$15-$H16)))    +   (_C*EXP(-gamma*(AQ$15-$H16 )))      )","v":0},{"$f":"  $G16/[0]!Poids      *      (     (A*EXP(-alpha*(AR$15-$H16)))     +      (B*EXP(-bêta*(AR$15-$H16)))    +   (_C*EXP(-gamma*(AR$15-$H16 )))      )","v":0},{"$f":"  $G16/[0]!Poids      *      (     (A*EXP(-alpha*(AS$15-$H16)))     +      (B*EXP(-bêta*(AS$15-$H16)))    +   (_C*EXP(-gamma*(AS$15-$H16 )))      )","v":0},{"$f":"  $G16/[0]!Poids      *      (     (A*EXP(-alpha*(AT$15-$H16)))     +      (B*EXP(-bêta*(AT$15-$H16)))    +   (_C*EXP(-gamma*(AT$15-$H16 )))      )","v":0},{"$f":"  $G16/[0]!Poids      *      (     (A*EXP(-alpha*(AU$15-$H16)))     +      (B*EXP(-bêta*(AU$15-$H16)))    +   (_C*EXP(-gamma*(AU$15-$H16 )))      )","v":0},{"$f":"  $G16/[0]!Poids      *      (     (A*EXP(-alpha*(AV$15-$H16)))     +      (B*EXP(-bêta*(AV$15-$H16)))    +   (_C*EXP(-gamma*(AV$15-$H16 )))      )","v":0},{"$f":"  $G16/[0]!Poids      *      (     (A*EXP(-alpha*(AW$15-$H16)))     +      (B*EXP(-bêta*(AW$15-$H16)))    +   (_C*EXP(-gamma*(AW$15-$H16 )))      )","v":0},{"$f":"  $G16/[0]!Poids      *      (     (A*EXP(-alpha*(AX$15-$H16)))     +      (B*EXP(-bêta*(AX$15-$H16)))    +   (_C*EXP(-gamma*(AX$15-$H16 )))      )","v":0},{"$f":"  $G16/[0]!Poids      *      (     (A*EXP(-alpha*(AY$15-$H16)))     +      (B*EXP(-bêta*(AY$15-$H16)))    +   (_C*EXP(-gamma*(AY$15-$H16 )))      )","v":0},{"$f":"  $G16/[0]!Poids      *      (     (A*EXP(-alpha*(AZ$15-$H16)))     +      (B*EXP(-bêta*(AZ$15-$H16)))    +   (_C*EXP(-gamma*(AZ$15-$H16 )))      )","v":0},{"$f":"  $G16/[0]!Poids      *      (     (A*EXP(-alpha*(BA$15-$H16)))     +      (B*EXP(-bêta*(BA$15-$H16)))    +   (_C*EXP(-gamma*(BA$15-$H16 )))      )","v":0},{"$f":"  $G16/[0]!Poids      *      (     (A*EXP(-alpha*(BB$15-$H16)))     +      (B*EXP(-bêta*(BB$15-$H16)))    +   (_C*EXP(-gamma*(BB$15-$H16 )))      )","v":0},{"$f":"  $G16/[0]!Poids      *      (     (A*EXP(-alpha*(BC$15-$H16)))     +      (B*EXP(-bêta*(BC$15-$H16)))    +   (_C*EXP(-gamma*(BC$15-$H16 )))      )","v":0},{"$f":"  $G16/[0]!Poids      *      (     (A*EXP(-alpha*(BD$15-$H16)))     +      (B*EXP(-bêta*(BD$15-$H16)))    +   (_C*EXP(-gamma*(BD$15-$H16 )))      )","v":0},{"$f":"  $G16/[0]!Poids      *      (     (A*EXP(-alpha*(BE$15-$H16)))     +      (B*EXP(-bêta*(BE$15-$H16)))    +   (_C*EXP(-gamma*(BE$15-$H16 )))      )","v":0},{"$f":"  $G16/[0]!Poids      *      (     (A*EXP(-alpha*(BF$15-$H16)))     +      (B*EXP(-bêta*(BF$15-$H16)))    +   (_C*EXP(-gamma*(BF$15-$H16 )))      )","v":0},{"$f":"  $G16/[0]!Poids      *      (     (A*EXP(-alpha*(BG$15-$H16)))     +      (B*EXP(-bêta*(BG$15-$H16)))    +   (_C*EXP(-gamma*(BG$15-$H16 )))      )","v":0},{"$f":"  $G16/[0]!Poids      *      (     (A*EXP(-alpha*(BH$15-$H16)))     +      (B*EXP(-bêta*(BH$15-$H16)))    +   (_C*EXP(-gamma*(BH$15-$H16 )))      )","v":0},{"$f":"  $G16/[0]!Poids      *      (     (A*EXP(-alpha*(BI$15-$H16)))     +      (B*EXP(-bêta*(BI$15-$H16)))    +   (_C*EXP(-gamma*(BI$15-$H16 )))      )","v":0},{"$f":"  $G16/[0]!Poids      *      (     (A*EXP(-alpha*(BJ$15-$H16)))     +      (B*EXP(-bêta*(BJ$15-$H16)))    +   (_C*EXP(-gamma*(BJ$15-$H16 )))      )","v":0},{"$f":"  $G16/[0]!Poids      *      (     (A*EXP(-alpha*(BK$15-$H16)))     +      (B*EXP(-bêta*(BK$15-$H16)))    +   (_C*EXP(-gamma*(BK$15-$H16 )))      )","v":0},{"$f":"  $G16/[0]!Poids      *      (     (A*EXP(-alpha*(BL$15-$H16)))     +      (B*EXP(-bêta*(BL$15-$H16)))    +   (_C*EXP(-gamma*(BL$15-$H16 )))      )","v":0},{"$f":"  $G16/[0]!Poids      *      (     (A*EXP(-alpha*(BM$15-$H16)))     +      (B*EXP(-bêta*(BM$15-$H16)))    +   (_C*EXP(-gamma*(BM$15-$H16 )))      )","v":0},{"$f":"  $G16/[0]!Poids      *      (     (A*EXP(-alpha*(BN$15-$H16)))     +      (B*EXP(-bêta*(BN$15-$H16)))    +   (_C*EXP(-gamma*(BN$15-$H16 )))      )","v":0},{"$f":"  $G16/[0]!Poids      *      (     (A*EXP(-alpha*(BO$15-$H16)))     +      (B*EXP(-bêta*(BO$15-$H16)))    +   (_C*EXP(-gamma*(BO$15-$H16 )))      )","v":0},{"$f":"  $G16/[0]!Poids      *      (     (A*EXP(-alpha*(BP$15-$H16)))     +      (B*EXP(-bêta*(BP$15-$H16)))    +   (_C*EXP(-gamma*(BP$15-$H16 )))      )","v":0},{"$f":"  $G16/[0]!Poids      *      (     (A*EXP(-alpha*(BQ$15-$H16)))     +      (B*EXP(-bêta*(BQ$15-$H16)))    +   (_C*EXP(-gamma*(BQ$15-$H16 )))      )","v":0},{"$f":"  $G16/[0]!Poids      *      (     (A*EXP(-alpha*(BR$15-$H16)))     +      (B*EXP(-bêta*(BR$15-$H16)))    +   (_C*EXP(-gamma*(BR$15-$H16 )))      )","v":0}]
[null,"A équation",14300,"A/dose",{"$f":"C17/D28","v":7150},null,{"$f":"K$10","v":0},5,null,null,{"$f":"  $G17/[0]!Poids      *      (     (A*EXP(-alpha*(K$15-$H17)))     +      (B*EXP(-bêta*(K$15-$H17)))    +   (_C*EXP(-gamma*(K$15-$H17 )))      )","v":0},{"$f":"  $G17/[0]!Poids      *      (     (A*EXP(-alpha*(L$15-$H17)))     +      (B*EXP(-bêta*(L$15-$H17)))    +   (_C*EXP(-gamma*(L$15-$H17 )))      )","v":0},{"$f":"  $G17/[0]!Poids      *      (     (A*EXP(-alpha*(M$15-$H17)))     +      (B*EXP(-bêta*(M$15-$H17)))    +   (_C*EXP(-gamma*(M$15-$H17 )))      )","v":0},{"$f":"  $G17/[0]!Poids      *      (     (A*EXP(-alpha*(N$15-$H17)))     +      (B*EXP(-bêta*(N$15-$H17)))    +   (_C*EXP(-gamma*(N$15-$H17 )))      )","v":0},{"$f":"  $G17/[0]!Poids      *      (     (A*EXP(-alpha*(O$15-$H17)))     +      (B*EXP(-bêta*(O$15-$H17)))    +   (_C*EXP(-gamma*(O$15-$H17 )))      )","v":0},{"$f":"  $G17/[0]!Poids      *      (     (A*EXP(-alpha*(P$15-$H17)))     +      (B*EXP(-bêta*(P$15-$H17)))    +   (_C*EXP(-gamma*(P$15-$H17 )))      )","v":0},{"$f":"  $G17/[0]!Poids      *      (     (A*EXP(-alpha*(Q$15-$H17)))     +      (B*EXP(-bêta*(Q$15-$H17)))    +   (_C*EXP(-gamma*(Q$15-$H17 )))      )","v":0},{"$f":"  $G17/[0]!Poids      *      (     (A*EXP(-alpha*(R$15-$H17)))     +      (B*EXP(-bêta*(R$15-$H17)))    +   (_C*EXP(-gamma*(R$15-$H17 )))      )","v":0},{"$f":"  $G17/[0]!Poids      *      (     (A*EXP(-alpha*(S$15-$H17)))     +      (B*EXP(-bêta*(S$15-$H17)))    +   (_C*EXP(-gamma*(S$15-$H17 )))      )","v":0},{"$f":"  $G17/[0]!Poids      *      (     (A*EXP(-alpha*(T$15-$H17)))     +      (B*EXP(-bêta*(T$15-$H17)))    +   (_C*EXP(-gamma*(T$15-$H17 )))      )","v":0},{"$f":"  $G17/[0]!Poids      *      (     (A*EXP(-alpha*(U$15-$H17)))     +      (B*EXP(-bêta*(U$15-$H17)))    +   (_C*EXP(-gamma*(U$15-$H17 )))      )","v":0},{"$f":"  $G17/[0]!Poids      *      (     (A*EXP(-alpha*(V$15-$H17)))     +      (B*EXP(-bêta*(V$15-$H17)))    +   (_C*EXP(-gamma*(V$15-$H17 )))      )","v":0},{"$f":"  $G17/[0]!Poids      *      (     (A*EXP(-alpha*(W$15-$H17)))     +      (B*EXP(-bêta*(W$15-$H17)))    +   (_C*EXP(-gamma*(W$15-$H17 )))      )","v":0},{"$f":"  $G17/[0]!Poids      *      (     (A*EXP(-alpha*(X$15-$H17)))     +      (B*EXP(-bêta*(X$15-$H17)))    +   (_C*EXP(-gamma*(X$15-$H17 )))      )","v":0},{"$f":"  $G17/[0]!Poids      *      (     (A*EXP(-alpha*(Y$15-$H17)))     +      (B*EXP(-bêta*(Y$15-$H17)))    +   (_C*EXP(-gamma*(Y$15-$H17 )))      )","v":0},{"$f":"  $G17/[0]!Poids      *      (     (A*EXP(-alpha*(Z$15-$H17)))     +      (B*EXP(-bêta*(Z$15-$H17)))    +   (_C*EXP(-gamma*(Z$15-$H17 )))      )","v":0},{"$f":"  $G17/[0]!Poids      *      (     (A*EXP(-alpha*(AA$15-$H17)))     +      (B*EXP(-bêta*(AA$15-$H17)))    +   (_C*EXP(-gamma*(AA$15-$H17 )))      )","v":0},{"$f":"  $G17/[0]!Poids      *      (     (A*EXP(-alpha*(AB$15-$H17)))     +      (B*EXP(-bêta*(AB$15-$H17)))    +   (_C*EXP(-gamma*(AB$15-$H17 )))      )","v":0},{"$f":"  $G17/[0]!Poids      *      (     (A*EXP(-alpha*(AC$15-$H17)))     +      (B*EXP(-bêta*(AC$15-$H17)))    +   (_C*EXP(-gamma*(AC$15-$H17 )))      )","v":0},{"$f":"  $G17/[0]!Poids      *      (     (A*EXP(-alpha*(AD$15-$H17)))     +      (B*EXP(-bêta*(AD$15-$H17)))    +   (_C*EXP(-gamma*(AD$15-$H17 )))      )","v":0},{"$f":"  $G17/[0]!Poids      *      (     (A*EXP(-alpha*(AE$15-$H17)))     +      (B*EXP(-bêta*(AE$15-$H17)))    +   (_C*EXP(-gamma*(AE$15-$H17 )))      )","v":0},{"$f":"  $G17/[0]!Poids      *      (     (A*EXP(-alpha*(AF$15-$H17)))     +      (B*EXP(-bêta*(AF$15-$H17)))    +   (_C*EXP(-gamma*(AF$15-$H17 )))      )","v":0},{"$f":"  $G17/[0]!Poids      *      (     (A*EXP(-alpha*(AG$15-$H17)))     +      (B*EXP(-bêta*(AG$15-$H17)))    +   (_C*EXP(-gamma*(AG$15-$H17 )))      )","v":0},{"$f":"  $G17/[0]!Poids      *      (     (A*EXP(-alpha*(AH$15-$H17)))     +      (B*EXP(-bêta*(AH$15-$H17)))    +   (_C*EXP(-gamma*(AH$15-$H17 )))      )","v":0},{"$f":"  $G17/[0]!Poids      *      (     (A*EXP(-alpha*(AI$15-$H17)))     +      (B*EXP(-bêta*(AI$15-$H17)))    +   (_C*EXP(-gamma*(AI$15-$H17 )))      )","v":0},{"$f":"  $G17/[0]!Poids      *      (     (A*EXP(-alpha*(AJ$15-$H17)))     +      (B*EXP(-bêta*(AJ$15-$H17)))    +   (_C*EXP(-gamma*(AJ$15-$H17 )))      )","v":0},{"$f":"  $G17/[0]!Poids      *      (     (A*EXP(-alpha*(AK$15-$H17)))     +      (B*EXP(-bêta*(AK$15-$H17)))    +   (_C*EXP(-gamma*(AK$15-$H17 )))      )","v":0},{"$f":"  $G17/[0]!Poids      *      (     (A*EXP(-alpha*(AL$15-$H17)))     +      (B*EXP(-bêta*(AL$15-$H17)))    +   (_C*EXP(-gamma*(AL$15-$H17 )))      )","v":0},{"$f":"  $G17/[0]!Poids      *      (     (A*EXP(-alpha*(AM$15-$H17)))     +      (B*EXP(-bêta*(AM$15-$H17)))    +   (_C*EXP(-gamma*(AM$15-$H17 )))      )","v":0},{"$f":"  $G17/[0]!Poids      *      (     (A*EXP(-alpha*(AN$15-$H17)))     +      (B*EXP(-bêta*(AN$15-$H17)))    +   (_C*EXP(-gamma*(AN$15-$H17 )))      )","v":0},{"$f":"  $G17/[0]!Poids      *      (     (A*EXP(-alpha*(AO$15-$H17)))     +      (B*EXP(-bêta*(AO$15-$H17)))    +   (_C*EXP(-gamma*(AO$15-$H17 )))      )","v":0},{"$f":"  $G17/[0]!Poids      *      (     (A*EXP(-alpha*(AP$15-$H17)))     +      (B*EXP(-bêta*(AP$15-$H17)))    +   (_C*EXP(-gamma*(AP$15-$H17 )))      )","v":0},{"$f":"  $G17/[0]!Poids      *      (     (A*EXP(-alpha*(AQ$15-$H17)))     +      (B*EXP(-bêta*(AQ$15-$H17)))    +   (_C*EXP(-gamma*(AQ$15-$H17 )))      )","v":0},{"$f":"  $G17/[0]!Poids      *      (     (A*EXP(-alpha*(AR$15-$H17)))     +      (B*EXP(-bêta*(AR$15-$H17)))    +   (_C*EXP(-gamma*(AR$15-$H17 )))      )","v":0},{"$f":"  $G17/[0]!Poids      *      (     (A*EXP(-alpha*(AS$15-$H17)))     +      (B*EXP(-bêta*(AS$15-$H17)))    +   (_C*EXP(-gamma*(AS$15-$H17 )))      )","v":0},{"$f":"  $G17/[0]!Poids      *      (     (A*EXP(-alpha*(AT$15-$H17)))     +      (B*EXP(-bêta*(AT$15-$H17)))    +   (_C*EXP(-gamma*(AT$15-$H17 )))      )","v":0},{"$f":"  $G17/[0]!Poids      *      (     (A*EXP(-alpha*(AU$15-$H17)))     +      (B*EXP(-bêta*(AU$15-$H17)))    +   (_C*EXP(-gamma*(AU$15-$H17 )))      )","v":0},{"$f":"  $G17/[0]!Poids      *      (     (A*EXP(-alpha*(AV$15-$H17)))     +      (B*EXP(-bêta*(AV$15-$H17)))    +   (_C*EXP(-gamma*(AV$15-$H17 )))      )","v":0},{"$f":"  $G17/[0]!Poids      *      (     (A*EXP(-alpha*(AW$15-$H17)))     +      (B*EXP(-bêta*(AW$15-$H17)))    +   (_C*EXP(-gamma*(AW$15-$H17 )))      )","v":0},{"$f":"  $G17/[0]!Poids      *      (     (A*EXP(-alpha*(AX$15-$H17)))     +      (B*EXP(-bêta*(AX$15-$H17)))    +   (_C*EXP(-gamma*(AX$15-$H17 )))      )","v":0},{"$f":"  $G17/[0]!Poids      *      (     (A*EXP(-alpha*(AY$15-$H17)))     +      (B*EXP(-bêta*(AY$15-$H17)))    +   (_C*EXP(-gamma*(AY$15-$H17 )))      )","v":0},{"$f":"  $G17/[0]!Poids      *      (     (A*EXP(-alpha*(AZ$15-$H17)))     +      (B*EXP(-bêta*(AZ$15-$H17)))    +   (_C*EXP(-gamma*(AZ$15-$H17 )))      )","v":0},{"$f":"  $G17/[0]!Poids      *      (     (A*EXP(-alpha*(BA$15-$H17)))     +      (B*EXP(-bêta*(BA$15-$H17)))    +   (_C*EXP(-gamma*(BA$15-$H17 )))      )","v":0},{"$f":"  $G17/[0]!Poids      *      (     (A*EXP(-alpha*(BB$15-$H17)))     +      (B*EXP(-bêta*(BB$15-$H17)))    +   (_C*EXP(-gamma*(BB$15-$H17 )))      )","v":0},{"$f":"  $G17/[0]!Poids      *      (     (A*EXP(-alpha*(BC$15-$H17)))     +      (B*EXP(-bêta*(BC$15-$H17)))    +   (_C*EXP(-gamma*(BC$15-$H17 )))      )","v":0},{"$f":"  $G17/[0]!Poids      *      (     (A*EXP(-alpha*(BD$15-$H17)))     +      (B*EXP(-bêta*(BD$15-$H17)))    +   (_C*EXP(-gamma*(BD$15-$H17 )))      )","v":0},{"$f":"  $G17/[0]!Poids      *      (     (A*EXP(-alpha*(BE$15-$H17)))     +      (B*EXP(-bêta*(BE$15-$H17)))    +   (_C*EXP(-gamma*(BE$15-$H17 )))      )","v":0},{"$f":"  $G17/[0]!Poids      *      (     (A*EXP(-alpha*(BF$15-$H17)))     +      (B*EXP(-bêta*(BF$15-$H17)))    +   (_C*EXP(-gamma*(BF$15-$H17 )))      )","v":0},{"$f":"  $G17/[0]!Poids      *      (     (A*EXP(-alpha*(BG$15-$H17)))     +      (B*EXP(-bêta*(BG$15-$H17)))    +   (_C*EXP(-gamma*(BG$15-$H17 )))      )","v":0},{"$f":"  $G17/[0]!Poids      *      (     (A*EXP(-alpha*(BH$15-$H17)))     +      (B*EXP(-bêta*(BH$15-$H17)))    +   (_C*EXP(-gamma*(BH$15-$H17 )))      )","v":0},{"$f":"  $G17/[0]!Poids      *      (     (A*EXP(-alpha*(BI$15-$H17)))     +      (B*EXP(-bêta*(BI$15-$H17)))    +   (_C*EXP(-gamma*(BI$15-$H17 )))      )","v":0},{"$f":"  $G17/[0]!Poids      *      (     (A*EXP(-alpha*(BJ$15-$H17)))     +      (B*EXP(-bêta*(BJ$15-$H17)))    +   (_C*EXP(-gamma*(BJ$15-$H17 )))      )","v":0},{"$f":"  $G17/[0]!Poids      *      (     (A*EXP(-alpha*(BK$15-$H17)))     +      (B*EXP(-bêta*(BK$15-$H17)))    +   (_C*EXP(-gamma*(BK$15-$H17 )))      )","v":0},{"$f":"  $G17/[0]!Poids      *      (     (A*EXP(-alpha*(BL$15-$H17)))     +      (B*EXP(-bêta*(BL$15-$H17)))    +   (_C*EXP(-gamma*(BL$15-$H17 )))      )","v":0},{"$f":"  $G17/[0]!Poids      *      (     (A*EXP(-alpha*(BM$15-$H17)))     +      (B*EXP(-bêta*(BM$15-$H17)))    +   (_C*EXP(-gamma*(BM$15-$H17 )))      )","v":0},{"$f":"  $G17/[0]!Poids      *      (     (A*EXP(-alpha*(BN$15-$H17)))     +      (B*EXP(-bêta*(BN$15-$H17)))    +   (_C*EXP(-gamma*(BN$15-$H17 )))      )","v":0},{"$f":"  $G17/[0]!Poids      *      (     (A*EXP(-alpha*(BO$15-$H17)))     +      (B*EXP(-bêta*(BO$15-$H17)))    +   (_C*EXP(-gamma*(BO$15-$H17 )))      )","v":0},{"$f":"  $G17/[0]!Poids      *      (     (A*EXP(-alpha*(BP$15-$H17)))     +      (B*EXP(-bêta*(BP$15-$H17)))    +   (_C*EXP(-gamma*(BP$15-$H17 )))      )","v":0},{"$f":"  $G17/[0]!Poids      *      (     (A*EXP(-alpha*(BQ$15-$H17)))     +      (B*EXP(-bêta*(BQ$15-$H17)))    +   (_C*EXP(-gamma*(BQ$15-$H17 )))      )","v":0},{"$f":"  $G17/[0]!Poids      *      (     (A*EXP(-alpha*(BR$15-$H17)))     +      (B*EXP(-bêta*(BR$15-$H17)))    +   (_C*EXP(-gamma*(BR$15-$H17 )))      )","v":0}]
[null,"B équation",2340,"B/dose",{"$f":"C18/D28","v":1170},null,{"$f":"L$10","v":0},10,null,null,null,{"$f":"  $G18/[0]!Poids      *      (     (A*EXP(-alpha*(L$15-$H18)))     +      (B*EXP(-bêta*(L$15-$H18)))    +   (_C*EXP(-gamma*(L$15-$H18 )))      )","v":0},{"$f":"  $G18/[0]!Poids      *      (     (A*EXP(-alpha*(M$15-$H18)))     +      (B*EXP(-bêta*(M$15-$H18)))    +   (_C*EXP(-gamma*(M$15-$H18 )))      )","v":0},{"$f":"  $G18/[0]!Poids      *      (     (A*EXP(-alpha*(N$15-$H18)))     +      (B*EXP(-bêta*(N$15-$H18)))    +   (_C*EXP(-gamma*(N$15-$H18 )))      )","v":0},{"$f":"  $G18/[0]!Poids      *      (     (A*EXP(-alpha*(O$15-$H18)))     +      (B*EXP(-bêta*(O$15-$H18)))    +   (_C*EXP(-gamma*(O$15-$H18 )))      )","v":0},{"$f":"  $G18/[0]!Poids      *      (     (A*EXP(-alpha*(P$15-$H18)))     +      (B*EXP(-bêta*(P$15-$H18)))    +   (_C*EXP(-gamma*(P$15-$H18 )))      )","v":0},{"$f":"  $G18/[0]!Poids      *      (     (A*EXP(-alpha*(Q$15-$H18)))     +      (B*EXP(-bêta*(Q$15-$H18)))    +   (_C*EXP(-gamma*(Q$15-$H18 )))      )","v":0},{"$f":"  $G18/[0]!Poids      *      (     (A*EXP(-alpha*(R$15-$H18)))     +      (B*EXP(-bêta*(R$15-$H18)))    +   (_C*EXP(-gamma*(R$15-$H18 )))      )","v":0},{"$f":"  $G18/[0]!Poids      *      (     (A*EXP(-alpha*(S$15-$H18)))     +      (B*EXP(-bêta*(S$15-$H18)))    +   (_C*EXP(-gamma*(S$15-$H18 )))      )","v":0},{"$f":"  $G18/[0]!Poids      *      (     (A*EXP(-alpha*(T$15-$H18)))     +      (B*EXP(-bêta*(T$15-$H18)))    +   (_C*EXP(-gamma*(T$15-$H18 )))      )","v":0},{"$f":"  $G18/[0]!Poids      *      (     (A*EXP(-alpha*(U$15-$H18)))     +      (B*EXP(-bêta*(U$15-$H18)))    +   (_C*EXP(-gamma*(U$15-$H18 )))      )","v":0},{"$f":"  $G18/[0]!Poids      *      (     (A*EXP(-alpha*(V$15-$H18)))     +      (B*EXP(-bêta*(V$15-$H18)))    +   (_C*EXP(-gamma*(V$15-$H18 )))      )","v":0},{"$f":"  $G18/[0]!Poids      *      (     (A*EXP(-alpha*(W$15-$H18)))     +      (B*EXP(-bêta*(W$15-$H18)))    +   (_C*EXP(-gamma*(W$15-$H18 )))      )","v":0},{"$f":"  $G18/[0]!Poids      *      (     (A*EXP(-alpha*(X$15-$H18)))     +      (B*EXP(-bêta*(X$15-$H18)))    +   (_C*EXP(-gamma*(X$15-$H18 )))      )","v":0},{"$f":"  $G18/[0]!Poids      *      (     (A*EXP(-alpha*(Y$15-$H18)))     +      (B*EXP(-bêta*(Y$15-$H18)))    +   (_C*EXP(-gamma*(Y$15-$H18 )))      )","v":0},{"$f":"  $G18/[0]!Poids      *      (     (A*EXP(-alpha*(Z$15-$H18)))     +      (B*EXP(-bêta*(Z$15-$H18)))    +   (_C*EXP(-gamma*(Z$15-$H18 )))      )","v":0},{"$f":"  $G18/[0]!Poids      *      (     (A*EXP(-alpha*(AA$15-$H18)))     +      (B*EXP(-bêta*(AA$15-$H18)))    +   (_C*EXP(-gamma*(AA$15-$H18 )))      )","v":0},{"$f":"  $G18/[0]!Poids      *      (     (A*EXP(-alpha*(AB$15-$H18)))     +      (B*EXP(-bêta*(AB$15-$H18)))    +   (_C*EXP(-gamma*(AB$15-$H18 )))      )","v":0},{"$f":"  $G18/[0]!Poids      *      (     (A*EXP(-alpha*(AC$15-$H18)))     +      (B*EXP(-bêta*(AC$15-$H18)))    +   (_C*EXP(-gamma*(AC$15-$H18 )))      )","v":0},{"$f":"  $G18/[0]!Poids      *      (     (A*EXP(-alpha*(AD$15-$H18)))     +      (B*EXP(-bêta*(AD$15-$H18)))    +   (_C*EXP(-gamma*(AD$15-$H18 )))      )","v":0},{"$f":"  $G18/[0]!Poids      *      (     (A*EXP(-alpha*(AE$15-$H18)))     +      (B*EXP(-bêta*(AE$15-$H18)))    +   (_C*EXP(-gamma*(AE$15-$H18 )))      )","v":0},{"$f":"  $G18/[0]!Poids      *      (     (A*EXP(-alpha*(AF$15-$H18)))     +      (B*EXP(-bêta*(AF$15-$H18)))    +   (_C*EXP(-gamma*(AF$15-$H18 )))      )","v":0},{"$f":"  $G18/[0]!Poids      *      (     (A*EXP(-alpha*(AG$15-$H18)))     +      (B*EXP(-bêta*(AG$15-$H18)))    +   (_C*EXP(-gamma*(AG$15-$H18 )))      )","v":0},{"$f":"  $G18/[0]!Poids      *      (     (A*EXP(-alpha*(AH$15-$H18)))     +      (B*EXP(-bêta*(AH$15-$H18)))    +   (_C*EXP(-gamma*(AH$15-$H18 )))      )","v":0},{"$f":"  $G18/[0]!Poids      *      (     (A*EXP(-alpha*(AI$15-$H18)))     +      (B*EXP(-bêta*(AI$15-$H18)))    +   (_C*EXP(-gamma*(AI$15-$H18 )))      )","v":0},{"$f":"  $G18/[0]!Poids      *      (     (A*EXP(-alpha*(AJ$15-$H18)))     +      (B*EXP(-bêta*(AJ$15-$H18)))    +   (_C*EXP(-gamma*(AJ$15-$H18 )))      )","v":0},{"$f":"  $G18/[0]!Poids      *      (     (A*EXP(-alpha*(AK$15-$H18)))     +      (B*EXP(-bêta*(AK$15-$H18)))    +   (_C*EXP(-gamma*(AK$15-$H18 )))      )","v":0},{"$f":"  $G18/[0]!Poids      *      (     (A*EXP(-alpha*(AL$15-$H18)))     +      (B*EXP(-bêta*(AL$15-$H18)))    +   (_C*EXP(-gamma*(AL$15-$H18 )))      )","v":0},{"$f":"  $G18/[0]!Poids      *      (     (A*EXP(-alpha*(AM$15-$H18)))     +      (B*EXP(-bêta*(AM$15-$H18)))    +   (_C*EXP(-gamma*(AM$15-$H18 )))      )","v":0},{"$f":"  $G18/[0]!Poids      *      (     (A*EXP(-alpha*(AN$15-$H18)))     +      (B*EXP(-bêta*(AN$15-$H18)))    +   (_C*EXP(-gamma*(AN$15-$H18 )))      )","v":0},{"$f":"  $G18/[0]!Poids      *      (     (A*EXP(-alpha*(AO$15-$H18)))     +      (B*EXP(-bêta*(AO$15-$H18)))    +   (_C*EXP(-gamma*(AO$15-$H18 )))      )","v":0},{"$f":"  $G18/[0]!Poids      *      (     (A*EXP(-alpha*(AP$15-$H18)))     +      (B*EXP(-bêta*(AP$15-$H18)))    +   (_C*EXP(-gamma*(AP$15-$H18 )))      )","v":0},{"$f":"  $G18/[0]!Poids      *      (     (A*EXP(-alpha*(AQ$15-$H18)))     +      (B*EXP(-bêta*(AQ$15-$H18)))    +   (_C*EXP(-gamma*(AQ$15-$H18 )))      )","v":0},{"$f":"  $G18/[0]!Poids      *      (     (A*EXP(-alpha*(AR$15-$H18)))     +      (B*EXP(-bêta*(AR$15-$H18)))    +   (_C*EXP(-gamma*(AR$15-$H18 )))      )","v":0},{"$f":"  $G18/[0]!Poids      *      (     (A*EXP(-alpha*(AS$15-$H18)))     +      (B*EXP(-bêta*(AS$15-$H18)))    +   (_C*EXP(-gamma*(AS$15-$H18 )))      )","v":0},{"$f":"  $G18/[0]!Poids      *      (     (A*EXP(-alpha*(AT$15-$H18)))     +      (B*EXP(-bêta*(AT$15-$H18)))    +   (_C*EXP(-gamma*(AT$15-$H18 )))      )","v":0},{"$f":"  $G18/[0]!Poids      *      (     (A*EXP(-alpha*(AU$15-$H18)))     +      (B*EXP(-bêta*(AU$15-$H18)))    +   (_C*EXP(-gamma*(AU$15-$H18 )))      )","v":0},{"$f":"  $G18/[0]!Poids      *      (     (A*EXP(-alpha*(AV$15-$H18)))     +      (B*EXP(-bêta*(AV$15-$H18)))    +   (_C*EXP(-gamma*(AV$15-$H18 )))      )","v":0},{"$f":"  $G18/[0]!Poids      *      (     (A*EXP(-alpha*(AW$15-$H18)))     +      (B*EXP(-bêta*(AW$15-$H18)))    +   (_C*EXP(-gamma*(AW$15-$H18 )))      )","v":0},{"$f":"  $G18/[0]!Poids      *      (     (A*EXP(-alpha*(AX$15-$H18)))     +      (B*EXP(-bêta*(AX$15-$H18)))    +   (_C*EXP(-gamma*(AX$15-$H18 )))      )","v":0},{"$f":"  $G18/[0]!Poids      *      (     (A*EXP(-alpha*(AY$15-$H18)))     +      (B*EXP(-bêta*(AY$15-$H18)))    +   (_C*EXP(-gamma*(AY$15-$H18 )))      )","v":0},{"$f":"  $G18/[0]!Poids      *      (     (A*EXP(-alpha*(AZ$15-$H18)))     +      (B*EXP(-bêta*(AZ$15-$H18)))    +   (_C*EXP(-gamma*(AZ$15-$H18 )))      )","v":0},{"$f":"  $G18/[0]!Poids      *      (     (A*EXP(-alpha*(BA$15-$H18)))     +      (B*EXP(-bêta*(BA$15-$H18)))    +   (_C*EXP(-gamma*(BA$15-$H18 )))      )","v":0},{"$f":"  $G18/[0]!Poids      *      (     (A*EXP(-alpha*(BB$15-$H18)))     +      (B*EXP(-bêta*(BB$15-$H18)))    +   (_C*EXP(-gamma*(BB$15-$H18 )))      )","v":0},{"$f":"  $G18/[0]!Poids      *      (     (A*EXP(-alpha*(BC$15-$H18)))     +      (B*EXP(-bêta*(BC$15-$H18)))    +   (_C*EXP(-gamma*(BC$15-$H18 )))      )","v":0},{"$f":"  $G18/[0]!Poids      *      (     (A*EXP(-alpha*(BD$15-$H18)))     +      (B*EXP(-bêta*(BD$15-$H18)))    +   (_C*EXP(-gamma*(BD$15-$H18 )))      )","v":0},{"$f":"  $G18/[0]!Poids      *      (     (A*EXP(-alpha*(BE$15-$H18)))     +      (B*EXP(-bêta*(BE$15-$H18)))    +   (_C*EXP(-gamma*(BE$15-$H18 )))      )","v":0},{"$f":"  $G18/[0]!Poids      *      (     (A*EXP(-alpha*(BF$15-$H18)))     +      (B*EXP(-bêta*(BF$15-$H18)))    +   (_C*EXP(-gamma*(BF$15-$H18 )))      )","v":0},{"$f":"  $G18/[0]!Poids      *      (     (A*EXP(-alpha*(BG$15-$H18)))     +      (B*EXP(-bêta*(BG$15-$H18)))    +   (_C*EXP(-gamma*(BG$15-$H18 )))      )","v":0},{"$f":"  $G18/[0]!Poids      *      (     (A*EXP(-alpha*(BH$15-$H18)))     +      (B*EXP(-bêta*(BH$15-$H18)))    +   (_C*EXP(-gamma*(BH$15-$H18 )))      )","v":0},{"$f":"  $G18/[0]!Poids      *      (     (A*EXP(-alpha*(BI$15-$H18)))     +      (B*EXP(-bêta*(BI$15-$H18)))    +   (_C*EXP(-gamma*(BI$15-$H18 )))      )","v":0},{"$f":"  $G18/[0]!Poids      *      (     (A*EXP(-alpha*(BJ$15-$H18)))     +      (B*EXP(-bêta*(BJ$15-$H18)))    +   (_C*EXP(-gamma*(BJ$15-$H18 )))      )","v":0},{"$f":"  $G18/[0]!Poids      *      (     (A*EXP(-alpha*(BK$15-$H18)))     +      (B*EXP(-bêta*(BK$15-$H18)))    +   (_C*EXP(-gamma*(BK$15-$H18 )))      )","v":0},{"$f":"  $G18/[0]!Poids      *      (     (A*EXP(-alpha*(BL$15-$H18)))     +      (B*EXP(-bêta*(BL$15-$H18)))    +   (_C*EXP(-gamma*(BL$15-$H18 )))      )","v":0},{"$f":"  $G18/[0]!Poids      *      (     (A*EXP(-alpha*(BM$15-$H18)))     +      (B*EXP(-bêta*(BM$15-$H18)))    +   (_C*EXP(-gamma*(BM$15-$H18 )))      )","v":0},{"$f":"  $G18/[0]!Poids      *      (     (A*EXP(-alpha*(BN$15-$H18)))     +      (B*EXP(-bêta*(BN$15-$H18)))    +   (_C*EXP(-gamma*(BN$15-$H18 )))      )","v":0},{"$f":"  $G18/[0]!Poids      *      (     (A*EXP(-alpha*(BO$15-$H18)))     +      (B*EXP(-bêta*(BO$15-$H18)))    +   (_C*EXP(-gamma*(BO$15-$H18 )))      )","v":0},{"$f":"  $G18/[0]!Poids      *      (     (A*EXP(-alpha*(BP$15-$H18)))     +      (B*EXP(-bêta*(BP$15-$H18)))    +   (_C*EXP(-gamma*(BP$15-$H18 )))      )","v":0},{"$f":"  $G18/[0]!Poids      *      (     (A*EXP(-alpha*(BQ$15-$H18)))     +      (B*EXP(-bêta*(BQ$15-$H18)))    +   (_C*EXP(-gamma*(BQ$15-$H18 )))      )","v":0},{"$f":"  $G18/[0]!Poids      *      (     (A*EXP(-alpha*(BR$15-$H18)))     +      (B*EXP(-bêta*(BR$15-$H18)))    +   (_C*EXP(-gamma*(BR$15-$H18 )))      )","v":0}]
[null,"C équation",197,"C/dose",{"$f":"C19/D28","v":98.5},null,{"$f":"M$10","v":0},15,null,null,null,null,{"$f":"  $G19/[0]!Poids      *      (     (A*EXP(-alpha*(M$15-$H19)))     +      (B*EXP(-bêta*(M$15-$H19)))    +   (_C*EXP(-gamma*(M$15-$H19 )))      )","v":0},{"$f":"  $G19/[0]!Poids      *      (     (A*EXP(-alpha*(N$15-$H19)))     +      (B*EXP(-bêta*(N$15-$H19)))    +   (_C*EXP(-gamma*(N$15-$H19 )))      )","v":0},{"$f":"  $G19/[0]!Poids      *      (     (A*EXP(-alpha*(O$15-$H19)))     +      (B*EXP(-bêta*(O$15-$H19)))    +   (_C*EXP(-gamma*(O$15-$H19 )))      )","v":0},{"$f":"  $G19/[0]!Poids      *      (     (A*EXP(-alpha*(P$15-$H19)))     +      (B*EXP(-bêta*(P$15-$H19)))    +   (_C*EXP(-gamma*(P$15-$H19 )))      )","v":0},{"$f":"  $G19/[0]!Poids      *      (     (A*EXP(-alpha*(Q$15-$H19)))     +      (B*EXP(-bêta*(Q$15-$H19)))    +   (_C*EXP(-gamma*(Q$15-$H19 )))      )","v":0},{"$f":"  $G19/[0]!Poids      *      (     (A*EXP(-alpha*(R$15-$H19)))     +      (B*EXP(-bêta*(R$15-$H19)))    +   (_C*EXP(-gamma*(R$15-$H19 )))      )","v":0},{"$f":"  $G19/[0]!Poids      *      (     (A*EXP(-alpha*(S$15-$H19)))     +      (B*EXP(-bêta*(S$15-$H19)))    +   (_C*EXP(-gamma*(S$15-$H19 )))      )","v":0},{"$f":"  $G19/[0]!Poids      *      (     (A*EXP(-alpha*(T$15-$H19)))     +      (B*EXP(-bêta*(T$15-$H19)))    +   (_C*EXP(-gamma*(T$15-$H19 )))      )","v":0},{"$f":"  $G19/[0]!Poids      *      (     (A*EXP(-alpha*(U$15-$H19)))     +      (B*EXP(-bêta*(U$15-$H19)))    +   (_C*EXP(-gamma*(U$15-$H19 )))      )","v":0},{"$f":"  $G19/[0]!Poids      *      (     (A*EXP(-alpha*(V$15-$H19)))     +      (B*EXP(-bêta*(V$15-$H19)))    +   (_C*EXP(-gamma*(V$15-$H19 )))      )","v":0},{"$f":"  $G19/[0]!Poids      *      (     (A*EXP(-alpha*(W$15-$H19)))     +      (B*EXP(-bêta*(W$15-$H19)))    +   (_C*EXP(-gamma*(W$15-$H19 )))      )","v":0},{"$f":"  $G19/[0]!Poids      *      (     (A*EXP(-alpha*(X$15-$H19)))     +      (B*EXP(-bêta*(X$15-$H19)))    +   (_C*EXP(-gamma*(X$15-$H19 )))      )","v":0},{"$f":"  $G19/[0]!Poids      *      (     (A*EXP(-alpha*(Y$15-$H19)))     +      (B*EXP(-bêta*(Y$15-$H19)))    +   (_C*EXP(-gamma*(Y$15-$H19 )))      )","v":0},{"$f":"  $G19/[0]!Poids      *      (     (A*EXP(-alpha*(Z$15-$H19)))     +      (B*EXP(-bêta*(Z$15-$H19)))    +   (_C*EXP(-gamma*(Z$15-$H19 )))      )","v":0},{"$f":"  $G19/[0]!Poids      *      (     (A*EXP(-alpha*(AA$15-$H19)))     +      (B*EXP(-bêta*(AA$15-$H19)))    +   (_C*EXP(-gamma*(AA$15-$H19 )))      )","v":0},{"$f":"  $G19/[0]!Poids      *      (     (A*EXP(-alpha*(AB$15-$H19)))     +      (B*EXP(-bêta*(AB$15-$H19)))    +   (_C*EXP(-gamma*(AB$15-$H19 )))      )","v":0},{"$f":"  $G19/[0]!Poids      *      (     (A*EXP(-alpha*(AC$15-$H19)))     +      (B*EXP(-bêta*(AC$15-$H19)))    +   (_C*EXP(-gamma*(AC$15-$H19 )))      )","v":0},{"$f":"  $G19/[0]!Poids      *      (     (A*EXP(-alpha*(AD$15-$H19)))     +      (B*EXP(-bêta*(AD$15-$H19)))    +   (_C*EXP(-gamma*(AD$15-$H19 )))      )","v":0},{"$f":"  $G19/[0]!Poids      *      (     (A*EXP(-alpha*(AE$15-$H19)))     +      (B*EXP(-bêta*(AE$15-$H19)))    +   (_C*EXP(-gamma*(AE$15-$H19 )))      )","v":0},{"$f":"  $G19/[0]!Poids      *      (     (A*EXP(-alpha*(AF$15-$H19)))     +      (B*EXP(-bêta*(AF$15-$H19)))    +   (_C*EXP(-gamma*(AF$15-$H19 )))      )","v":0},{"$f":"  $G19/[0]!Poids      *      (     (A*EXP(-alpha*(AG$15-$H19)))     +      (B*EXP(-bêta*(AG$15-$H19)))    +   (_C*EXP(-gamma*(AG$15-$H19 )))      )","v":0},{"$f":"  $G19/[0]!Poids      *      (     (A*EXP(-alpha*(AH$15-$H19)))     +      (B*EXP(-bêta*(AH$15-$H19)))    +   (_C*EXP(-gamma*(AH$15-$H19 )))      )","v":0},{"$f":"  $G19/[0]!Poids      *      (     (A*EXP(-alpha*(AI$15-$H19)))     +      (B*EXP(-bêta*(AI$15-$H19)))    +   (_C*EXP(-gamma*(AI$15-$H19 )))      )","v":0},{"$f":"  $G19/[0]!Poids      *      (     (A*EXP(-alpha*(AJ$15-$H19)))     +      (B*EXP(-bêta*(AJ$15-$H19)))    +   (_C*EXP(-gamma*(AJ$15-$H19 )))      )","v":0},{"$f":"  $G19/[0]!Poids      *      (     (A*EXP(-alpha*(AK$15-$H19)))     +      (B*EXP(-bêta*(AK$15-$H19)))    +   (_C*EXP(-gamma*(AK$15-$H19 )))      )","v":0},{"$f":"  $G19/[0]!Poids      *      (     (A*EXP(-alpha*(AL$15-$H19)))     +      (B*EXP(-bêta*(AL$15-$H19)))    +   (_C*EXP(-gamma*(AL$15-$H19 )))      )","v":0},{"$f":"  $G19/[0]!Poids      *      (     (A*EXP(-alpha*(AM$15-$H19)))     +      (B*EXP(-bêta*(AM$15-$H19)))    +   (_C*EXP(-gamma*(AM$15-$H19 )))      )","v":0},{"$f":"  $G19/[0]!Poids      *      (     (A*EXP(-alpha*(AN$15-$H19)))     +      (B*EXP(-bêta*(AN$15-$H19)))    +   (_C*EXP(-gamma*(AN$15-$H19 )))      )","v":0},{"$f":"  $G19/[0]!Poids      *      (     (A*EXP(-alpha*(AO$15-$H19)))     +      (B*EXP(-bêta*(AO$15-$H19)))    +   (_C*EXP(-gamma*(AO$15-$H19 )))      )","v":0},{"$f":"  $G19/[0]!Poids      *      (     (A*EXP(-alpha*(AP$15-$H19)))     +      (B*EXP(-bêta*(AP$15-$H19)))    +   (_C*EXP(-gamma*(AP$15-$H19 )))      )","v":0},{"$f":"  $G19/[0]!Poids      *      (     (A*EXP(-alpha*(AQ$15-$H19)))     +      (B*EXP(-bêta*(AQ$15-$H19)))    +   (_C*EXP(-gamma*(AQ$15-$H19 )))      )","v":0},{"$f":"  $G19/[0]!Poids      *      (     (A*EXP(-alpha*(AR$15-$H19)))     +      (B*EXP(-bêta*(AR$15-$H19)))    +   (_C*EXP(-gamma*(AR$15-$H19 )))      )","v":0},{"$f":"  $G19/[0]!Poids      *      (     (A*EXP(-alpha*(AS$15-$H19)))     +      (B*EXP(-bêta*(AS$15-$H19)))    +   (_C*EXP(-gamma*(AS$15-$H19 )))      )","v":0},{"$f":"  $G19/[0]!Poids      *      (     (A*EXP(-alpha*(AT$15-$H19)))     +      (B*EXP(-bêta*(AT$15-$H19)))    +   (_C*EXP(-gamma*(AT$15-$H19 )))      )","v":0},{"$f":"  $G19/[0]!Poids      *      (     (A*EXP(-alpha*(AU$15-$H19)))     +      (B*EXP(-bêta*(AU$15-$H19)))    +   (_C*EXP(-gamma*(AU$15-$H19 )))      )","v":0},{"$f":"  $G19/[0]!Poids      *      (     (A*EXP(-alpha*(AV$15-$H19)))     +      (B*EXP(-bêta*(AV$15-$H19)))    +   (_C*EXP(-gamma*(AV$15-$H19 )))      )","v":0},{"$f":"  $G19/[0]!Poids      *      (     (A*EXP(-alpha*(AW$15-$H19)))     +      (B*EXP(-bêta*(AW$15-$H19)))    +   (_C*EXP(-gamma*(AW$15-$H19 )))      )","v":0},{"$f":"  $G19/[0]!Poids      *      (     (A*EXP(-alpha*(AX$15-$H19)))     +      (B*EXP(-bêta*(AX$15-$H19)))    +   (_C*EXP(-gamma*(AX$15-$H19 )))      )","v":0},{"$f":"  $G19/[0]!Poids      *      (     (A*EXP(-alpha*(AY$15-$H19)))     +      (B*EXP(-bêta*(AY$15-$H19)))    +   (_C*EXP(-gamma*(AY$15-$H19 )))      )","v":0},{"$f":"  $G19/[0]!Poids      *      (     (A*EXP(-alpha*(AZ$15-$H19)))     +      (B*EXP(-bêta*(AZ$15-$H19)))    +   (_C*EXP(-gamma*(AZ$15-$H19 )))      )","v":0},{"$f":"  $G19/[0]!Poids      *      (     (A*EXP(-alpha*(BA$15-$H19)))     +      (B*EXP(-bêta*(BA$15-$H19)))    +   (_C*EXP(-gamma*(BA$15-$H19 )))      )","v":0},{"$f":"  $G19/[0]!Poids      *      (     (A*EXP(-alpha*(BB$15-$H19)))     +      (B*EXP(-bêta*(BB$15-$H19)))    +   (_C*EXP(-gamma*(BB$15-$H19 )))      )","v":0},{"$f":"  $G19/[0]!Poids      *      (     (A*EXP(-alpha*(BC$15-$H19)))     +      (B*EXP(-bêta*(BC$15-$H19)))    +   (_C*EXP(-gamma*(BC$15-$H19 )))      )","v":0},{"$f":"  $G19/[0]!Poids      *      (     (A*EXP(-alpha*(BD$15-$H19)))     +      (B*EXP(-bêta*(BD$15-$H19)))    +   (_C*EXP(-gamma*(BD$15-$H19 )))      )","v":0},{"$f":"  $G19/[0]!Poids      *      (     (A*EXP(-alpha*(BE$15-$H19)))     +      (B*EXP(-bêta*(BE$15-$H19)))    +   (_C*EXP(-gamma*(BE$15-$H19 )))      )","v":0},{"$f":"  $G19/[0]!Poids      *      (     (A*EXP(-alpha*(BF$15-$H19)))     +      (B*EXP(-bêta*(BF$15-$H19)))    +   (_C*EXP(-gamma*(BF$15-$H19 )))      )","v":0},{"$f":"  $G19/[0]!Poids      *      (     (A*EXP(-alpha*(BG$15-$H19)))     +      (B*EXP(-bêta*(BG$15-$H19)))    +   (_C*EXP(-gamma*(BG$15-$H19 )))      )","v":0},{"$f":"  $G19/[0]!Poids      *      (     (A*EXP(-alpha*(BH$15-$H19)))     +      (B*EXP(-bêta*(BH$15-$H19)))    +   (_C*EXP(-gamma*(BH$15-$H19 )))      )","v":0},{"$f":"  $G19/[0]!Poids      *      (     (A*EXP(-alpha*(BI$15-$H19)))     +      (B*EXP(-bêta*(BI$15-$H19)))    +   (_C*EXP(-gamma*(BI$15-$H19 )))      )","v":0},{"$f":"  $G19/[0]!Poids      *      (     (A*EXP(-alpha*(BJ$15-$H19)))     +      (B*EXP(-bêta*(BJ$15-$H19)))    +   (_C*EXP(-gamma*(BJ$15-$H19 )))      )","v":0},{"$f":"  $G19/[0]!Poids      *      (     (A*EXP(-alpha*(BK$15-$H19)))     +      (B*EXP(-bêta*(BK$15-$H19)))    +   (_C*EXP(-gamma*(BK$15-$H19 )))      )","v":0},{"$f":"  $G19/[0]!Poids      *      (     (A*EXP(-alpha*(BL$15-$H19)))     +      (B*EXP(-bêta*(BL$15-$H19)))    +   (_C*EXP(-gamma*(BL$15-$H19 )))      )","v":0},{"$f":"  $G19/[0]!Poids      *      (     (A*EXP(-alpha*(BM$15-$H19)))     +      (B*EXP(-bêta*(BM$15-$H19)))    +   (_C*EXP(-gamma*(BM$15-$H19 )))      )","v":0},{"$f":"  $G19/[0]!Poids      *      (     (A*EXP(-alpha*(BN$15-$H19)))     +      (B*EXP(-bêta*(BN$15-$H19)))    +   (_C*EXP(-gamma*(BN$15-$H19 )))      )","v":0},{"$f":"  $G19/[0]!Poids      *      (     (A*EXP(-alpha*(BO$15-$H19)))     +      (B*EXP(-bêta*(BO$15-$H19)))    +   (_C*EXP(-gamma*(BO$15-$H19 )))      )","v":0},{"$f":"  $G19/[0]!Poids      *      (     (A*EXP(-alpha*(BP$15-$H19)))     +      (B*EXP(-bêta*(BP$15-$H19)))    +   (_C*EXP(-gamma*(BP$15-$H19 )))      )","v":0},{"$f":"  $G19/[0]!Poids      *      (     (A*EXP(-alpha*(BQ$15-$H19)))     +      (B*EXP(-bêta*(BQ$15-$H19)))    +   (_C*EXP(-gamma*(BQ$15-$H19 )))      )","v":0},{"$f":"  $G19/[0]!Poids      *      (     (A*EXP(-alpha*(BR$15-$H19)))     +      (B*EXP(-bêta*(BR$15-$H19)))    +   (_C*EXP(-gamma*(BR$15-$H19 )))      )","v":0}]
[null,null,null,null,null,null,{"$f":"N$10","v":0},20,null,null,null,null,null,{"$f":"  $G20/[0]!Poids      *      (     (A*EXP(-alpha*(N$15-$H20)))     +      (B*EXP(-bêta*(N$15-$H20)))    +   (_C*EXP(-gamma*(N$15-$H20 )))      )","v":0},{"$f":"  $G20/[0]!Poids      *      (     (A*EXP(-alpha*(O$15-$H20)))     +      (B*EXP(-bêta*(O$15-$H20)))    +   (_C*EXP(-gamma*(O$15-$H20 )))      )","v":0},{"$f":"  $G20/[0]!Poids      *      (     (A*EXP(-alpha*(P$15-$H20)))     +      (B*EXP(-bêta*(P$15-$H20)))    +   (_C*EXP(-gamma*(P$15-$H20 )))      )","v":0},{"$f":"  $G20/[0]!Poids      *      (     (A*EXP(-alpha*(Q$15-$H20)))     +      (B*EXP(-bêta*(Q$15-$H20)))    +   (_C*EXP(-gamma*(Q$15-$H20 )))      )","v":0},{"$f":"  $G20/[0]!Poids      *      (     (A*EXP(-alpha*(R$15-$H20)))     +      (B*EXP(-bêta*(R$15-$H20)))    +   (_C*EXP(-gamma*(R$15-$H20 )))      )","v":0},{"$f":"  $G20/[0]!Poids      *      (     (A*EXP(-alpha*(S$15-$H20)))     +      (B*EXP(-bêta*(S$15-$H20)))    +   (_C*EXP(-gamma*(S$15-$H20 )))      )","v":0},{"$f":"  $G20/[0]!Poids      *      (     (A*EXP(-alpha*(T$15-$H20)))     +      (B*EXP(-bêta*(T$15-$H20)))    +   (_C*EXP(-gamma*(T$15-$H20 )))      )","v":0},{"$f":"  $G20/[0]!Poids      *      (     (A*EXP(-alpha*(U$15-$H20)))     +      (B*EXP(-bêta*(U$15-$H20)))    +   (_C*EXP(-gamma*(U$15-$H20 )))      )","v":0},{"$f":"  $G20/[0]!Poids      *      (     (A*EXP(-alpha*(V$15-$H20)))     +      (B*EXP(-bêta*(V$15-$H20)))    +   (_C*EXP(-gamma*(V$15-$H20 )))      )","v":0},{"$f":"  $G20/[0]!Poids      *      (     (A*EXP(-alpha*(W$15-$H20)))     +      (B*EXP(-bêta*(W$15-$H20)))    +   (_C*EXP(-gamma*(W$15-$H20 )))      )","v":0},{"$f":"  $G20/[0]!Poids      *      (     (A*EXP(-alpha*(X$15-$H20)))     +      (B*EXP(-bêta*(X$15-$H20)))    +   (_C*EXP(-gamma*(X$15-$H20 )))      )","v":0},{"$f":"  $G20/[0]!Poids      *      (     (A*EXP(-alpha*(Y$15-$H20)))     +      (B*EXP(-bêta*(Y$15-$H20)))    +   (_C*EXP(-gamma*(Y$15-$H20 )))      )","v":0},{"$f":"  $G20/[0]!Poids      *      (     (A*EXP(-alpha*(Z$15-$H20)))     +      (B*EXP(-bêta*(Z$15-$H20)))    +   (_C*EXP(-gamma*(Z$15-$H20 )))      )","v":0},{"$f":"  $G20/[0]!Poids      *      (     (A*EXP(-alpha*(AA$15-$H20)))     +      (B*EXP(-bêta*(AA$15-$H20)))    +   (_C*EXP(-gamma*(AA$15-$H20 )))      )","v":0},{"$f":"  $G20/[0]!Poids      *      (     (A*EXP(-alpha*(AB$15-$H20)))     +      (B*EXP(-bêta*(AB$15-$H20)))    +   (_C*EXP(-gamma*(AB$15-$H20 )))      )","v":0},{"$f":"  $G20/[0]!Poids      *      (     (A*EXP(-alpha*(AC$15-$H20)))     +      (B*EXP(-bêta*(AC$15-$H20)))    +   (_C*EXP(-gamma*(AC$15-$H20 )))      )","v":0},{"$f":"  $G20/[0]!Poids      *      (     (A*EXP(-alpha*(AD$15-$H20)))     +      (B*EXP(-bêta*(AD$15-$H20)))    +   (_C*EXP(-gamma*(AD$15-$H20 )))      )","v":0},{"$f":"  $G20/[0]!Poids      *      (     (A*EXP(-alpha*(AE$15-$H20)))     +      (B*EXP(-bêta*(AE$15-$H20)))    +   (_C*EXP(-gamma*(AE$15-$H20 )))      )","v":0},{"$f":"  $G20/[0]!Poids      *      (     (A*EXP(-alpha*(AF$15-$H20)))     +      (B*EXP(-bêta*(AF$15-$H20)))    +   (_C*EXP(-gamma*(AF$15-$H20 )))      )","v":0},{"$f":"  $G20/[0]!Poids      *      (     (A*EXP(-alpha*(AG$15-$H20)))     +      (B*EXP(-bêta*(AG$15-$H20)))    +   (_C*EXP(-gamma*(AG$15-$H20 )))      )","v":0},{"$f":"  $G20/[0]!Poids      *      (     (A*EXP(-alpha*(AH$15-$H20)))     +      (B*EXP(-bêta*(AH$15-$H20)))    +   (_C*EXP(-gamma*(AH$15-$H20 )))      )","v":0},{"$f":"  $G20/[0]!Poids      *      (     (A*EXP(-alpha*(AI$15-$H20)))     +      (B*EXP(-bêta*(AI$15-$H20)))    +   (_C*EXP(-gamma*(AI$15-$H20 )))      )","v":0},{"$f":"  $G20/[0]!Poids      *      (     (A*EXP(-alpha*(AJ$15-$H20)))     +      (B*EXP(-bêta*(AJ$15-$H20)))    +   (_C*EXP(-gamma*(AJ$15-$H20 )))      )","v":0},{"$f":"  $G20/[0]!Poids      *      (     (A*EXP(-alpha*(AK$15-$H20)))     +      (B*EXP(-bêta*(AK$15-$H20)))    +   (_C*EXP(-gamma*(AK$15-$H20 )))      )","v":0},{"$f":"  $G20/[0]!Poids      *      (     (A*EXP(-alpha*(AL$15-$H20)))     +      (B*EXP(-bêta*(AL$15-$H20)))    +   (_C*EXP(-gamma*(AL$15-$H20 )))      )","v":0},{"$f":"  $G20/[0]!Poids      *      (     (A*EXP(-alpha*(AM$15-$H20)))     +      (B*EXP(-bêta*(AM$15-$H20)))    +   (_C*EXP(-gamma*(AM$15-$H20 )))      )","v":0},{"$f":"  $G20/[0]!Poids      *      (     (A*EXP(-alpha*(AN$15-$H20)))     +      (B*EXP(-bêta*(AN$15-$H20)))    +   (_C*EXP(-gamma*(AN$15-$H20 )))      )","v":0},{"$f":"  $G20/[0]!Poids      *      (     (A*EXP(-alpha*(AO$15-$H20)))     +      (B*EXP(-bêta*(AO$15-$H20)))    +   (_C*EXP(-gamma*(AO$15-$H20 )))      )","v":0},{"$f":"  $G20/[0]!Poids      *      (     (A*EXP(-alpha*(AP$15-$H20)))     +      (B*EXP(-bêta*(AP$15-$H20)))    +   (_C*EXP(-gamma*(AP$15-$H20 )))      )","v":0},{"$f":"  $G20/[0]!Poids      *      (     (A*EXP(-alpha*(AQ$15-$H20)))     +      (B*EXP(-bêta*(AQ$15-$H20)))    +   (_C*EXP(-gamma*(AQ$15-$H20 )))      )","v":0},{"$f":"  $G20/[0]!Poids      *      (     (A*EXP(-alpha*(AR$15-$H20)))     +      (B*EXP(-bêta*(AR$15-$H20)))    +   (_C*EXP(-gamma*(AR$15-$H20 )))      )","v":0},{"$f":"  $G20/[0]!Poids      *      (     (A*EXP(-alpha*(AS$15-$H20)))     +      (B*EXP(-bêta*(AS$15-$H20)))    +   (_C*EXP(-gamma*(AS$15-$H20 )))      )","v":0},{"$f":"  $G20/[0]!Poids      *      (     (A*EXP(-alpha*(AT$15-$H20)))     +      (B*EXP(-bêta*(AT$15-$H20)))    +   (_C*EXP(-gamma*(AT$15-$H20 )))      )","v":0},{"$f":"  $G20/[0]!Poids      *      (     (A*EXP(-alpha*(AU$15-$H20)))     +      (B*EXP(-bêta*(AU$15-$H20)))    +   (_C*EXP(-gamma*(AU$15-$H20 )))      )","v":0},{"$f":"  $G20/[0]!Poids      *      (     (A*EXP(-alpha*(AV$15-$H20)))     +      (B*EXP(-bêta*(AV$15-$H20)))    +   (_C*EXP(-gamma*(AV$15-$H20 )))      )","v":0},{"$f":"  $G20/[0]!Poids      *      (     (A*EXP(-alpha*(AW$15-$H20)))     +      (B*EXP(-bêta*(AW$15-$H20)))    +   (_C*EXP(-gamma*(AW$15-$H20 )))      )","v":0},{"$f":"  $G20/[0]!Poids      *      (     (A*EXP(-alpha*(AX$15-$H20)))     +      (B*EXP(-bêta*(AX$15-$H20)))    +   (_C*EXP(-gamma*(AX$15-$H20 )))      )","v":0},{"$f":"  $G20/[0]!Poids      *      (     (A*EXP(-alpha*(AY$15-$H20)))     +      (B*EXP(-bêta*(AY$15-$H20)))    +   (_C*EXP(-gamma*(AY$15-$H20 )))      )","v":0},{"$f":"  $G20/[0]!Poids      *      (     (A*EXP(-alpha*(AZ$15-$H20)))     +      (B*EXP(-bêta*(AZ$15-$H20)))    +   (_C*EXP(-gamma*(AZ$15-$H20 )))      )","v":0},{"$f":"  $G20/[0]!Poids      *      (     (A*EXP(-alpha*(BA$15-$H20)))     +      (B*EXP(-bêta*(BA$15-$H20)))    +   (_C*EXP(-gamma*(BA$15-$H20 )))      )","v":0},{"$f":"  $G20/[0]!Poids      *      (     (A*EXP(-alpha*(BB$15-$H20)))     +      (B*EXP(-bêta*(BB$15-$H20)))    +   (_C*EXP(-gamma*(BB$15-$H20 )))      )","v":0},{"$f":"  $G20/[0]!Poids      *      (     (A*EXP(-alpha*(BC$15-$H20)))     +      (B*EXP(-bêta*(BC$15-$H20)))    +   (_C*EXP(-gamma*(BC$15-$H20 )))      )","v":0},{"$f":"  $G20/[0]!Poids      *      (     (A*EXP(-alpha*(BD$15-$H20)))     +      (B*EXP(-bêta*(BD$15-$H20)))    +   (_C*EXP(-gamma*(BD$15-$H20 )))      )","v":0},{"$f":"  $G20/[0]!Poids      *      (     (A*EXP(-alpha*(BE$15-$H20)))     +      (B*EXP(-bêta*(BE$15-$H20)))    +   (_C*EXP(-gamma*(BE$15-$H20 )))      )","v":0},{"$f":"  $G20/[0]!Poids      *      (     (A*EXP(-alpha*(BF$15-$H20)))     +      (B*EXP(-bêta*(BF$15-$H20)))    +   (_C*EXP(-gamma*(BF$15-$H20 )))      )","v":0},{"$f":"  $G20/[0]!Poids      *      (     (A*EXP(-alpha*(BG$15-$H20)))     +      (B*EXP(-bêta*(BG$15-$H20)))    +   (_C*EXP(-gamma*(BG$15-$H20 )))      )","v":0},{"$f":"  $G20/[0]!Poids      *      (     (A*EXP(-alpha*(BH$15-$H20)))     +      (B*EXP(-bêta*(BH$15-$H20)))    +   (_C*EXP(-gamma*(BH$15-$H20 )))      )","v":0},{"$f":"  $G20/[0]!Poids      *      (     (A*EXP(-alpha*(BI$15-$H20)))     +      (B*EXP(-bêta*(BI$15-$H20)))    +   (_C*EXP(-gamma*(BI$15-$H20 )))      )","v":0},{"$f":"  $G20/[0]!Poids      *      (     (A*EXP(-alpha*(BJ$15-$H20)))     +      (B*EXP(-bêta*(BJ$15-$H20)))    +   (_C*EXP(-gamma*(BJ$15-$H20 )))      )","v":0},{"$f":"  $G20/[0]!Poids      *      (     (A*EXP(-alpha*(BK$15-$H20)))     +      (B*EXP(-bêta*(BK$15-$H20)))    +   (_C*EXP(-gamma*(BK$15-$H20 )))      )","v":0},{"$f":"  $G20/[0]!Poids      *      (     (A*EXP(-alpha*(BL$15-$H20)))     +      (B*EXP(-bêta*(BL$15-$H20)))    +   (_C*EXP(-gamma*(BL$15-$H20 )))      )","v":0},{"$f":"  $G20/[0]!Poids      *      (     (A*EXP(-alpha*(BM$15-$H20)))     +      (B*EXP(-bêta*(BM$15-$H20)))    +   (_C*EXP(-gamma*(BM$15-$H20 )))      )","v":0},{"$f":"  $G20/[0]!Poids      *      (     (A*EXP(-alpha*(BN$15-$H20)))     +      (B*EXP(-bêta*(BN$15-$H20)))    +   (_C*EXP(-gamma*(BN$15-$H20 )))      )","v":0},{"$f":"  $G20/[0]!Poids      *      (     (A*EXP(-alpha*(BO$15-$H20)))     +      (B*EXP(-bêta*(BO$15-$H20)))    +   (_C*EXP(-gamma*(BO$15-$H20 )))      )","v":0},{"$f":"  $G20/[0]!Poids      *      (     (A*EXP(-alpha*(BP$15-$H20)))     +      (B*EXP(-bêta*(BP$15-$H20)))    +   (_C*EXP(-gamma*(BP$15-$H20 )))      )","v":0},{"$f":"  $G20/[0]!Poids      *      (     (A*EXP(-alpha*(BQ$15-$H20)))     +      (B*EXP(-bêta*(BQ$15-$H20)))    +   (_C*EXP(-gamma*(BQ$15-$H20 )))      )","v":0},{"$f":"  $G20/[0]!Poids      *      (     (A*EXP(-alpha*(BR$15-$H20)))     +      (B*EXP(-bêta*(BR$15-$H20)))    +   (_C*EXP(-gamma*(BR$15-$H20 )))      )","v":0}]
[null,"alpha",1.3516666666666666,null,{"$f":"C21","v":1.3516666666666666},null,{"$f":"O$10","v":0},25,null,null,null,null,null,null,{"$f":"  $G21/[0]!Poids      *      (     (A*EXP(-alpha*(O$15-$H21)))     +      (B*EXP(-bêta*(O$15-$H21)))    +   (_C*EXP(-gamma*(O$15-$H21 )))      )","v":0},{"$f":"  $G21/[0]!Poids      *      (     (A*EXP(-alpha*(P$15-$H21)))     +      (B*EXP(-bêta*(P$15-$H21)))    +   (_C*EXP(-gamma*(P$15-$H21 )))      )","v":0},{"$f":"  $G21/[0]!Poids      *      (     (A*EXP(-alpha*(Q$15-$H21)))     +      (B*EXP(-bêta*(Q$15-$H21)))    +   (_C*EXP(-gamma*(Q$15-$H21 )))      )","v":0},{"$f":"  $G21/[0]!Poids      *      (     (A*EXP(-alpha*(R$15-$H21)))     +      (B*EXP(-bêta*(R$15-$H21)))    +   (_C*EXP(-gamma*(R$15-$H21 )))      )","v":0},{"$f":"  $G21/[0]!Poids      *      (     (A*EXP(-alpha*(S$15-$H21)))     +      (B*EXP(-bêta*(S$15-$H21)))    +   (_C*EXP(-gamma*(S$15-$H21 )))      )","v":0},{"$f":"  $G21/[0]!Poids      *      (     (A*EXP(-alpha*(T$15-$H21)))     +      (B*EXP(-bêta*(T$15-$H21)))    +   (_C*EXP(-gamma*(T$15-$H21 )))      )","v":0},{"$f":"  $G21/[0]!Poids      *      (     (A*EXP(-alpha*(U$15-$H21)))     +      (B*EXP(-bêta*(U$15-$H21)))    +   (_C*EXP(-gamma*(U$15-$H21 )))      )","v":0},{"$f":"  $G21/[0]!Poids      *      (     (A*EXP(-alpha*(V$15-$H21)))     +      (B*EXP(-bêta*(V$15-$H21)))    +   (_C*EXP(-gamma*(V$15-$H21 )))      )","v":0},{"$f":"  $G21/[0]!Poids      *      (     (A*EXP(-alpha*(W$15-$H21)))     +      (B*EXP(-bêta*(W$15-$H21)))    +   (_C*EXP(-gamma*(W$15-$H21 )))      )","v":0},{"$f":"  $G21/[0]!Poids      *      (     (A*EXP(-alpha*(X$15-$H21)))     +      (B*EXP(-bêta*(X$15-$H21)))    +   (_C*EXP(-gamma*(X$15-$H21 )))      )","v":0},{"$f":"  $G21/[0]!Poids      *      (     (A*EXP(-alpha*(Y$15-$H21)))     +      (B*EXP(-bêta*(Y$15-$H21)))    +   (_C*EXP(-gamma*(Y$15-$H21 )))      )","v":0},{"$f":"  $G21/[0]!Poids      *      (     (A*EXP(-alpha*(Z$15-$H21)))     +      (B*EXP(-bêta*(Z$15-$H21)))    +   (_C*EXP(-gamma*(Z$15-$H21 )))      )","v":0},{"$f":"  $G21/[0]!Poids      *      (     (A*EXP(-alpha*(AA$15-$H21)))     +      (B*EXP(-bêta*(AA$15-$H21)))    +   (_C*EXP(-gamma*(AA$15-$H21 )))      )","v":0},{"$f":"  $G21/[0]!Poids      *      (     (A*EXP(-alpha*(AB$15-$H21)))     +      (B*EXP(-bêta*(AB$15-$H21)))    +   (_C*EXP(-gamma*(AB$15-$H21 )))      )","v":0},{"$f":"  $G21/[0]!Poids      *      (     (A*EXP(-alpha*(AC$15-$H21)))     +      (B*EXP(-bêta*(AC$15-$H21)))    +   (_C*EXP(-gamma*(AC$15-$H21 )))      )","v":0},{"$f":"  $G21/[0]!Poids      *      (     (A*EXP(-alpha*(AD$15-$H21)))     +      (B*EXP(-bêta*(AD$15-$H21)))    +   (_C*EXP(-gamma*(AD$15-$H21 )))      )","v":0},{"$f":"  $G21/[0]!Poids      *      (     (A*EXP(-alpha*(AE$15-$H21)))     +      (B*EXP(-bêta*(AE$15-$H21)))    +   (_C*EXP(-gamma*(AE$15-$H21 )))      )","v":0},{"$f":"  $G21/[0]!Poids      *      (     (A*EXP(-alpha*(AF$15-$H21)))     +      (B*EXP(-bêta*(AF$15-$H21)))    +   (_C*EXP(-gamma*(AF$15-$H21 )))      )","v":0},{"$f":"  $G21/[0]!Poids      *      (     (A*EXP(-alpha*(AG$15-$H21)))     +      (B*EXP(-bêta*(AG$15-$H21)))    +   (_C*EXP(-gamma*(AG$15-$H21 )))      )","v":0},{"$f":"  $G21/[0]!Poids      *      (     (A*EXP(-alpha*(AH$15-$H21)))     +      (B*EXP(-bêta*(AH$15-$H21)))    +   (_C*EXP(-gamma*(AH$15-$H21 )))      )","v":0},{"$f":"  $G21/[0]!Poids      *      (     (A*EXP(-alpha*(AI$15-$H21)))     +      (B*EXP(-bêta*(AI$15-$H21)))    +   (_C*EXP(-gamma*(AI$15-$H21 )))      )","v":0},{"$f":"  $G21/[0]!Poids      *      (     (A*EXP(-alpha*(AJ$15-$H21)))     +      (B*EXP(-bêta*(AJ$15-$H21)))    +   (_C*EXP(-gamma*(AJ$15-$H21 )))      )","v":0},{"$f":"  $G21/[0]!Poids      *      (     (A*EXP(-alpha*(AK$15-$H21)))     +      (B*EXP(-bêta*(AK$15-$H21)))    +   (_C*EXP(-gamma*(AK$15-$H21 )))      )","v":0},{"$f":"  $G21/[0]!Poids      *      (     (A*EXP(-alpha*(AL$15-$H21)))     +      (B*EXP(-bêta*(AL$15-$H21)))    +   (_C*EXP(-gamma*(AL$15-$H21 )))      )","v":0},{"$f":"  $G21/[0]!Poids      *      (     (A*EXP(-alpha*(AM$15-$H21)))     +      (B*EXP(-bêta*(AM$15-$H21)))    +   (_C*EXP(-gamma*(AM$15-$H21 )))      )","v":0},{"$f":"  $G21/[0]!Poids      *      (     (A*EXP(-alpha*(AN$15-$H21)))     +      (B*EXP(-bêta*(AN$15-$H21)))    +   (_C*EXP(-gamma*(AN$15-$H21 )))      )","v":0},{"$f":"  $G21/[0]!Poids      *      (     (A*EXP(-alpha*(AO$15-$H21)))     +      (B*EXP(-bêta*(AO$15-$H21)))    +   (_C*EXP(-gamma*(AO$15-$H21 )))      )","v":0},{"$f":"  $G21/[0]!Poids      *      (     (A*EXP(-alpha*(AP$15-$H21)))     +      (B*EXP(-bêta*(AP$15-$H21)))    +   (_C*EXP(-gamma*(AP$15-$H21 )))      )","v":0},{"$f":"  $G21/[0]!Poids      *      (     (A*EXP(-alpha*(AQ$15-$H21)))     +      (B*EXP(-bêta*(AQ$15-$H21)))    +   (_C*EXP(-gamma*(AQ$15-$H21 )))      )","v":0},{"$f":"  $G21/[0]!Poids      *      (     (A*EXP(-alpha*(AR$15-$H21)))     +      (B*EXP(-bêta*(AR$15-$H21)))    +   (_C*EXP(-gamma*(AR$15-$H21 )))      )","v":0},{"$f":"  $G21/[0]!Poids      *      (     (A*EXP(-alpha*(AS$15-$H21)))     +      (B*EXP(-bêta*(AS$15-$H21)))    +   (_C*EXP(-gamma*(AS$15-$H21 )))      )","v":0},{"$f":"  $G21/[0]!Poids      *      (     (A*EXP(-alpha*(AT$15-$H21)))     +      (B*EXP(-bêta*(AT$15-$H21)))    +   (_C*EXP(-gamma*(AT$15-$H21 )))      )","v":0},{"$f":"  $G21/[0]!Poids      *      (     (A*EXP(-alpha*(AU$15-$H21)))     +      (B*EXP(-bêta*(AU$15-$H21)))    +   (_C*EXP(-gamma*(AU$15-$H21 )))      )","v":0},{"$f":"  $G21/[0]!Poids      *      (     (A*EXP(-alpha*(AV$15-$H21)))     +      (B*EXP(-bêta*(AV$15-$H21)))    +   (_C*EXP(-gamma*(AV$15-$H21 )))      )","v":0},{"$f":"  $G21/[0]!Poids      *      (     (A*EXP(-alpha*(AW$15-$H21)))     +      (B*EXP(-bêta*(AW$15-$H21)))    +   (_C*EXP(-gamma*(AW$15-$H21 )))      )","v":0},{"$f":"  $G21/[0]!Poids      *      (     (A*EXP(-alpha*(AX$15-$H21)))     +      (B*EXP(-bêta*(AX$15-$H21)))    +   (_C*EXP(-gamma*(AX$15-$H21 )))      )","v":0},{"$f":"  $G21/[0]!Poids      *      (     (A*EXP(-alpha*(AY$15-$H21)))     +      (B*EXP(-bêta*(AY$15-$H21)))    +   (_C*EXP(-gamma*(AY$15-$H21 )))      )","v":0},{"$f":"  $G21/[0]!Poids      *      (     (A*EXP(-alpha*(AZ$15-$H21)))     +      (B*EXP(-bêta*(AZ$15-$H21)))    +   (_C*EXP(-gamma*(AZ$15-$H21 )))      )","v":0},{"$f":"  $G21/[0]!Poids      *      (     (A*EXP(-alpha*(BA$15-$H21)))     +      (B*EXP(-bêta*(BA$15-$H21)))    +   (_C*EXP(-gamma*(BA$15-$H21 )))      )","v":0},{"$f":"  $G21/[0]!Poids      *      (     (A*EXP(-alpha*(BB$15-$H21)))     +      (B*EXP(-bêta*(BB$15-$H21)))    +   (_C*EXP(-gamma*(BB$15-$H21 )))      )","v":0},{"$f":"  $G21/[0]!Poids      *      (     (A*EXP(-alpha*(BC$15-$H21)))     +      (B*EXP(-bêta*(BC$15-$H21)))    +   (_C*EXP(-gamma*(BC$15-$H21 )))      )","v":0},{"$f":"  $G21/[0]!Poids      *      (     (A*EXP(-alpha*(BD$15-$H21)))     +      (B*EXP(-bêta*(BD$15-$H21)))    +   (_C*EXP(-gamma*(BD$15-$H21 )))      )","v":0},{"$f":"  $G21/[0]!Poids      *      (     (A*EXP(-alpha*(BE$15-$H21)))     +      (B*EXP(-bêta*(BE$15-$H21)))    +   (_C*EXP(-gamma*(BE$15-$H21 )))      )","v":0},{"$f":"  $G21/[0]!Poids      *      (     (A*EXP(-alpha*(BF$15-$H21)))     +      (B*EXP(-bêta*(BF$15-$H21)))    +   (_C*EXP(-gamma*(BF$15-$H21 )))      )","v":0},{"$f":"  $G21/[0]!Poids      *      (     (A*EXP(-alpha*(BG$15-$H21)))     +      (B*EXP(-bêta*(BG$15-$H21)))    +   (_C*EXP(-gamma*(BG$15-$H21 )))      )","v":0},{"$f":"  $G21/[0]!Poids      *      (     (A*EXP(-alpha*(BH$15-$H21)))     +      (B*EXP(-bêta*(BH$15-$H21)))    +   (_C*EXP(-gamma*(BH$15-$H21 )))      )","v":0},{"$f":"  $G21/[0]!Poids      *      (     (A*EXP(-alpha*(BI$15-$H21)))     +      (B*EXP(-bêta*(BI$15-$H21)))    +   (_C*EXP(-gamma*(BI$15-$H21 )))      )","v":0},{"$f":"  $G21/[0]!Poids      *      (     (A*EXP(-alpha*(BJ$15-$H21)))     +      (B*EXP(-bêta*(BJ$15-$H21)))    +   (_C*EXP(-gamma*(BJ$15-$H21 )))      )","v":0},{"$f":"  $G21/[0]!Poids      *      (     (A*EXP(-alpha*(BK$15-$H21)))     +      (B*EXP(-bêta*(BK$15-$H21)))    +   (_C*EXP(-gamma*(BK$15-$H21 )))      )","v":0},{"$f":"  $G21/[0]!Poids      *      (     (A*EXP(-alpha*(BL$15-$H21)))     +      (B*EXP(-bêta*(BL$15-$H21)))    +   (_C*EXP(-gamma*(BL$15-$H21 )))      )","v":0},{"$f":"  $G21/[0]!Poids      *      (     (A*EXP(-alpha*(BM$15-$H21)))     +      (B*EXP(-bêta*(BM$15-$H21)))    +   (_C*EXP(-gamma*(BM$15-$H21 )))      )","v":0},{"$f":"  $G21/[0]!Poids      *      (     (A*EXP(-alpha*(BN$15-$H21)))     +      (B*EXP(-bêta*(BN$15-$H21)))    +   (_C*EXP(-gamma*(BN$15-$H21 )))      )","v":0},{"$f":"  $G21/[0]!Poids      *      (     (A*EXP(-alpha*(BO$15-$H21)))     +      (B*EXP(-bêta*(BO$15-$H21)))    +   (_C*EXP(-gamma*(BO$15-$H21 )))      )","v":0},{"$f":"  $G21/[0]!Poids      *      (     (A*EXP(-alpha*(BP$15-$H21)))     +      (B*EXP(-bêta*(BP$15-$H21)))    +   (_C*EXP(-gamma*(BP$15-$H21 )))      )","v":0},{"$f":"  $G21/[0]!Poids      *      (     (A*EXP(-alpha*(BQ$15-$H21)))     +      (B*EXP(-bêta*(BQ$15-$H21)))    +   (_C*EXP(-gamma*(BQ$15-$H21 )))      )","v":0},{"$f":"  $G21/[0]!Poids      *      (     (A*EXP(-alpha*(BR$15-$H21)))     +      (B*EXP(-bêta*(BR$15-$H21)))    +   (_C*EXP(-gamma*(BR$15-$H21 )))      )","v":0}]
[null,"bêta",9.5166666666666663E-2,null,{"$f":"C22","v":9.5166666666666663E-2},null,{"$f":"P$10","v":0},30,null,null,null,null,null,null,null,{"$f":"  $G22/[0]!Poids      *      (     (A*EXP(-alpha*(P$15-$H22)))     +      (B*EXP(-bêta*(P$15-$H22)))    +   (_C*EXP(-gamma*(P$15-$H22 )))      )","v":0},{"$f":"  $G22/[0]!Poids      *      (     (A*EXP(-alpha*(Q$15-$H22)))     +      (B*EXP(-bêta*(Q$15-$H22)))    +   (_C*EXP(-gamma*(Q$15-$H22 )))      )","v":0},{"$f":"  $G22/[0]!Poids      *      (     (A*EXP(-alpha*(R$15-$H22)))     +      (B*EXP(-bêta*(R$15-$H22)))    +   (_C*EXP(-gamma*(R$15-$H22 )))      )","v":0},{"$f":"  $G22/[0]!Poids      *      (     (A*EXP(-alpha*(S$15-$H22)))     +      (B*EXP(-bêta*(S$15-$H22)))    +   (_C*EXP(-gamma*(S$15-$H22 )))      )","v":0},{"$f":"  $G22/[0]!Poids      *      (     (A*EXP(-alpha*(T$15-$H22)))     +      (B*EXP(-bêta*(T$15-$H22)))    +   (_C*EXP(-gamma*(T$15-$H22 )))      )","v":0},{"$f":"  $G22/[0]!Poids      *      (     (A*EXP(-alpha*(U$15-$H22)))     +      (B*EXP(-bêta*(U$15-$H22)))    +   (_C*EXP(-gamma*(U$15-$H22 )))      )","v":0},{"$f":"  $G22/[0]!Poids      *      (     (A*EXP(-alpha*(V$15-$H22)))     +      (B*EXP(-bêta*(V$15-$H22)))    +   (_C*EXP(-gamma*(V$15-$H22 )))      )","v":0},{"$f":"  $G22/[0]!Poids      *      (     (A*EXP(-alpha*(W$15-$H22)))     +      (B*EXP(-bêta*(W$15-$H22)))    +   (_C*EXP(-gamma*(W$15-$H22 )))      )","v":0},{"$f":"  $G22/[0]!Poids      *      (     (A*EXP(-alpha*(X$15-$H22)))     +      (B*EXP(-bêta*(X$15-$H22)))    +   (_C*EXP(-gamma*(X$15-$H22 )))      )","v":0},{"$f":"  $G22/[0]!Poids      *      (     (A*EXP(-alpha*(Y$15-$H22)))     +      (B*EXP(-bêta*(Y$15-$H22)))    +   (_C*EXP(-gamma*(Y$15-$H22 )))      )","v":0},{"$f":"  $G22/[0]!Poids      *      (     (A*EXP(-alpha*(Z$15-$H22)))     +      (B*EXP(-bêta*(Z$15-$H22)))    +   (_C*EXP(-gamma*(Z$15-$H22 )))      )","v":0},{"$f":"  $G22/[0]!Poids      *      (     (A*EXP(-alpha*(AA$15-$H22)))     +      (B*EXP(-bêta*(AA$15-$H22)))    +   (_C*EXP(-gamma*(AA$15-$H22 )))      )","v":0},{"$f":"  $G22/[0]!Poids      *      (     (A*EXP(-alpha*(AB$15-$H22)))     +      (B*EXP(-bêta*(AB$15-$H22)))    +   (_C*EXP(-gamma*(AB$15-$H22 )))      )","v":0},{"$f":"  $G22/[0]!Poids      *      (     (A*EXP(-alpha*(AC$15-$H22)))     +      (B*EXP(-bêta*(AC$15-$H22)))    +   (_C*EXP(-gamma*(AC$15-$H22 )))      )","v":0},{"$f":"  $G22/[0]!Poids      *      (     (A*EXP(-alpha*(AD$15-$H22)))     +      (B*EXP(-bêta*(AD$15-$H22)))    +   (_C*EXP(-gamma*(AD$15-$H22 )))      )","v":0},{"$f":"  $G22/[0]!Poids      *      (     (A*EXP(-alpha*(AE$15-$H22)))     +      (B*EXP(-bêta*(AE$15-$H22)))    +   (_C*EXP(-gamma*(AE$15-$H22 )))      )","v":0},{"$f":"  $G22/[0]!Poids      *      (     (A*EXP(-alpha*(AF$15-$H22)))     +      (B*EXP(-bêta*(AF$15-$H22)))    +   (_C*EXP(-gamma*(AF$15-$H22 )))      )","v":0},{"$f":"  $G22/[0]!Poids      *      (     (A*EXP(-alpha*(AG$15-$H22)))     +      (B*EXP(-bêta*(AG$15-$H22)))    +   (_C*EXP(-gamma*(AG$15-$H22 )))      )","v":0},{"$f":"  $G22/[0]!Poids      *      (     (A*EXP(-alpha*(AH$15-$H22)))     +      (B*EXP(-bêta*(AH$15-$H22)))    +   (_C*EXP(-gamma*(AH$15-$H22 )))      )","v":0},{"$f":"  $G22/[0]!Poids      *      (     (A*EXP(-alpha*(AI$15-$H22)))     +      (B*EXP(-bêta*(AI$15-$H22)))    +   (_C*EXP(-gamma*(AI$15-$H22 )))      )","v":0},{"$f":"  $G22/[0]!Poids      *      (     (A*EXP(-alpha*(AJ$15-$H22)))     +      (B*EXP(-bêta*(AJ$15-$H22)))    +   (_C*EXP(-gamma*(AJ$15-$H22 )))      )","v":0},{"$f":"  $G22/[0]!Poids      *      (     (A*EXP(-alpha*(AK$15-$H22)))     +      (B*EXP(-bêta*(AK$15-$H22)))    +   (_C*EXP(-gamma*(AK$15-$H22 )))      )","v":0},{"$f":"  $G22/[0]!Poids      *      (     (A*EXP(-alpha*(AL$15-$H22)))     +      (B*EXP(-bêta*(AL$15-$H22)))    +   (_C*EXP(-gamma*(AL$15-$H22 )))      )","v":0},{"$f":"  $G22/[0]!Poids      *      (     (A*EXP(-alpha*(AM$15-$H22)))     +      (B*EXP(-bêta*(AM$15-$H22)))    +   (_C*EXP(-gamma*(AM$15-$H22 )))      )","v":0},{"$f":"  $G22/[0]!Poids      *      (     (A*EXP(-alpha*(AN$15-$H22)))     +      (B*EXP(-bêta*(AN$15-$H22)))    +   (_C*EXP(-gamma*(AN$15-$H22 )))      )","v":0},{"$f":"  $G22/[0]!Poids      *      (     (A*EXP(-alpha*(AO$15-$H22)))     +      (B*EXP(-bêta*(AO$15-$H22)))    +   (_C*EXP(-gamma*(AO$15-$H22 )))      )","v":0},{"$f":"  $G22/[0]!Poids      *      (     (A*EXP(-alpha*(AP$15-$H22)))     +      (B*EXP(-bêta*(AP$15-$H22)))    +   (_C*EXP(-gamma*(AP$15-$H22 )))      )","v":0},{"$f":"  $G22/[0]!Poids      *      (     (A*EXP(-alpha*(AQ$15-$H22)))     +      (B*EXP(-bêta*(AQ$15-$H22)))    +   (_C*EXP(-gamma*(AQ$15-$H22 )))      )","v":0},{"$f":"  $G22/[0]!Poids      *      (     (A*EXP(-alpha*(AR$15-$H22)))     +      (B*EXP(-bêta*(AR$15-$H22)))    +   (_C*EXP(-gamma*(AR$15-$H22 )))      )","v":0},{"$f":"  $G22/[0]!Poids      *      (     (A*EXP(-alpha*(AS$15-$H22)))     +      (B*EXP(-bêta*(AS$15-$H22)))    +   (_C*EXP(-gamma*(AS$15-$H22 )))      )","v":0},{"$f":"  $G22/[0]!Poids      *      (     (A*EXP(-alpha*(AT$15-$H22)))     +      (B*EXP(-bêta*(AT$15-$H22)))    +   (_C*EXP(-gamma*(AT$15-$H22 )))      )","v":0},{"$f":"  $G22/[0]!Poids      *      (     (A*EXP(-alpha*(AU$15-$H22)))     +      (B*EXP(-bêta*(AU$15-$H22)))    +   (_C*EXP(-gamma*(AU$15-$H22 )))      )","v":0},{"$f":"  $G22/[0]!Poids      *      (     (A*EXP(-alpha*(AV$15-$H22)))     +      (B*EXP(-bêta*(AV$15-$H22)))    +   (_C*EXP(-gamma*(AV$15-$H22 )))      )","v":0},{"$f":"  $G22/[0]!Poids      *      (     (A*EXP(-alpha*(AW$15-$H22)))     +      (B*EXP(-bêta*(AW$15-$H22)))    +   (_C*EXP(-gamma*(AW$15-$H22 )))      )","v":0},{"$f":"  $G22/[0]!Poids      *      (     (A*EXP(-alpha*(AX$15-$H22)))     +      (B*EXP(-bêta*(AX$15-$H22)))    +   (_C*EXP(-gamma*(AX$15-$H22 )))      )","v":0},{"$f":"  $G22/[0]!Poids      *      (     (A*EXP(-alpha*(AY$15-$H22)))     +      (B*EXP(-bêta*(AY$15-$H22)))    +   (_C*EXP(-gamma*(AY$15-$H22 )))      )","v":0},{"$f":"  $G22/[0]!Poids      *      (     (A*EXP(-alpha*(AZ$15-$H22)))     +      (B*EXP(-bêta*(AZ$15-$H22)))    +   (_C*EXP(-gamma*(AZ$15-$H22 )))      )","v":0},{"$f":"  $G22/[0]!Poids      *      (     (A*EXP(-alpha*(BA$15-$H22)))     +      (B*EXP(-bêta*(BA$15-$H22)))    +   (_C*EXP(-gamma*(BA$15-$H22 )))      )","v":0},{"$f":"  $G22/[0]!Poids      *      (     (A*EXP(-alpha*(BB$15-$H22)))     +      (B*EXP(-bêta*(BB$15-$H22)))    +   (_C*EXP(-gamma*(BB$15-$H22 )))      )","v":0},{"$f":"  $G22/[0]!Poids      *      (     (A*EXP(-alpha*(BC$15-$H22)))     +      (B*EXP(-bêta*(BC$15-$H22)))    +   (_C*EXP(-gamma*(BC$15-$H22 )))      )","v":0},{"$f":"  $G22/[0]!Poids      *      (     (A*EXP(-alpha*(BD$15-$H22)))     +      (B*EXP(-bêta*(BD$15-$H22)))    +   (_C*EXP(-gamma*(BD$15-$H22 )))      )","v":0},{"$f":"  $G22/[0]!Poids      *      (     (A*EXP(-alpha*(BE$15-$H22)))     +      (B*EXP(-bêta*(BE$15-$H22)))    +   (_C*EXP(-gamma*(BE$15-$H22 )))      )","v":0},{"$f":"  $G22/[0]!Poids      *      (     (A*EXP(-alpha*(BF$15-$H22)))     +      (B*EXP(-bêta*(BF$15-$H22)))    +   (_C*EXP(-gamma*(BF$15-$H22 )))      )","v":0},{"$f":"  $G22/[0]!Poids      *      (     (A*EXP(-alpha*(BG$15-$H22)))     +      (B*EXP(-bêta*(BG$15-$H22)))    +   (_C*EXP(-gamma*(BG$15-$H22 )))      )","v":0},{"$f":"  $G22/[0]!Poids      *      (     (A*EXP(-alpha*(BH$15-$H22)))     +      (B*EXP(-bêta*(BH$15-$H22)))    +   (_C*EXP(-gamma*(BH$15-$H22 )))      )","v":0},{"$f":"  $G22/[0]!Poids      *      (     (A*EXP(-alpha*(BI$15-$H22)))     +      (B*EXP(-bêta*(BI$15-$H22)))    +   (_C*EXP(-gamma*(BI$15-$H22 )))      )","v":0},{"$f":"  $G22/[0]!Poids      *      (     (A*EXP(-alpha*(BJ$15-$H22)))     +      (B*EXP(-bêta*(BJ$15-$H22)))    +   (_C*EXP(-gamma*(BJ$15-$H22 )))      )","v":0},{"$f":"  $G22/[0]!Poids      *      (     (A*EXP(-alpha*(BK$15-$H22)))     +      (B*EXP(-bêta*(BK$15-$H22)))    +   (_C*EXP(-gamma*(BK$15-$H22 )))      )","v":0},{"$f":"  $G22/[0]!Poids      *      (     (A*EXP(-alpha*(BL$15-$H22)))     +      (B*EXP(-bêta*(BL$15-$H22)))    +   (_C*EXP(-gamma*(BL$15-$H22 )))      )","v":0},{"$f":"  $G22/[0]!Poids      *      (     (A*EXP(-alpha*(BM$15-$H22)))     +      (B*EXP(-bêta*(BM$15-$H22)))    +   (_C*EXP(-gamma*(BM$15-$H22 )))      )","v":0},{"$f":"  $G22/[0]!Poids      *      (     (A*EXP(-alpha*(BN$15-$H22)))     +      (B*EXP(-bêta*(BN$15-$H22)))    +   (_C*EXP(-gamma*(BN$15-$H22 )))      )","v":0},{"$f":"  $G22/[0]!Poids      *      (     (A*EXP(-alpha*(BO$15-$H22)))     +      (B*EXP(-bêta*(BO$15-$H22)))    +   (_C*EXP(-gamma*(BO$15-$H22 )))      )","v":0},{"$f":"  $G22/[0]!Poids      *      (     (A*EXP(-alpha*(BP$15-$H22)))     +      (B*EXP(-bêta*(BP$15-$H22)))    +   (_C*EXP(-gamma*(BP$15-$H22 )))      )","v":0},{"$f":"  $G22/[0]!Poids      *      (     (A*EXP(-alpha*(BQ$15-$H22)))     +      (B*EXP(-bêta*(BQ$15-$H22)))    +   (_C*EXP(-gamma*(BQ$15-$H22 )))      )","v":0},{"$f":"  $G22/[0]!Poids      *      (     (A*EXP(-alpha*(BR$15-$H22)))     +      (B*EXP(-bêta*(BR$15-$H22)))    +   (_C*EXP(-gamma*(BR$15-$H22 )))      )","v":0}]
[null,"gamma",3.7833333333333334E-3,null,3.7833333333333334E-3,null,{"$f":"Q$10","v":0},35,null,null,null,null,null,null,null,null,{"$f":"  $G23/[0]!Poids      *      (     (A*EXP(-alpha*(Q$15-$H23)))     +      (B*EXP(-bêta*(Q$15-$H23)))    +   (_C*EXP(-gamma*(Q$15-$H23 )))      )","v":0},{"$f":"  $G23/[0]!Poids      *      (     (A*EXP(-alpha*(R$15-$H23)))     +      (B*EXP(-bêta*(R$15-$H23)))    +   (_C*EXP(-gamma*(R$15-$H23 )))      )","v":0},{"$f":"  $G23/[0]!Poids      *      (     (A*EXP(-alpha*(S$15-$H23)))     +      (B*EXP(-bêta*(S$15-$H23)))    +   (_C*EXP(-gamma*(S$15-$H23 )))      )","v":0},{"$f":"  $G23/[0]!Poids      *      (     (A*EXP(-alpha*(T$15-$H23)))     +      (B*EXP(-bêta*(T$15-$H23)))    +   (_C*EXP(-gamma*(T$15-$H23 )))      )","v":0},{"$f":"  $G23/[0]!Poids      *      (     (A*EXP(-alpha*(U$15-$H23)))     +      (B*EXP(-bêta*(U$15-$H23)))    +   (_C*EXP(-gamma*(U$15-$H23 )))      )","v":0},{"$f":"  $G23/[0]!Poids      *      (     (A*EXP(-alpha*(V$15-$H23)))     +      (B*EXP(-bêta*(V$15-$H23)))    +   (_C*EXP(-gamma*(V$15-$H23 )))      )","v":0},{"$f":"  $G23/[0]!Poids      *      (     (A*EXP(-alpha*(W$15-$H23)))     +      (B*EXP(-bêta*(W$15-$H23)))    +   (_C*EXP(-gamma*(W$15-$H23 )))      )","v":0},{"$f":"  $G23/[0]!Poids      *      (     (A*EXP(-alpha*(X$15-$H23)))     +      (B*EXP(-bêta*(X$15-$H23)))    +   (_C*EXP(-gamma*(X$15-$H23 )))      )","v":0},{"$f":"  $G23/[0]!Poids      *      (     (A*EXP(-alpha*(Y$15-$H23)))     +      (B*EXP(-bêta*(Y$15-$H23)))    +   (_C*EXP(-gamma*(Y$15-$H23 )))      )","v":0},{"$f":"  $G23/[0]!Poids      *      (     (A*EXP(-alpha*(Z$15-$H23)))     +      (B*EXP(-bêta*(Z$15-$H23)))    +   (_C*EXP(-gamma*(Z$15-$H23 )))      )","v":0},{"$f":"  $G23/[0]!Poids      *      (     (A*EXP(-alpha*(AA$15-$H23)))     +      (B*EXP(-bêta*(AA$15-$H23)))    +   (_C*EXP(-gamma*(AA$15-$H23 )))      )","v":0},{"$f":"  $G23/[0]!Poids      *      (     (A*EXP(-alpha*(AB$15-$H23)))     +      (B*EXP(-bêta*(AB$15-$H23)))    +   (_C*EXP(-gamma*(AB$15-$H23 )))      )","v":0},{"$f":"  $G23/[0]!Poids      *      (     (A*EXP(-alpha*(AC$15-$H23)))     +      (B*EXP(-bêta*(AC$15-$H23)))    +   (_C*EXP(-gamma*(AC$15-$H23 )))      )","v":0},{"$f":"  $G23/[0]!Poids      *      (     (A*EXP(-alpha*(AD$15-$H23)))     +      (B*EXP(-bêta*(AD$15-$H23)))    +   (_C*EXP(-gamma*(AD$15-$H23 )))      )","v":0},{"$f":"  $G23/[0]!Poids      *      (     (A*EXP(-alpha*(AE$15-$H23)))     +      (B*EXP(-bêta*(AE$15-$H23)))    +   (_C*EXP(-gamma*(AE$15-$H23 )))      )","v":0},{"$f":"  $G23/[0]!Poids      *      (     (A*EXP(-alpha*(AF$15-$H23)))     +      (B*EXP(-bêta*(AF$15-$H23)))    +   (_C*EXP(-gamma*(AF$15-$H23 )))      )","v":0},{"$f":"  $G23/[0]!Poids      *      (     (A*EXP(-alpha*(AG$15-$H23)))     +      (B*EXP(-bêta*(AG$15-$H23)))    +   (_C*EXP(-gamma*(AG$15-$H23 )))      )","v":0},{"$f":"  $G23/[0]!Poids      *      (     (A*EXP(-alpha*(AH$15-$H23)))     +      (B*EXP(-bêta*(AH$15-$H23)))    +   (_C*EXP(-gamma*(AH$15-$H23 )))      )","v":0},{"$f":"  $G23/[0]!Poids      *      (     (A*EXP(-alpha*(AI$15-$H23)))     +      (B*EXP(-bêta*(AI$15-$H23)))    +   (_C*EXP(-gamma*(AI$15-$H23 )))      )","v":0},{"$f":"  $G23/[0]!Poids      *      (     (A*EXP(-alpha*(AJ$15-$H23)))     +      (B*EXP(-bêta*(AJ$15-$H23)))    +   (_C*EXP(-gamma*(AJ$15-$H23 )))      )","v":0},{"$f":"  $G23/[0]!Poids      *      (     (A*EXP(-alpha*(AK$15-$H23)))     +      (B*EXP(-bêta*(AK$15-$H23)))    +   (_C*EXP(-gamma*(AK$15-$H23 )))      )","v":0},{"$f":"  $G23/[0]!Poids      *      (     (A*EXP(-alpha*(AL$15-$H23)))     +      (B*EXP(-bêta*(AL$15-$H23)))    +   (_C*EXP(-gamma*(AL$15-$H23 )))      )","v":0},{"$f":"  $G23/[0]!Poids      *      (     (A*EXP(-alpha*(AM$15-$H23)))     +      (B*EXP(-bêta*(AM$15-$H23)))    +   (_C*EXP(-gamma*(AM$15-$H23 )))      )","v":0},{"$f":"  $G23/[0]!Poids      *      (     (A*EXP(-alpha*(AN$15-$H23)))     +      (B*EXP(-bêta*(AN$15-$H23)))    +   (_C*EXP(-gamma*(AN$15-$H23 )))      )","v":0},{"$f":"  $G23/[0]!Poids      *      (     (A*EXP(-alpha*(AO$15-$H23)))     +      (B*EXP(-bêta*(AO$15-$H23)))    +   (_C*EXP(-gamma*(AO$15-$H23 )))      )","v":0},{"$f":"  $G23/[0]!Poids      *      (     (A*EXP(-alpha*(AP$15-$H23)))     +      (B*EXP(-bêta*(AP$15-$H23)))    +   (_C*EXP(-gamma*(AP$15-$H23 )))      )","v":0},{"$f":"  $G23/[0]!Poids      *      (     (A*EXP(-alpha*(AQ$15-$H23)))     +      (B*EXP(-bêta*(AQ$15-$H23)))    +   (_C*EXP(-gamma*(AQ$15-$H23 )))      )","v":0},{"$f":"  $G23/[0]!Poids      *      (     (A*EXP(-alpha*(AR$15-$H23)))     +      (B*EXP(-bêta*(AR$15-$H23)))    +   (_C*EXP(-gamma*(AR$15-$H23 )))      )","v":0},{"$f":"  $G23/[0]!Poids      *      (     (A*EXP(-alpha*(AS$15-$H23)))     +      (B*EXP(-bêta*(AS$15-$H23)))    +   (_C*EXP(-gamma*(AS$15-$H23 )))      )","v":0},{"$f":"  $G23/[0]!Poids      *      (     (A*EXP(-alpha*(AT$15-$H23)))     +      (B*EXP(-bêta*(AT$15-$H23)))    +   (_C*EXP(-gamma*(AT$15-$H23 )))      )","v":0},{"$f":"  $G23/[0]!Poids      *      (     (A*EXP(-alpha*(AU$15-$H23)))     +      (B*EXP(-bêta*(AU$15-$H23)))    +   (_C*EXP(-gamma*(AU$15-$H23 )))      )","v":0},{"$f":"  $G23/[0]!Poids      *      (     (A*EXP(-alpha*(AV$15-$H23)))     +      (B*EXP(-bêta*(AV$15-$H23)))    +   (_C*EXP(-gamma*(AV$15-$H23 )))      )","v":0},{"$f":"  $G23/[0]!Poids      *      (     (A*EXP(-alpha*(AW$15-$H23)))     +      (B*EXP(-bêta*(AW$15-$H23)))    +   (_C*EXP(-gamma*(AW$15-$H23 )))      )","v":0},{"$f":"  $G23/[0]!Poids      *      (     (A*EXP(-alpha*(AX$15-$H23)))     +      (B*EXP(-bêta*(AX$15-$H23)))    +   (_C*EXP(-gamma*(AX$15-$H23 )))      )","v":0},{"$f":"  $G23/[0]!Poids      *      (     (A*EXP(-alpha*(AY$15-$H23)))     +      (B*EXP(-bêta*(AY$15-$H23)))    +   (_C*EXP(-gamma*(AY$15-$H23 )))      )","v":0},{"$f":"  $G23/[0]!Poids      *      (     (A*EXP(-alpha*(AZ$15-$H23)))     +      (B*EXP(-bêta*(AZ$15-$H23)))    +   (_C*EXP(-gamma*(AZ$15-$H23 )))      )","v":0},{"$f":"  $G23/[0]!Poids      *      (     (A*EXP(-alpha*(BA$15-$H23)))     +      (B*EXP(-bêta*(BA$15-$H23)))    +   (_C*EXP(-gamma*(BA$15-$H23 )))      )","v":0},{"$f":"  $G23/[0]!Poids      *      (     (A*EXP(-alpha*(BB$15-$H23)))     +      (B*EXP(-bêta*(BB$15-$H23)))    +   (_C*EXP(-gamma*(BB$15-$H23 )))      )","v":0},{"$f":"  $G23/[0]!Poids      *      (     (A*EXP(-alpha*(BC$15-$H23)))     +      (B*EXP(-bêta*(BC$15-$H23)))    +   (_C*EXP(-gamma*(BC$15-$H23 )))      )","v":0},{"$f":"  $G23/[0]!Poids      *      (     (A*EXP(-alpha*(BD$15-$H23)))     +      (B*EXP(-bêta*(BD$15-$H23)))    +   (_C*EXP(-gamma*(BD$15-$H23 )))      )","v":0},{"$f":"  $G23/[0]!Poids      *      (     (A*EXP(-alpha*(BE$15-$H23)))     +      (B*EXP(-bêta*(BE$15-$H23)))    +   (_C*EXP(-gamma*(BE$15-$H23 )))      )","v":0},{"$f":"  $G23/[0]!Poids      *      (     (A*EXP(-alpha*(BF$15-$H23)))     +      (B*EXP(-bêta*(BF$15-$H23)))    +   (_C*EXP(-gamma*(BF$15-$H23 )))      )","v":0},{"$f":"  $G23/[0]!Poids      *      (     (A*EXP(-alpha*(BG$15-$H23)))     +      (B*EXP(-bêta*(BG$15-$H23)))    +   (_C*EXP(-gamma*(BG$15-$H23 )))      )","v":0},{"$f":"  $G23/[0]!Poids      *      (     (A*EXP(-alpha*(BH$15-$H23)))     +      (B*EXP(-bêta*(BH$15-$H23)))    +   (_C*EXP(-gamma*(BH$15-$H23 )))      )","v":0},{"$f":"  $G23/[0]!Poids      *      (     (A*EXP(-alpha*(BI$15-$H23)))     +      (B*EXP(-bêta*(BI$15-$H23)))    +   (_C*EXP(-gamma*(BI$15-$H23 )))      )","v":0},{"$f":"  $G23/[0]!Poids      *      (     (A*EXP(-alpha*(BJ$15-$H23)))     +      (B*EXP(-bêta*(BJ$15-$H23)))    +   (_C*EXP(-gamma*(BJ$15-$H23 )))      )","v":0},{"$f":"  $G23/[0]!Poids      *      (     (A*EXP(-alpha*(BK$15-$H23)))     +      (B*EXP(-bêta*(BK$15-$H23)))    +   (_C*EXP(-gamma*(BK$15-$H23 )))      )","v":0},{"$f":"  $G23/[0]!Poids      *      (     (A*EXP(-alpha*(BL$15-$H23)))     +      (B*EXP(-bêta*(BL$15-$H23)))    +   (_C*EXP(-gamma*(BL$15-$H23 )))      )","v":0},{"$f":"  $G23/[0]!Poids      *      (     (A*EXP(-alpha*(BM$15-$H23)))     +      (B*EXP(-bêta*(BM$15-$H23)))    +   (_C*EXP(-gamma*(BM$15-$H23 )))      )","v":0},{"$f":"  $G23/[0]!Poids      *      (     (A*EXP(-alpha*(BN$15-$H23)))     +      (B*EXP(-bêta*(BN$15-$H23)))    +   (_C*EXP(-gamma*(BN$15-$H23 )))      )","v":0},{"$f":"  $G23/[0]!Poids      *      (     (A*EXP(-alpha*(BO$15-$H23)))     +      (B*EXP(-bêta*(BO$15-$H23)))    +   (_C*EXP(-gamma*(BO$15-$H23 )))      )","v":0},{"$f":"  $G23/[0]!Poids      *      (     (A*EXP(-alpha*(BP$15-$H23)))     +      (B*EXP(-bêta*(BP$15-$H23)))    +   (_C*EXP(-gamma*(BP$15-$H23 )))      )","v":0},{"$f":"  $G23/[0]!Poids      *      (     (A*EXP(-alpha*(BQ$15-$H23)))     +      (B*EXP(-bêta*(BQ$15-$H23)))    +   (_C*EXP(-gamma*(BQ$15-$H23 )))      )","v":0},{"$f":"  $G23/[0]!Poids      *      (     (A*EXP(-alpha*(BR$15-$H23)))     +      (B*EXP(-bêta*(BR$15-$H23)))    +   (_C*EXP(-gamma*(BR$15-$H23 )))      )","v":0}]
[null,null,null,null,null,null,{"$f":"R$10","v":0},40,null,null,null,null,null,null,null,null,null,{"$f":"  $G24/[0]!Poids      *      (     (A*EXP(-alpha*(R$15-$H24)))     +      (B*EXP(-bêta*(R$15-$H24)))    +   (_C*EXP(-gamma*(R$15-$H24 )))      )","v":0},{"$f":"  $G24/[0]!Poids      *      (     (A*EXP(-alpha*(S$15-$H24)))     +      (B*EXP(-bêta*(S$15-$H24)))    +   (_C*EXP(-gamma*(S$15-$H24 )))      )","v":0},{"$f":"  $G24/[0]!Poids      *      (     (A*EXP(-alpha*(T$15-$H24)))     +      (B*EXP(-bêta*(T$15-$H24)))    +   (_C*EXP(-gamma*(T$15-$H24 )))      )","v":0},{"$f":"  $G24/[0]!Poids      *      (     (A*EXP(-alpha*(U$15-$H24)))     +      (B*EXP(-bêta*(U$15-$H24)))    +   (_C*EXP(-gamma*(U$15-$H24 )))      )","v":0},{"$f":"  $G24/[0]!Poids      *      (     (A*EXP(-alpha*(V$15-$H24)))     +      (B*EXP(-bêta*(V$15-$H24)))    +   (_C*EXP(-gamma*(V$15-$H24 )))      )","v":0},{"$f":"  $G24/[0]!Poids      *      (     (A*EXP(-alpha*(W$15-$H24)))     +      (B*EXP(-bêta*(W$15-$H24)))    +   (_C*EXP(-gamma*(W$15-$H24 )))      )","v":0},{"$f":"  $G24/[0]!Poids      *      (     (A*EXP(-alpha*(X$15-$H24)))     +      (B*EXP(-bêta*(X$15-$H24)))    +   (_C*EXP(-gamma*(X$15-$H24 )))      )","v":0},{"$f":"  $G24/[0]!Poids      *      (     (A*EXP(-alpha*(Y$15-$H24)))     +      (B*EXP(-bêta*(Y$15-$H24)))    +   (_C*EXP(-gamma*(Y$15-$H24 )))      )","v":0},{"$f":"  $G24/[0]!Poids      *      (     (A*EXP(-alpha*(Z$15-$H24)))     +      (B*EXP(-bêta*(Z$15-$H24)))    +   (_C*EXP(-gamma*(Z$15-$H24 )))      )","v":0},{"$f":"  $G24/[0]!Poids      *      (     (A*EXP(-alpha*(AA$15-$H24)))     +      (B*EXP(-bêta*(AA$15-$H24)))    +   (_C*EXP(-gamma*(AA$15-$H24 )))      )","v":0},{"$f":"  $G24/[0]!Poids      *      (     (A*EXP(-alpha*(AB$15-$H24)))     +      (B*EXP(-bêta*(AB$15-$H24)))    +   (_C*EXP(-gamma*(AB$15-$H24 )))      )","v":0},{"$f":"  $G24/[0]!Poids      *      (     (A*EXP(-alpha*(AC$15-$H24)))     +      (B*EXP(-bêta*(AC$15-$H24)))    +   (_C*EXP(-gamma*(AC$15-$H24 )))      )","v":0},{"$f":"  $G24/[0]!Poids      *      (     (A*EXP(-alpha*(AD$15-$H24)))     +      (B*EXP(-bêta*(AD$15-$H24)))    +   (_C*EXP(-gamma*(AD$15-$H24 )))      )","v":0},{"$f":"  $G24/[0]!Poids      *      (     (A*EXP(-alpha*(AE$15-$H24)))     +      (B*EXP(-bêta*(AE$15-$H24)))    +   (_C*EXP(-gamma*(AE$15-$H24 )))      )","v":0},{"$f":"  $G24/[0]!Poids      *      (     (A*EXP(-alpha*(AF$15-$H24)))     +      (B*EXP(-bêta*(AF$15-$H24)))    +   (_C*EXP(-gamma*(AF$15-$H24 )))      )","v":0},{"$f":"  $G24/[0]!Poids      *      (     (A*EXP(-alpha*(AG$15-$H24)))     +      (B*EXP(-bêta*(AG$15-$H24)))    +   (_C*EXP(-gamma*(AG$15-$H24 )))      )","v":0},{"$f":"  $G24/[0]!Poids      *      (     (A*EXP(-alpha*(AH$15-$H24)))     +      (B*EXP(-bêta*(AH$15-$H24)))    +   (_C*EXP(-gamma*(AH$15-$H24 )))      )","v":0},{"$f":"  $G24/[0]!Poids      *      (     (A*EXP(-alpha*(AI$15-$H24)))     +      (B*EXP(-bêta*(AI$15-$H24)))    +   (_C*EXP(-gamma*(AI$15-$H24 )))      )","v":0},{"$f":"  $G24/[0]!Poids      *      (     (A*EXP(-alpha*(AJ$15-$H24)))     +      (B*EXP(-bêta*(AJ$15-$H24)))    +   (_C*EXP(-gamma*(AJ$15-$H24 )))      )","v":0},{"$f":"  $G24/[0]!Poids      *      (     (A*EXP(-alpha*(AK$15-$H24)))     +      (B*EXP(-bêta*(AK$15-$H24)))    +   (_C*EXP(-gamma*(AK$15-$H24 )))      )","v":0},{"$f":"  $G24/[0]!Poids      *      (     (A*EXP(-alpha*(AL$15-$H24)))     +      (B*EXP(-bêta*(AL$15-$H24)))    +   (_C*EXP(-gamma*(AL$15-$H24 )))      )","v":0},{"$f":"  $G24/[0]!Poids      *      (     (A*EXP(-alpha*(AM$15-$H24)))     +      (B*EXP(-bêta*(AM$15-$H24)))    +   (_C*EXP(-gamma*(AM$15-$H24 )))      )","v":0},{"$f":"  $G24/[0]!Poids      *      (     (A*EXP(-alpha*(AN$15-$H24)))     +      (B*EXP(-bêta*(AN$15-$H24)))    +   (_C*EXP(-gamma*(AN$15-$H24 )))      )","v":0},{"$f":"  $G24/[0]!Poids      *      (     (A*EXP(-alpha*(AO$15-$H24)))     +      (B*EXP(-bêta*(AO$15-$H24)))    +   (_C*EXP(-gamma*(AO$15-$H24 )))      )","v":0},{"$f":"  $G24/[0]!Poids      *      (     (A*EXP(-alpha*(AP$15-$H24)))     +      (B*EXP(-bêta*(AP$15-$H24)))    +   (_C*EXP(-gamma*(AP$15-$H24 )))      )","v":0},{"$f":"  $G24/[0]!Poids      *      (     (A*EXP(-alpha*(AQ$15-$H24)))     +      (B*EXP(-bêta*(AQ$15-$H24)))    +   (_C*EXP(-gamma*(AQ$15-$H24 )))      )","v":0},{"$f":"  $G24/[0]!Poids      *      (     (A*EXP(-alpha*(AR$15-$H24)))     +      (B*EXP(-bêta*(AR$15-$H24)))    +   (_C*EXP(-gamma*(AR$15-$H24 )))      )","v":0},{"$f":"  $G24/[0]!Poids      *      (     (A*EXP(-alpha*(AS$15-$H24)))     +      (B*EXP(-bêta*(AS$15-$H24)))    +   (_C*EXP(-gamma*(AS$15-$H24 )))      )","v":0},{"$f":"  $G24/[0]!Poids      *      (     (A*EXP(-alpha*(AT$15-$H24)))     +      (B*EXP(-bêta*(AT$15-$H24)))    +   (_C*EXP(-gamma*(AT$15-$H24 )))      )","v":0},{"$f":"  $G24/[0]!Poids      *      (     (A*EXP(-alpha*(AU$15-$H24)))     +      (B*EXP(-bêta*(AU$15-$H24)))    +   (_C*EXP(-gamma*(AU$15-$H24 )))      )","v":0},{"$f":"  $G24/[0]!Poids      *      (     (A*EXP(-alpha*(AV$15-$H24)))     +      (B*EXP(-bêta*(AV$15-$H24)))    +   (_C*EXP(-gamma*(AV$15-$H24 )))      )","v":0},{"$f":"  $G24/[0]!Poids      *      (     (A*EXP(-alpha*(AW$15-$H24)))     +      (B*EXP(-bêta*(AW$15-$H24)))    +   (_C*EXP(-gamma*(AW$15-$H24 )))      )","v":0},{"$f":"  $G24/[0]!Poids      *      (     (A*EXP(-alpha*(AX$15-$H24)))     +      (B*EXP(-bêta*(AX$15-$H24)))    +   (_C*EXP(-gamma*(AX$15-$H24 )))      )","v":0},{"$f":"  $G24/[0]!Poids      *      (     (A*EXP(-alpha*(AY$15-$H24)))     +      (B*EXP(-bêta*(AY$15-$H24)))    +   (_C*EXP(-gamma*(AY$15-$H24 )))      )","v":0},{"$f":"  $G24/[0]!Poids      *      (     (A*EXP(-alpha*(AZ$15-$H24)))     +      (B*EXP(-bêta*(AZ$15-$H24)))    +   (_C*EXP(-gamma*(AZ$15-$H24 )))      )","v":0},{"$f":"  $G24/[0]!Poids      *      (     (A*EXP(-alpha*(BA$15-$H24)))     +      (B*EXP(-bêta*(BA$15-$H24)))    +   (_C*EXP(-gamma*(BA$15-$H24 )))      )","v":0},{"$f":"  $G24/[0]!Poids      *      (     (A*EXP(-alpha*(BB$15-$H24)))     +      (B*EXP(-bêta*(BB$15-$H24)))    +   (_C*EXP(-gamma*(BB$15-$H24 )))      )","v":0},{"$f":"  $G24/[0]!Poids      *      (     (A*EXP(-alpha*(BC$15-$H24)))     +      (B*EXP(-bêta*(BC$15-$H24)))    +   (_C*EXP(-gamma*(BC$15-$H24 )))      )","v":0},{"$f":"  $G24/[0]!Poids      *      (     (A*EXP(-alpha*(BD$15-$H24)))     +      (B*EXP(-bêta*(BD$15-$H24)))    +   (_C*EXP(-gamma*(BD$15-$H24 )))      )","v":0},{"$f":"  $G24/[0]!Poids      *      (     (A*EXP(-alpha*(BE$15-$H24)))     +      (B*EXP(-bêta*(BE$15-$H24)))    +   (_C*EXP(-gamma*(BE$15-$H24 )))      )","v":0},{"$f":"  $G24/[0]!Poids      *      (     (A*EXP(-alpha*(BF$15-$H24)))     +      (B*EXP(-bêta*(BF$15-$H24)))    +   (_C*EXP(-gamma*(BF$15-$H24 )))      )","v":0},{"$f":"  $G24/[0]!Poids      *      (     (A*EXP(-alpha*(BG$15-$H24)))     +      (B*EXP(-bêta*(BG$15-$H24)))    +   (_C*EXP(-gamma*(BG$15-$H24 )))      )","v":0},{"$f":"  $G24/[0]!Poids      *      (     (A*EXP(-alpha*(BH$15-$H24)))     +      (B*EXP(-bêta*(BH$15-$H24)))    +   (_C*EXP(-gamma*(BH$15-$H24 )))      )","v":0},{"$f":"  $G24/[0]!Poids      *      (     (A*EXP(-alpha*(BI$15-$H24)))     +      (B*EXP(-bêta*(BI$15-$H24)))    +   (_C*EXP(-gamma*(BI$15-$H24 )))      )","v":0},{"$f":"  $G24/[0]!Poids      *      (     (A*EXP(-alpha*(BJ$15-$H24)))     +      (B*EXP(-bêta*(BJ$15-$H24)))    +   (_C*EXP(-gamma*(BJ$15-$H24 )))      )","v":0},{"$f":"  $G24/[0]!Poids      *      (     (A*EXP(-alpha*(BK$15-$H24)))     +      (B*EXP(-bêta*(BK$15-$H24)))    +   (_C*EXP(-gamma*(BK$15-$H24 )))      )","v":0},{"$f":"  $G24/[0]!Poids      *      (     (A*EXP(-alpha*(BL$15-$H24)))     +      (B*EXP(-bêta*(BL$15-$H24)))    +   (_C*EXP(-gamma*(BL$15-$H24 )))      )","v":0},{"$f":"  $G24/[0]!Poids      *      (     (A*EXP(-alpha*(BM$15-$H24)))     +      (B*EXP(-bêta*(BM$15-$H24)))    +   (_C*EXP(-gamma*(BM$15-$H24 )))      )","v":0},{"$f":"  $G24/[0]!Poids      *      (     (A*EXP(-alpha*(BN$15-$H24)))     +      (B*EXP(-bêta*(BN$15-$H24)))    +   (_C*EXP(-gamma*(BN$15-$H24 )))      )","v":0},{"$f":"  $G24/[0]!Poids      *      (     (A*EXP(-alpha*(BO$15-$H24)))     +      (B*EXP(-bêta*(BO$15-$H24)))    +   (_C*EXP(-gamma*(BO$15-$H24 )))      )","v":0},{"$f":"  $G24/[0]!Poids      *      (     (A*EXP(-alpha*(BP$15-$H24)))     +      (B*EXP(-bêta*(BP$15-$H24)))    +   (_C*EXP(-gamma*(BP$15-$H24 )))      )","v":0},{"$f":"  $G24/[0]!Poids      *      (     (A*EXP(-alpha*(BQ$15-$H24)))     +      (B*EXP(-bêta*(BQ$15-$H24)))    +   (_C*EXP(-gamma*(BQ$15-$H24 )))      )","v":0},{"$f":"  $G24/[0]!Poids      *      (     (A*EXP(-alpha*(BR$15-$H24)))     +      (B*EXP(-bêta*(BR$15-$H24)))    +   (_C*EXP(-gamma*(BR$15-$H24 )))      )","v":0}]
[null,null,null,null,"POIDS",null,{"$f":"S$10","v":0},45,null,null,null,null,null,null,null,null,null,null,{"$f":"  $G25/[0]!Poids      *      (     (A*EXP(-alpha*(S$15-$H25)))     +      (B*EXP(-bêta*(S$15-$H25)))    +   (_C*EXP(-gamma*(S$15-$H25 )))      )","v":0},{"$f":"  $G25/[0]!Poids      *      (     (A*EXP(-alpha*(T$15-$H25)))     +      (B*EXP(-bêta*(T$15-$H25)))    +   (_C*EXP(-gamma*(T$15-$H25 )))      )","v":0},{"$f":"  $G25/[0]!Poids      *      (     (A*EXP(-alpha*(U$15-$H25)))     +      (B*EXP(-bêta*(U$15-$H25)))    +   (_C*EXP(-gamma*(U$15-$H25 )))      )","v":0},{"$f":"  $G25/[0]!Poids      *      (     (A*EXP(-alpha*(V$15-$H25)))     +      (B*EXP(-bêta*(V$15-$H25)))    +   (_C*EXP(-gamma*(V$15-$H25 )))      )","v":0},{"$f":"  $G25/[0]!Poids      *      (     (A*EXP(-alpha*(W$15-$H25)))     +      (B*EXP(-bêta*(W$15-$H25)))    +   (_C*EXP(-gamma*(W$15-$H25 )))      )","v":0},{"$f":"  $G25/[0]!Poids      *      (     (A*EXP(-alpha*(X$15-$H25)))     +      (B*EXP(-bêta*(X$15-$H25)))    +   (_C*EXP(-gamma*(X$15-$H25 )))      )","v":0},{"$f":"  $G25/[0]!Poids      *      (     (A*EXP(-alpha*(Y$15-$H25)))     +      (B*EXP(-bêta*(Y$15-$H25)))    +   (_C*EXP(-gamma*(Y$15-$H25 )))      )","v":0},{"$f":"  $G25/[0]!Poids      *      (     (A*EXP(-alpha*(Z$15-$H25)))     +      (B*EXP(-bêta*(Z$15-$H25)))    +   (_C*EXP(-gamma*(Z$15-$H25 )))      )","v":0},{"$f":"  $G25/[0]!Poids      *      (     (A*EXP(-alpha*(AA$15-$H25)))     +      (B*EXP(-bêta*(AA$15-$H25)))    +   (_C*EXP(-gamma*(AA$15-$H25 )))      )","v":0},{"$f":"  $G25/[0]!Poids      *      (     (A*EXP(-alpha*(AB$15-$H25)))     +      (B*EXP(-bêta*(AB$15-$H25)))    +   (_C*EXP(-gamma*(AB$15-$H25 )))      )","v":0},{"$f":"  $G25/[0]!Poids      *      (     (A*EXP(-alpha*(AC$15-$H25)))     +      (B*EXP(-bêta*(AC$15-$H25)))    +   (_C*EXP(-gamma*(AC$15-$H25 )))      )","v":0},{"$f":"  $G25/[0]!Poids      *      (     (A*EXP(-alpha*(AD$15-$H25)))     +      (B*EXP(-bêta*(AD$15-$H25)))    +   (_C*EXP(-gamma*(AD$15-$H25 )))      )","v":0},{"$f":"  $G25/[0]!Poids      *      (     (A*EXP(-alpha*(AE$15-$H25)))     +      (B*EXP(-bêta*(AE$15-$H25)))    +   (_C*EXP(-gamma*(AE$15-$H25 )))      )","v":0},{"$f":"  $G25/[0]!Poids      *      (     (A*EXP(-alpha*(AF$15-$H25)))     +      (B*EXP(-bêta*(AF$15-$H25)))    +   (_C*EXP(-gamma*(AF$15-$H25 )))      )","v":0},{"$f":"  $G25/[0]!Poids      *      (     (A*EXP(-alpha*(AG$15-$H25)))     +      (B*EXP(-bêta*(AG$15-$H25)))    +   (_C*EXP(-gamma*(AG$15-$H25 )))      )","v":0},{"$f":"  $G25/[0]!Poids      *      (     (A*EXP(-alpha*(AH$15-$H25)))     +      (B*EXP(-bêta*(AH$15-$H25)))    +   (_C*EXP(-gamma*(AH$15-$H25 )))      )","v":0},{"$f":"  $G25/[0]!Poids      *      (     (A*EXP(-alpha*(AI$15-$H25)))     +      (B*EXP(-bêta*(AI$15-$H25)))    +   (_C*EXP(-gamma*(AI$15-$H25 )))      )","v":0},{"$f":"  $G25/[0]!Poids      *      (     (A*EXP(-alpha*(AJ$15-$H25)))     +      (B*EXP(-bêta*(AJ$15-$H25)))    +   (_C*EXP(-gamma*(AJ$15-$H25 )))      )","v":0},{"$f":"  $G25/[0]!Poids      *      (     (A*EXP(-alpha*(AK$15-$H25)))     +      (B*EXP(-bêta*(AK$15-$H25)))    +   (_C*EXP(-gamma*(AK$15-$H25 )))      )","v":0},{"$f":"  $G25/[0]!Poids      *      (     (A*EXP(-alpha*(AL$15-$H25)))     +      (B*EXP(-bêta*(AL$15-$H25)))    +   (_C*EXP(-gamma*(AL$15-$H25 )))      )","v":0},{"$f":"  $G25/[0]!Poids      *      (     (A*EXP(-alpha*(AM$15-$H25)))     +      (B*EXP(-bêta*(AM$15-$H25)))    +   (_C*EXP(-gamma*(AM$15-$H25 )))      )","v":0},{"$f":"  $G25/[0]!Poids      *      (     (A*EXP(-alpha*(AN$15-$H25)))     +      (B*EXP(-bêta*(AN$15-$H25)))    +   (_C*EXP(-gamma*(AN$15-$H25 )))      )","v":0},{"$f":"  $G25/[0]!Poids      *      (     (A*EXP(-alpha*(AO$15-$H25)))     +      (B*EXP(-bêta*(AO$15-$H25)))    +   (_C*EXP(-gamma*(AO$15-$H25 )))      )","v":0},{"$f":"  $G25/[0]!Poids      *      (     (A*EXP(-alpha*(AP$15-$H25)))     +      (B*EXP(-bêta*(AP$15-$H25)))    +   (_C*EXP(-gamma*(AP$15-$H25 )))      )","v":0},{"$f":"  $G25/[0]!Poids      *      (     (A*EXP(-alpha*(AQ$15-$H25)))     +      (B*EXP(-bêta*(AQ$15-$H25)))    +   (_C*EXP(-gamma*(AQ$15-$H25 )))      )","v":0},{"$f":"  $G25/[0]!Poids      *      (     (A*EXP(-alpha*(AR$15-$H25)))     +      (B*EXP(-bêta*(AR$15-$H25)))    +   (_C*EXP(-gamma*(AR$15-$H25 )))      )","v":0},{"$f":"  $G25/[0]!Poids      *      (     (A*EXP(-alpha*(AS$15-$H25)))     +      (B*EXP(-bêta*(AS$15-$H25)))    +   (_C*EXP(-gamma*(AS$15-$H25 )))      )","v":0},{"$f":"  $G25/[0]!Poids      *      (     (A*EXP(-alpha*(AT$15-$H25)))     +      (B*EXP(-bêta*(AT$15-$H25)))    +   (_C*EXP(-gamma*(AT$15-$H25 )))      )","v":0},{"$f":"  $G25/[0]!Poids      *      (     (A*EXP(-alpha*(AU$15-$H25)))     +      (B*EXP(-bêta*(AU$15-$H25)))    +   (_C*EXP(-gamma*(AU$15-$H25 )))      )","v":0},{"$f":"  $G25/[0]!Poids      *      (     (A*EXP(-alpha*(AV$15-$H25)))     +      (B*EXP(-bêta*(AV$15-$H25)))    +   (_C*EXP(-gamma*(AV$15-$H25 )))      )","v":0},{"$f":"  $G25/[0]!Poids      *      (     (A*EXP(-alpha*(AW$15-$H25)))     +      (B*EXP(-bêta*(AW$15-$H25)))    +   (_C*EXP(-gamma*(AW$15-$H25 )))      )","v":0},{"$f":"  $G25/[0]!Poids      *      (     (A*EXP(-alpha*(AX$15-$H25)))     +      (B*EXP(-bêta*(AX$15-$H25)))    +   (_C*EXP(-gamma*(AX$15-$H25 )))      )","v":0},{"$f":"  $G25/[0]!Poids      *      (     (A*EXP(-alpha*(AY$15-$H25)))     +      (B*EXP(-bêta*(AY$15-$H25)))    +   (_C*EXP(-gamma*(AY$15-$H25 )))      )","v":0},{"$f":"  $G25/[0]!Poids      *      (     (A*EXP(-alpha*(AZ$15-$H25)))     +      (B*EXP(-bêta*(AZ$15-$H25)))    +   (_C*EXP(-gamma*(AZ$15-$H25 )))      )","v":0},{"$f":"  $G25/[0]!Poids      *      (     (A*EXP(-alpha*(BA$15-$H25)))     +      (B*EXP(-bêta*(BA$15-$H25)))    +   (_C*EXP(-gamma*(BA$15-$H25 )))      )","v":0},{"$f":"  $G25/[0]!Poids      *      (     (A*EXP(-alpha*(BB$15-$H25)))     +      (B*EXP(-bêta*(BB$15-$H25)))    +   (_C*EXP(-gamma*(BB$15-$H25 )))      )","v":0},{"$f":"  $G25/[0]!Poids      *      (     (A*EXP(-alpha*(BC$15-$H25)))     +      (B*EXP(-bêta*(BC$15-$H25)))    +   (_C*EXP(-gamma*(BC$15-$H25 )))      )","v":0},{"$f":"  $G25/[0]!Poids      *      (     (A*EXP(-alpha*(BD$15-$H25)))     +      (B*EXP(-bêta*(BD$15-$H25)))    +   (_C*EXP(-gamma*(BD$15-$H25 )))      )","v":0},{"$f":"  $G25/[0]!Poids      *      (     (A*EXP(-alpha*(BE$15-$H25)))     +      (B*EXP(-bêta*(BE$15-$H25)))    +   (_C*EXP(-gamma*(BE$15-$H25 )))      )","v":0},{"$f":"  $G25/[0]!Poids      *      (     (A*EXP(-alpha*(BF$15-$H25)))     +      (B*EXP(-bêta*(BF$15-$H25)))    +   (_C*EXP(-gamma*(BF$15-$H25 )))      )","v":0},{"$f":"  $G25/[0]!Poids      *      (     (A*EXP(-alpha*(BG$15-$H25)))     +      (B*EXP(-bêta*(BG$15-$H25)))    +   (_C*EXP(-gamma*(BG$15-$H25 )))      )","v":0},{"$f":"  $G25/[0]!Poids      *      (     (A*EXP(-alpha*(BH$15-$H25)))     +      (B*EXP(-bêta*(BH$15-$H25)))    +   (_C*EXP(-gamma*(BH$15-$H25 )))      )","v":0},{"$f":"  $G25/[0]!Poids      *      (     (A*EXP(-alpha*(BI$15-$H25)))     +      (B*EXP(-bêta*(BI$15-$H25)))    +   (_C*EXP(-gamma*(BI$15-$H25 )))      )","v":0},{"$f":"  $G25/[0]!Poids      *      (     (A*EXP(-alpha*(BJ$15-$H25)))     +      (B*EXP(-bêta*(BJ$15-$H25)))    +   (_C*EXP(-gamma*(BJ$15-$H25 )))      )","v":0},{"$f":"  $G25/[0]!Poids      *      (     (A*EXP(-alpha*(BK$15-$H25)))     +      (B*EXP(-bêta*(BK$15-$H25)))    +   (_C*EXP(-gamma*(BK$15-$H25 )))      )","v":0},{"$f":"  $G25/[0]!Poids      *      (     (A*EXP(-alpha*(BL$15-$H25)))     +      (B*EXP(-bêta*(BL$15-$H25)))    +   (_C*EXP(-gamma*(BL$15-$H25 )))      )","v":0},{"$f":"  $G25/[0]!Poids      *      (     (A*EXP(-alpha*(BM$15-$H25)))     +      (B*EXP(-bêta*(BM$15-$H25)))    +   (_C*EXP(-gamma*(BM$15-$H25 )))      )","v":0},{"$f":"  $G25/[0]!Poids      *      (     (A*EXP(-alpha*(BN$15-$H25)))     +      (B*EXP(-bêta*(BN$15-$H25)))    +   (_C*EXP(-gamma*(BN$15-$H25 )))      )","v":0},{"$f":"  $G25/[0]!Poids      *      (     (A*EXP(-alpha*(BO$15-$H25)))     +      (B*EXP(-bêta*(BO$15-$H25)))    +   (_C*EXP(-gamma*(BO$15-$H25 )))      )","v":0},{"$f":"  $G25/[0]!Poids      *      (     (A*EXP(-alpha*(BP$15-$H25)))     +      (B*EXP(-bêta*(BP$15-$H25)))    +   (_C*EXP(-gamma*(BP$15-$H25 )))      )","v":0},{"$f":"  $G25/[0]!Poids      *      (     (A*EXP(-alpha*(BQ$15-$H25)))     +      (B*EXP(-bêta*(BQ$15-$H25)))    +   (_C*EXP(-gamma*(BQ$15-$H25 )))      )","v":0},{"$f":"  $G25/[0]!Poids      *      (     (A*EXP(-alpha*(BR$15-$H25)))     +      (B*EXP(-bêta*(BR$15-$H25)))    +   (_C*EXP(-gamma*(BR$15-$H25 )))      )","v":0}]
[null,null,null,null,{"$f":"[0]!Poids","v":70},null,{"$f":"T$10","v":0},50,null,null,null,null,null,null,null,null,null,null,null,{"$f":"  $G26/[0]!Poids      *      (     (A*EXP(-alpha*(T$15-$H26)))     +      (B*EXP(-bêta*(T$15-$H26)))    +   (_C*EXP(-gamma*(T$15-$H26 )))      )","v":0},{"$f":"  $G26/[0]!Poids      *      (     (A*EXP(-alpha*(U$15-$H26)))     +      (B*EXP(-bêta*(U$15-$H26)))    +   (_C*EXP(-gamma*(U$15-$H26 )))      )","v":0},{"$f":"  $G26/[0]!Poids      *      (     (A*EXP(-alpha*(V$15-$H26)))     +      (B*EXP(-bêta*(V$15-$H26)))    +   (_C*EXP(-gamma*(V$15-$H26 )))      )","v":0},{"$f":"  $G26/[0]!Poids      *      (     (A*EXP(-alpha*(W$15-$H26)))     +      (B*EXP(-bêta*(W$15-$H26)))    +   (_C*EXP(-gamma*(W$15-$H26 )))      )","v":0},{"$f":"  $G26/[0]!Poids      *      (     (A*EXP(-alpha*(X$15-$H26)))     +      (B*EXP(-bêta*(X$15-$H26)))    +   (_C*EXP(-gamma*(X$15-$H26 )))      )","v":0},{"$f":"  $G26/[0]!Poids      *      (     (A*EXP(-alpha*(Y$15-$H26)))     +      (B*EXP(-bêta*(Y$15-$H26)))    +   (_C*EXP(-gamma*(Y$15-$H26 )))      )","v":0},{"$f":"  $G26/[0]!Poids      *      (     (A*EXP(-alpha*(Z$15-$H26)))     +      (B*EXP(-bêta*(Z$15-$H26)))    +   (_C*EXP(-gamma*(Z$15-$H26 )))      )","v":0},{"$f":"  $G26/[0]!Poids      *      (     (A*EXP(-alpha*(AA$15-$H26)))     +      (B*EXP(-bêta*(AA$15-$H26)))    +   (_C*EXP(-gamma*(AA$15-$H26 )))      )","v":0},{"$f":"  $G26/[0]!Poids      *      (     (A*EXP(-alpha*(AB$15-$H26)))     +      (B*EXP(-bêta*(AB$15-$H26)))    +   (_C*EXP(-gamma*(AB$15-$H26 )))      )","v":0},{"$f":"  $G26/[0]!Poids      *      (     (A*EXP(-alpha*(AC$15-$H26)))     +      (B*EXP(-bêta*(AC$15-$H26)))    +   (_C*EXP(-gamma*(AC$15-$H26 )))      )","v":0},{"$f":"  $G26/[0]!Poids      *      (     (A*EXP(-alpha*(AD$15-$H26)))     +      (B*EXP(-bêta*(AD$15-$H26)))    +   (_C*EXP(-gamma*(AD$15-$H26 )))      )","v":0},{"$f":"  $G26/[0]!Poids      *      (     (A*EXP(-alpha*(AE$15-$H26)))     +      (B*EXP(-bêta*(AE$15-$H26)))    +   (_C*EXP(-gamma*(AE$15-$H26 )))      )","v":0},{"$f":"  $G26/[0]!Poids      *      (     (A*EXP(-alpha*(AF$15-$H26)))     +      (B*EXP(-bêta*(AF$15-$H26)))    +   (_C*EXP(-gamma*(AF$15-$H26 )))      )","v":0},{"$f":"  $G26/[0]!Poids      *      (     (A*EXP(-alpha*(AG$15-$H26)))     +      (B*EXP(-bêta*(AG$15-$H26)))    +   (_C*EXP(-gamma*(AG$15-$H26 )))      )","v":0},{"$f":"  $G26/[0]!Poids      *      (     (A*EXP(-alpha*(AH$15-$H26)))     +      (B*EXP(-bêta*(AH$15-$H26)))    +   (_C*EXP(-gamma*(AH$15-$H26 )))      )","v":0},{"$f":"  $G26/[0]!Poids      *      (     (A*EXP(-alpha*(AI$15-$H26)))     +      (B*EXP(-bêta*(AI$15-$H26)))    +   (_C*EXP(-gamma*(AI$15-$H26 )))      )","v":0},{"$f":"  $G26/[0]!Poids      *      (     (A*EXP(-alpha*(AJ$15-$H26)))     +      (B*EXP(-bêta*(AJ$15-$H26)))    +   (_C*EXP(-gamma*(AJ$15-$H26 )))      )","v":0},{"$f":"  $G26/[0]!Poids      *      (     (A*EXP(-alpha*(AK$15-$H26)))     +      (B*EXP(-bêta*(AK$15-$H26)))    +   (_C*EXP(-gamma*(AK$15-$H26 )))      )","v":0},{"$f":"  $G26/[0]!Poids      *      (     (A*EXP(-alpha*(AL$15-$H26)))     +      (B*EXP(-bêta*(AL$15-$H26)))    +   (_C*EXP(-gamma*(AL$15-$H26 )))      )","v":0},{"$f":"  $G26/[0]!Poids      *      (     (A*EXP(-alpha*(AM$15-$H26)))     +      (B*EXP(-bêta*(AM$15-$H26)))    +   (_C*EXP(-gamma*(AM$15-$H26 )))      )","v":0},{"$f":"  $G26/[0]!Poids      *      (     (A*EXP(-alpha*(AN$15-$H26)))     +      (B*EXP(-bêta*(AN$15-$H26)))    +   (_C*EXP(-gamma*(AN$15-$H26 )))      )","v":0},{"$f":"  $G26/[0]!Poids      *      (     (A*EXP(-alpha*(AO$15-$H26)))     +      (B*EXP(-bêta*(AO$15-$H26)))    +   (_C*EXP(-gamma*(AO$15-$H26 )))      )","v":0},{"$f":"  $G26/[0]!Poids      *      (     (A*EXP(-alpha*(AP$15-$H26)))     +      (B*EXP(-bêta*(AP$15-$H26)))    +   (_C*EXP(-gamma*(AP$15-$H26 )))      )","v":0},{"$f":"  $G26/[0]!Poids      *      (     (A*EXP(-alpha*(AQ$15-$H26)))     +      (B*EXP(-bêta*(AQ$15-$H26)))    +   (_C*EXP(-gamma*(AQ$15-$H26 )))      )","v":0},{"$f":"  $G26/[0]!Poids      *      (     (A*EXP(-alpha*(AR$15-$H26)))     +      (B*EXP(-bêta*(AR$15-$H26)))    +   (_C*EXP(-gamma*(AR$15-$H26 )))      )","v":0},{"$f":"  $G26/[0]!Poids      *      (     (A*EXP(-alpha*(AS$15-$H26)))     +      (B*EXP(-bêta*(AS$15-$H26)))    +   (_C*EXP(-gamma*(AS$15-$H26 )))      )","v":0},{"$f":"  $G26/[0]!Poids      *      (     (A*EXP(-alpha*(AT$15-$H26)))     +      (B*EXP(-bêta*(AT$15-$H26)))    +   (_C*EXP(-gamma*(AT$15-$H26 )))      )","v":0},{"$f":"  $G26/[0]!Poids      *      (     (A*EXP(-alpha*(AU$15-$H26)))     +      (B*EXP(-bêta*(AU$15-$H26)))    +   (_C*EXP(-gamma*(AU$15-$H26 )))      )","v":0},{"$f":"  $G26/[0]!Poids      *      (     (A*EXP(-alpha*(AV$15-$H26)))     +      (B*EXP(-bêta*(AV$15-$H26)))    +   (_C*EXP(-gamma*(AV$15-$H26 )))      )","v":0},{"$f":"  $G26/[0]!Poids      *      (     (A*EXP(-alpha*(AW$15-$H26)))     +      (B*EXP(-bêta*(AW$15-$H26)))    +   (_C*EXP(-gamma*(AW$15-$H26 )))      )","v":0},{"$f":"  $G26/[0]!Poids      *      (     (A*EXP(-alpha*(AX$15-$H26)))     +      (B*EXP(-bêta*(AX$15-$H26)))    +   (_C*EXP(-gamma*(AX$15-$H26 )))      )","v":0},{"$f":"  $G26/[0]!Poids      *      (     (A*EXP(-alpha*(AY$15-$H26)))     +      (B*EXP(-bêta*(AY$15-$H26)))    +   (_C*EXP(-gamma*(AY$15-$H26 )))      )","v":0},{"$f":"  $G26/[0]!Poids      *      (     (A*EXP(-alpha*(AZ$15-$H26)))     +      (B*EXP(-bêta*(AZ$15-$H26)))    +   (_C*EXP(-gamma*(AZ$15-$H26 )))      )","v":0},{"$f":"  $G26/[0]!Poids      *      (     (A*EXP(-alpha*(BA$15-$H26)))     +      (B*EXP(-bêta*(BA$15-$H26)))    +   (_C*EXP(-gamma*(BA$15-$H26 )))      )","v":0},{"$f":"  $G26/[0]!Poids      *      (     (A*EXP(-alpha*(BB$15-$H26)))     +      (B*EXP(-bêta*(BB$15-$H26)))    +   (_C*EXP(-gamma*(BB$15-$H26 )))      )","v":0},{"$f":"  $G26/[0]!Poids      *      (     (A*EXP(-alpha*(BC$15-$H26)))     +      (B*EXP(-bêta*(BC$15-$H26)))    +   (_C*EXP(-gamma*(BC$15-$H26 )))      )","v":0},{"$f":"  $G26/[0]!Poids      *      (     (A*EXP(-alpha*(BD$15-$H26)))     +      (B*EXP(-bêta*(BD$15-$H26)))    +   (_C*EXP(-gamma*(BD$15-$H26 )))      )","v":0},{"$f":"  $G26/[0]!Poids      *      (     (A*EXP(-alpha*(BE$15-$H26)))     +      (B*EXP(-bêta*(BE$15-$H26)))    +   (_C*EXP(-gamma*(BE$15-$H26 )))      )","v":0},{"$f":"  $G26/[0]!Poids      *      (     (A*EXP(-alpha*(BF$15-$H26)))     +      (B*EXP(-bêta*(BF$15-$H26)))    +   (_C*EXP(-gamma*(BF$15-$H26 )))      )","v":0},{"$f":"  $G26/[0]!Poids      *      (     (A*EXP(-alpha*(BG$15-$H26)))     +      (B*EXP(-bêta*(BG$15-$H26)))    +   (_C*EXP(-gamma*(BG$15-$H26 )))      )","v":0},{"$f":"  $G26/[0]!Poids      *      (     (A*EXP(-alpha*(BH$15-$H26)))     +      (B*EXP(-bêta*(BH$15-$H26)))    +   (_C*EXP(-gamma*(BH$15-$H26 )))      )","v":0},{"$f":"  $G26/[0]!Poids      *      (     (A*EXP(-alpha*(BI$15-$H26)))     +      (B*EXP(-bêta*(BI$15-$H26)))    +   (_C*EXP(-gamma*(BI$15-$H26 )))      )","v":0},{"$f":"  $G26/[0]!Poids      *      (     (A*EXP(-alpha*(BJ$15-$H26)))     +      (B*EXP(-bêta*(BJ$15-$H26)))    +   (_C*EXP(-gamma*(BJ$15-$H26 )))      )","v":0},{"$f":"  $G26/[0]!Poids      *      (     (A*EXP(-alpha*(BK$15-$H26)))     +      (B*EXP(-bêta*(BK$15-$H26)))    +   (_C*EXP(-gamma*(BK$15-$H26 )))      )","v":0},{"$f":"  $G26/[0]!Poids      *      (     (A*EXP(-alpha*(BL$15-$H26)))     +      (B*EXP(-bêta*(BL$15-$H26)))    +   (_C*EXP(-gamma*(BL$15-$H26 )))      )","v":0},{"$f":"  $G26/[0]!Poids      *      (     (A*EXP(-alpha*(BM$15-$H26)))     +      (B*EXP(-bêta*(BM$15-$H26)))    +   (_C*EXP(-gamma*(BM$15-$H26 )))      )","v":0},{"$f":"  $G26/[0]!Poids      *      (     (A*EXP(-alpha*(BN$15-$H26)))     +      (B*EXP(-bêta*(BN$15-$H26)))    +   (_C*EXP(-gamma*(BN$15-$H26 )))      )","v":0},{"$f":"  $G26/[0]!Poids      *      (     (A*EXP(-alpha*(BO$15-$H26)))     +      (B*EXP(-bêta*(BO$15-$H26)))    +   (_C*EXP(-gamma*(BO$15-$H26 )))      )","v":0},{"$f":"  $G26/[0]!Poids      *      (     (A*EXP(-alpha*(BP$15-$H26)))     +      (B*EXP(-bêta*(BP$15-$H26)))    +   (_C*EXP(-gamma*(BP$15-$H26 )))      )","v":0},{"$f":"  $G26/[0]!Poids      *      (     (A*EXP(-alpha*(BQ$15-$H26)))     +      (B*EXP(-bêta*(BQ$15-$H26)))    +   (_C*EXP(-gamma*(BQ$15-$H26 )))      )","v":0},{"$f":"  $G26/[0]!Poids      *      (     (A*EXP(-alpha*(BR$15-$H26)))     +      (B*EXP(-bêta*(BR$15-$H26)))    +   (_C*EXP(-gamma*(BR$15-$H26 )))      )","v":0}]
[null,"Dose fournie pour équation",null,null,null,null,{"$f":"U$10","v":0},55,null,null,null,null,null,null,null,null,null,null,null,null,{"$f":"  $G27/[0]!Poids      *      (     (A*EXP(-alpha*(U$15-$H27)))     +      (B*EXP(-bêta*(U$15-$H27)))    +   (_C*EXP(-gamma*(U$15-$H27 )))      )","v":0},{"$f":"  $G27/[0]!Poids      *      (     (A*EXP(-alpha*(V$15-$H27)))     +      (B*EXP(-bêta*(V$15-$H27)))    +   (_C*EXP(-gamma*(V$15-$H27 )))      )","v":0},{"$f":"  $G27/[0]!Poids      *      (     (A*EXP(-alpha*(W$15-$H27)))     +      (B*EXP(-bêta*(W$15-$H27)))    +   (_C*EXP(-gamma*(W$15-$H27 )))      )","v":0},{"$f":"  $G27/[0]!Poids      *      (     (A*EXP(-alpha*(X$15-$H27)))     +      (B*EXP(-bêta*(X$15-$H27)))    +   (_C*EXP(-gamma*(X$15-$H27 )))      )","v":0},{"$f":"  $G27/[0]!Poids      *      (     (A*EXP(-alpha*(Y$15-$H27)))     +      (B*EXP(-bêta*(Y$15-$H27)))    +   (_C*EXP(-gamma*(Y$15-$H27 )))      )","v":0},{"$f":"  $G27/[0]!Poids      *      (     (A*EXP(-alpha*(Z$15-$H27)))     +      (B*EXP(-bêta*(Z$15-$H27)))    +   (_C*EXP(-gamma*(Z$15-$H27 )))      )","v":0},{"$f":"  $G27/[0]!Poids      *      (     (A*EXP(-alpha*(AA$15-$H27)))     +      (B*EXP(-bêta*(AA$15-$H27)))    +   (_C*EXP(-gamma*(AA$15-$H27 )))      )","v":0},{"$f":"  $G27/[0]!Poids      *      (     (A*EXP(-alpha*(AB$15-$H27)))     +      (B*EXP(-bêta*(AB$15-$H27)))    +   (_C*EXP(-gamma*(AB$15-$H27 )))      )","v":0},{"$f":"  $G27/[0]!Poids      *      (     (A*EXP(-alpha*(AC$15-$H27)))     +      (B*EXP(-bêta*(AC$15-$H27)))    +   (_C*EXP(-gamma*(AC$15-$H27 )))      )","v":0},{"$f":"  $G27/[0]!Poids      *      (     (A*EXP(-alpha*(AD$15-$H27)))     +      (B*EXP(-bêta*(AD$15-$H27)))    +   (_C*EXP(-gamma*(AD$15-$H27 )))      )","v":0},{"$f":"  $G27/[0]!Poids      *      (     (A*EXP(-alpha*(AE$15-$H27)))     +      (B*EXP(-bêta*(AE$15-$H27)))    +   (_C*EXP(-gamma*(AE$15-$H27 )))      )","v":0},{"$f":"  $G27/[0]!Poids      *      (     (A*EXP(-alpha*(AF$15-$H27)))     +      (B*EXP(-bêta*(AF$15-$H27)))    +   (_C*EXP(-gamma*(AF$15-$H27 )))      )","v":0},{"$f":"  $G27/[0]!Poids      *      (     (A*EXP(-alpha*(AG$15-$H27)))     +      (B*EXP(-bêta*(AG$15-$H27)))    +   (_C*EXP(-gamma*(AG$15-$H27 )))      )","v":0},{"$f":"  $G27/[0]!Poids      *      (     (A*EXP(-alpha*(AH$15-$H27)))     +      (B*EXP(-bêta*(AH$15-$H27)))    +   (_C*EXP(-gamma*(AH$15-$H27 )))      )","v":0},{"$f":"  $G27/[0]!Poids      *      (     (A*EXP(-alpha*(AI$15-$H27)))     +      (B*EXP(-bêta*(AI$15-$H27)))    +   (_C*EXP(-gamma*(AI$15-$H27 )))      )","v":0},{"$f":"  $G27/[0]!Poids      *      (     (A*EXP(-alpha*(AJ$15-$H27)))     +      (B*EXP(-bêta*(AJ$15-$H27)))    +   (_C*EXP(-gamma*(AJ$15-$H27 )))      )","v":0},{"$f":"  $G27/[0]!Poids      *      (     (A*EXP(-alpha*(AK$15-$H27)))     +      (B*EXP(-bêta*(AK$15-$H27)))    +   (_C*EXP(-gamma*(AK$15-$H27 )))      )","v":0},{"$f":"  $G27/[0]!Poids      *      (     (A*EXP(-alpha*(AL$15-$H27)))     +      (B*EXP(-bêta*(AL$15-$H27)))    +   (_C*EXP(-gamma*(AL$15-$H27 )))      )","v":0},{"$f":"  $G27/[0]!Poids      *      (     (A*EXP(-alpha*(AM$15-$H27)))     +      (B*EXP(-bêta*(AM$15-$H27)))    +   (_C*EXP(-gamma*(AM$15-$H27 )))      )","v":0},{"$f":"  $G27/[0]!Poids      *      (     (A*EXP(-alpha*(AN$15-$H27)))     +      (B*EXP(-bêta*(AN$15-$H27)))    +   (_C*EXP(-gamma*(AN$15-$H27 )))      )","v":0},{"$f":"  $G27/[0]!Poids      *      (     (A*EXP(-alpha*(AO$15-$H27)))     +      (B*EXP(-bêta*(AO$15-$H27)))    +   (_C*EXP(-gamma*(AO$15-$H27 )))      )","v":0},{"$f":"  $G27/[0]!Poids      *      (     (A*EXP(-alpha*(AP$15-$H27)))     +      (B*EXP(-bêta*(AP$15-$H27)))    +   (_C*EXP(-gamma*(AP$15-$H27 )))      )","v":0},{"$f":"  $G27/[0]!Poids      *      (     (A*EXP(-alpha*(AQ$15-$H27)))     +      (B*EXP(-bêta*(AQ$15-$H27)))    +   (_C*EXP(-gamma*(AQ$15-$H27 )))      )","v":0},{"$f":"  $G27/[0]!Poids      *      (     (A*EXP(-alpha*(AR$15-$H27)))     +      (B*EXP(-bêta*(AR$15-$H27)))    +   (_C*EXP(-gamma*(AR$15-$H27 )))      )","v":0},{"$f":"  $G27/[0]!Poids      *      (     (A*EXP(-alpha*(AS$15-$H27)))     +      (B*EXP(-bêta*(AS$15-$H27)))    +   (_C*EXP(-gamma*(AS$15-$H27 )))      )","v":0},{"$f":"  $G27/[0]!Poids      *      (     (A*EXP(-alpha*(AT$15-$H27)))     +      (B*EXP(-bêta*(AT$15-$H27)))    +   (_C*EXP(-gamma*(AT$15-$H27 )))      )","v":0},{"$f":"  $G27/[0]!Poids      *      (     (A*EXP(-alpha*(AU$15-$H27)))     +      (B*EXP(-bêta*(AU$15-$H27)))    +   (_C*EXP(-gamma*(AU$15-$H27 )))      )","v":0},{"$f":"  $G27/[0]!Poids      *      (     (A*EXP(-alpha*(AV$15-$H27)))     +      (B*EXP(-bêta*(AV$15-$H27)))    +   (_C*EXP(-gamma*(AV$15-$H27 )))      )","v":0},{"$f":"  $G27/[0]!Poids      *      (     (A*EXP(-alpha*(AW$15-$H27)))     +      (B*EXP(-bêta*(AW$15-$H27)))    +   (_C*EXP(-gamma*(AW$15-$H27 )))      )","v":0},{"$f":"  $G27/[0]!Poids      *      (     (A*EXP(-alpha*(AX$15-$H27)))     +      (B*EXP(-bêta*(AX$15-$H27)))    +   (_C*EXP(-gamma*(AX$15-$H27 )))      )","v":0},{"$f":"  $G27/[0]!Poids      *      (     (A*EXP(-alpha*(AY$15-$H27)))     +      (B*EXP(-bêta*(AY$15-$H27)))    +   (_C*EXP(-gamma*(AY$15-$H27 )))      )","v":0},{"$f":"  $G27/[0]!Poids      *      (     (A*EXP(-alpha*(AZ$15-$H27)))     +      (B*EXP(-bêta*(AZ$15-$H27)))    +   (_C*EXP(-gamma*(AZ$15-$H27 )))      )","v":0},{"$f":"  $G27/[0]!Poids      *      (     (A*EXP(-alpha*(BA$15-$H27)))     +      (B*EXP(-bêta*(BA$15-$H27)))    +   (_C*EXP(-gamma*(BA$15-$H27 )))      )","v":0},{"$f":"  $G27/[0]!Poids      *      (     (A*EXP(-alpha*(BB$15-$H27)))     +      (B*EXP(-bêta*(BB$15-$H27)))    +   (_C*EXP(-gamma*(BB$15-$H27 )))      )","v":0},{"$f":"  $G27/[0]!Poids      *      (     (A*EXP(-alpha*(BC$15-$H27)))     +      (B*EXP(-bêta*(BC$15-$H27)))    +   (_C*EXP(-gamma*(BC$15-$H27 )))      )","v":0},{"$f":"  $G27/[0]!Poids      *      (     (A*EXP(-alpha*(BD$15-$H27)))     +      (B*EXP(-bêta*(BD$15-$H27)))    +   (_C*EXP(-gamma*(BD$15-$H27 )))      )","v":0},{"$f":"  $G27/[0]!Poids      *      (     (A*EXP(-alpha*(BE$15-$H27)))     +      (B*EXP(-bêta*(BE$15-$H27)))    +   (_C*EXP(-gamma*(BE$15-$H27 )))      )","v":0},{"$f":"  $G27/[0]!Poids      *      (     (A*EXP(-alpha*(BF$15-$H27)))     +      (B*EXP(-bêta*(BF$15-$H27)))    +   (_C*EXP(-gamma*(BF$15-$H27 )))      )","v":0},{"$f":"  $G27/[0]!Poids      *      (     (A*EXP(-alpha*(BG$15-$H27)))     +      (B*EXP(-bêta*(BG$15-$H27)))    +   (_C*EXP(-gamma*(BG$15-$H27 )))      )","v":0},{"$f":"  $G27/[0]!Poids      *      (     (A*EXP(-alpha*(BH$15-$H27)))     +      (B*EXP(-bêta*(BH$15-$H27)))    +   (_C*EXP(-gamma*(BH$15-$H27 )))      )","v":0},{"$f":"  $G27/[0]!Poids      *      (     (A*EXP(-alpha*(BI$15-$H27)))     +      (B*EXP(-bêta*(BI$15-$H27)))    +   (_C*EXP(-gamma*(BI$15-$H27 )))      )","v":0},{"$f":"  $G27/[0]!Poids      *      (     (A*EXP(-alpha*(BJ$15-$H27)))     +      (B*EXP(-bêta*(BJ$15-$H27)))    +   (_C*EXP(-gamma*(BJ$15-$H27 )))      )","v":0},{"$f":"  $G27/[0]!Poids      *      (     (A*EXP(-alpha*(BK$15-$H27)))     +      (B*EXP(-bêta*(BK$15-$H27)))    +   (_C*EXP(-gamma*(BK$15-$H27 )))      )","v":0},{"$f":"  $G27/[0]!Poids      *      (     (A*EXP(-alpha*(BL$15-$H27)))     +      (B*EXP(-bêta*(BL$15-$H27)))    +   (_C*EXP(-gamma*(BL$15-$H27 )))      )","v":0},{"$f":"  $G27/[0]!Poids      *      (     (A*EXP(-alpha*(BM$15-$H27)))     +      (B*EXP(-bêta*(BM$15-$H27)))    +   (_C*EXP(-gamma*(BM$15-$H27 )))      )","v":0},{"$f":"  $G27/[0]!Poids      *      (     (A*EXP(-alpha*(BN$15-$H27)))     +      (B*EXP(-bêta*(BN$15-$H27)))    +   (_C*EXP(-gamma*(BN$15-$H27 )))      )","v":0},{"$f":"  $G27/[0]!Poids      *      (     (A*EXP(-alpha*(BO$15-$H27)))     +      (B*EXP(-bêta*(BO$15-$H27)))    +   (_C*EXP(-gamma*(BO$15-$H27 )))      )","v":0},{"$f":"  $G27/[0]!Poids      *      (     (A*EXP(-alpha*(BP$15-$H27)))     +      (B*EXP(-bêta*(BP$15-$H27)))    +   (_C*EXP(-gamma*(BP$15-$H27 )))      )","v":0},{"$f":"  $G27/[0]!Poids      *      (     (A*EXP(-alpha*(BQ$15-$H27)))     +      (B*EXP(-bêta*(BQ$15-$H27)))    +   (_C*EXP(-gamma*(BQ$15-$H27 )))      )","v":0},{"$f":"  $G27/[0]!Poids      *      (     (A*EXP(-alpha*(BR$15-$H27)))     +      (B*EXP(-bêta*(BR$15-$H27)))    +   (_C*EXP(-gamma*(BR$15-$H27 )))      )","v":0}]
[null,null,null,2,"mg/kg",null,{"$f":"V$10","v":0},60,null,null,null,null,null,null,null,null,null,null,null,null,null,{"$f":"  $G28/[0]!Poids      *      (     (A*EXP(-alpha*(V$15-$H28)))     +      (B*EXP(-bêta*(V$15-$H28)))    +   (_C*EXP(-gamma*(V$15-$H28 )))      )","v":0},{"$f":"  $G28/[0]!Poids      *      (     (A*EXP(-alpha*(W$15-$H28)))     +      (B*EXP(-bêta*(W$15-$H28)))    +   (_C*EXP(-gamma*(W$15-$H28 )))      )","v":0},{"$f":"  $G28/[0]!Poids      *      (     (A*EXP(-alpha*(X$15-$H28)))     +      (B*EXP(-bêta*(X$15-$H28)))    +   (_C*EXP(-gamma*(X$15-$H28 )))      )","v":0},{"$f":"  $G28/[0]!Poids      *      (     (A*EXP(-alpha*(Y$15-$H28)))     +      (B*EXP(-bêta*(Y$15-$H28)))    +   (_C*EXP(-gamma*(Y$15-$H28 )))      )","v":0},{"$f":"  $G28/[0]!Poids      *      (     (A*EXP(-alpha*(Z$15-$H28)))     +      (B*EXP(-bêta*(Z$15-$H28)))    +   (_C*EXP(-gamma*(Z$15-$H28 )))      )","v":0},{"$f":"  $G28/[0]!Poids      *      (     (A*EXP(-alpha*(AA$15-$H28)))     +      (B*EXP(-bêta*(AA$15-$H28)))    +   (_C*EXP(-gamma*(AA$15-$H28 )))      )","v":0},{"$f":"  $G28/[0]!Poids      *      (     (A*EXP(-alpha*(AB$15-$H28)))     +      (B*EXP(-bêta*(AB$15-$H28)))    +   (_C*EXP(-gamma*(AB$15-$H28 )))      )","v":0},{"$f":"  $G28/[0]!Poids      *      (     (A*EXP(-alpha*(AC$15-$H28)))     +      (B*EXP(-bêta*(AC$15-$H28)))    +   (_C*EXP(-gamma*(AC$15-$H28 )))      )","v":0},{"$f":"  $G28/[0]!Poids      *      (     (A*EXP(-alpha*(AD$15-$H28)))     +      (B*EXP(-bêta*(AD$15-$H28)))    +   (_C*EXP(-gamma*(AD$15-$H28 )))      )","v":0},{"$f":"  $G28/[0]!Poids      *      (     (A*EXP(-alpha*(AE$15-$H28)))     +      (B*EXP(-bêta*(AE$15-$H28)))    +   (_C*EXP(-gamma*(AE$15-$H28 )))      )","v":0},{"$f":"  $G28/[0]!Poids      *      (     (A*EXP(-alpha*(AF$15-$H28)))     +      (B*EXP(-bêta*(AF$15-$H28)))    +   (_C*EXP(-gamma*(AF$15-$H28 )))      )","v":0},{"$f":"  $G28/[0]!Poids      *      (     (A*EXP(-alpha*(AG$15-$H28)))     +      (B*EXP(-bêta*(AG$15-$H28)))    +   (_C*EXP(-gamma*(AG$15-$H28 )))      )","v":0},{"$f":"  $G28/[0]!Poids      *      (     (A*EXP(-alpha*(AH$15-$H28)))     +      (B*EXP(-bêta*(AH$15-$H28)))    +   (_C*EXP(-gamma*(AH$15-$H28 )))      )","v":0},{"$f":"  $G28/[0]!Poids      *      (     (A*EXP(-alpha*(AI$15-$H28)))     +      (B*EXP(-bêta*(AI$15-$H28)))    +   (_C*EXP(-gamma*(AI$15-$H28 )))      )","v":0},{"$f":"  $G28/[0]!Poids      *      (     (A*EXP(-alpha*(AJ$15-$H28)))     +      (B*EXP(-bêta*(AJ$15-$H28)))    +   (_C*EXP(-gamma*(AJ$15-$H28 )))      )","v":0},{"$f":"  $G28/[0]!Poids      *      (     (A*EXP(-alpha*(AK$15-$H28)))     +      (B*EXP(-bêta*(AK$15-$H28)))    +   (_C*EXP(-gamma*(AK$15-$H28 )))      )","v":0},{"$f":"  $G28/[0]!Poids      *      (     (A*EXP(-alpha*(AL$15-$H28)))     +      (B*EXP(-bêta*(AL$15-$H28)))    +   (_C*EXP(-gamma*(AL$15-$H28 )))      )","v":0},{"$f":"  $G28/[0]!Poids      *      (     (A*EXP(-alpha*(AM$15-$H28)))     +      (B*EXP(-bêta*(AM$15-$H28)))    +   (_C*EXP(-gamma*(AM$15-$H28 )))      )","v":0},{"$f":"  $G28/[0]!Poids      *      (     (A*EXP(-alpha*(AN$15-$H28)))     +      (B*EXP(-bêta*(AN$15-$H28)))    +   (_C*EXP(-gamma*(AN$15-$H28 )))      )","v":0},{"$f":"  $G28/[0]!Poids      *      (     (A*EXP(-alpha*(AO$15-$H28)))     +      (B*EXP(-bêta*(AO$15-$H28)))    +   (_C*EXP(-gamma*(AO$15-$H28 )))      )","v":0},{"$f":"  $G28/[0]!Poids      *      (     (A*EXP(-alpha*(AP$15-$H28)))     +      (B*EXP(-bêta*(AP$15-$H28)))    +   (_C*EXP(-gamma*(AP$15-$H28 )))      )","v":0},{"$f":"  $G28/[0]!Poids      *      (     (A*EXP(-alpha*(AQ$15-$H28)))     +      (B*EXP(-bêta*(AQ$15-$H28)))    +   (_C*EXP(-gamma*(AQ$15-$H28 )))      )","v":0},{"$f":"  $G28/[0]!Poids      *      (     (A*EXP(-alpha*(AR$15-$H28)))     +      (B*EXP(-bêta*(AR$15-$H28)))    +   (_C*EXP(-gamma*(AR$15-$H28 )))      )","v":0},{"$f":"  $G28/[0]!Poids      *      (     (A*EXP(-alpha*(AS$15-$H28)))     +      (B*EXP(-bêta*(AS$15-$H28)))    +   (_C*EXP(-gamma*(AS$15-$H28 )))      )","v":0},{"$f":"  $G28/[0]!Poids      *      (     (A*EXP(-alpha*(AT$15-$H28)))     +      (B*EXP(-bêta*(AT$15-$H28)))    +   (_C*EXP(-gamma*(AT$15-$H28 )))      )","v":0},{"$f":"  $G28/[0]!Poids      *      (     (A*EXP(-alpha*(AU$15-$H28)))     +      (B*EXP(-bêta*(AU$15-$H28)))    +   (_C*EXP(-gamma*(AU$15-$H28 )))      )","v":0},{"$f":"  $G28/[0]!Poids      *      (     (A*EXP(-alpha*(AV$15-$H28)))     +      (B*EXP(-bêta*(AV$15-$H28)))    +   (_C*EXP(-gamma*(AV$15-$H28 )))      )","v":0},{"$f":"  $G28/[0]!Poids      *      (     (A*EXP(-alpha*(AW$15-$H28)))     +      (B*EXP(-bêta*(AW$15-$H28)))    +   (_C*EXP(-gamma*(AW$15-$H28 )))      )","v":0},{"$f":"  $G28/[0]!Poids      *      (     (A*EXP(-alpha*(AX$15-$H28)))     +      (B*EXP(-bêta*(AX$15-$H28)))    +   (_C*EXP(-gamma*(AX$15-$H28 )))      )","v":0},{"$f":"  $G28/[0]!Poids      *      (     (A*EXP(-alpha*(AY$15-$H28)))     +      (B*EXP(-bêta*(AY$15-$H28)))    +   (_C*EXP(-gamma*(AY$15-$H28 )))      )","v":0},{"$f":"  $G28/[0]!Poids      *      (     (A*EXP(-alpha*(AZ$15-$H28)))     +      (B*EXP(-bêta*(AZ$15-$H28)))    +   (_C*EXP(-gamma*(AZ$15-$H28 )))      )","v":0},{"$f":"  $G28/[0]!Poids      *      (     (A*EXP(-alpha*(BA$15-$H28)))     +      (B*EXP(-bêta*(BA$15-$H28)))    +   (_C*EXP(-gamma*(BA$15-$H28 )))      )","v":0},{"$f":"  $G28/[0]!Poids      *      (     (A*EXP(-alpha*(BB$15-$H28)))     +      (B*EXP(-bêta*(BB$15-$H28)))    +   (_C*EXP(-gamma*(BB$15-$H28 )))      )","v":0},{"$f":"  $G28/[0]!Poids      *      (     (A*EXP(-alpha*(BC$15-$H28)))     +      (B*EXP(-bêta*(BC$15-$H28)))    +   (_C*EXP(-gamma*(BC$15-$H28 )))      )","v":0},{"$f":"  $G28/[0]!Poids      *      (     (A*EXP(-alpha*(BD$15-$H28)))     +      (B*EXP(-bêta*(BD$15-$H28)))    +   (_C*EXP(-gamma*(BD$15-$H28 )))      )","v":0},{"$f":"  $G28/[0]!Poids      *      (     (A*EXP(-alpha*(BE$15-$H28)))     +      (B*EXP(-bêta*(BE$15-$H28)))    +   (_C*EXP(-gamma*(BE$15-$H28 )))      )","v":0},{"$f":"  $G28/[0]!Poids      *      (     (A*EXP(-alpha*(BF$15-$H28)))     +      (B*EXP(-bêta*(BF$15-$H28)))    +   (_C*EXP(-gamma*(BF$15-$H28 )))      )","v":0},{"$f":"  $G28/[0]!Poids      *      (     (A*EXP(-alpha*(BG$15-$H28)))     +      (B*EXP(-bêta*(BG$15-$H28)))    +   (_C*EXP(-gamma*(BG$15-$H28 )))      )","v":0},{"$f":"  $G28/[0]!Poids      *      (     (A*EXP(-alpha*(BH$15-$H28)))     +      (B*EXP(-bêta*(BH$15-$H28)))    +   (_C*EXP(-gamma*(BH$15-$H28 )))      )","v":0},{"$f":"  $G28/[0]!Poids      *      (     (A*EXP(-alpha*(BI$15-$H28)))     +      (B*EXP(-bêta*(BI$15-$H28)))    +   (_C*EXP(-gamma*(BI$15-$H28 )))      )","v":0},{"$f":"  $G28/[0]!Poids      *      (     (A*EXP(-alpha*(BJ$15-$H28)))     +      (B*EXP(-bêta*(BJ$15-$H28)))    +   (_C*EXP(-gamma*(BJ$15-$H28 )))      )","v":0},{"$f":"  $G28/[0]!Poids      *      (     (A*EXP(-alpha*(BK$15-$H28)))     +      (B*EXP(-bêta*(BK$15-$H28)))    +   (_C*EXP(-gamma*(BK$15-$H28 )))      )","v":0},{"$f":"  $G28/[0]!Poids      *      (     (A*EXP(-alpha*(BL$15-$H28)))     +      (B*EXP(-bêta*(BL$15-$H28)))    +   (_C*EXP(-gamma*(BL$15-$H28 )))      )","v":0},{"$f":"  $G28/[0]!Poids      *      (     (A*EXP(-alpha*(BM$15-$H28)))     +      (B*EXP(-bêta*(BM$15-$H28)))    +   (_C*EXP(-gamma*(BM$15-$H28 )))      )","v":0},{"$f":"  $G28/[0]!Poids      *      (     (A*EXP(-alpha*(BN$15-$H28)))     +      (B*EXP(-bêta*(BN$15-$H28)))    +   (_C*EXP(-gamma*(BN$15-$H28 )))      )","v":0},{"$f":"  $G28/[0]!Poids      *      (     (A*EXP(-alpha*(BO$15-$H28)))     +      (B*EXP(-bêta*(BO$15-$H28)))    +   (_C*EXP(-gamma*(BO$15-$H28 )))      )","v":0},{"$f":"  $G28/[0]!Poids      *      (     (A*EXP(-alpha*(BP$15-$H28)))     +      (B*EXP(-bêta*(BP$15-$H28)))    +   (_C*EXP(-gamma*(BP$15-$H28 )))      )","v":0},{"$f":"  $G28/[0]!Poids      *      (     (A*EXP(-alpha*(BQ$15-$H28)))     +      (B*EXP(-bêta*(BQ$15-$H28)))    +   (_C*EXP(-gamma*(BQ$15-$H28 )))      )","v":0},{"$f":"  $G28/[0]!Poids      *      (     (A*EXP(-alpha*(BR$15-$H28)))     +      (B*EXP(-bêta*(BR$15-$H28)))    +   (_C*EXP(-gamma*(BR$15-$H28 )))      )","v":0}]
[null,"A+B+C",{"$f":"SUM(C17:C19)","v":16837},"(pour 2)","à T=0",null,{"$f":"W$10","v":0},65,null,null,null,null,null,null,null,null,null,null,null,null,null,null,{"$f":"  $G29/[0]!Poids      *      (     (A*EXP(-alpha*(W$15-$H29)))     +      (B*EXP(-bêta*(W$15-$H29)))    +   (_C*EXP(-gamma*(W$15-$H29 )))      )","v":0},{"$f":"  $G29/[0]!Poids      *      (     (A*EXP(-alpha*(X$15-$H29)))     +      (B*EXP(-bêta*(X$15-$H29)))    +   (_C*EXP(-gamma*(X$15-$H29 )))      )","v":0},{"$f":"  $G29/[0]!Poids      *      (     (A*EXP(-alpha*(Y$15-$H29)))     +      (B*EXP(-bêta*(Y$15-$H29)))    +   (_C*EXP(-gamma*(Y$15-$H29 )))      )","v":0},{"$f":"  $G29/[0]!Poids      *      (     (A*EXP(-alpha*(Z$15-$H29)))     +      (B*EXP(-bêta*(Z$15-$H29)))    +   (_C*EXP(-gamma*(Z$15-$H29 )))      )","v":0},{"$f":"  $G29/[0]!Poids      *      (     (A*EXP(-alpha*(AA$15-$H29)))     +      (B*EXP(-bêta*(AA$15-$H29)))    +   (_C*EXP(-gamma*(AA$15-$H29 )))      )","v":0},{"$f":"  $G29/[0]!Poids      *      (     (A*EXP(-alpha*(AB$15-$H29)))     +      (B*EXP(-bêta*(AB$15-$H29)))    +   (_C*EXP(-gamma*(AB$15-$H29 )))      )","v":0},{"$f":"  $G29/[0]!Poids      *      (     (A*EXP(-alpha*(AC$15-$H29)))     +      (B*EXP(-bêta*(AC$15-$H29)))    +   (_C*EXP(-gamma*(AC$15-$H29 )))      )","v":0},{"$f":"  $G29/[0]!Poids      *      (     (A*EXP(-alpha*(AD$15-$H29)))     +      (B*EXP(-bêta*(AD$15-$H29)))    +   (_C*EXP(-gamma*(AD$15-$H29 )))      )","v":0},{"$f":"  $G29/[0]!Poids      *      (     (A*EXP(-alpha*(AE$15-$H29)))     +      (B*EXP(-bêta*(AE$15-$H29)))    +   (_C*EXP(-gamma*(AE$15-$H29 )))      )","v":0},{"$f":"  $G29/[0]!Poids      *      (     (A*EXP(-alpha*(AF$15-$H29)))     +      (B*EXP(-bêta*(AF$15-$H29)))    +   (_C*EXP(-gamma*(AF$15-$H29 )))      )","v":0},{"$f":"  $G29/[0]!Poids      *      (     (A*EXP(-alpha*(AG$15-$H29)))     +      (B*EXP(-bêta*(AG$15-$H29)))    +   (_C*EXP(-gamma*(AG$15-$H29 )))      )","v":0},{"$f":"  $G29/[0]!Poids      *      (     (A*EXP(-alpha*(AH$15-$H29)))     +      (B*EXP(-bêta*(AH$15-$H29)))    +   (_C*EXP(-gamma*(AH$15-$H29 )))      )","v":0},{"$f":"  $G29/[0]!Poids      *      (     (A*EXP(-alpha*(AI$15-$H29)))     +      (B*EXP(-bêta*(AI$15-$H29)))    +   (_C*EXP(-gamma*(AI$15-$H29 )))      )","v":0},{"$f":"  $G29/[0]!Poids      *      (     (A*EXP(-alpha*(AJ$15-$H29)))     +      (B*EXP(-bêta*(AJ$15-$H29)))    +   (_C*EXP(-gamma*(AJ$15-$H29 )))      )","v":0},{"$f":"  $G29/[0]!Poids      *      (     (A*EXP(-alpha*(AK$15-$H29)))     +      (B*EXP(-bêta*(AK$15-$H29)))    +   (_C*EXP(-gamma*(AK$15-$H29 )))      )","v":0},{"$f":"  $G29/[0]!Poids      *      (     (A*EXP(-alpha*(AL$15-$H29)))     +      (B*EXP(-bêta*(AL$15-$H29)))    +   (_C*EXP(-gamma*(AL$15-$H29 )))      )","v":0},{"$f":"  $G29/[0]!Poids      *      (     (A*EXP(-alpha*(AM$15-$H29)))     +      (B*EXP(-bêta*(AM$15-$H29)))    +   (_C*EXP(-gamma*(AM$15-$H29 )))      )","v":0},{"$f":"  $G29/[0]!Poids      *      (     (A*EXP(-alpha*(AN$15-$H29)))     +      (B*EXP(-bêta*(AN$15-$H29)))    +   (_C*EXP(-gamma*(AN$15-$H29 )))      )","v":0},{"$f":"  $G29/[0]!Poids      *      (     (A*EXP(-alpha*(AO$15-$H29)))     +      (B*EXP(-bêta*(AO$15-$H29)))    +   (_C*EXP(-gamma*(AO$15-$H29 )))      )","v":0},{"$f":"  $G29/[0]!Poids      *      (     (A*EXP(-alpha*(AP$15-$H29)))     +      (B*EXP(-bêta*(AP$15-$H29)))    +   (_C*EXP(-gamma*(AP$15-$H29 )))      )","v":0},{"$f":"  $G29/[0]!Poids      *      (     (A*EXP(-alpha*(AQ$15-$H29)))     +      (B*EXP(-bêta*(AQ$15-$H29)))    +   (_C*EXP(-gamma*(AQ$15-$H29 )))      )","v":0},{"$f":"  $G29/[0]!Poids      *      (     (A*EXP(-alpha*(AR$15-$H29)))     +      (B*EXP(-bêta*(AR$15-$H29)))    +   (_C*EXP(-gamma*(AR$15-$H29 )))      )","v":0},{"$f":"  $G29/[0]!Poids      *      (     (A*EXP(-alpha*(AS$15-$H29)))     +      (B*EXP(-bêta*(AS$15-$H29)))    +   (_C*EXP(-gamma*(AS$15-$H29 )))      )","v":0},{"$f":"  $G29/[0]!Poids      *      (     (A*EXP(-alpha*(AT$15-$H29)))     +      (B*EXP(-bêta*(AT$15-$H29)))    +   (_C*EXP(-gamma*(AT$15-$H29 )))      )","v":0},{"$f":"  $G29/[0]!Poids      *      (     (A*EXP(-alpha*(AU$15-$H29)))     +      (B*EXP(-bêta*(AU$15-$H29)))    +   (_C*EXP(-gamma*(AU$15-$H29 )))      )","v":0},{"$f":"  $G29/[0]!Poids      *      (     (A*EXP(-alpha*(AV$15-$H29)))     +      (B*EXP(-bêta*(AV$15-$H29)))    +   (_C*EXP(-gamma*(AV$15-$H29 )))      )","v":0},{"$f":"  $G29/[0]!Poids      *      (     (A*EXP(-alpha*(AW$15-$H29)))     +      (B*EXP(-bêta*(AW$15-$H29)))    +   (_C*EXP(-gamma*(AW$15-$H29 )))      )","v":0},{"$f":"  $G29/[0]!Poids      *      (     (A*EXP(-alpha*(AX$15-$H29)))     +      (B*EXP(-bêta*(AX$15-$H29)))    +   (_C*EXP(-gamma*(AX$15-$H29 )))      )","v":0},{"$f":"  $G29/[0]!Poids      *      (     (A*EXP(-alpha*(AY$15-$H29)))     +      (B*EXP(-bêta*(AY$15-$H29)))    +   (_C*EXP(-gamma*(AY$15-$H29 )))      )","v":0},{"$f":"  $G29/[0]!Poids      *      (     (A*EXP(-alpha*(AZ$15-$H29)))     +      (B*EXP(-bêta*(AZ$15-$H29)))    +   (_C*EXP(-gamma*(AZ$15-$H29 )))      )","v":0},{"$f":"  $G29/[0]!Poids      *      (     (A*EXP(-alpha*(BA$15-$H29)))     +      (B*EXP(-bêta*(BA$15-$H29)))    +   (_C*EXP(-gamma*(BA$15-$H29 )))      )","v":0},{"$f":"  $G29/[0]!Poids      *      (     (A*EXP(-alpha*(BB$15-$H29)))     +      (B*EXP(-bêta*(BB$15-$H29)))    +   (_C*EXP(-gamma*(BB$15-$H29 )))      )","v":0},{"$f":"  $G29/[0]!Poids      *      (     (A*EXP(-alpha*(BC$15-$H29)))     +      (B*EXP(-bêta*(BC$15-$H29)))    +   (_C*EXP(-gamma*(BC$15-$H29 )))      )","v":0},{"$f":"  $G29/[0]!Poids      *      (     (A*EXP(-alpha*(BD$15-$H29)))     +      (B*EXP(-bêta*(BD$15-$H29)))    +   (_C*EXP(-gamma*(BD$15-$H29 )))      )","v":0},{"$f":"  $G29/[0]!Poids      *      (     (A*EXP(-alpha*(BE$15-$H29)))     +      (B*EXP(-bêta*(BE$15-$H29)))    +   (_C*EXP(-gamma*(BE$15-$H29 )))      )","v":0},{"$f":"  $G29/[0]!Poids      *      (     (A*EXP(-alpha*(BF$15-$H29)))     +      (B*EXP(-bêta*(BF$15-$H29)))    +   (_C*EXP(-gamma*(BF$15-$H29 )))      )","v":0},{"$f":"  $G29/[0]!Poids      *      (     (A*EXP(-alpha*(BG$15-$H29)))     +      (B*EXP(-bêta*(BG$15-$H29)))    +   (_C*EXP(-gamma*(BG$15-$H29 )))      )","v":0},{"$f":"  $G29/[0]!Poids      *      (     (A*EXP(-alpha*(BH$15-$H29)))     +      (B*EXP(-bêta*(BH$15-$H29)))    +   (_C*EXP(-gamma*(BH$15-$H29 )))      )","v":0},{"$f":"  $G29/[0]!Poids      *      (     (A*EXP(-alpha*(BI$15-$H29)))     +      (B*EXP(-bêta*(BI$15-$H29)))    +   (_C*EXP(-gamma*(BI$15-$H29 )))      )","v":0},{"$f":"  $G29/[0]!Poids      *      (     (A*EXP(-alpha*(BJ$15-$H29)))     +      (B*EXP(-bêta*(BJ$15-$H29)))    +   (_C*EXP(-gamma*(BJ$15-$H29 )))      )","v":0},{"$f":"  $G29/[0]!Poids      *      (     (A*EXP(-alpha*(BK$15-$H29)))     +      (B*EXP(-bêta*(BK$15-$H29)))    +   (_C*EXP(-gamma*(BK$15-$H29 )))      )","v":0},{"$f":"  $G29/[0]!Poids      *      (     (A*EXP(-alpha*(BL$15-$H29)))     +      (B*EXP(-bêta*(BL$15-$H29)))    +   (_C*EXP(-gamma*(BL$15-$H29 )))      )","v":0},{"$f":"  $G29/[0]!Poids      *      (     (A*EXP(-alpha*(BM$15-$H29)))     +      (B*EXP(-bêta*(BM$15-$H29)))    +   (_C*EXP(-gamma*(BM$15-$H29 )))      )","v":0},{"$f":"  $G29/[0]!Poids      *      (     (A*EXP(-alpha*(BN$15-$H29)))     +      (B*EXP(-bêta*(BN$15-$H29)))    +   (_C*EXP(-gamma*(BN$15-$H29 )))      )","v":0},{"$f":"  $G29/[0]!Poids      *      (     (A*EXP(-alpha*(BO$15-$H29)))     +      (B*EXP(-bêta*(BO$15-$H29)))    +   (_C*EXP(-gamma*(BO$15-$H29 )))      )","v":0},{"$f":"  $G29/[0]!Poids      *      (     (A*EXP(-alpha*(BP$15-$H29)))     +      (B*EXP(-bêta*(BP$15-$H29)))    +   (_C*EXP(-gamma*(BP$15-$H29 )))      )","v":0},{"$f":"  $G29/[0]!Poids      *      (     (A*EXP(-alpha*(BQ$15-$H29)))     +      (B*EXP(-bêta*(BQ$15-$H29)))    +   (_C*EXP(-gamma*(BQ$15-$H29 )))      )","v":0},{"$f":"  $G29/[0]!Poids      *      (     (A*EXP(-alpha*(BR$15-$H29)))     +      (B*EXP(-bêta*(BR$15-$H29)))    +   (_C*EXP(-gamma*(BR$15-$H29 )))      )","v":0}]
[null,null,null,null,null,null,{"$f":"X$10","v":0},70,null,null,null,null,null,null,null,null,null,null,null,null,null,null,null,{"$f":"  $G30/[0]!Poids      *      (     (A*EXP(-alpha*(X$15-$H30)))     +      (B*EXP(-bêta*(X$15-$H30)))    +   (_C*EXP(-gamma*(X$15-$H30 )))      )","v":0},{"$f":"  $G30/[0]!Poids      *      (     (A*EXP(-alpha*(Y$15-$H30)))     +      (B*EXP(-bêta*(Y$15-$H30)))    +   (_C*EXP(-gamma*(Y$15-$H30 )))      )","v":0},{"$f":"  $G30/[0]!Poids      *      (     (A*EXP(-alpha*(Z$15-$H30)))     +      (B*EXP(-bêta*(Z$15-$H30)))    +   (_C*EXP(-gamma*(Z$15-$H30 )))      )","v":0},{"$f":"  $G30/[0]!Poids      *      (     (A*EXP(-alpha*(AA$15-$H30)))     +      (B*EXP(-bêta*(AA$15-$H30)))    +   (_C*EXP(-gamma*(AA$15-$H30 )))      )","v":0},{"$f":"  $G30/[0]!Poids      *      (     (A*EXP(-alpha*(AB$15-$H30)))     +      (B*EXP(-bêta*(AB$15-$H30)))    +   (_C*EXP(-gamma*(AB$15-$H30 )))      )","v":0},{"$f":"  $G30/[0]!Poids      *      (     (A*EXP(-alpha*(AC$15-$H30)))     +      (B*EXP(-bêta*(AC$15-$H30)))    +   (_C*EXP(-gamma*(AC$15-$H30 )))      )","v":0},{"$f":"  $G30/[0]!Poids      *      (     (A*EXP(-alpha*(AD$15-$H30)))     +      (B*EXP(-bêta*(AD$15-$H30)))    +   (_C*EXP(-gamma*(AD$15-$H30 )))      )","v":0},{"$f":"  $G30/[0]!Poids      *      (     (A*EXP(-alpha*(AE$15-$H30)))     +      (B*EXP(-bêta*(AE$15-$H30)))    +   (_C*EXP(-gamma*(AE$15-$H30 )))      )","v":0},{"$f":"  $G30/[0]!Poids      *      (     (A*EXP(-alpha*(AF$15-$H30)))     +      (B*EXP(-bêta*(AF$15-$H30)))    +   (_C*EXP(-gamma*(AF$15-$H30 )))      )","v":0},{"$f":"  $G30/[0]!Poids      *      (     (A*EXP(-alpha*(AG$15-$H30)))     +      (B*EXP(-bêta*(AG$15-$H30)))    +   (_C*EXP(-gamma*(AG$15-$H30 )))      )","v":0},{"$f":"  $G30/[0]!Poids      *      (     (A*EXP(-alpha*(AH$15-$H30)))     +      (B*EXP(-bêta*(AH$15-$H30)))    +   (_C*EXP(-gamma*(AH$15-$H30 )))      )","v":0},{"$f":"  $G30/[0]!Poids      *      (     (A*EXP(-alpha*(AI$15-$H30)))     +      (B*EXP(-bêta*(AI$15-$H30)))    +   (_C*EXP(-gamma*(AI$15-$H30 )))      )","v":0},{"$f":"  $G30/[0]!Poids      *      (     (A*EXP(-alpha*(AJ$15-$H30)))     +      (B*EXP(-bêta*(AJ$15-$H30)))    +   (_C*EXP(-gamma*(AJ$15-$H30 )))      )","v":0},{"$f":"  $G30/[0]!Poids      *      (     (A*EXP(-alpha*(AK$15-$H30)))     +      (B*EXP(-bêta*(AK$15-$H30)))    +   (_C*EXP(-gamma*(AK$15-$H30 )))      )","v":0},{"$f":"  $G30/[0]!Poids      *      (     (A*EXP(-alpha*(AL$15-$H30)))     +      (B*EXP(-bêta*(AL$15-$H30)))    +   (_C*EXP(-gamma*(AL$15-$H30 )))      )","v":0},{"$f":"  $G30/[0]!Poids      *      (     (A*EXP(-alpha*(AM$15-$H30)))     +      (B*EXP(-bêta*(AM$15-$H30)))    +   (_C*EXP(-gamma*(AM$15-$H30 )))      )","v":0},{"$f":"  $G30/[0]!Poids      *      (     (A*EXP(-alpha*(AN$15-$H30)))     +      (B*EXP(-bêta*(AN$15-$H30)))    +   (_C*EXP(-gamma*(AN$15-$H30 )))      )","v":0},{"$f":"  $G30/[0]!Poids      *      (     (A*EXP(-alpha*(AO$15-$H30)))     +      (B*EXP(-bêta*(AO$15-$H30)))    +   (_C*EXP(-gamma*(AO$15-$H30 )))      )","v":0},{"$f":"  $G30/[0]!Poids      *      (     (A*EXP(-alpha*(AP$15-$H30)))     +      (B*EXP(-bêta*(AP$15-$H30)))    +   (_C*EXP(-gamma*(AP$15-$H30 )))      )","v":0},{"$f":"  $G30/[0]!Poids      *      (     (A*EXP(-alpha*(AQ$15-$H30)))     +      (B*EXP(-bêta*(AQ$15-$H30)))    +   (_C*EXP(-gamma*(AQ$15-$H30 )))      )","v":0},{"$f":"  $G30/[0]!Poids      *      (     (A*EXP(-alpha*(AR$15-$H30)))     +      (B*EXP(-bêta*(AR$15-$H30)))    +   (_C*EXP(-gamma*(AR$15-$H30 )))      )","v":0},{"$f":"  $G30/[0]!Poids      *      (     (A*EXP(-alpha*(AS$15-$H30)))     +      (B*EXP(-bêta*(AS$15-$H30)))    +   (_C*EXP(-gamma*(AS$15-$H30 )))      )","v":0},{"$f":"  $G30/[0]!Poids      *      (     (A*EXP(-alpha*(AT$15-$H30)))     +      (B*EXP(-bêta*(AT$15-$H30)))    +   (_C*EXP(-gamma*(AT$15-$H30 )))      )","v":0},{"$f":"  $G30/[0]!Poids      *      (     (A*EXP(-alpha*(AU$15-$H30)))     +      (B*EXP(-bêta*(AU$15-$H30)))    +   (_C*EXP(-gamma*(AU$15-$H30 )))      )","v":0},{"$f":"  $G30/[0]!Poids      *      (     (A*EXP(-alpha*(AV$15-$H30)))     +      (B*EXP(-bêta*(AV$15-$H30)))    +   (_C*EXP(-gamma*(AV$15-$H30 )))      )","v":0},{"$f":"  $G30/[0]!Poids      *      (     (A*EXP(-alpha*(AW$15-$H30)))     +      (B*EXP(-bêta*(AW$15-$H30)))    +   (_C*EXP(-gamma*(AW$15-$H30 )))      )","v":0},{"$f":"  $G30/[0]!Poids      *      (     (A*EXP(-alpha*(AX$15-$H30)))     +      (B*EXP(-bêta*(AX$15-$H30)))    +   (_C*EXP(-gamma*(AX$15-$H30 )))      )","v":0},{"$f":"  $G30/[0]!Poids      *      (     (A*EXP(-alpha*(AY$15-$H30)))     +      (B*EXP(-bêta*(AY$15-$H30)))    +   (_C*EXP(-gamma*(AY$15-$H30 )))      )","v":0},{"$f":"  $G30/[0]!Poids      *      (     (A*EXP(-alpha*(AZ$15-$H30)))     +      (B*EXP(-bêta*(AZ$15-$H30)))    +   (_C*EXP(-gamma*(AZ$15-$H30 )))      )","v":0},{"$f":"  $G30/[0]!Poids      *      (     (A*EXP(-alpha*(BA$15-$H30)))     +      (B*EXP(-bêta*(BA$15-$H30)))    +   (_C*EXP(-gamma*(BA$15-$H30 )))      )","v":0},{"$f":"  $G30/[0]!Poids      *      (     (A*EXP(-alpha*(BB$15-$H30)))     +      (B*EXP(-bêta*(BB$15-$H30)))    +   (_C*EXP(-gamma*(BB$15-$H30 )))      )","v":0},{"$f":"  $G30/[0]!Poids      *      (     (A*EXP(-alpha*(BC$15-$H30)))     +      (B*EXP(-bêta*(BC$15-$H30)))    +   (_C*EXP(-gamma*(BC$15-$H30 )))      )","v":0},{"$f":"  $G30/[0]!Poids      *      (     (A*EXP(-alpha*(BD$15-$H30)))     +      (B*EXP(-bêta*(BD$15-$H30)))    +   (_C*EXP(-gamma*(BD$15-$H30 )))      )","v":0},{"$f":"  $G30/[0]!Poids      *      (     (A*EXP(-alpha*(BE$15-$H30)))     +      (B*EXP(-bêta*(BE$15-$H30)))    +   (_C*EXP(-gamma*(BE$15-$H30 )))      )","v":0},{"$f":"  $G30/[0]!Poids      *      (     (A*EXP(-alpha*(BF$15-$H30)))     +      (B*EXP(-bêta*(BF$15-$H30)))    +   (_C*EXP(-gamma*(BF$15-$H30 )))      )","v":0},{"$f":"  $G30/[0]!Poids      *      (     (A*EXP(-alpha*(BG$15-$H30)))     +      (B*EXP(-bêta*(BG$15-$H30)))    +   (_C*EXP(-gamma*(BG$15-$H30 )))      )","v":0},{"$f":"  $G30/[0]!Poids      *      (     (A*EXP(-alpha*(BH$15-$H30)))     +      (B*EXP(-bêta*(BH$15-$H30)))    +   (_C*EXP(-gamma*(BH$15-$H30 )))      )","v":0},{"$f":"  $G30/[0]!Poids      *      (     (A*EXP(-alpha*(BI$15-$H30)))     +      (B*EXP(-bêta*(BI$15-$H30)))    +   (_C*EXP(-gamma*(BI$15-$H30 )))      )","v":0},{"$f":"  $G30/[0]!Poids      *      (     (A*EXP(-alpha*(BJ$15-$H30)))     +      (B*EXP(-bêta*(BJ$15-$H30)))    +   (_C*EXP(-gamma*(BJ$15-$H30 )))      )","v":0},{"$f":"  $G30/[0]!Poids      *      (     (A*EXP(-alpha*(BK$15-$H30)))     +      (B*EXP(-bêta*(BK$15-$H30)))    +   (_C*EXP(-gamma*(BK$15-$H30 )))      )","v":0},{"$f":"  $G30/[0]!Poids      *      (     (A*EXP(-alpha*(BL$15-$H30)))     +      (B*EXP(-bêta*(BL$15-$H30)))    +   (_C*EXP(-gamma*(BL$15-$H30 )))      )","v":0},{"$f":"  $G30/[0]!Poids      *      (     (A*EXP(-alpha*(BM$15-$H30)))     +      (B*EXP(-bêta*(BM$15-$H30)))    +   (_C*EXP(-gamma*(BM$15-$H30 )))      )","v":0},{"$f":"  $G30/[0]!Poids      *      (     (A*EXP(-alpha*(BN$15-$H30)))     +      (B*EXP(-bêta*(BN$15-$H30)))    +   (_C*EXP(-gamma*(BN$15-$H30 )))      )","v":0},{"$f":"  $G30/[0]!Poids      *      (     (A*EXP(-alpha*(BO$15-$H30)))     +      (B*EXP(-bêta*(BO$15-$H30)))    +   (_C*EXP(-gamma*(BO$15-$H30 )))      )","v":0},{"$f":"  $G30/[0]!Poids      *      (     (A*EXP(-alpha*(BP$15-$H30)))     +      (B*EXP(-bêta*(BP$15-$H30)))    +   (_C*EXP(-gamma*(BP$15-$H30 )))      )","v":0},{"$f":"  $G30/[0]!Poids      *      (     (A*EXP(-alpha*(BQ$15-$H30)))     +      (B*EXP(-bêta*(BQ$15-$H30)))    +   (_C*EXP(-gamma*(BQ$15-$H30 )))      )","v":0},{"$f":"  $G30/[0]!Poids      *      (     (A*EXP(-alpha*(BR$15-$H30)))     +      (B*EXP(-bêta*(BR$15-$H30)))    +   (_C*EXP(-gamma*(BR$15-$H30 )))      )","v":0}]
[null,"Calculs test formule",null,null,null,null,{"$f":"Y$10","v":0},75,null,null,null,null,null,null,null,null,null,null,null,null,null,null,null,null,{"$f":"  $G31/[0]!Poids      *      (     (A*EXP(-alpha*(Y$15-$H31)))     +      (B*EXP(-bêta*(Y$15-$H31)))    +   (_C*EXP(-gamma*(Y$15-$H31 )))      )","v":0},{"$f":"  $G31/[0]!Poids      *      (     (A*EXP(-alpha*(Z$15-$H31)))     +      (B*EXP(-bêta*(Z$15-$H31)))    +   (_C*EXP(-gamma*(Z$15-$H31 )))      )","v":0},{"$f":"  $G31/[0]!Poids      *      (     (A*EXP(-alpha*(AA$15-$H31)))     +      (B*EXP(-bêta*(AA$15-$H31)))    +   (_C*EXP(-gamma*(AA$15-$H31 )))      )","v":0},{"$f":"  $G31/[0]!Poids      *      (     (A*EXP(-alpha*(AB$15-$H31)))     +      (B*EXP(-bêta*(AB$15-$H31)))    +   (_C*EXP(-gamma*(AB$15-$H31 )))      )","v":0},{"$f":"  $G31/[0]!Poids      *      (     (A*EXP(-alpha*(AC$15-$H31)))     +      (B*EXP(-bêta*(AC$15-$H31)))    +   (_C*EXP(-gamma*(AC$15-$H31 )))      )","v":0},{"$f":"  $G31/[0]!Poids      *      (     (A*EXP(-alpha*(AD$15-$H31)))     +      (B*EXP(-bêta*(AD$15-$H31)))    +   (_C*EXP(-gamma*(AD$15-$H31 )))      )","v":0},{"$f":"  $G31/[0]!Poids      *      (     (A*EXP(-alpha*(AE$15-$H31)))     +      (B*EXP(-bêta*(AE$15-$H31)))    +   (_C*EXP(-gamma*(AE$15-$H31 )))      )","v":0},{"$f":"  $G31/[0]!Poids      *      (     (A*EXP(-alpha*(AF$15-$H31)))     +      (B*EXP(-bêta*(AF$15-$H31)))    +   (_C*EXP(-gamma*(AF$15-$H31 )))      )","v":0},{"$f":"  $G31/[0]!Poids      *      (     (A*EXP(-alpha*(AG$15-$H31)))     +      (B*EXP(-bêta*(AG$15-$H31)))    +   (_C*EXP(-gamma*(AG$15-$H31 )))      )","v":0},{"$f":"  $G31/[0]!Poids      *      (     (A*EXP(-alpha*(AH$15-$H31)))     +      (B*EXP(-bêta*(AH$15-$H31)))    +   (_C*EXP(-gamma*(AH$15-$H31 )))      )","v":0},{"$f":"  $G31/[0]!Poids      *      (     (A*EXP(-alpha*(AI$15-$H31)))     +      (B*EXP(-bêta*(AI$15-$H31)))    +   (_C*EXP(-gamma*(AI$15-$H31 )))      )","v":0},{"$f":"  $G31/[0]!Poids      *      (     (A*EXP(-alpha*(AJ$15-$H31)))     +      (B*EXP(-bêta*(AJ$15-$H31)))    +   (_C*EXP(-gamma*(AJ$15-$H31 )))      )","v":0},{"$f":"  $G31/[0]!Poids      *      (     (A*EXP(-alpha*(AK$15-$H31)))     +      (B*EXP(-bêta*(AK$15-$H31)))    +   (_C*EXP(-gamma*(AK$15-$H31 )))      )","v":0},{"$f":"  $G31/[0]!Poids      *      (     (A*EXP(-alpha*(AL$15-$H31)))     +      (B*EXP(-bêta*(AL$15-$H31)))    +   (_C*EXP(-gamma*(AL$15-$H31 )))      )","v":0},{"$f":"  $G31/[0]!Poids      *      (     (A*EXP(-alpha*(AM$15-$H31)))     +      (B*EXP(-bêta*(AM$15-$H31)))    +   (_C*EXP(-gamma*(AM$15-$H31 )))      )","v":0},{"$f":"  $G31/[0]!Poids      *      (     (A*EXP(-alpha*(AN$15-$H31)))     +      (B*EXP(-bêta*(AN$15-$H31)))    +   (_C*EXP(-gamma*(AN$15-$H31 )))      )","v":0},{"$f":"  $G31/[0]!Poids      *      (     (A*EXP(-alpha*(AO$15-$H31)))     +      (B*EXP(-bêta*(AO$15-$H31)))    +   (_C*EXP(-gamma*(AO$15-$H31 )))      )","v":0},{"$f":"  $G31/[0]!Poids      *      (     (A*EXP(-alpha*(AP$15-$H31)))     +      (B*EXP(-bêta*(AP$15-$H31)))    +   (_C*EXP(-gamma*(AP$15-$H31 )))      )","v":0},{"$f":"  $G31/[0]!Poids      *      (     (A*EXP(-alpha*(AQ$15-$H31)))     +      (B*EXP(-bêta*(AQ$15-$H31)))    +   (_C*EXP(-gamma*(AQ$15-$H31 )))      )","v":0},{"$f":"  $G31/[0]!Poids      *      (     (A*EXP(-alpha*(AR$15-$H31)))     +      (B*EXP(-bêta*(AR$15-$H31)))    +   (_C*EXP(-gamma*(AR$15-$H31 )))      )","v":0},{"$f":"  $G31/[0]!Poids      *      (     (A*EXP(-alpha*(AS$15-$H31)))     +      (B*EXP(-bêta*(AS$15-$H31)))    +   (_C*EXP(-gamma*(AS$15-$H31 )))      )","v":0},{"$f":"  $G31/[0]!Poids      *      (     (A*EXP(-alpha*(AT$15-$H31)))     +      (B*EXP(-bêta*(AT$15-$H31)))    +   (_C*EXP(-gamma*(AT$15-$H31 )))      )","v":0},{"$f":"  $G31/[0]!Poids      *      (     (A*EXP(-alpha*(AU$15-$H31)))     +      (B*EXP(-bêta*(AU$15-$H31)))    +   (_C*EXP(-gamma*(AU$15-$H31 )))      )","v":0},{"$f":"  $G31/[0]!Poids      *      (     (A*EXP(-alpha*(AV$15-$H31)))     +      (B*EXP(-bêta*(AV$15-$H31)))    +   (_C*EXP(-gamma*(AV$15-$H31 )))      )","v":0},{"$f":"  $G31/[0]!Poids      *      (     (A*EXP(-alpha*(AW$15-$H31)))     +      (B*EXP(-bêta*(AW$15-$H31)))    +   (_C*EXP(-gamma*(AW$15-$H31 )))      )","v":0},{"$f":"  $G31/[0]!Poids      *      (     (A*EXP(-alpha*(AX$15-$H31)))     +      (B*EXP(-bêta*(AX$15-$H31)))    +   (_C*EXP(-gamma*(AX$15-$H31 )))      )","v":0},{"$f":"  $G31/[0]!Poids      *      (     (A*EXP(-alpha*(AY$15-$H31)))     +      (B*EXP(-bêta*(AY$15-$H31)))    +   (_C*EXP(-gamma*(AY$15-$H31 )))      )","v":0},{"$f":"  $G31/[0]!Poids      *      (     (A*EXP(-alpha*(AZ$15-$H31)))     +      (B*EXP(-bêta*(AZ$15-$H31)))    +   (_C*EXP(-gamma*(AZ$15-$H31 )))      )","v":0},{"$f":"  $G31/[0]!Poids      *      (     (A*EXP(-alpha*(BA$15-$H31)))     +      (B*EXP(-bêta*(BA$15-$H31)))    +   (_C*EXP(-gamma*(BA$15-$H31 )))      )","v":0},{"$f":"  $G31/[0]!Poids      *      (     (A*EXP(-alpha*(BB$15-$H31)))     +      (B*EXP(-bêta*(BB$15-$H31)))    +   (_C*EXP(-gamma*(BB$15-$H31 )))      )","v":0},{"$f":"  $G31/[0]!Poids      *      (     (A*EXP(-alpha*(BC$15-$H31)))     +      (B*EXP(-bêta*(BC$15-$H31)))    +   (_C*EXP(-gamma*(BC$15-$H31 )))      )","v":0},{"$f":"  $G31/[0]!Poids      *      (     (A*EXP(-alpha*(BD$15-$H31)))     +      (B*EXP(-bêta*(BD$15-$H31)))    +   (_C*EXP(-gamma*(BD$15-$H31 )))      )","v":0},{"$f":"  $G31/[0]!Poids      *      (     (A*EXP(-alpha*(BE$15-$H31)))     +      (B*EXP(-bêta*(BE$15-$H31)))    +   (_C*EXP(-gamma*(BE$15-$H31 )))      )","v":0},{"$f":"  $G31/[0]!Poids      *      (     (A*EXP(-alpha*(BF$15-$H31)))     +      (B*EXP(-bêta*(BF$15-$H31)))    +   (_C*EXP(-gamma*(BF$15-$H31 )))      )","v":0},{"$f":"  $G31/[0]!Poids      *      (     (A*EXP(-alpha*(BG$15-$H31)))     +      (B*EXP(-bêta*(BG$15-$H31)))    +   (_C*EXP(-gamma*(BG$15-$H31 )))      )","v":0},{"$f":"  $G31/[0]!Poids      *      (     (A*EXP(-alpha*(BH$15-$H31)))     +      (B*EXP(-bêta*(BH$15-$H31)))    +   (_C*EXP(-gamma*(BH$15-$H31 )))      )","v":0},{"$f":"  $G31/[0]!Poids      *      (     (A*EXP(-alpha*(BI$15-$H31)))     +      (B*EXP(-bêta*(BI$15-$H31)))    +   (_C*EXP(-gamma*(BI$15-$H31 )))      )","v":0},{"$f":"  $G31/[0]!Poids      *      (     (A*EXP(-alpha*(BJ$15-$H31)))     +      (B*EXP(-bêta*(BJ$15-$H31)))    +   (_C*EXP(-gamma*(BJ$15-$H31 )))      )","v":0},{"$f":"  $G31/[0]!Poids      *      (     (A*EXP(-alpha*(BK$15-$H31)))     +      (B*EXP(-bêta*(BK$15-$H31)))    +   (_C*EXP(-gamma*(BK$15-$H31 )))      )","v":0},{"$f":"  $G31/[0]!Poids      *      (     (A*EXP(-alpha*(BL$15-$H31)))     +      (B*EXP(-bêta*(BL$15-$H31)))    +   (_C*EXP(-gamma*(BL$15-$H31 )))      )","v":0},{"$f":"  $G31/[0]!Poids      *      (     (A*EXP(-alpha*(BM$15-$H31)))     +      (B*EXP(-bêta*(BM$15-$H31)))    +   (_C*EXP(-gamma*(BM$15-$H31 )))      )","v":0},{"$f":"  $G31/[0]!Poids      *      (     (A*EXP(-alpha*(BN$15-$H31)))     +      (B*EXP(-bêta*(BN$15-$H31)))    +   (_C*EXP(-gamma*(BN$15-$H31 )))      )","v":0},{"$f":"  $G31/[0]!Poids      *      (     (A*EXP(-alpha*(BO$15-$H31)))     +      (B*EXP(-bêta*(BO$15-$H31)))    +   (_C*EXP(-gamma*(BO$15-$H31 )))      )","v":0},{"$f":"  $G31/[0]!Poids      *      (     (A*EXP(-alpha*(BP$15-$H31)))     +      (B*EXP(-bêta*(BP$15-$H31)))    +   (_C*EXP(-gamma*(BP$15-$H31 )))      )","v":0},{"$f":"  $G31/[0]!Poids      *      (     (A*EXP(-alpha*(BQ$15-$H31)))     +      (B*EXP(-bêta*(BQ$15-$H31)))    +   (_C*EXP(-gamma*(BQ$15-$H31 )))      )","v":0},{"$f":"  $G31/[0]!Poids      *      (     (A*EXP(-alpha*(BR$15-$H31)))     +      (B*EXP(-bêta*(BR$15-$H31)))    +   (_C*EXP(-gamma*(BR$15-$H31 )))      )","v":0}]
[null,"poids","dose","temps",null,null,{"$f":"Z$10","v":0},80,null,null,null,null,null,null,null,null,null,null,null,null,null,null,null,null,null,{"$f":"  $G32/[0]!Poids      *      (     (A*EXP(-alpha*(Z$15-$H32)))     +      (B*EXP(-bêta*(Z$15-$H32)))    +   (_C*EXP(-gamma*(Z$15-$H32 )))      )","v":0},{"$f":"  $G32/[0]!Poids      *      (     (A*EXP(-alpha*(AA$15-$H32)))     +      (B*EXP(-bêta*(AA$15-$H32)))    +   (_C*EXP(-gamma*(AA$15-$H32 )))      )","v":0},{"$f":"  $G32/[0]!Poids      *      (     (A*EXP(-alpha*(AB$15-$H32)))     +      (B*EXP(-bêta*(AB$15-$H32)))    +   (_C*EXP(-gamma*(AB$15-$H32 )))      )","v":0},{"$f":"  $G32/[0]!Poids      *      (     (A*EXP(-alpha*(AC$15-$H32)))     +      (B*EXP(-bêta*(AC$15-$H32)))    +   (_C*EXP(-gamma*(AC$15-$H32 )))      )","v":0},{"$f":"  $G32/[0]!Poids      *      (     (A*EXP(-alpha*(AD$15-$H32)))     +      (B*EXP(-bêta*(AD$15-$H32)))    +   (_C*EXP(-gamma*(AD$15-$H32 )))      )","v":0},{"$f":"  $G32/[0]!Poids      *      (     (A*EXP(-alpha*(AE$15-$H32)))     +      (B*EXP(-bêta*(AE$15-$H32)))    +   (_C*EXP(-gamma*(AE$15-$H32 )))      )","v":0},{"$f":"  $G32/[0]!Poids      *      (     (A*EXP(-alpha*(AF$15-$H32)))     +      (B*EXP(-bêta*(AF$15-$H32)))    +   (_C*EXP(-gamma*(AF$15-$H32 )))      )","v":0},{"$f":"  $G32/[0]!Poids      *      (     (A*EXP(-alpha*(AG$15-$H32)))     +      (B*EXP(-bêta*(AG$15-$H32)))    +   (_C*EXP(-gamma*(AG$15-$H32 )))      )","v":0},{"$f":"  $G32/[0]!Poids      *      (     (A*EXP(-alpha*(AH$15-$H32)))     +      (B*EXP(-bêta*(AH$15-$H32)))    +   (_C*EXP(-gamma*(AH$15-$H32 )))      )","v":0},{"$f":"  $G32/[0]!Poids      *      (     (A*EXP(-alpha*(AI$15-$H32)))     +      (B*EXP(-bêta*(AI$15-$H32)))    +   (_C*EXP(-gamma*(AI$15-$H32 )))      )","v":0},{"$f":"  $G32/[0]!Poids      *      (     (A*EXP(-alpha*(AJ$15-$H32)))     +      (B*EXP(-bêta*(AJ$15-$H32)))    +   (_C*EXP(-gamma*(AJ$15-$H32 )))      )","v":0},{"$f":"  $G32/[0]!Poids      *      (     (A*EXP(-alpha*(AK$15-$H32)))     +      (B*EXP(-bêta*(AK$15-$H32)))    +   (_C*EXP(-gamma*(AK$15-$H32 )))      )","v":0},{"$f":"  $G32/[0]!Poids      *      (     (A*EXP(-alpha*(AL$15-$H32)))     +      (B*EXP(-bêta*(AL$15-$H32)))    +   (_C*EXP(-gamma*(AL$15-$H32 )))      )","v":0},{"$f":"  $G32/[0]!Poids      *      (     (A*EXP(-alpha*(AM$15-$H32)))     +      (B*EXP(-bêta*(AM$15-$H32)))    +   (_C*EXP(-gamma*(AM$15-$H32 )))      )","v":0},{"$f":"  $G32/[0]!Poids      *      (     (A*EXP(-alpha*(AN$15-$H32)))     +      (B*EXP(-bêta*(AN$15-$H32)))    +   (_C*EXP(-gamma*(AN$15-$H32 )))      )","v":0},{"$f":"  $G32/[0]!Poids      *      (     (A*EXP(-alpha*(AO$15-$H32)))     +      (B*EXP(-bêta*(AO$15-$H32)))    +   (_C*EXP(-gamma*(AO$15-$H32 )))      )","v":0},{"$f":"  $G32/[0]!Poids      *      (     (A*EXP(-alpha*(AP$15-$H32)))     +      (B*EXP(-bêta*(AP$15-$H32)))    +   (_C*EXP(-gamma*(AP$15-$H32 )))      )","v":0},{"$f":"  $G32/[0]!Poids      *      (     (A*EXP(-alpha*(AQ$15-$H32)))     +      (B*EXP(-bêta*(AQ$15-$H32)))    +   (_C*EXP(-gamma*(AQ$15-$H32 )))      )","v":0},{"$f":"  $G32/[0]!Poids      *      (     (A*EXP(-alpha*(AR$15-$H32)))     +      (B*EXP(-bêta*(AR$15-$H32)))    +   (_C*EXP(-gamma*(AR$15-$H32 )))      )","v":0},{"$f":"  $G32/[0]!Poids      *      (     (A*EXP(-alpha*(AS$15-$H32)))     +      (B*EXP(-bêta*(AS$15-$H32)))    +   (_C*EXP(-gamma*(AS$15-$H32 )))      )","v":0},{"$f":"  $G32/[0]!Poids      *      (     (A*EXP(-alpha*(AT$15-$H32)))     +      (B*EXP(-bêta*(AT$15-$H32)))    +   (_C*EXP(-gamma*(AT$15-$H32 )))      )","v":0},{"$f":"  $G32/[0]!Poids      *      (     (A*EXP(-alpha*(AU$15-$H32)))     +      (B*EXP(-bêta*(AU$15-$H32)))    +   (_C*EXP(-gamma*(AU$15-$H32 )))      )","v":0},{"$f":"  $G32/[0]!Poids      *      (     (A*EXP(-alpha*(AV$15-$H32)))     +      (B*EXP(-bêta*(AV$15-$H32)))    +   (_C*EXP(-gamma*(AV$15-$H32 )))      )","v":0},{"$f":"  $G32/[0]!Poids      *      (     (A*EXP(-alpha*(AW$15-$H32)))     +      (B*EXP(-bêta*(AW$15-$H32)))    +   (_C*EXP(-gamma*(AW$15-$H32 )))      )","v":0},{"$f":"  $G32/[0]!Poids      *      (     (A*EXP(-alpha*(AX$15-$H32)))     +      (B*EXP(-bêta*(AX$15-$H32)))    +   (_C*EXP(-gamma*(AX$15-$H32 )))      )","v":0},{"$f":"  $G32/[0]!Poids      *      (     (A*EXP(-alpha*(AY$15-$H32)))     +      (B*EXP(-bêta*(AY$15-$H32)))    +   (_C*EXP(-gamma*(AY$15-$H32 )))      )","v":0},{"$f":"  $G32/[0]!Poids      *      (     (A*EXP(-alpha*(AZ$15-$H32)))     +      (B*EXP(-bêta*(AZ$15-$H32)))    +   (_C*EXP(-gamma*(AZ$15-$H32 )))      )","v":0},{"$f":"  $G32/[0]!Poids      *      (     (A*EXP(-alpha*(BA$15-$H32)))     +      (B*EXP(-bêta*(BA$15-$H32)))    +   (_C*EXP(-gamma*(BA$15-$H32 )))      )","v":0},{"$f":"  $G32/[0]!Poids      *      (     (A*EXP(-alpha*(BB$15-$H32)))     +      (B*EXP(-bêta*(BB$15-$H32)))    +   (_C*EXP(-gamma*(BB$15-$H32 )))      )","v":0},{"$f":"  $G32/[0]!Poids      *      (     (A*EXP(-alpha*(BC$15-$H32)))     +      (B*EXP(-bêta*(BC$15-$H32)))    +   (_C*EXP(-gamma*(BC$15-$H32 )))      )","v":0},{"$f":"  $G32/[0]!Poids      *      (     (A*EXP(-alpha*(BD$15-$H32)))     +      (B*EXP(-bêta*(BD$15-$H32)))    +   (_C*EXP(-gamma*(BD$15-$H32 )))      )","v":0},{"$f":"  $G32/[0]!Poids      *      (     (A*EXP(-alpha*(BE$15-$H32)))     +      (B*EXP(-bêta*(BE$15-$H32)))    +   (_C*EXP(-gamma*(BE$15-$H32 )))      )","v":0},{"$f":"  $G32/[0]!Poids      *      (     (A*EXP(-alpha*(BF$15-$H32)))     +      (B*EXP(-bêta*(BF$15-$H32)))    +   (_C*EXP(-gamma*(BF$15-$H32 )))      )","v":0},{"$f":"  $G32/[0]!Poids      *      (     (A*EXP(-alpha*(BG$15-$H32)))     +      (B*EXP(-bêta*(BG$15-$H32)))    +   (_C*EXP(-gamma*(BG$15-$H32 )))      )","v":0},{"$f":"  $G32/[0]!Poids      *      (     (A*EXP(-alpha*(BH$15-$H32)))     +      (B*EXP(-bêta*(BH$15-$H32)))    +   (_C*EXP(-gamma*(BH$15-$H32 )))      )","v":0},{"$f":"  $G32/[0]!Poids      *      (     (A*EXP(-alpha*(BI$15-$H32)))     +      (B*EXP(-bêta*(BI$15-$H32)))    +   (_C*EXP(-gamma*(BI$15-$H32 )))      )","v":0},{"$f":"  $G32/[0]!Poids      *      (     (A*EXP(-alpha*(BJ$15-$H32)))     +      (B*EXP(-bêta*(BJ$15-$H32)))    +   (_C*EXP(-gamma*(BJ$15-$H32 )))      )","v":0},{"$f":"  $G32/[0]!Poids      *      (     (A*EXP(-alpha*(BK$15-$H32)))     +      (B*EXP(-bêta*(BK$15-$H32)))    +   (_C*EXP(-gamma*(BK$15-$H32 )))      )","v":0},{"$f":"  $G32/[0]!Poids      *      (     (A*EXP(-alpha*(BL$15-$H32)))     +      (B*EXP(-bêta*(BL$15-$H32)))    +   (_C*EXP(-gamma*(BL$15-$H32 )))      )","v":0},{"$f":"  $G32/[0]!Poids      *      (     (A*EXP(-alpha*(BM$15-$H32)))     +      (B*EXP(-bêta*(BM$15-$H32)))    +   (_C*EXP(-gamma*(BM$15-$H32 )))      )","v":0},{"$f":"  $G32/[0]!Poids      *      (     (A*EXP(-alpha*(BN$15-$H32)))     +      (B*EXP(-bêta*(BN$15-$H32)))    +   (_C*EXP(-gamma*(BN$15-$H32 )))      )","v":0},{"$f":"  $G32/[0]!Poids      *      (     (A*EXP(-alpha*(BO$15-$H32)))     +      (B*EXP(-bêta*(BO$15-$H32)))    +   (_C*EXP(-gamma*(BO$15-$H32 )))      )","v":0},{"$f":"  $G32/[0]!Poids      *      (     (A*EXP(-alpha*(BP$15-$H32)))     +      (B*EXP(-bêta*(BP$15-$H32)))    +   (_C*EXP(-gamma*(BP$15-$H32 )))      )","v":0},{"$f":"  $G32/[0]!Poids      *      (     (A*EXP(-alpha*(BQ$15-$H32)))     +      (B*EXP(-bêta*(BQ$15-$H32)))    +   (_C*EXP(-gamma*(BQ$15-$H32 )))      )","v":0},{"$f":"  $G32/[0]!Poids      *      (     (A*EXP(-alpha*(BR$15-$H32)))     +      (B*EXP(-bêta*(BR$15-$H32)))    +   (_C*EXP(-gamma*(BR$15-$H32 )))      )","v":0}]
[null,"Kg","mg",0,null,null,{"$f":"AA$10","v":0},85,null,null,null,null,null,null,null,null,null,null,null,null,null,null,null,null,null,null,{"$f":"  $G33/[0]!Poids      *      (     (A*EXP(-alpha*(AA$15-$H33)))     +      (B*EXP(-bêta*(AA$15-$H33)))    +   (_C*EXP(-gamma*(AA$15-$H33 )))      )","v":0},{"$f":"  $G33/[0]!Poids      *      (     (A*EXP(-alpha*(AB$15-$H33)))     +      (B*EXP(-bêta*(AB$15-$H33)))    +   (_C*EXP(-gamma*(AB$15-$H33 )))      )","v":0},{"$f":"  $G33/[0]!Poids      *      (     (A*EXP(-alpha*(AC$15-$H33)))     +      (B*EXP(-bêta*(AC$15-$H33)))    +   (_C*EXP(-gamma*(AC$15-$H33 )))      )","v":0},{"$f":"  $G33/[0]!Poids      *      (     (A*EXP(-alpha*(AD$15-$H33)))     +      (B*EXP(-bêta*(AD$15-$H33)))    +   (_C*EXP(-gamma*(AD$15-$H33 )))      )","v":0},{"$f":"  $G33/[0]!Poids      *      (     (A*EXP(-alpha*(AE$15-$H33)))     +      (B*EXP(-bêta*(AE$15-$H33)))    +   (_C*EXP(-gamma*(AE$15-$H33 )))      )","v":0},{"$f":"  $G33/[0]!Poids      *      (     (A*EXP(-alpha*(AF$15-$H33)))     +      (B*EXP(-bêta*(AF$15-$H33)))    +   (_C*EXP(-gamma*(AF$15-$H33 )))      )","v":0},{"$f":"  $G33/[0]!Poids      *      (     (A*EXP(-alpha*(AG$15-$H33)))     +      (B*EXP(-bêta*(AG$15-$H33)))    +   (_C*EXP(-gamma*(AG$15-$H33 )))      )","v":0},{"$f":"  $G33/[0]!Poids      *      (     (A*EXP(-alpha*(AH$15-$H33)))     +      (B*EXP(-bêta*(AH$15-$H33)))    +   (_C*EXP(-gamma*(AH$15-$H33 )))      )","v":0},{"$f":"  $G33/[0]!Poids      *      (     (A*EXP(-alpha*(AI$15-$H33)))     +      (B*EXP(-bêta*(AI$15-$H33)))    +   (_C*EXP(-gamma*(AI$15-$H33 )))      )","v":0},{"$f":"  $G33/[0]!Poids      *      (     (A*EXP(-alpha*(AJ$15-$H33)))     +      (B*EXP(-bêta*(AJ$15-$H33)))    +   (_C*EXP(-gamma*(AJ$15-$H33 )))      )","v":0},{"$f":"  $G33/[0]!Poids      *      (     (A*EXP(-alpha*(AK$15-$H33)))     +      (B*EXP(-bêta*(AK$15-$H33)))    +   (_C*EXP(-gamma*(AK$15-$H33 )))      )","v":0},{"$f":"  $G33/[0]!Poids      *      (     (A*EXP(-alpha*(AL$15-$H33)))     +      (B*EXP(-bêta*(AL$15-$H33)))    +   (_C*EXP(-gamma*(AL$15-$H33 )))      )","v":0},{"$f":"  $G33/[0]!Poids      *      (     (A*EXP(-alpha*(AM$15-$H33)))     +      (B*EXP(-bêta*(AM$15-$H33)))    +   (_C*EXP(-gamma*(AM$15-$H33 )))      )","v":0},{"$f":"  $G33/[0]!Poids      *      (     (A*EXP(-alpha*(AN$15-$H33)))     +      (B*EXP(-bêta*(AN$15-$H33)))    +   (_C*EXP(-gamma*(AN$15-$H33 )))      )","v":0},{"$f":"  $G33/[0]!Poids      *      (     (A*EXP(-alpha*(AO$15-$H33)))     +      (B*EXP(-bêta*(AO$15-$H33)))    +   (_C*EXP(-gamma*(AO$15-$H33 )))      )","v":0},{"$f":"  $G33/[0]!Poids      *      (     (A*EXP(-alpha*(AP$15-$H33)))     +      (B*EXP(-bêta*(AP$15-$H33)))    +   (_C*EXP(-gamma*(AP$15-$H33 )))      )","v":0},{"$f":"  $G33/[0]!Poids      *      (     (A*EXP(-alpha*(AQ$15-$H33)))     +      (B*EXP(-bêta*(AQ$15-$H33)))    +   (_C*EXP(-gamma*(AQ$15-$H33 )))      )","v":0},{"$f":"  $G33/[0]!Poids      *      (     (A*EXP(-alpha*(AR$15-$H33)))     +      (B*EXP(-bêta*(AR$15-$H33)))    +   (_C*EXP(-gamma*(AR$15-$H33 )))      )","v":0},{"$f":"  $G33/[0]!Poids      *      (     (A*EXP(-alpha*(AS$15-$H33)))     +      (B*EXP(-bêta*(AS$15-$H33)))    +   (_C*EXP(-gamma*(AS$15-$H33 )))      )","v":0},{"$f":"  $G33/[0]!Poids      *      (     (A*EXP(-alpha*(AT$15-$H33)))     +      (B*EXP(-bêta*(AT$15-$H33)))    +   (_C*EXP(-gamma*(AT$15-$H33 )))      )","v":0},{"$f":"  $G33/[0]!Poids      *      (     (A*EXP(-alpha*(AU$15-$H33)))     +      (B*EXP(-bêta*(AU$15-$H33)))    +   (_C*EXP(-gamma*(AU$15-$H33 )))      )","v":0},{"$f":"  $G33/[0]!Poids      *      (     (A*EXP(-alpha*(AV$15-$H33)))     +      (B*EXP(-bêta*(AV$15-$H33)))    +   (_C*EXP(-gamma*(AV$15-$H33 )))      )","v":0},{"$f":"  $G33/[0]!Poids      *      (     (A*EXP(-alpha*(AW$15-$H33)))     +      (B*EXP(-bêta*(AW$15-$H33)))    +   (_C*EXP(-gamma*(AW$15-$H33 )))      )","v":0},{"$f":"  $G33/[0]!Poids      *      (     (A*EXP(-alpha*(AX$15-$H33)))     +      (B*EXP(-bêta*(AX$15-$H33)))    +   (_C*EXP(-gamma*(AX$15-$H33 )))      )","v":0},{"$f":"  $G33/[0]!Poids      *      (     (A*EXP(-alpha*(AY$15-$H33)))     +      (B*EXP(-bêta*(AY$15-$H33)))    +   (_C*EXP(-gamma*(AY$15-$H33 )))      )","v":0},{"$f":"  $G33/[0]!Poids      *      (     (A*EXP(-alpha*(AZ$15-$H33)))     +      (B*EXP(-bêta*(AZ$15-$H33)))    +   (_C*EXP(-gamma*(AZ$15-$H33 )))      )","v":0},{"$f":"  $G33/[0]!Poids      *      (     (A*EXP(-alpha*(BA$15-$H33)))     +      (B*EXP(-bêta*(BA$15-$H33)))    +   (_C*EXP(-gamma*(BA$15-$H33 )))      )","v":0},{"$f":"  $G33/[0]!Poids      *      (     (A*EXP(-alpha*(BB$15-$H33)))     +      (B*EXP(-bêta*(BB$15-$H33)))    +   (_C*EXP(-gamma*(BB$15-$H33 )))      )","v":0},{"$f":"  $G33/[0]!Poids      *      (     (A*EXP(-alpha*(BC$15-$H33)))     +      (B*EXP(-bêta*(BC$15-$H33)))    +   (_C*EXP(-gamma*(BC$15-$H33 )))      )","v":0},{"$f":"  $G33/[0]!Poids      *      (     (A*EXP(-alpha*(BD$15-$H33)))     +      (B*EXP(-bêta*(BD$15-$H33)))    +   (_C*EXP(-gamma*(BD$15-$H33 )))      )","v":0},{"$f":"  $G33/[0]!Poids      *      (     (A*EXP(-alpha*(BE$15-$H33)))     +      (B*EXP(-bêta*(BE$15-$H33)))    +   (_C*EXP(-gamma*(BE$15-$H33 )))      )","v":0},{"$f":"  $G33/[0]!Poids      *      (     (A*EXP(-alpha*(BF$15-$H33)))     +      (B*EXP(-bêta*(BF$15-$H33)))    +   (_C*EXP(-gamma*(BF$15-$H33 )))      )","v":0},{"$f":"  $G33/[0]!Poids      *      (     (A*EXP(-alpha*(BG$15-$H33)))     +      (B*EXP(-bêta*(BG$15-$H33)))    +   (_C*EXP(-gamma*(BG$15-$H33 )))      )","v":0},{"$f":"  $G33/[0]!Poids      *      (     (A*EXP(-alpha*(BH$15-$H33)))     +      (B*EXP(-bêta*(BH$15-$H33)))    +   (_C*EXP(-gamma*(BH$15-$H33 )))      )","v":0},{"$f":"  $G33/[0]!Poids      *      (     (A*EXP(-alpha*(BI$15-$H33)))     +      (B*EXP(-bêta*(BI$15-$H33)))    +   (_C*EXP(-gamma*(BI$15-$H33 )))      )","v":0},{"$f":"  $G33/[0]!Poids      *      (     (A*EXP(-alpha*(BJ$15-$H33)))     +      (B*EXP(-bêta*(BJ$15-$H33)))    +   (_C*EXP(-gamma*(BJ$15-$H33 )))      )","v":0},{"$f":"  $G33/[0]!Poids      *      (     (A*EXP(-alpha*(BK$15-$H33)))     +      (B*EXP(-bêta*(BK$15-$H33)))    +   (_C*EXP(-gamma*(BK$15-$H33 )))      )","v":0},{"$f":"  $G33/[0]!Poids      *      (     (A*EXP(-alpha*(BL$15-$H33)))     +      (B*EXP(-bêta*(BL$15-$H33)))    +   (_C*EXP(-gamma*(BL$15-$H33 )))      )","v":0},{"$f":"  $G33/[0]!Poids      *      (     (A*EXP(-alpha*(BM$15-$H33)))     +      (B*EXP(-bêta*(BM$15-$H33)))    +   (_C*EXP(-gamma*(BM$15-$H33 )))      )","v":0},{"$f":"  $G33/[0]!Poids      *      (     (A*EXP(-alpha*(BN$15-$H33)))     +      (B*EXP(-bêta*(BN$15-$H33)))    +   (_C*EXP(-gamma*(BN$15-$H33 )))      )","v":0},{"$f":"  $G33/[0]!Poids      *      (     (A*EXP(-alpha*(BO$15-$H33)))     +      (B*EXP(-bêta*(BO$15-$H33)))    +   (_C*EXP(-gamma*(BO$15-$H33 )))      )","v":0},{"$f":"  $G33/[0]!Poids      *      (     (A*EXP(-alpha*(BP$15-$H33)))     +      (B*EXP(-bêta*(BP$15-$H33)))    +   (_C*EXP(-gamma*(BP$15-$H33 )))      )","v":0},{"$f":"  $G33/[0]!Poids      *      (     (A*EXP(-alpha*(BQ$15-$H33)))     +      (B*EXP(-bêta*(BQ$15-$H33)))    +   (_C*EXP(-gamma*(BQ$15-$H33 )))      )","v":0},{"$f":"  $G33/[0]!Poids      *      (     (A*EXP(-alpha*(BR$15-$H33)))     +      (B*EXP(-bêta*(BR$15-$H33)))    +   (_C*EXP(-gamma*(BR$15-$H33 )))      )","v":0}]
[null,70,140,{"$f":"  C34/B34      *      (     (A*EXP(-alpha*(D33)))     +      (B*EXP(-bêta*(D33)))    +   (_C*EXP(-gamma*(D33 )))      )","v":16837},"ng",null,{"$f":"AB$10","v":0},90,null,null,null,null,null,null,null,null,null,null,null,null,null,null,null,null,null,null,null,{"$f":"  $G34/[0]!Poids      *      (     (A*EXP(-alpha*(AB$15-$H34)))     +      (B*EXP(-bêta*(AB$15-$H34)))    +   (_C*EXP(-gamma*(AB$15-$H34 )))      )","v":0},{"$f":"  $G34/[0]!Poids      *      (     (A*EXP(-alpha*(AC$15-$H34)))     +      (B*EXP(-bêta*(AC$15-$H34)))    +   (_C*EXP(-gamma*(AC$15-$H34 )))      )","v":0},{"$f":"  $G34/[0]!Poids      *      (     (A*EXP(-alpha*(AD$15-$H34)))     +      (B*EXP(-bêta*(AD$15-$H34)))    +   (_C*EXP(-gamma*(AD$15-$H34 )))      )","v":0},{"$f":"  $G34/[0]!Poids      *      (     (A*EXP(-alpha*(AE$15-$H34)))     +      (B*EXP(-bêta*(AE$15-$H34)))    +   (_C*EXP(-gamma*(AE$15-$H34 )))      )","v":0},{"$f":"  $G34/[0]!Poids      *      (     (A*EXP(-alpha*(AF$15-$H34)))     +      (B*EXP(-bêta*(AF$15-$H34)))    +   (_C*EXP(-gamma*(AF$15-$H34 )))      )","v":0},{"$f":"  $G34/[0]!Poids      *      (     (A*EXP(-alpha*(AG$15-$H34)))     +      (B*EXP(-bêta*(AG$15-$H34)))    +   (_C*EXP(-gamma*(AG$15-$H34 )))      )","v":0},{"$f":"  $G34/[0]!Poids      *      (     (A*EXP(-alpha*(AH$15-$H34)))     +      (B*EXP(-bêta*(AH$15-$H34)))    +   (_C*EXP(-gamma*(AH$15-$H34 )))      )","v":0},{"$f":"  $G34/[0]!Poids      *      (     (A*EXP(-alpha*(AI$15-$H34)))     +      (B*EXP(-bêta*(AI$15-$H34)))    +   (_C*EXP(-gamma*(AI$15-$H34 )))      )","v":0},{"$f":"  $G34/[0]!Poids      *      (     (A*EXP(-alpha*(AJ$15-$H34)))     +      (B*EXP(-bêta*(AJ$15-$H34)))    +   (_C*EXP(-gamma*(AJ$15-$H34 )))      )","v":0},{"$f":"  $G34/[0]!Poids      *      (     (A*EXP(-alpha*(AK$15-$H34)))     +      (B*EXP(-bêta*(AK$15-$H34)))    +   (_C*EXP(-gamma*(AK$15-$H34 )))      )","v":0},{"$f":"  $G34/[0]!Poids      *      (     (A*EXP(-alpha*(AL$15-$H34)))     +      (B*EXP(-bêta*(AL$15-$H34)))    +   (_C*EXP(-gamma*(AL$15-$H34 )))      )","v":0},{"$f":"  $G34/[0]!Poids      *      (     (A*EXP(-alpha*(AM$15-$H34)))     +      (B*EXP(-bêta*(AM$15-$H34)))    +   (_C*EXP(-gamma*(AM$15-$H34 )))      )","v":0},{"$f":"  $G34/[0]!Poids      *      (     (A*EXP(-alpha*(AN$15-$H34)))     +      (B*EXP(-bêta*(AN$15-$H34)))    +   (_C*EXP(-gamma*(AN$15-$H34 )))      )","v":0},{"$f":"  $G34/[0]!Poids      *      (     (A*EXP(-alpha*(AO$15-$H34)))     +      (B*EXP(-bêta*(AO$15-$H34)))    +   (_C*EXP(-gamma*(AO$15-$H34 )))      )","v":0},{"$f":"  $G34/[0]!Poids      *      (     (A*EXP(-alpha*(AP$15-$H34)))     +      (B*EXP(-bêta*(AP$15-$H34)))    +   (_C*EXP(-gamma*(AP$15-$H34 )))      )","v":0},{"$f":"  $G34/[0]!Poids      *      (     (A*EXP(-alpha*(AQ$15-$H34)))     +      (B*EXP(-bêta*(AQ$15-$H34)))    +   (_C*EXP(-gamma*(AQ$15-$H34 )))      )","v":0},{"$f":"  $G34/[0]!Poids      *      (     (A*EXP(-alpha*(AR$15-$H34)))     +      (B*EXP(-bêta*(AR$15-$H34)))    +   (_C*EXP(-gamma*(AR$15-$H34 )))      )","v":0},{"$f":"  $G34/[0]!Poids      *      (     (A*EXP(-alpha*(AS$15-$H34)))     +      (B*EXP(-bêta*(AS$15-$H34)))    +   (_C*EXP(-gamma*(AS$15-$H34 )))      )","v":0},{"$f":"  $G34/[0]!Poids      *      (     (A*EXP(-alpha*(AT$15-$H34)))     +      (B*EXP(-bêta*(AT$15-$H34)))    +   (_C*EXP(-gamma*(AT$15-$H34 )))      )","v":0},{"$f":"  $G34/[0]!Poids      *      (     (A*EXP(-alpha*(AU$15-$H34)))     +      (B*EXP(-bêta*(AU$15-$H34)))    +   (_C*EXP(-gamma*(AU$15-$H34 )))      )","v":0},{"$f":"  $G34/[0]!Poids      *      (     (A*EXP(-alpha*(AV$15-$H34)))     +      (B*EXP(-bêta*(AV$15-$H34)))    +   (_C*EXP(-gamma*(AV$15-$H34 )))      )","v":0},{"$f":"  $G34/[0]!Poids      *      (     (A*EXP(-alpha*(AW$15-$H34)))     +      (B*EXP(-bêta*(AW$15-$H34)))    +   (_C*EXP(-gamma*(AW$15-$H34 )))      )","v":0},{"$f":"  $G34/[0]!Poids      *      (     (A*EXP(-alpha*(AX$15-$H34)))     +      (B*EXP(-bêta*(AX$15-$H34)))    +   (_C*EXP(-gamma*(AX$15-$H34 )))      )","v":0},{"$f":"  $G34/[0]!Poids      *      (     (A*EXP(-alpha*(AY$15-$H34)))     +      (B*EXP(-bêta*(AY$15-$H34)))    +   (_C*EXP(-gamma*(AY$15-$H34 )))      )","v":0},{"$f":"  $G34/[0]!Poids      *      (     (A*EXP(-alpha*(AZ$15-$H34)))     +      (B*EXP(-bêta*(AZ$15-$H34)))    +   (_C*EXP(-gamma*(AZ$15-$H34 )))      )","v":0},{"$f":"  $G34/[0]!Poids      *      (     (A*EXP(-alpha*(BA$15-$H34)))     +      (B*EXP(-bêta*(BA$15-$H34)))    +   (_C*EXP(-gamma*(BA$15-$H34 )))      )","v":0},{"$f":"  $G34/[0]!Poids      *      (     (A*EXP(-alpha*(BB$15-$H34)))     +      (B*EXP(-bêta*(BB$15-$H34)))    +   (_C*EXP(-gamma*(BB$15-$H34 )))      )","v":0},{"$f":"  $G34/[0]!Poids      *      (     (A*EXP(-alpha*(BC$15-$H34)))     +      (B*EXP(-bêta*(BC$15-$H34)))    +   (_C*EXP(-gamma*(BC$15-$H34 )))      )","v":0},{"$f":"  $G34/[0]!Poids      *      (     (A*EXP(-alpha*(BD$15-$H34)))     +      (B*EXP(-bêta*(BD$15-$H34)))    +   (_C*EXP(-gamma*(BD$15-$H34 )))      )","v":0},{"$f":"  $G34/[0]!Poids      *      (     (A*EXP(-alpha*(BE$15-$H34)))     +      (B*EXP(-bêta*(BE$15-$H34)))    +   (_C*EXP(-gamma*(BE$15-$H34 )))      )","v":0},{"$f":"  $G34/[0]!Poids      *      (     (A*EXP(-alpha*(BF$15-$H34)))     +      (B*EXP(-bêta*(BF$15-$H34)))    +   (_C*EXP(-gamma*(BF$15-$H34 )))      )","v":0},{"$f":"  $G34/[0]!Poids      *      (     (A*EXP(-alpha*(BG$15-$H34)))     +      (B*EXP(-bêta*(BG$15-$H34)))    +   (_C*EXP(-gamma*(BG$15-$H34 )))      )","v":0},{"$f":"  $G34/[0]!Poids      *      (     (A*EXP(-alpha*(BH$15-$H34)))     +      (B*EXP(-bêta*(BH$15-$H34)))    +   (_C*EXP(-gamma*(BH$15-$H34 )))      )","v":0},{"$f":"  $G34/[0]!Poids      *      (     (A*EXP(-alpha*(BI$15-$H34)))     +      (B*EXP(-bêta*(BI$15-$H34)))    +   (_C*EXP(-gamma*(BI$15-$H34 )))      )","v":0},{"$f":"  $G34/[0]!Poids      *      (     (A*EXP(-alpha*(BJ$15-$H34)))     +      (B*EXP(-bêta*(BJ$15-$H34)))    +   (_C*EXP(-gamma*(BJ$15-$H34 )))      )","v":0},{"$f":"  $G34/[0]!Poids      *      (     (A*EXP(-alpha*(BK$15-$H34)))     +      (B*EXP(-bêta*(BK$15-$H34)))    +   (_C*EXP(-gamma*(BK$15-$H34 )))      )","v":0},{"$f":"  $G34/[0]!Poids      *      (     (A*EXP(-alpha*(BL$15-$H34)))     +      (B*EXP(-bêta*(BL$15-$H34)))    +   (_C*EXP(-gamma*(BL$15-$H34 )))      )","v":0},{"$f":"  $G34/[0]!Poids      *      (     (A*EXP(-alpha*(BM$15-$H34)))     +      (B*EXP(-bêta*(BM$15-$H34)))    +   (_C*EXP(-gamma*(BM$15-$H34 )))      )","v":0},{"$f":"  $G34/[0]!Poids      *      (     (A*EXP(-alpha*(BN$15-$H34)))     +      (B*EXP(-bêta*(BN$15-$H34)))    +   (_C*EXP(-gamma*(BN$15-$H34 )))      )","v":0},{"$f":"  $G34/[0]!Poids      *      (     (A*EXP(-alpha*(BO$15-$H34)))     +      (B*EXP(-bêta*(BO$15-$H34)))    +   (_C*EXP(-gamma*(BO$15-$H34 )))      )","v":0},{"$f":"  $G34/[0]!Poids      *      (     (A*EXP(-alpha*(BP$15-$H34)))     +      (B*EXP(-bêta*(BP$15-$H34)))    +   (_C*EXP(-gamma*(BP$15-$H34 )))      )","v":0},{"$f":"  $G34/[0]!Poids      *      (     (A*EXP(-alpha*(BQ$15-$H34)))     +      (B*EXP(-bêta*(BQ$15-$H34)))    +   (_C*EXP(-gamma*(BQ$15-$H34 )))      )","v":0},{"$f":"  $G34/[0]!Poids      *      (     (A*EXP(-alpha*(BR$15-$H34)))     +      (B*EXP(-bêta*(BR$15-$H34)))    +   (_C*EXP(-gamma*(BR$15-$H34 )))      )","v":0}]
[null,null,null,null,null,null,{"$f":"AC$10","v":0},95,null,null,null,null,null,null,null,null,null,null,null,null,null,null,null,null,null,null,null,null,{"$f":"  $G35/[0]!Poids      *      (     (A*EXP(-alpha*(AC$15-$H35)))     +      (B*EXP(-bêta*(AC$15-$H35)))    +   (_C*EXP(-gamma*(AC$15-$H35 )))      )","v":0},{"$f":"  $G35/[0]!Poids      *      (     (A*EXP(-alpha*(AD$15-$H35)))     +      (B*EXP(-bêta*(AD$15-$H35)))    +   (_C*EXP(-gamma*(AD$15-$H35 )))      )","v":0},{"$f":"  $G35/[0]!Poids      *      (     (A*EXP(-alpha*(AE$15-$H35)))     +      (B*EXP(-bêta*(AE$15-$H35)))    +   (_C*EXP(-gamma*(AE$15-$H35 )))      )","v":0},{"$f":"  $G35/[0]!Poids      *      (     (A*EXP(-alpha*(AF$15-$H35)))     +      (B*EXP(-bêta*(AF$15-$H35)))    +   (_C*EXP(-gamma*(AF$15-$H35 )))      )","v":0},{"$f":"  $G35/[0]!Poids      *      (     (A*EXP(-alpha*(AG$15-$H35)))     +      (B*EXP(-bêta*(AG$15-$H35)))    +   (_C*EXP(-gamma*(AG$15-$H35 )))      )","v":0},{"$f":"  $G35/[0]!Poids      *      (     (A*EXP(-alpha*(AH$15-$H35)))     +      (B*EXP(-bêta*(AH$15-$H35)))    +   (_C*EXP(-gamma*(AH$15-$H35 )))      )","v":0},{"$f":"  $G35/[0]!Poids      *      (     (A*EXP(-alpha*(AI$15-$H35)))     +      (B*EXP(-bêta*(AI$15-$H35)))    +   (_C*EXP(-gamma*(AI$15-$H35 )))      )","v":0},{"$f":"  $G35/[0]!Poids      *      (     (A*EXP(-alpha*(AJ$15-$H35)))     +      (B*EXP(-bêta*(AJ$15-$H35)))    +   (_C*EXP(-gamma*(AJ$15-$H35 )))      )","v":0},{"$f":"  $G35/[0]!Poids      *      (     (A*EXP(-alpha*(AK$15-$H35)))     +      (B*EXP(-bêta*(AK$15-$H35)))    +   (_C*EXP(-gamma*(AK$15-$H35 )))      )","v":0},{"$f":"  $G35/[0]!Poids      *      (     (A*EXP(-alpha*(AL$15-$H35)))     +      (B*EXP(-bêta*(AL$15-$H35)))    +   (_C*EXP(-gamma*(AL$15-$H35 )))      )","v":0},{"$f":"  $G35/[0]!Poids      *      (     (A*EXP(-alpha*(AM$15-$H35)))     +      (B*EXP(-bêta*(AM$15-$H35)))    +   (_C*EXP(-gamma*(AM$15-$H35 )))      )","v":0},{"$f":"  $G35/[0]!Poids      *      (     (A*EXP(-alpha*(AN$15-$H35)))     +      (B*EXP(-bêta*(AN$15-$H35)))    +   (_C*EXP(-gamma*(AN$15-$H35 )))      )","v":0},{"$f":"  $G35/[0]!Poids      *      (     (A*EXP(-alpha*(AO$15-$H35)))     +      (B*EXP(-bêta*(AO$15-$H35)))    +   (_C*EXP(-gamma*(AO$15-$H35 )))      )","v":0},{"$f":"  $G35/[0]!Poids      *      (     (A*EXP(-alpha*(AP$15-$H35)))     +      (B*EXP(-bêta*(AP$15-$H35)))    +   (_C*EXP(-gamma*(AP$15-$H35 )))      )","v":0},{"$f":"  $G35/[0]!Poids      *      (     (A*EXP(-alpha*(AQ$15-$H35)))     +      (B*EXP(-bêta*(AQ$15-$H35)))    +   (_C*EXP(-gamma*(AQ$15-$H35 )))      )","v":0},{"$f":"  $G35/[0]!Poids      *      (     (A*EXP(-alpha*(AR$15-$H35)))     +      (B*EXP(-bêta*(AR$15-$H35)))    +   (_C*EXP(-gamma*(AR$15-$H35 )))      )","v":0},{"$f":"  $G35/[0]!Poids      *      (     (A*EXP(-alpha*(AS$15-$H35)))     +      (B*EXP(-bêta*(AS$15-$H35)))    +   (_C*EXP(-gamma*(AS$15-$H35 )))      )","v":0},{"$f":"  $G35/[0]!Poids      *      (     (A*EXP(-alpha*(AT$15-$H35)))     +      (B*EXP(-bêta*(AT$15-$H35)))    +   (_C*EXP(-gamma*(AT$15-$H35 )))      )","v":0},{"$f":"  $G35/[0]!Poids      *      (     (A*EXP(-alpha*(AU$15-$H35)))     +      (B*EXP(-bêta*(AU$15-$H35)))    +   (_C*EXP(-gamma*(AU$15-$H35 )))      )","v":0},{"$f":"  $G35/[0]!Poids      *      (     (A*EXP(-alpha*(AV$15-$H35)))     +      (B*EXP(-bêta*(AV$15-$H35)))    +   (_C*EXP(-gamma*(AV$15-$H35 )))      )","v":0},{"$f":"  $G35/[0]!Poids      *      (     (A*EXP(-alpha*(AW$15-$H35)))     +      (B*EXP(-bêta*(AW$15-$H35)))    +   (_C*EXP(-gamma*(AW$15-$H35 )))      )","v":0},{"$f":"  $G35/[0]!Poids      *      (     (A*EXP(-alpha*(AX$15-$H35)))     +      (B*EXP(-bêta*(AX$15-$H35)))    +   (_C*EXP(-gamma*(AX$15-$H35 )))      )","v":0},{"$f":"  $G35/[0]!Poids      *      (     (A*EXP(-alpha*(AY$15-$H35)))     +      (B*EXP(-bêta*(AY$15-$H35)))    +   (_C*EXP(-gamma*(AY$15-$H35 )))      )","v":0},{"$f":"  $G35/[0]!Poids      *      (     (A*EXP(-alpha*(AZ$15-$H35)))     +      (B*EXP(-bêta*(AZ$15-$H35)))    +   (_C*EXP(-gamma*(AZ$15-$H35 )))      )","v":0},{"$f":"  $G35/[0]!Poids      *      (     (A*EXP(-alpha*(BA$15-$H35)))     +      (B*EXP(-bêta*(BA$15-$H35)))    +   (_C*EXP(-gamma*(BA$15-$H35 )))      )","v":0},{"$f":"  $G35/[0]!Poids      *      (     (A*EXP(-alpha*(BB$15-$H35)))     +      (B*EXP(-bêta*(BB$15-$H35)))    +   (_C*EXP(-gamma*(BB$15-$H35 )))      )","v":0},{"$f":"  $G35/[0]!Poids      *      (     (A*EXP(-alpha*(BC$15-$H35)))     +      (B*EXP(-bêta*(BC$15-$H35)))    +   (_C*EXP(-gamma*(BC$15-$H35 )))      )","v":0},{"$f":"  $G35/[0]!Poids      *      (     (A*EXP(-alpha*(BD$15-$H35)))     +      (B*EXP(-bêta*(BD$15-$H35)))    +   (_C*EXP(-gamma*(BD$15-$H35 )))      )","v":0},{"$f":"  $G35/[0]!Poids      *      (     (A*EXP(-alpha*(BE$15-$H35)))     +      (B*EXP(-bêta*(BE$15-$H35)))    +   (_C*EXP(-gamma*(BE$15-$H35 )))      )","v":0},{"$f":"  $G35/[0]!Poids      *      (     (A*EXP(-alpha*(BF$15-$H35)))     +      (B*EXP(-bêta*(BF$15-$H35)))    +   (_C*EXP(-gamma*(BF$15-$H35 )))      )","v":0},{"$f":"  $G35/[0]!Poids      *      (     (A*EXP(-alpha*(BG$15-$H35)))     +      (B*EXP(-bêta*(BG$15-$H35)))    +   (_C*EXP(-gamma*(BG$15-$H35 )))      )","v":0},{"$f":"  $G35/[0]!Poids      *      (     (A*EXP(-alpha*(BH$15-$H35)))     +      (B*EXP(-bêta*(BH$15-$H35)))    +   (_C*EXP(-gamma*(BH$15-$H35 )))      )","v":0},{"$f":"  $G35/[0]!Poids      *      (     (A*EXP(-alpha*(BI$15-$H35)))     +      (B*EXP(-bêta*(BI$15-$H35)))    +   (_C*EXP(-gamma*(BI$15-$H35 )))      )","v":0},{"$f":"  $G35/[0]!Poids      *      (     (A*EXP(-alpha*(BJ$15-$H35)))     +      (B*EXP(-bêta*(BJ$15-$H35)))    +   (_C*EXP(-gamma*(BJ$15-$H35 )))      )","v":0},{"$f":"  $G35/[0]!Poids      *      (     (A*EXP(-alpha*(BK$15-$H35)))     +      (B*EXP(-bêta*(BK$15-$H35)))    +   (_C*EXP(-gamma*(BK$15-$H35 )))      )","v":0},{"$f":"  $G35/[0]!Poids      *      (     (A*EXP(-alpha*(BL$15-$H35)))     +      (B*EXP(-bêta*(BL$15-$H35)))    +   (_C*EXP(-gamma*(BL$15-$H35 )))      )","v":0},{"$f":"  $G35/[0]!Poids      *      (     (A*EXP(-alpha*(BM$15-$H35)))     +      (B*EXP(-bêta*(BM$15-$H35)))    +   (_C*EXP(-gamma*(BM$15-$H35 )))      )","v":0},{"$f":"  $G35/[0]!Poids      *      (     (A*EXP(-alpha*(BN$15-$H35)))     +      (B*EXP(-bêta*(BN$15-$H35)))    +   (_C*EXP(-gamma*(BN$15-$H35 )))      )","v":0},{"$f":"  $G35/[0]!Poids      *      (     (A*EXP(-alpha*(BO$15-$H35)))     +      (B*EXP(-bêta*(BO$15-$H35)))    +   (_C*EXP(-gamma*(BO$15-$H35 )))      )","v":0},{"$f":"  $G35/[0]!Poids      *      (     (A*EXP(-alpha*(BP$15-$H35)))     +      (B*EXP(-bêta*(BP$15-$H35)))    +   (_C*EXP(-gamma*(BP$15-$H35 )))      )","v":0},{"$f":"  $G35/[0]!Poids      *      (     (A*EXP(-alpha*(BQ$15-$H35)))     +      (B*EXP(-bêta*(BQ$15-$H35)))    +   (_C*EXP(-gamma*(BQ$15-$H35 )))      )","v":0},{"$f":"  $G35/[0]!Poids      *      (     (A*EXP(-alpha*(BR$15-$H35)))     +      (B*EXP(-bêta*(BR$15-$H35)))    +   (_C*EXP(-gamma*(BR$15-$H35 )))      )","v":0}]
[null,null,null,null,null,null,{"$f":"AD$10","v":0},100,null,null,null,null,null,null,null,null,null,null,null,null,null,null,null,null,null,null,null,null,null,{"$f":"  $G36/[0]!Poids      *      (     (A*EXP(-alpha*(AD$15-$H36)))     +      (B*EXP(-bêta*(AD$15-$H36)))    +   (_C*EXP(-gamma*(AD$15-$H36 )))      )","v":0},{"$f":"  $G36/[0]!Poids      *      (     (A*EXP(-alpha*(AE$15-$H36)))     +      (B*EXP(-bêta*(AE$15-$H36)))    +   (_C*EXP(-gamma*(AE$15-$H36 )))      )","v":0},{"$f":"  $G36/[0]!Poids      *      (     (A*EXP(-alpha*(AF$15-$H36)))     +      (B*EXP(-bêta*(AF$15-$H36)))    +   (_C*EXP(-gamma*(AF$15-$H36 )))      )","v":0},{"$f":"  $G36/[0]!Poids      *      (     (A*EXP(-alpha*(AG$15-$H36)))     +      (B*EXP(-bêta*(AG$15-$H36)))    +   (_C*EXP(-gamma*(AG$15-$H36 )))      )","v":0},{"$f":"  $G36/[0]!Poids      *      (     (A*EXP(-alpha*(AH$15-$H36)))     +      (B*EXP(-bêta*(AH$15-$H36)))    +   (_C*EXP(-gamma*(AH$15-$H36 )))      )","v":0},{"$f":"  $G36/[0]!Poids      *      (     (A*EXP(-alpha*(AI$15-$H36)))     +      (B*EXP(-bêta*(AI$15-$H36)))    +   (_C*EXP(-gamma*(AI$15-$H36 )))      )","v":0},{"$f":"  $G36/[0]!Poids      *      (     (A*EXP(-alpha*(AJ$15-$H36)))     +      (B*EXP(-bêta*(AJ$15-$H36)))    +   (_C*EXP(-gamma*(AJ$15-$H36 )))      )","v":0},{"$f":"  $G36/[0]!Poids      *      (     (A*EXP(-alpha*(AK$15-$H36)))     +      (B*EXP(-bêta*(AK$15-$H36)))    +   (_C*EXP(-gamma*(AK$15-$H36 )))      )","v":0},{"$f":"  $G36/[0]!Poids      *      (     (A*EXP(-alpha*(AL$15-$H36)))     +      (B*EXP(-bêta*(AL$15-$H36)))    +   (_C*EXP(-gamma*(AL$15-$H36 )))      )","v":0},{"$f":"  $G36/[0]!Poids      *      (     (A*EXP(-alpha*(AM$15-$H36)))     +      (B*EXP(-bêta*(AM$15-$H36)))    +   (_C*EXP(-gamma*(AM$15-$H36 )))      )","v":0},{"$f":"  $G36/[0]!Poids      *      (     (A*EXP(-alpha*(AN$15-$H36)))     +      (B*EXP(-bêta*(AN$15-$H36)))    +   (_C*EXP(-gamma*(AN$15-$H36 )))      )","v":0},{"$f":"  $G36/[0]!Poids      *      (     (A*EXP(-alpha*(AO$15-$H36)))     +      (B*EXP(-bêta*(AO$15-$H36)))    +   (_C*EXP(-gamma*(AO$15-$H36 )))      )","v":0},{"$f":"  $G36/[0]!Poids      *      (     (A*EXP(-alpha*(AP$15-$H36)))     +      (B*EXP(-bêta*(AP$15-$H36)))    +   (_C*EXP(-gamma*(AP$15-$H36 )))      )","v":0},{"$f":"  $G36/[0]!Poids      *      (     (A*EXP(-alpha*(AQ$15-$H36)))     +      (B*EXP(-bêta*(AQ$15-$H36)))    +   (_C*EXP(-gamma*(AQ$15-$H36 )))      )","v":0},{"$f":"  $G36/[0]!Poids      *      (     (A*EXP(-alpha*(AR$15-$H36)))     +      (B*EXP(-bêta*(AR$15-$H36)))    +   (_C*EXP(-gamma*(AR$15-$H36 )))      )","v":0},{"$f":"  $G36/[0]!Poids      *      (     (A*EXP(-alpha*(AS$15-$H36)))     +      (B*EXP(-bêta*(AS$15-$H36)))    +   (_C*EXP(-gamma*(AS$15-$H36 )))      )","v":0},{"$f":"  $G36/[0]!Poids      *      (     (A*EXP(-alpha*(AT$15-$H36)))     +      (B*EXP(-bêta*(AT$15-$H36)))    +   (_C*EXP(-gamma*(AT$15-$H36 )))      )","v":0},{"$f":"  $G36/[0]!Poids      *      (     (A*EXP(-alpha*(AU$15-$H36)))     +      (B*EXP(-bêta*(AU$15-$H36)))    +   (_C*EXP(-gamma*(AU$15-$H36 )))      )","v":0},{"$f":"  $G36/[0]!Poids      *      (     (A*EXP(-alpha*(AV$15-$H36)))     +      (B*EXP(-bêta*(AV$15-$H36)))    +   (_C*EXP(-gamma*(AV$15-$H36 )))      )","v":0},{"$f":"  $G36/[0]!Poids      *      (     (A*EXP(-alpha*(AW$15-$H36)))     +      (B*EXP(-bêta*(AW$15-$H36)))    +   (_C*EXP(-gamma*(AW$15-$H36 )))      )","v":0},{"$f":"  $G36/[0]!Poids      *      (     (A*EXP(-alpha*(AX$15-$H36)))     +      (B*EXP(-bêta*(AX$15-$H36)))    +   (_C*EXP(-gamma*(AX$15-$H36 )))      )","v":0},{"$f":"  $G36/[0]!Poids      *      (     (A*EXP(-alpha*(AY$15-$H36)))     +      (B*EXP(-bêta*(AY$15-$H36)))    +   (_C*EXP(-gamma*(AY$15-$H36 )))      )","v":0},{"$f":"  $G36/[0]!Poids      *      (     (A*EXP(-alpha*(AZ$15-$H36)))     +      (B*EXP(-bêta*(AZ$15-$H36)))    +   (_C*EXP(-gamma*(AZ$15-$H36 )))      )","v":0},{"$f":"  $G36/[0]!Poids      *      (     (A*EXP(-alpha*(BA$15-$H36)))     +      (B*EXP(-bêta*(BA$15-$H36)))    +   (_C*EXP(-gamma*(BA$15-$H36 )))      )","v":0},{"$f":"  $G36/[0]!Poids      *      (     (A*EXP(-alpha*(BB$15-$H36)))     +      (B*EXP(-bêta*(BB$15-$H36)))    +   (_C*EXP(-gamma*(BB$15-$H36 )))      )","v":0},{"$f":"  $G36/[0]!Poids      *      (     (A*EXP(-alpha*(BC$15-$H36)))     +      (B*EXP(-bêta*(BC$15-$H36)))    +   (_C*EXP(-gamma*(BC$15-$H36 )))      )","v":0},{"$f":"  $G36/[0]!Poids      *      (     (A*EXP(-alpha*(BD$15-$H36)))     +      (B*EXP(-bêta*(BD$15-$H36)))    +   (_C*EXP(-gamma*(BD$15-$H36 )))      )","v":0},{"$f":"  $G36/[0]!Poids      *      (     (A*EXP(-alpha*(BE$15-$H36)))     +      (B*EXP(-bêta*(BE$15-$H36)))    +   (_C*EXP(-gamma*(BE$15-$H36 )))      )","v":0},{"$f":"  $G36/[0]!Poids      *      (     (A*EXP(-alpha*(BF$15-$H36)))     +      (B*EXP(-bêta*(BF$15-$H36)))    +   (_C*EXP(-gamma*(BF$15-$H36 )))      )","v":0},{"$f":"  $G36/[0]!Poids      *      (     (A*EXP(-alpha*(BG$15-$H36)))     +      (B*EXP(-bêta*(BG$15-$H36)))    +   (_C*EXP(-gamma*(BG$15-$H36 )))      )","v":0},{"$f":"  $G36/[0]!Poids      *      (     (A*EXP(-alpha*(BH$15-$H36)))     +      (B*EXP(-bêta*(BH$15-$H36)))    +   (_C*EXP(-gamma*(BH$15-$H36 )))      )","v":0},{"$f":"  $G36/[0]!Poids      *      (     (A*EXP(-alpha*(BI$15-$H36)))     +      (B*EXP(-bêta*(BI$15-$H36)))    +   (_C*EXP(-gamma*(BI$15-$H36 )))      )","v":0},{"$f":"  $G36/[0]!Poids      *      (     (A*EXP(-alpha*(BJ$15-$H36)))     +      (B*EXP(-bêta*(BJ$15-$H36)))    +   (_C*EXP(-gamma*(BJ$15-$H36 )))      )","v":0},{"$f":"  $G36/[0]!Poids      *      (     (A*EXP(-alpha*(BK$15-$H36)))     +      (B*EXP(-bêta*(BK$15-$H36)))    +   (_C*EXP(-gamma*(BK$15-$H36 )))      )","v":0},{"$f":"  $G36/[0]!Poids      *      (     (A*EXP(-alpha*(BL$15-$H36)))     +      (B*EXP(-bêta*(BL$15-$H36)))    +   (_C*EXP(-gamma*(BL$15-$H36 )))      )","v":0},{"$f":"  $G36/[0]!Poids      *      (     (A*EXP(-alpha*(BM$15-$H36)))     +      (B*EXP(-bêta*(BM$15-$H36)))    +   (_C*EXP(-gamma*(BM$15-$H36 )))      )","v":0},{"$f":"  $G36/[0]!Poids      *      (     (A*EXP(-alpha*(BN$15-$H36)))     +      (B*EXP(-bêta*(BN$15-$H36)))    +   (_C*EXP(-gamma*(BN$15-$H36 )))      )","v":0},{"$f":"  $G36/[0]!Poids      *      (     (A*EXP(-alpha*(BO$15-$H36)))     +      (B*EXP(-bêta*(BO$15-$H36)))    +   (_C*EXP(-gamma*(BO$15-$H36 )))      )","v":0},{"$f":"  $G36/[0]!Poids      *      (     (A*EXP(-alpha*(BP$15-$H36)))     +      (B*EXP(-bêta*(BP$15-$H36)))    +   (_C*EXP(-gamma*(BP$15-$H36 )))      )","v":0},{"$f":"  $G36/[0]!Poids      *      (     (A*EXP(-alpha*(BQ$15-$H36)))     +      (B*EXP(-bêta*(BQ$15-$H36)))    +   (_C*EXP(-gamma*(BQ$15-$H36 )))      )","v":0},{"$f":"  $G36/[0]!Poids      *      (     (A*EXP(-alpha*(BR$15-$H36)))     +      (B*EXP(-bêta*(BR$15-$H36)))    +   (_C*EXP(-gamma*(BR$15-$H36 )))      )","v":0}]
[null,null,null,null,null,null,{"$f":"AE$10","v":0},105,null,null,null,null,null,null,null,null,null,null,null,null,null,null,null,null,null,null,null,null,null,null,{"$f":"  $G37/[0]!Poids      *      (     (A*EXP(-alpha*(AE$15-$H37)))     +      (B*EXP(-bêta*(AE$15-$H37)))    +   (_C*EXP(-gamma*(AE$15-$H37 )))      )","v":0},{"$f":"  $G37/[0]!Poids      *      (     (A*EXP(-alpha*(AF$15-$H37)))     +      (B*EXP(-bêta*(AF$15-$H37)))    +   (_C*EXP(-gamma*(AF$15-$H37 )))      )","v":0},{"$f":"  $G37/[0]!Poids      *      (     (A*EXP(-alpha*(AG$15-$H37)))     +      (B*EXP(-bêta*(AG$15-$H37)))    +   (_C*EXP(-gamma*(AG$15-$H37 )))      )","v":0},{"$f":"  $G37/[0]!Poids      *      (     (A*EXP(-alpha*(AH$15-$H37)))     +      (B*EXP(-bêta*(AH$15-$H37)))    +   (_C*EXP(-gamma*(AH$15-$H37 )))      )","v":0},{"$f":"  $G37/[0]!Poids      *      (     (A*EXP(-alpha*(AI$15-$H37)))     +      (B*EXP(-bêta*(AI$15-$H37)))    +   (_C*EXP(-gamma*(AI$15-$H37 )))      )","v":0},{"$f":"  $G37/[0]!Poids      *      (     (A*EXP(-alpha*(AJ$15-$H37)))     +      (B*EXP(-bêta*(AJ$15-$H37)))    +   (_C*EXP(-gamma*(AJ$15-$H37 )))      )","v":0},{"$f":"  $G37/[0]!Poids      *      (     (A*EXP(-alpha*(AK$15-$H37)))     +      (B*EXP(-bêta*(AK$15-$H37)))    +   (_C*EXP(-gamma*(AK$15-$H37 )))      )","v":0},{"$f":"  $G37/[0]!Poids      *      (     (A*EXP(-alpha*(AL$15-$H37)))     +      (B*EXP(-bêta*(AL$15-$H37)))    +   (_C*EXP(-gamma*(AL$15-$H37 )))      )","v":0},{"$f":"  $G37/[0]!Poids      *      (     (A*EXP(-alpha*(AM$15-$H37)))     +      (B*EXP(-bêta*(AM$15-$H37)))    +   (_C*EXP(-gamma*(AM$15-$H37 )))      )","v":0},{"$f":"  $G37/[0]!Poids      *      (     (A*EXP(-alpha*(AN$15-$H37)))     +      (B*EXP(-bêta*(AN$15-$H37)))    +   (_C*EXP(-gamma*(AN$15-$H37 )))      )","v":0},{"$f":"  $G37/[0]!Poids      *      (     (A*EXP(-alpha*(AO$15-$H37)))     +      (B*EXP(-bêta*(AO$15-$H37)))    +   (_C*EXP(-gamma*(AO$15-$H37 )))      )","v":0},{"$f":"  $G37/[0]!Poids      *      (     (A*EXP(-alpha*(AP$15-$H37)))     +      (B*EXP(-bêta*(AP$15-$H37)))    +   (_C*EXP(-gamma*(AP$15-$H37 )))      )","v":0},{"$f":"  $G37/[0]!Poids      *      (     (A*EXP(-alpha*(AQ$15-$H37)))     +      (B*EXP(-bêta*(AQ$15-$H37)))    +   (_C*EXP(-gamma*(AQ$15-$H37 )))      )","v":0},{"$f":"  $G37/[0]!Poids      *      (     (A*EXP(-alpha*(AR$15-$H37)))     +      (B*EXP(-bêta*(AR$15-$H37)))    +   (_C*EXP(-gamma*(AR$15-$H37 )))      )","v":0},{"$f":"  $G37/[0]!Poids      *      (     (A*EXP(-alpha*(AS$15-$H37)))     +      (B*EXP(-bêta*(AS$15-$H37)))    +   (_C*EXP(-gamma*(AS$15-$H37 )))      )","v":0},{"$f":"  $G37/[0]!Poids      *      (     (A*EXP(-alpha*(AT$15-$H37)))     +      (B*EXP(-bêta*(AT$15-$H37)))    +   (_C*EXP(-gamma*(AT$15-$H37 )))      )","v":0},{"$f":"  $G37/[0]!Poids      *      (     (A*EXP(-alpha*(AU$15-$H37)))     +      (B*EXP(-bêta*(AU$15-$H37)))    +   (_C*EXP(-gamma*(AU$15-$H37 )))      )","v":0},{"$f":"  $G37/[0]!Poids      *      (     (A*EXP(-alpha*(AV$15-$H37)))     +      (B*EXP(-bêta*(AV$15-$H37)))    +   (_C*EXP(-gamma*(AV$15-$H37 )))      )","v":0},{"$f":"  $G37/[0]!Poids      *      (     (A*EXP(-alpha*(AW$15-$H37)))     +      (B*EXP(-bêta*(AW$15-$H37)))    +   (_C*EXP(-gamma*(AW$15-$H37 )))      )","v":0},{"$f":"  $G37/[0]!Poids      *      (     (A*EXP(-alpha*(AX$15-$H37)))     +      (B*EXP(-bêta*(AX$15-$H37)))    +   (_C*EXP(-gamma*(AX$15-$H37 )))      )","v":0},{"$f":"  $G37/[0]!Poids      *      (     (A*EXP(-alpha*(AY$15-$H37)))     +      (B*EXP(-bêta*(AY$15-$H37)))    +   (_C*EXP(-gamma*(AY$15-$H37 )))      )","v":0},{"$f":"  $G37/[0]!Poids      *      (     (A*EXP(-alpha*(AZ$15-$H37)))     +      (B*EXP(-bêta*(AZ$15-$H37)))    +   (_C*EXP(-gamma*(AZ$15-$H37 )))      )","v":0},{"$f":"  $G37/[0]!Poids      *      (     (A*EXP(-alpha*(BA$15-$H37)))     +      (B*EXP(-bêta*(BA$15-$H37)))    +   (_C*EXP(-gamma*(BA$15-$H37 )))      )","v":0},{"$f":"  $G37/[0]!Poids      *      (     (A*EXP(-alpha*(BB$15-$H37)))     +      (B*EXP(-bêta*(BB$15-$H37)))    +   (_C*EXP(-gamma*(BB$15-$H37 )))      )","v":0},{"$f":"  $G37/[0]!Poids      *      (     (A*EXP(-alpha*(BC$15-$H37)))     +      (B*EXP(-bêta*(BC$15-$H37)))    +   (_C*EXP(-gamma*(BC$15-$H37 )))      )","v":0},{"$f":"  $G37/[0]!Poids      *      (     (A*EXP(-alpha*(BD$15-$H37)))     +      (B*EXP(-bêta*(BD$15-$H37)))    +   (_C*EXP(-gamma*(BD$15-$H37 )))      )","v":0},{"$f":"  $G37/[0]!Poids      *      (     (A*EXP(-alpha*(BE$15-$H37)))     +      (B*EXP(-bêta*(BE$15-$H37)))    +   (_C*EXP(-gamma*(BE$15-$H37 )))      )","v":0},{"$f":"  $G37/[0]!Poids      *      (     (A*EXP(-alpha*(BF$15-$H37)))     +      (B*EXP(-bêta*(BF$15-$H37)))    +   (_C*EXP(-gamma*(BF$15-$H37 )))      )","v":0},{"$f":"  $G37/[0]!Poids      *      (     (A*EXP(-alpha*(BG$15-$H37)))     +      (B*EXP(-bêta*(BG$15-$H37)))    +   (_C*EXP(-gamma*(BG$15-$H37 )))      )","v":0},{"$f":"  $G37/[0]!Poids      *      (     (A*EXP(-alpha*(BH$15-$H37)))     +      (B*EXP(-bêta*(BH$15-$H37)))    +   (_C*EXP(-gamma*(BH$15-$H37 )))      )","v":0},{"$f":"  $G37/[0]!Poids      *      (     (A*EXP(-alpha*(BI$15-$H37)))     +      (B*EXP(-bêta*(BI$15-$H37)))    +   (_C*EXP(-gamma*(BI$15-$H37 )))      )","v":0},{"$f":"  $G37/[0]!Poids      *      (     (A*EXP(-alpha*(BJ$15-$H37)))     +      (B*EXP(-bêta*(BJ$15-$H37)))    +   (_C*EXP(-gamma*(BJ$15-$H37 )))      )","v":0},{"$f":"  $G37/[0]!Poids      *      (     (A*EXP(-alpha*(BK$15-$H37)))     +      (B*EXP(-bêta*(BK$15-$H37)))    +   (_C*EXP(-gamma*(BK$15-$H37 )))      )","v":0},{"$f":"  $G37/[0]!Poids      *      (     (A*EXP(-alpha*(BL$15-$H37)))     +      (B*EXP(-bêta*(BL$15-$H37)))    +   (_C*EXP(-gamma*(BL$15-$H37 )))      )","v":0},{"$f":"  $G37/[0]!Poids      *      (     (A*EXP(-alpha*(BM$15-$H37)))     +      (B*EXP(-bêta*(BM$15-$H37)))    +   (_C*EXP(-gamma*(BM$15-$H37 )))      )","v":0},{"$f":"  $G37/[0]!Poids      *      (     (A*EXP(-alpha*(BN$15-$H37)))     +      (B*EXP(-bêta*(BN$15-$H37)))    +   (_C*EXP(-gamma*(BN$15-$H37 )))      )","v":0},{"$f":"  $G37/[0]!Poids      *      (     (A*EXP(-alpha*(BO$15-$H37)))     +      (B*EXP(-bêta*(BO$15-$H37)))    +   (_C*EXP(-gamma*(BO$15-$H37 )))      )","v":0},{"$f":"  $G37/[0]!Poids      *      (     (A*EXP(-alpha*(BP$15-$H37)))     +      (B*EXP(-bêta*(BP$15-$H37)))    +   (_C*EXP(-gamma*(BP$15-$H37 )))      )","v":0},{"$f":"  $G37/[0]!Poids      *      (     (A*EXP(-alpha*(BQ$15-$H37)))     +      (B*EXP(-bêta*(BQ$15-$H37)))    +   (_C*EXP(-gamma*(BQ$15-$H37 )))      )","v":0},{"$f":"  $G37/[0]!Poids      *      (     (A*EXP(-alpha*(BR$15-$H37)))     +      (B*EXP(-bêta*(BR$15-$H37)))    +   (_C*EXP(-gamma*(BR$15-$H37 )))      )","v":0}]
[null,null,null,null,null,null,{"$f":"AF$10","v":0},110,null,null,null,null,null,null,null,null,null,null,null,null,null,null,null,null,null,null,null,null,null,null,null,{"$f":"  $G38/[0]!Poids      *      (     (A*EXP(-alpha*(AF$15-$H38)))     +      (B*EXP(-bêta*(AF$15-$H38)))    +   (_C*EXP(-gamma*(AF$15-$H38 )))      )","v":0},{"$f":"  $G38/[0]!Poids      *      (     (A*EXP(-alpha*(AG$15-$H38)))     +      (B*EXP(-bêta*(AG$15-$H38)))    +   (_C*EXP(-gamma*(AG$15-$H38 )))      )","v":0},{"$f":"  $G38/[0]!Poids      *      (     (A*EXP(-alpha*(AH$15-$H38)))     +      (B*EXP(-bêta*(AH$15-$H38)))    +   (_C*EXP(-gamma*(AH$15-$H38 )))      )","v":0},{"$f":"  $G38/[0]!Poids      *      (     (A*EXP(-alpha*(AI$15-$H38)))     +      (B*EXP(-bêta*(AI$15-$H38)))    +   (_C*EXP(-gamma*(AI$15-$H38 )))      )","v":0},{"$f":"  $G38/[0]!Poids      *      (     (A*EXP(-alpha*(AJ$15-$H38)))     +      (B*EXP(-bêta*(AJ$15-$H38)))    +   (_C*EXP(-gamma*(AJ$15-$H38 )))      )","v":0},{"$f":"  $G38/[0]!Poids      *      (     (A*EXP(-alpha*(AK$15-$H38)))     +      (B*EXP(-bêta*(AK$15-$H38)))    +   (_C*EXP(-gamma*(AK$15-$H38 )))      )","v":0},{"$f":"  $G38/[0]!Poids      *      (     (A*EXP(-alpha*(AL$15-$H38)))     +      (B*EXP(-bêta*(AL$15-$H38)))    +   (_C*EXP(-gamma*(AL$15-$H38 )))      )","v":0},{"$f":"  $G38/[0]!Poids      *      (     (A*EXP(-alpha*(AM$15-$H38)))     +      (B*EXP(-bêta*(AM$15-$H38)))    +   (_C*EXP(-gamma*(AM$15-$H38 )))      )","v":0},{"$f":"  $G38/[0]!Poids      *      (     (A*EXP(-alpha*(AN$15-$H38)))     +      (B*EXP(-bêta*(AN$15-$H38)))    +   (_C*EXP(-gamma*(AN$15-$H38 )))      )","v":0},{"$f":"  $G38/[0]!Poids      *      (     (A*EXP(-alpha*(AO$15-$H38)))     +      (B*EXP(-bêta*(AO$15-$H38)))    +   (_C*EXP(-gamma*(AO$15-$H38 )))      )","v":0},{"$f":"  $G38/[0]!Poids      *      (     (A*EXP(-alpha*(AP$15-$H38)))     +      (B*EXP(-bêta*(AP$15-$H38)))    +   (_C*EXP(-gamma*(AP$15-$H38 )))      )","v":0},{"$f":"  $G38/[0]!Poids      *      (     (A*EXP(-alpha*(AQ$15-$H38)))     +      (B*EXP(-bêta*(AQ$15-$H38)))    +   (_C*EXP(-gamma*(AQ$15-$H38 )))      )","v":0},{"$f":"  $G38/[0]!Poids      *      (     (A*EXP(-alpha*(AR$15-$H38)))     +      (B*EXP(-bêta*(AR$15-$H38)))    +   (_C*EXP(-gamma*(AR$15-$H38 )))      )","v":0},{"$f":"  $G38/[0]!Poids      *      (     (A*EXP(-alpha*(AS$15-$H38)))     +      (B*EXP(-bêta*(AS$15-$H38)))    +   (_C*EXP(-gamma*(AS$15-$H38 )))      )","v":0},{"$f":"  $G38/[0]!Poids      *      (     (A*EXP(-alpha*(AT$15-$H38)))     +      (B*EXP(-bêta*(AT$15-$H38)))    +   (_C*EXP(-gamma*(AT$15-$H38 )))      )","v":0},{"$f":"  $G38/[0]!Poids      *      (     (A*EXP(-alpha*(AU$15-$H38)))     +      (B*EXP(-bêta*(AU$15-$H38)))    +   (_C*EXP(-gamma*(AU$15-$H38 )))      )","v":0},{"$f":"  $G38/[0]!Poids      *      (     (A*EXP(-alpha*(AV$15-$H38)))     +      (B*EXP(-bêta*(AV$15-$H38)))    +   (_C*EXP(-gamma*(AV$15-$H38 )))      )","v":0},{"$f":"  $G38/[0]!Poids      *      (     (A*EXP(-alpha*(AW$15-$H38)))     +      (B*EXP(-bêta*(AW$15-$H38)))    +   (_C*EXP(-gamma*(AW$15-$H38 )))      )","v":0},{"$f":"  $G38/[0]!Poids      *      (     (A*EXP(-alpha*(AX$15-$H38)))     +      (B*EXP(-bêta*(AX$15-$H38)))    +   (_C*EXP(-gamma*(AX$15-$H38 )))      )","v":0},{"$f":"  $G38/[0]!Poids      *      (     (A*EXP(-alpha*(AY$15-$H38)))     +      (B*EXP(-bêta*(AY$15-$H38)))    +   (_C*EXP(-gamma*(AY$15-$H38 )))      )","v":0},{"$f":"  $G38/[0]!Poids      *      (     (A*EXP(-alpha*(AZ$15-$H38)))     +      (B*EXP(-bêta*(AZ$15-$H38)))    +   (_C*EXP(-gamma*(AZ$15-$H38 )))      )","v":0},{"$f":"  $G38/[0]!Poids      *      (     (A*EXP(-alpha*(BA$15-$H38)))     +      (B*EXP(-bêta*(BA$15-$H38)))    +   (_C*EXP(-gamma*(BA$15-$H38 )))      )","v":0},{"$f":"  $G38/[0]!Poids      *      (     (A*EXP(-alpha*(BB$15-$H38)))     +      (B*EXP(-bêta*(BB$15-$H38)))    +   (_C*EXP(-gamma*(BB$15-$H38 )))      )","v":0},{"$f":"  $G38/[0]!Poids      *      (     (A*EXP(-alpha*(BC$15-$H38)))     +      (B*EXP(-bêta*(BC$15-$H38)))    +   (_C*EXP(-gamma*(BC$15-$H38 )))      )","v":0},{"$f":"  $G38/[0]!Poids      *      (     (A*EXP(-alpha*(BD$15-$H38)))     +      (B*EXP(-bêta*(BD$15-$H38)))    +   (_C*EXP(-gamma*(BD$15-$H38 )))      )","v":0},{"$f":"  $G38/[0]!Poids      *      (     (A*EXP(-alpha*(BE$15-$H38)))     +      (B*EXP(-bêta*(BE$15-$H38)))    +   (_C*EXP(-gamma*(BE$15-$H38 )))      )","v":0},{"$f":"  $G38/[0]!Poids      *      (     (A*EXP(-alpha*(BF$15-$H38)))     +      (B*EXP(-bêta*(BF$15-$H38)))    +   (_C*EXP(-gamma*(BF$15-$H38 )))      )","v":0},{"$f":"  $G38/[0]!Poids      *      (     (A*EXP(-alpha*(BG$15-$H38)))     +      (B*EXP(-bêta*(BG$15-$H38)))    +   (_C*EXP(-gamma*(BG$15-$H38 )))      )","v":0},{"$f":"  $G38/[0]!Poids      *      (     (A*EXP(-alpha*(BH$15-$H38)))     +      (B*EXP(-bêta*(BH$15-$H38)))    +   (_C*EXP(-gamma*(BH$15-$H38 )))      )","v":0},{"$f":"  $G38/[0]!Poids      *      (     (A*EXP(-alpha*(BI$15-$H38)))     +      (B*EXP(-bêta*(BI$15-$H38)))    +   (_C*EXP(-gamma*(BI$15-$H38 )))      )","v":0},{"$f":"  $G38/[0]!Poids      *      (     (A*EXP(-alpha*(BJ$15-$H38)))     +      (B*EXP(-bêta*(BJ$15-$H38)))    +   (_C*EXP(-gamma*(BJ$15-$H38 )))      )","v":0},{"$f":"  $G38/[0]!Poids      *      (     (A*EXP(-alpha*(BK$15-$H38)))     +      (B*EXP(-bêta*(BK$15-$H38)))    +   (_C*EXP(-gamma*(BK$15-$H38 )))      )","v":0},{"$f":"  $G38/[0]!Poids      *      (     (A*EXP(-alpha*(BL$15-$H38)))     +      (B*EXP(-bêta*(BL$15-$H38)))    +   (_C*EXP(-gamma*(BL$15-$H38 )))      )","v":0},{"$f":"  $G38/[0]!Poids      *      (     (A*EXP(-alpha*(BM$15-$H38)))     +      (B*EXP(-bêta*(BM$15-$H38)))    +   (_C*EXP(-gamma*(BM$15-$H38 )))      )","v":0},{"$f":"  $G38/[0]!Poids      *      (     (A*EXP(-alpha*(BN$15-$H38)))     +      (B*EXP(-bêta*(BN$15-$H38)))    +   (_C*EXP(-gamma*(BN$15-$H38 )))      )","v":0},{"$f":"  $G38/[0]!Poids      *      (     (A*EXP(-alpha*(BO$15-$H38)))     +      (B*EXP(-bêta*(BO$15-$H38)))    +   (_C*EXP(-gamma*(BO$15-$H38 )))      )","v":0},{"$f":"  $G38/[0]!Poids      *      (     (A*EXP(-alpha*(BP$15-$H38)))     +      (B*EXP(-bêta*(BP$15-$H38)))    +   (_C*EXP(-gamma*(BP$15-$H38 )))      )","v":0},{"$f":"  $G38/[0]!Poids      *      (     (A*EXP(-alpha*(BQ$15-$H38)))     +      (B*EXP(-bêta*(BQ$15-$H38)))    +   (_C*EXP(-gamma*(BQ$15-$H38 )))      )","v":0},{"$f":"  $G38/[0]!Poids      *      (     (A*EXP(-alpha*(BR$15-$H38)))     +      (B*EXP(-bêta*(BR$15-$H38)))    +   (_C*EXP(-gamma*(BR$15-$H38 )))      )","v":0}]
[null,null,null,null,null,null,{"$f":"AG$10","v":0},115,null,null,null,null,null,null,null,null,null,null,null,null,null,null,null,null,null,null,null,null,null,null,null,null,{"$f":"  $G39/[0]!Poids      *      (     (A*EXP(-alpha*(AG$15-$H39)))     +      (B*EXP(-bêta*(AG$15-$H39)))    +   (_C*EXP(-gamma*(AG$15-$H39 )))      )","v":0},{"$f":"  $G39/[0]!Poids      *      (     (A*EXP(-alpha*(AH$15-$H39)))     +      (B*EXP(-bêta*(AH$15-$H39)))    +   (_C*EXP(-gamma*(AH$15-$H39 )))      )","v":0},{"$f":"  $G39/[0]!Poids      *      (     (A*EXP(-alpha*(AI$15-$H39)))     +      (B*EXP(-bêta*(AI$15-$H39)))    +   (_C*EXP(-gamma*(AI$15-$H39 )))      )","v":0},{"$f":"  $G39/[0]!Poids      *      (     (A*EXP(-alpha*(AJ$15-$H39)))     +      (B*EXP(-bêta*(AJ$15-$H39)))    +   (_C*EXP(-gamma*(AJ$15-$H39 )))      )","v":0},{"$f":"  $G39/[0]!Poids      *      (     (A*EXP(-alpha*(AK$15-$H39)))     +      (B*EXP(-bêta*(AK$15-$H39)))    +   (_C*EXP(-gamma*(AK$15-$H39 )))      )","v":0},{"$f":"  $G39/[0]!Poids      *      (     (A*EXP(-alpha*(AL$15-$H39)))     +      (B*EXP(-bêta*(AL$15-$H39)))    +   (_C*EXP(-gamma*(AL$15-$H39 )))      )","v":0},{"$f":"  $G39/[0]!Poids      *      (     (A*EXP(-alpha*(AM$15-$H39)))     +      (B*EXP(-bêta*(AM$15-$H39)))    +   (_C*EXP(-gamma*(AM$15-$H39 )))      )","v":0},{"$f":"  $G39/[0]!Poids      *      (     (A*EXP(-alpha*(AN$15-$H39)))     +      (B*EXP(-bêta*(AN$15-$H39)))    +   (_C*EXP(-gamma*(AN$15-$H39 )))      )","v":0},{"$f":"  $G39/[0]!Poids      *      (     (A*EXP(-alpha*(AO$15-$H39)))     +      (B*EXP(-bêta*(AO$15-$H39)))    +   (_C*EXP(-gamma*(AO$15-$H39 )))      )","v":0},{"$f":"  $G39/[0]!Poids      *      (     (A*EXP(-alpha*(AP$15-$H39)))     +      (B*EXP(-bêta*(AP$15-$H39)))    +   (_C*EXP(-gamma*(AP$15-$H39 )))      )","v":0},{"$f":"  $G39/[0]!Poids      *      (     (A*EXP(-alpha*(AQ$15-$H39)))     +      (B*EXP(-bêta*(AQ$15-$H39)))    +   (_C*EXP(-gamma*(AQ$15-$H39 )))      )","v":0},{"$f":"  $G39/[0]!Poids      *      (     (A*EXP(-alpha*(AR$15-$H39)))     +      (B*EXP(-bêta*(AR$15-$H39)))    +   (_C*EXP(-gamma*(AR$15-$H39 )))      )","v":0},{"$f":"  $G39/[0]!Poids      *      (     (A*EXP(-alpha*(AS$15-$H39)))     +      (B*EXP(-bêta*(AS$15-$H39)))    +   (_C*EXP(-gamma*(AS$15-$H39 )))      )","v":0},{"$f":"  $G39/[0]!Poids      *      (     (A*EXP(-alpha*(AT$15-$H39)))     +      (B*EXP(-bêta*(AT$15-$H39)))    +   (_C*EXP(-gamma*(AT$15-$H39 )))      )","v":0},{"$f":"  $G39/[0]!Poids      *      (     (A*EXP(-alpha*(AU$15-$H39)))     +      (B*EXP(-bêta*(AU$15-$H39)))    +   (_C*EXP(-gamma*(AU$15-$H39 )))      )","v":0},{"$f":"  $G39/[0]!Poids      *      (     (A*EXP(-alpha*(AV$15-$H39)))     +      (B*EXP(-bêta*(AV$15-$H39)))    +   (_C*EXP(-gamma*(AV$15-$H39 )))      )","v":0},{"$f":"  $G39/[0]!Poids      *      (     (A*EXP(-alpha*(AW$15-$H39)))     +      (B*EXP(-bêta*(AW$15-$H39)))    +   (_C*EXP(-gamma*(AW$15-$H39 )))      )","v":0},{"$f":"  $G39/[0]!Poids      *      (     (A*EXP(-alpha*(AX$15-$H39)))     +      (B*EXP(-bêta*(AX$15-$H39)))    +   (_C*EXP(-gamma*(AX$15-$H39 )))      )","v":0},{"$f":"  $G39/[0]!Poids      *      (     (A*EXP(-alpha*(AY$15-$H39)))     +      (B*EXP(-bêta*(AY$15-$H39)))    +   (_C*EXP(-gamma*(AY$15-$H39 )))      )","v":0},{"$f":"  $G39/[0]!Poids      *      (     (A*EXP(-alpha*(AZ$15-$H39)))     +      (B*EXP(-bêta*(AZ$15-$H39)))    +   (_C*EXP(-gamma*(AZ$15-$H39 )))      )","v":0},{"$f":"  $G39/[0]!Poids      *      (     (A*EXP(-alpha*(BA$15-$H39)))     +      (B*EXP(-bêta*(BA$15-$H39)))    +   (_C*EXP(-gamma*(BA$15-$H39 )))      )","v":0},{"$f":"  $G39/[0]!Poids      *      (     (A*EXP(-alpha*(BB$15-$H39)))     +      (B*EXP(-bêta*(BB$15-$H39)))    +   (_C*EXP(-gamma*(BB$15-$H39 )))      )","v":0},{"$f":"  $G39/[0]!Poids      *      (     (A*EXP(-alpha*(BC$15-$H39)))     +      (B*EXP(-bêta*(BC$15-$H39)))    +   (_C*EXP(-gamma*(BC$15-$H39 )))      )","v":0},{"$f":"  $G39/[0]!Poids      *      (     (A*EXP(-alpha*(BD$15-$H39)))     +      (B*EXP(-bêta*(BD$15-$H39)))    +   (_C*EXP(-gamma*(BD$15-$H39 )))      )","v":0},{"$f":"  $G39/[0]!Poids      *      (     (A*EXP(-alpha*(BE$15-$H39)))     +      (B*EXP(-bêta*(BE$15-$H39)))    +   (_C*EXP(-gamma*(BE$15-$H39 )))      )","v":0},{"$f":"  $G39/[0]!Poids      *      (     (A*EXP(-alpha*(BF$15-$H39)))     +      (B*EXP(-bêta*(BF$15-$H39)))    +   (_C*EXP(-gamma*(BF$15-$H39 )))      )","v":0},{"$f":"  $G39/[0]!Poids      *      (     (A*EXP(-alpha*(BG$15-$H39)))     +      (B*EXP(-bêta*(BG$15-$H39)))    +   (_C*EXP(-gamma*(BG$15-$H39 )))      )","v":0},{"$f":"  $G39/[0]!Poids      *      (     (A*EXP(-alpha*(BH$15-$H39)))     +      (B*EXP(-bêta*(BH$15-$H39)))    +   (_C*EXP(-gamma*(BH$15-$H39 )))      )","v":0},{"$f":"  $G39/[0]!Poids      *      (     (A*EXP(-alpha*(BI$15-$H39)))     +      (B*EXP(-bêta*(BI$15-$H39)))    +   (_C*EXP(-gamma*(BI$15-$H39 )))      )","v":0},{"$f":"  $G39/[0]!Poids      *      (     (A*EXP(-alpha*(BJ$15-$H39)))     +      (B*EXP(-bêta*(BJ$15-$H39)))    +   (_C*EXP(-gamma*(BJ$15-$H39 )))      )","v":0},{"$f":"  $G39/[0]!Poids      *      (     (A*EXP(-alpha*(BK$15-$H39)))     +      (B*EXP(-bêta*(BK$15-$H39)))    +   (_C*EXP(-gamma*(BK$15-$H39 )))      )","v":0},{"$f":"  $G39/[0]!Poids      *      (     (A*EXP(-alpha*(BL$15-$H39)))     +      (B*EXP(-bêta*(BL$15-$H39)))    +   (_C*EXP(-gamma*(BL$15-$H39 )))      )","v":0},{"$f":"  $G39/[0]!Poids      *      (     (A*EXP(-alpha*(BM$15-$H39)))     +      (B*EXP(-bêta*(BM$15-$H39)))    +   (_C*EXP(-gamma*(BM$15-$H39 )))      )","v":0},{"$f":"  $G39/[0]!Poids      *      (     (A*EXP(-alpha*(BN$15-$H39)))     +      (B*EXP(-bêta*(BN$15-$H39)))    +   (_C*EXP(-gamma*(BN$15-$H39 )))      )","v":0},{"$f":"  $G39/[0]!Poids      *      (     (A*EXP(-alpha*(BO$15-$H39)))     +      (B*EXP(-bêta*(BO$15-$H39)))    +   (_C*EXP(-gamma*(BO$15-$H39 )))      )","v":0},{"$f":"  $G39/[0]!Poids      *      (     (A*EXP(-alpha*(BP$15-$H39)))     +      (B*EXP(-bêta*(BP$15-$H39)))    +   (_C*EXP(-gamma*(BP$15-$H39 )))      )","v":0},{"$f":"  $G39/[0]!Poids      *      (     (A*EXP(-alpha*(BQ$15-$H39)))     +      (B*EXP(-bêta*(BQ$15-$H39)))    +   (_C*EXP(-gamma*(BQ$15-$H39 )))      )","v":0},{"$f":"  $G39/[0]!Poids      *      (     (A*EXP(-alpha*(BR$15-$H39)))     +      (B*EXP(-bêta*(BR$15-$H39)))    +   (_C*EXP(-gamma*(BR$15-$H39 )))      )","v":0}]
[null,null,null,null,null,null,{"$f":"AH$10","v":0},120,null,null,null,null,null,null,null,null,null,null,null,null,null,null,null,null,null,null,null,null,null,null,null,null,null,{"$f":"  $G40/[0]!Poids      *      (     (A*EXP(-alpha*(AH$15-$H40)))     +      (B*EXP(-bêta*(AH$15-$H40)))    +   (_C*EXP(-gamma*(AH$15-$H40 )))      )","v":0},{"$f":"  $G40/[0]!Poids      *      (     (A*EXP(-alpha*(AI$15-$H40)))     +      (B*EXP(-bêta*(AI$15-$H40)))    +   (_C*EXP(-gamma*(AI$15-$H40 )))      )","v":0},{"$f":"  $G40/[0]!Poids      *      (     (A*EXP(-alpha*(AJ$15-$H40)))     +      (B*EXP(-bêta*(AJ$15-$H40)))    +   (_C*EXP(-gamma*(AJ$15-$H40 )))      )","v":0},{"$f":"  $G40/[0]!Poids      *      (     (A*EXP(-alpha*(AK$15-$H40)))     +      (B*EXP(-bêta*(AK$15-$H40)))    +   (_C*EXP(-gamma*(AK$15-$H40 )))      )","v":0},{"$f":"  $G40/[0]!Poids      *      (     (A*EXP(-alpha*(AL$15-$H40)))     +      (B*EXP(-bêta*(AL$15-$H40)))    +   (_C*EXP(-gamma*(AL$15-$H40 )))      )","v":0},{"$f":"  $G40/[0]!Poids      *      (     (A*EXP(-alpha*(AM$15-$H40)))     +      (B*EXP(-bêta*(AM$15-$H40)))    +   (_C*EXP(-gamma*(AM$15-$H40 )))      )","v":0},{"$f":"  $G40/[0]!Poids      *      (     (A*EXP(-alpha*(AN$15-$H40)))     +      (B*EXP(-bêta*(AN$15-$H40)))    +   (_C*EXP(-gamma*(AN$15-$H40 )))      )","v":0},{"$f":"  $G40/[0]!Poids      *      (     (A*EXP(-alpha*(AO$15-$H40)))     +      (B*EXP(-bêta*(AO$15-$H40)))    +   (_C*EXP(-gamma*(AO$15-$H40 )))      )","v":0},{"$f":"  $G40/[0]!Poids      *      (     (A*EXP(-alpha*(AP$15-$H40)))     +      (B*EXP(-bêta*(AP$15-$H40)))    +   (_C*EXP(-gamma*(AP$15-$H40 )))      )","v":0},{"$f":"  $G40/[0]!Poids      *      (     (A*EXP(-alpha*(AQ$15-$H40)))     +      (B*EXP(-bêta*(AQ$15-$H40)))    +   (_C*EXP(-gamma*(AQ$15-$H40 )))      )","v":0},{"$f":"  $G40/[0]!Poids      *      (     (A*EXP(-alpha*(AR$15-$H40)))     +      (B*EXP(-bêta*(AR$15-$H40)))    +   (_C*EXP(-gamma*(AR$15-$H40 )))      )","v":0},{"$f":"  $G40/[0]!Poids      *      (     (A*EXP(-alpha*(AS$15-$H40)))     +      (B*EXP(-bêta*(AS$15-$H40)))    +   (_C*EXP(-gamma*(AS$15-$H40 )))      )","v":0},{"$f":"  $G40/[0]!Poids      *      (     (A*EXP(-alpha*(AT$15-$H40)))     +      (B*EXP(-bêta*(AT$15-$H40)))    +   (_C*EXP(-gamma*(AT$15-$H40 )))      )","v":0},{"$f":"  $G40/[0]!Poids      *      (     (A*EXP(-alpha*(AU$15-$H40)))     +      (B*EXP(-bêta*(AU$15-$H40)))    +   (_C*EXP(-gamma*(AU$15-$H40 )))      )","v":0},{"$f":"  $G40/[0]!Poids      *      (     (A*EXP(-alpha*(AV$15-$H40)))     +      (B*EXP(-bêta*(AV$15-$H40)))    +   (_C*EXP(-gamma*(AV$15-$H40 )))      )","v":0},{"$f":"  $G40/[0]!Poids      *      (     (A*EXP(-alpha*(AW$15-$H40)))     +      (B*EXP(-bêta*(AW$15-$H40)))    +   (_C*EXP(-gamma*(AW$15-$H40 )))      )","v":0},{"$f":"  $G40/[0]!Poids      *      (     (A*EXP(-alpha*(AX$15-$H40)))     +      (B*EXP(-bêta*(AX$15-$H40)))    +   (_C*EXP(-gamma*(AX$15-$H40 )))      )","v":0},{"$f":"  $G40/[0]!Poids      *      (     (A*EXP(-alpha*(AY$15-$H40)))     +      (B*EXP(-bêta*(AY$15-$H40)))    +   (_C*EXP(-gamma*(AY$15-$H40 )))      )","v":0},{"$f":"  $G40/[0]!Poids      *      (     (A*EXP(-alpha*(AZ$15-$H40)))     +      (B*EXP(-bêta*(AZ$15-$H40)))    +   (_C*EXP(-gamma*(AZ$15-$H40 )))      )","v":0},{"$f":"  $G40/[0]!Poids      *      (     (A*EXP(-alpha*(BA$15-$H40)))     +      (B*EXP(-bêta*(BA$15-$H40)))    +   (_C*EXP(-gamma*(BA$15-$H40 )))      )","v":0},{"$f":"  $G40/[0]!Poids      *      (     (A*EXP(-alpha*(BB$15-$H40)))     +      (B*EXP(-bêta*(BB$15-$H40)))    +   (_C*EXP(-gamma*(BB$15-$H40 )))      )","v":0},{"$f":"  $G40/[0]!Poids      *      (     (A*EXP(-alpha*(BC$15-$H40)))     +      (B*EXP(-bêta*(BC$15-$H40)))    +   (_C*EXP(-gamma*(BC$15-$H40 )))      )","v":0},{"$f":"  $G40/[0]!Poids      *      (     (A*EXP(-alpha*(BD$15-$H40)))     +      (B*EXP(-bêta*(BD$15-$H40)))    +   (_C*EXP(-gamma*(BD$15-$H40 )))      )","v":0},{"$f":"  $G40/[0]!Poids      *      (     (A*EXP(-alpha*(BE$15-$H40)))     +      (B*EXP(-bêta*(BE$15-$H40)))    +   (_C*EXP(-gamma*(BE$15-$H40 )))      )","v":0},{"$f":"  $G40/[0]!Poids      *      (     (A*EXP(-alpha*(BF$15-$H40)))     +      (B*EXP(-bêta*(BF$15-$H40)))    +   (_C*EXP(-gamma*(BF$15-$H40 )))      )","v":0},{"$f":"  $G40/[0]!Poids      *      (     (A*EXP(-alpha*(BG$15-$H40)))     +      (B*EXP(-bêta*(BG$15-$H40)))    +   (_C*EXP(-gamma*(BG$15-$H40 )))      )","v":0},{"$f":"  $G40/[0]!Poids      *      (     (A*EXP(-alpha*(BH$15-$H40)))     +      (B*EXP(-bêta*(BH$15-$H40)))    +   (_C*EXP(-gamma*(BH$15-$H40 )))      )","v":0},{"$f":"  $G40/[0]!Poids      *      (     (A*EXP(-alpha*(BI$15-$H40)))     +      (B*EXP(-bêta*(BI$15-$H40)))    +   (_C*EXP(-gamma*(BI$15-$H40 )))      )","v":0},{"$f":"  $G40/[0]!Poids      *      (     (A*EXP(-alpha*(BJ$15-$H40)))     +      (B*EXP(-bêta*(BJ$15-$H40)))    +   (_C*EXP(-gamma*(BJ$15-$H40 )))      )","v":0},{"$f":"  $G40/[0]!Poids      *      (     (A*EXP(-alpha*(BK$15-$H40)))     +      (B*EXP(-bêta*(BK$15-$H40)))    +   (_C*EXP(-gamma*(BK$15-$H40 )))      )","v":0},{"$f":"  $G40/[0]!Poids      *      (     (A*EXP(-alpha*(BL$15-$H40)))     +      (B*EXP(-bêta*(BL$15-$H40)))    +   (_C*EXP(-gamma*(BL$15-$H40 )))      )","v":0},{"$f":"  $G40/[0]!Poids      *      (     (A*EXP(-alpha*(BM$15-$H40)))     +      (B*EXP(-bêta*(BM$15-$H40)))    +   (_C*EXP(-gamma*(BM$15-$H40 )))      )","v":0},{"$f":"  $G40/[0]!Poids      *      (     (A*EXP(-alpha*(BN$15-$H40)))     +      (B*EXP(-bêta*(BN$15-$H40)))    +   (_C*EXP(-gamma*(BN$15-$H40 )))      )","v":0},{"$f":"  $G40/[0]!Poids      *      (     (A*EXP(-alpha*(BO$15-$H40)))     +      (B*EXP(-bêta*(BO$15-$H40)))    +   (_C*EXP(-gamma*(BO$15-$H40 )))      )","v":0},{"$f":"  $G40/[0]!Poids      *      (     (A*EXP(-alpha*(BP$15-$H40)))     +      (B*EXP(-bêta*(BP$15-$H40)))    +   (_C*EXP(-gamma*(BP$15-$H40 )))      )","v":0},{"$f":"  $G40/[0]!Poids      *      (     (A*EXP(-alpha*(BQ$15-$H40)))     +      (B*EXP(-bêta*(BQ$15-$H40)))    +   (_C*EXP(-gamma*(BQ$15-$H40 )))      )","v":0},{"$f":"  $G40/[0]!Poids      *      (     (A*EXP(-alpha*(BR$15-$H40)))     +      (B*EXP(-bêta*(BR$15-$H40)))    +   (_C*EXP(-gamma*(BR$15-$H40 )))      )","v":0}]
[null,null,null,null,null,null,{"$f":"AI$10","v":0},125,null,null,null,null,null,null,null,null,null,null,null,null,null,null,null,null,null,null,null,null,null,null,null,null,null,null,{"$f":"  $G41/[0]!Poids      *      (     (A*EXP(-alpha*(AI$15-$H41)))     +      (B*EXP(-bêta*(AI$15-$H41)))    +   (_C*EXP(-gamma*(AI$15-$H41 )))      )","v":0},{"$f":"  $G41/[0]!Poids      *      (     (A*EXP(-alpha*(AJ$15-$H41)))     +      (B*EXP(-bêta*(AJ$15-$H41)))    +   (_C*EXP(-gamma*(AJ$15-$H41 )))      )","v":0},{"$f":"  $G41/[0]!Poids      *      (     (A*EXP(-alpha*(AK$15-$H41)))     +      (B*EXP(-bêta*(AK$15-$H41)))    +   (_C*EXP(-gamma*(AK$15-$H41 )))      )","v":0},{"$f":"  $G41/[0]!Poids      *      (     (A*EXP(-alpha*(AL$15-$H41)))     +      (B*EXP(-bêta*(AL$15-$H41)))    +   (_C*EXP(-gamma*(AL$15-$H41 )))      )","v":0},{"$f":"  $G41/[0]!Poids      *      (     (A*EXP(-alpha*(AM$15-$H41)))     +      (B*EXP(-bêta*(AM$15-$H41)))    +   (_C*EXP(-gamma*(AM$15-$H41 )))      )","v":0},{"$f":"  $G41/[0]!Poids      *      (     (A*EXP(-alpha*(AN$15-$H41)))     +      (B*EXP(-bêta*(AN$15-$H41)))    +   (_C*EXP(-gamma*(AN$15-$H41 )))      )","v":0},{"$f":"  $G41/[0]!Poids      *      (     (A*EXP(-alpha*(AO$15-$H41)))     +      (B*EXP(-bêta*(AO$15-$H41)))    +   (_C*EXP(-gamma*(AO$15-$H41 )))      )","v":0},{"$f":"  $G41/[0]!Poids      *      (     (A*EXP(-alpha*(AP$15-$H41)))     +      (B*EXP(-bêta*(AP$15-$H41)))    +   (_C*EXP(-gamma*(AP$15-$H41 )))      )","v":0},{"$f":"  $G41/[0]!Poids      *      (     (A*EXP(-alpha*(AQ$15-$H41)))     +      (B*EXP(-bêta*(AQ$15-$H41)))    +   (_C*EXP(-gamma*(AQ$15-$H41 )))      )","v":0},{"$f":"  $G41/[0]!Poids      *      (     (A*EXP(-alpha*(AR$15-$H41)))     +      (B*EXP(-bêta*(AR$15-$H41)))    +   (_C*EXP(-gamma*(AR$15-$H41 )))      )","v":0},{"$f":"  $G41/[0]!Poids      *      (     (A*EXP(-alpha*(AS$15-$H41)))     +      (B*EXP(-bêta*(AS$15-$H41)))    +   (_C*EXP(-gamma*(AS$15-$H41 )))      )","v":0},{"$f":"  $G41/[0]!Poids      *      (     (A*EXP(-alpha*(AT$15-$H41)))     +      (B*EXP(-bêta*(AT$15-$H41)))    +   (_C*EXP(-gamma*(AT$15-$H41 )))      )","v":0},{"$f":"  $G41/[0]!Poids      *      (     (A*EXP(-alpha*(AU$15-$H41)))     +      (B*EXP(-bêta*(AU$15-$H41)))    +   (_C*EXP(-gamma*(AU$15-$H41 )))      )","v":0},{"$f":"  $G41/[0]!Poids      *      (     (A*EXP(-alpha*(AV$15-$H41)))     +      (B*EXP(-bêta*(AV$15-$H41)))    +   (_C*EXP(-gamma*(AV$15-$H41 )))      )","v":0},{"$f":"  $G41/[0]!Poids      *      (     (A*EXP(-alpha*(AW$15-$H41)))     +      (B*EXP(-bêta*(AW$15-$H41)))    +   (_C*EXP(-gamma*(AW$15-$H41 )))      )","v":0},{"$f":"  $G41/[0]!Poids      *      (     (A*EXP(-alpha*(AX$15-$H41)))     +      (B*EXP(-bêta*(AX$15-$H41)))    +   (_C*EXP(-gamma*(AX$15-$H41 )))      )","v":0},{"$f":"  $G41/[0]!Poids      *      (     (A*EXP(-alpha*(AY$15-$H41)))     +      (B*EXP(-bêta*(AY$15-$H41)))    +   (_C*EXP(-gamma*(AY$15-$H41 )))      )","v":0},{"$f":"  $G41/[0]!Poids      *      (     (A*EXP(-alpha*(AZ$15-$H41)))     +      (B*EXP(-bêta*(AZ$15-$H41)))    +   (_C*EXP(-gamma*(AZ$15-$H41 )))      )","v":0},{"$f":"  $G41/[0]!Poids      *      (     (A*EXP(-alpha*(BA$15-$H41)))     +      (B*EXP(-bêta*(BA$15-$H41)))    +   (_C*EXP(-gamma*(BA$15-$H41 )))      )","v":0},{"$f":"  $G41/[0]!Poids      *      (     (A*EXP(-alpha*(BB$15-$H41)))     +      (B*EXP(-bêta*(BB$15-$H41)))    +   (_C*EXP(-gamma*(BB$15-$H41 )))      )","v":0},{"$f":"  $G41/[0]!Poids      *      (     (A*EXP(-alpha*(BC$15-$H41)))     +      (B*EXP(-bêta*(BC$15-$H41)))    +   (_C*EXP(-gamma*(BC$15-$H41 )))      )","v":0},{"$f":"  $G41/[0]!Poids      *      (     (A*EXP(-alpha*(BD$15-$H41)))     +      (B*EXP(-bêta*(BD$15-$H41)))    +   (_C*EXP(-gamma*(BD$15-$H41 )))      )","v":0},{"$f":"  $G41/[0]!Poids      *      (     (A*EXP(-alpha*(BE$15-$H41)))     +      (B*EXP(-bêta*(BE$15-$H41)))    +   (_C*EXP(-gamma*(BE$15-$H41 )))      )","v":0},{"$f":"  $G41/[0]!Poids      *      (     (A*EXP(-alpha*(BF$15-$H41)))     +      (B*EXP(-bêta*(BF$15-$H41)))    +   (_C*EXP(-gamma*(BF$15-$H41 )))      )","v":0},{"$f":"  $G41/[0]!Poids      *      (     (A*EXP(-alpha*(BG$15-$H41)))     +      (B*EXP(-bêta*(BG$15-$H41)))    +   (_C*EXP(-gamma*(BG$15-$H41 )))      )","v":0},{"$f":"  $G41/[0]!Poids      *      (     (A*EXP(-alpha*(BH$15-$H41)))     +      (B*EXP(-bêta*(BH$15-$H41)))    +   (_C*EXP(-gamma*(BH$15-$H41 )))      )","v":0},{"$f":"  $G41/[0]!Poids      *      (     (A*EXP(-alpha*(BI$15-$H41)))     +      (B*EXP(-bêta*(BI$15-$H41)))    +   (_C*EXP(-gamma*(BI$15-$H41 )))      )","v":0},{"$f":"  $G41/[0]!Poids      *      (     (A*EXP(-alpha*(BJ$15-$H41)))     +      (B*EXP(-bêta*(BJ$15-$H41)))    +   (_C*EXP(-gamma*(BJ$15-$H41 )))      )","v":0},{"$f":"  $G41/[0]!Poids      *      (     (A*EXP(-alpha*(BK$15-$H41)))     +      (B*EXP(-bêta*(BK$15-$H41)))    +   (_C*EXP(-gamma*(BK$15-$H41 )))      )","v":0},{"$f":"  $G41/[0]!Poids      *      (     (A*EXP(-alpha*(BL$15-$H41)))     +      (B*EXP(-bêta*(BL$15-$H41)))    +   (_C*EXP(-gamma*(BL$15-$H41 )))      )","v":0},{"$f":"  $G41/[0]!Poids      *      (     (A*EXP(-alpha*(BM$15-$H41)))     +      (B*EXP(-bêta*(BM$15-$H41)))    +   (_C*EXP(-gamma*(BM$15-$H41 )))      )","v":0},{"$f":"  $G41/[0]!Poids      *      (     (A*EXP(-alpha*(BN$15-$H41)))     +      (B*EXP(-bêta*(BN$15-$H41)))    +   (_C*EXP(-gamma*(BN$15-$H41 )))      )","v":0},{"$f":"  $G41/[0]!Poids      *      (     (A*EXP(-alpha*(BO$15-$H41)))     +      (B*EXP(-bêta*(BO$15-$H41)))    +   (_C*EXP(-gamma*(BO$15-$H41 )))      )","v":0},{"$f":"  $G41/[0]!Poids      *      (     (A*EXP(-alpha*(BP$15-$H41)))     +      (B*EXP(-bêta*(BP$15-$H41)))    +   (_C*EXP(-gamma*(BP$15-$H41 )))      )","v":0},{"$f":"  $G41/[0]!Poids      *      (     (A*EXP(-alpha*(BQ$15-$H41)))     +      (B*EXP(-bêta*(BQ$15-$H41)))    +   (_C*EXP(-gamma*(BQ$15-$H41 )))      )","v":0},{"$f":"  $G41/[0]!Poids      *      (     (A*EXP(-alpha*(BR$15-$H41)))     +      (B*EXP(-bêta*(BR$15-$H41)))    +   (_C*EXP(-gamma*(BR$15-$H41 )))      )","v":0}]
[null,null,null,null,null,null,{"$f":"AJ$10","v":0},130,null,null,null,null,null,null,null,null,null,null,null,null,null,null,null,null,null,null,null,null,null,null,null,null,null,null,null,{"$f":"  $G42/[0]!Poids      *      (     (A*EXP(-alpha*(AJ$15-$H42)))     +      (B*EXP(-bêta*(AJ$15-$H42)))    +   (_C*EXP(-gamma*(AJ$15-$H42 )))      )","v":0},{"$f":"  $G42/[0]!Poids      *      (     (A*EXP(-alpha*(AK$15-$H42)))     +      (B*EXP(-bêta*(AK$15-$H42)))    +   (_C*EXP(-gamma*(AK$15-$H42 )))      )","v":0},{"$f":"  $G42/[0]!Poids      *      (     (A*EXP(-alpha*(AL$15-$H42)))     +      (B*EXP(-bêta*(AL$15-$H42)))    +   (_C*EXP(-gamma*(AL$15-$H42 )))      )","v":0},{"$f":"  $G42/[0]!Poids      *      (     (A*EXP(-alpha*(AM$15-$H42)))     +      (B*EXP(-bêta*(AM$15-$H42)))    +   (_C*EXP(-gamma*(AM$15-$H42 )))      )","v":0},{"$f":"  $G42/[0]!Poids      *      (     (A*EXP(-alpha*(AN$15-$H42)))     +      (B*EXP(-bêta*(AN$15-$H42)))    +   (_C*EXP(-gamma*(AN$15-$H42 )))      )","v":0},{"$f":"  $G42/[0]!Poids      *      (     (A*EXP(-alpha*(AO$15-$H42)))     +      (B*EXP(-bêta*(AO$15-$H42)))    +   (_C*EXP(-gamma*(AO$15-$H42 )))      )","v":0},{"$f":"  $G42/[0]!Poids      *      (     (A*EXP(-alpha*(AP$15-$H42)))     +      (B*EXP(-bêta*(AP$15-$H42)))    +   (_C*EXP(-gamma*(AP$15-$H42 )))      )","v":0},{"$f":"  $G42/[0]!Poids      *      (     (A*EXP(-alpha*(AQ$15-$H42)))     +      (B*EXP(-bêta*(AQ$15-$H42)))    +   (_C*EXP(-gamma*(AQ$15-$H42 )))      )","v":0},{"$f":"  $G42/[0]!Poids      *      (     (A*EXP(-alpha*(AR$15-$H42)))     +      (B*EXP(-bêta*(AR$15-$H42)))    +   (_C*EXP(-gamma*(AR$15-$H42 )))      )","v":0},{"$f":"  $G42/[0]!Poids      *      (     (A*EXP(-alpha*(AS$15-$H42)))     +      (B*EXP(-bêta*(AS$15-$H42)))    +   (_C*EXP(-gamma*(AS$15-$H42 )))      )","v":0},{"$f":"  $G42/[0]!Poids      *      (     (A*EXP(-alpha*(AT$15-$H42)))     +      (B*EXP(-bêta*(AT$15-$H42)))    +   (_C*EXP(-gamma*(AT$15-$H42 )))      )","v":0},{"$f":"  $G42/[0]!Poids      *      (     (A*EXP(-alpha*(AU$15-$H42)))     +      (B*EXP(-bêta*(AU$15-$H42)))    +   (_C*EXP(-gamma*(AU$15-$H42 )))      )","v":0},{"$f":"  $G42/[0]!Poids      *      (     (A*EXP(-alpha*(AV$15-$H42)))     +      (B*EXP(-bêta*(AV$15-$H42)))    +   (_C*EXP(-gamma*(AV$15-$H42 )))      )","v":0},{"$f":"  $G42/[0]!Poids      *      (     (A*EXP(-alpha*(AW$15-$H42)))     +      (B*EXP(-bêta*(AW$15-$H42)))    +   (_C*EXP(-gamma*(AW$15-$H42 )))      )","v":0},{"$f":"  $G42/[0]!Poids      *      (     (A*EXP(-alpha*(AX$15-$H42)))     +      (B*EXP(-bêta*(AX$15-$H42)))    +   (_C*EXP(-gamma*(AX$15-$H42 )))      )","v":0},{"$f":"  $G42/[0]!Poids      *      (     (A*EXP(-alpha*(AY$15-$H42)))     +      (B*EXP(-bêta*(AY$15-$H42)))    +   (_C*EXP(-gamma*(AY$15-$H42 )))      )","v":0},{"$f":"  $G42/[0]!Poids      *      (     (A*EXP(-alpha*(AZ$15-$H42)))     +      (B*EXP(-bêta*(AZ$15-$H42)))    +   (_C*EXP(-gamma*(AZ$15-$H42 )))      )","v":0},{"$f":"  $G42/[0]!Poids      *      (     (A*EXP(-alpha*(BA$15-$H42)))     +      (B*EXP(-bêta*(BA$15-$H42)))    +   (_C*EXP(-gamma*(BA$15-$H42 )))      )","v":0},{"$f":"  $G42/[0]!Poids      *      (     (A*EXP(-alpha*(BB$15-$H42)))     +      (B*EXP(-bêta*(BB$15-$H42)))    +   (_C*EXP(-gamma*(BB$15-$H42 )))      )","v":0},{"$f":"  $G42/[0]!Poids      *      (     (A*EXP(-alpha*(BC$15-$H42)))     +      (B*EXP(-bêta*(BC$15-$H42)))    +   (_C*EXP(-gamma*(BC$15-$H42 )))      )","v":0},{"$f":"  $G42/[0]!Poids      *      (     (A*EXP(-alpha*(BD$15-$H42)))     +      (B*EXP(-bêta*(BD$15-$H42)))    +   (_C*EXP(-gamma*(BD$15-$H42 )))      )","v":0},{"$f":"  $G42/[0]!Poids      *      (     (A*EXP(-alpha*(BE$15-$H42)))     +      (B*EXP(-bêta*(BE$15-$H42)))    +   (_C*EXP(-gamma*(BE$15-$H42 )))      )","v":0},{"$f":"  $G42/[0]!Poids      *      (     (A*EXP(-alpha*(BF$15-$H42)))     +      (B*EXP(-bêta*(BF$15-$H42)))    +   (_C*EXP(-gamma*(BF$15-$H42 )))      )","v":0},{"$f":"  $G42/[0]!Poids      *      (     (A*EXP(-alpha*(BG$15-$H42)))     +      (B*EXP(-bêta*(BG$15-$H42)))    +   (_C*EXP(-gamma*(BG$15-$H42 )))      )","v":0},{"$f":"  $G42/[0]!Poids      *      (     (A*EXP(-alpha*(BH$15-$H42)))     +      (B*EXP(-bêta*(BH$15-$H42)))    +   (_C*EXP(-gamma*(BH$15-$H42 )))      )","v":0},{"$f":"  $G42/[0]!Poids      *      (     (A*EXP(-alpha*(BI$15-$H42)))     +      (B*EXP(-bêta*(BI$15-$H42)))    +   (_C*EXP(-gamma*(BI$15-$H42 )))      )","v":0},{"$f":"  $G42/[0]!Poids      *      (     (A*EXP(-alpha*(BJ$15-$H42)))     +      (B*EXP(-bêta*(BJ$15-$H42)))    +   (_C*EXP(-gamma*(BJ$15-$H42 )))      )","v":0},{"$f":"  $G42/[0]!Poids      *      (     (A*EXP(-alpha*(BK$15-$H42)))     +      (B*EXP(-bêta*(BK$15-$H42)))    +   (_C*EXP(-gamma*(BK$15-$H42 )))      )","v":0},{"$f":"  $G42/[0]!Poids      *      (     (A*EXP(-alpha*(BL$15-$H42)))     +      (B*EXP(-bêta*(BL$15-$H42)))    +   (_C*EXP(-gamma*(BL$15-$H42 )))      )","v":0},{"$f":"  $G42/[0]!Poids      *      (     (A*EXP(-alpha*(BM$15-$H42)))     +      (B*EXP(-bêta*(BM$15-$H42)))    +   (_C*EXP(-gamma*(BM$15-$H42 )))      )","v":0},{"$f":"  $G42/[0]!Poids      *      (     (A*EXP(-alpha*(BN$15-$H42)))     +      (B*EXP(-bêta*(BN$15-$H42)))    +   (_C*EXP(-gamma*(BN$15-$H42 )))      )","v":0},{"$f":"  $G42/[0]!Poids      *      (     (A*EXP(-alpha*(BO$15-$H42)))     +      (B*EXP(-bêta*(BO$15-$H42)))    +   (_C*EXP(-gamma*(BO$15-$H42 )))      )","v":0},{"$f":"  $G42/[0]!Poids      *      (     (A*EXP(-alpha*(BP$15-$H42)))     +      (B*EXP(-bêta*(BP$15-$H42)))    +   (_C*EXP(-gamma*(BP$15-$H42 )))      )","v":0},{"$f":"  $G42/[0]!Poids      *      (     (A*EXP(-alpha*(BQ$15-$H42)))     +      (B*EXP(-bêta*(BQ$15-$H42)))    +   (_C*EXP(-gamma*(BQ$15-$H42 )))      )","v":0},{"$f":"  $G42/[0]!Poids      *      (     (A*EXP(-alpha*(BR$15-$H42)))     +      (B*EXP(-bêta*(BR$15-$H42)))    +   (_C*EXP(-gamma*(BR$15-$H42 )))      )","v":0}]
[null,null,null,null,null,null,{"$f":"AK$10","v":0},135,null,null,null,null,null,null,null,null,null,null,null,null,null,null,null,null,null,null,null,null,null,null,null,null,null,null,null,null,{"$f":"  $G43/[0]!Poids      *      (     (A*EXP(-alpha*(AK$15-$H43)))     +      (B*EXP(-bêta*(AK$15-$H43)))    +   (_C*EXP(-gamma*(AK$15-$H43 )))      )","v":0},{"$f":"  $G43/[0]!Poids      *      (     (A*EXP(-alpha*(AL$15-$H43)))     +      (B*EXP(-bêta*(AL$15-$H43)))    +   (_C*EXP(-gamma*(AL$15-$H43 )))      )","v":0},{"$f":"  $G43/[0]!Poids      *      (     (A*EXP(-alpha*(AM$15-$H43)))     +      (B*EXP(-bêta*(AM$15-$H43)))    +   (_C*EXP(-gamma*(AM$15-$H43 )))      )","v":0},{"$f":"  $G43/[0]!Poids      *      (     (A*EXP(-alpha*(AN$15-$H43)))     +      (B*EXP(-bêta*(AN$15-$H43)))    +   (_C*EXP(-gamma*(AN$15-$H43 )))      )","v":0},{"$f":"  $G43/[0]!Poids      *      (     (A*EXP(-alpha*(AO$15-$H43)))     +      (B*EXP(-bêta*(AO$15-$H43)))    +   (_C*EXP(-gamma*(AO$15-$H43 )))      )","v":0},{"$f":"  $G43/[0]!Poids      *      (     (A*EXP(-alpha*(AP$15-$H43)))     +      (B*EXP(-bêta*(AP$15-$H43)))    +   (_C*EXP(-gamma*(AP$15-$H43 )))      )","v":0},{"$f":"  $G43/[0]!Poids      *      (     (A*EXP(-alpha*(AQ$15-$H43)))     +      (B*EXP(-bêta*(AQ$15-$H43)))    +   (_C*EXP(-gamma*(AQ$15-$H43 )))      )","v":0},{"$f":"  $G43/[0]!Poids      *      (     (A*EXP(-alpha*(AR$15-$H43)))     +      (B*EXP(-bêta*(AR$15-$H43)))    +   (_C*EXP(-gamma*(AR$15-$H43 )))      )","v":0},{"$f":"  $G43/[0]!Poids      *      (     (A*EXP(-alpha*(AS$15-$H43)))     +      (B*EXP(-bêta*(AS$15-$H43)))    +   (_C*EXP(-gamma*(AS$15-$H43 )))      )","v":0},{"$f":"  $G43/[0]!Poids      *      (     (A*EXP(-alpha*(AT$15-$H43)))     +      (B*EXP(-bêta*(AT$15-$H43)))    +   (_C*EXP(-gamma*(AT$15-$H43 )))      )","v":0},{"$f":"  $G43/[0]!Poids      *      (     (A*EXP(-alpha*(AU$15-$H43)))     +      (B*EXP(-bêta*(AU$15-$H43)))    +   (_C*EXP(-gamma*(AU$15-$H43 )))      )","v":0},{"$f":"  $G43/[0]!Poids      *      (     (A*EXP(-alpha*(AV$15-$H43)))     +      (B*EXP(-bêta*(AV$15-$H43)))    +   (_C*EXP(-gamma*(AV$15-$H43 )))      )","v":0},{"$f":"  $G43/[0]!Poids      *      (     (A*EXP(-alpha*(AW$15-$H43)))     +      (B*EXP(-bêta*(AW$15-$H43)))    +   (_C*EXP(-gamma*(AW$15-$H43 )))      )","v":0},{"$f":"  $G43/[0]!Poids      *      (     (A*EXP(-alpha*(AX$15-$H43)))     +      (B*EXP(-bêta*(AX$15-$H43)))    +   (_C*EXP(-gamma*(AX$15-$H43 )))      )","v":0},{"$f":"  $G43/[0]!Poids      *      (     (A*EXP(-alpha*(AY$15-$H43)))     +      (B*EXP(-bêta*(AY$15-$H43)))    +   (_C*EXP(-gamma*(AY$15-$H43 )))      )","v":0},{"$f":"  $G43/[0]!Poids      *      (     (A*EXP(-alpha*(AZ$15-$H43)))     +      (B*EXP(-bêta*(AZ$15-$H43)))    +   (_C*EXP(-gamma*(AZ$15-$H43 )))      )","v":0},{"$f":"  $G43/[0]!Poids      *      (     (A*EXP(-alpha*(BA$15-$H43)))     +      (B*EXP(-bêta*(BA$15-$H43)))    +   (_C*EXP(-gamma*(BA$15-$H43 )))      )","v":0},{"$f":"  $G43/[0]!Poids      *      (     (A*EXP(-alpha*(BB$15-$H43)))     +      (B*EXP(-bêta*(BB$15-$H43)))    +   (_C*EXP(-gamma*(BB$15-$H43 )))      )","v":0},{"$f":"  $G43/[0]!Poids      *      (     (A*EXP(-alpha*(BC$15-$H43)))     +      (B*EXP(-bêta*(BC$15-$H43)))    +   (_C*EXP(-gamma*(BC$15-$H43 )))      )","v":0},{"$f":"  $G43/[0]!Poids      *      (     (A*EXP(-alpha*(BD$15-$H43)))     +      (B*EXP(-bêta*(BD$15-$H43)))    +   (_C*EXP(-gamma*(BD$15-$H43 )))      )","v":0},{"$f":"  $G43/[0]!Poids      *      (     (A*EXP(-alpha*(BE$15-$H43)))     +      (B*EXP(-bêta*(BE$15-$H43)))    +   (_C*EXP(-gamma*(BE$15-$H43 )))      )","v":0},{"$f":"  $G43/[0]!Poids      *      (     (A*EXP(-alpha*(BF$15-$H43)))     +      (B*EXP(-bêta*(BF$15-$H43)))    +   (_C*EXP(-gamma*(BF$15-$H43 )))      )","v":0},{"$f":"  $G43/[0]!Poids      *      (     (A*EXP(-alpha*(BG$15-$H43)))     +      (B*EXP(-bêta*(BG$15-$H43)))    +   (_C*EXP(-gamma*(BG$15-$H43 )))      )","v":0},{"$f":"  $G43/[0]!Poids      *      (     (A*EXP(-alpha*(BH$15-$H43)))     +      (B*EXP(-bêta*(BH$15-$H43)))    +   (_C*EXP(-gamma*(BH$15-$H43 )))      )","v":0},{"$f":"  $G43/[0]!Poids      *      (     (A*EXP(-alpha*(BI$15-$H43)))     +      (B*EXP(-bêta*(BI$15-$H43)))    +   (_C*EXP(-gamma*(BI$15-$H43 )))      )","v":0},{"$f":"  $G43/[0]!Poids      *      (     (A*EXP(-alpha*(BJ$15-$H43)))     +      (B*EXP(-bêta*(BJ$15-$H43)))    +   (_C*EXP(-gamma*(BJ$15-$H43 )))      )","v":0},{"$f":"  $G43/[0]!Poids      *      (     (A*EXP(-alpha*(BK$15-$H43)))     +      (B*EXP(-bêta*(BK$15-$H43)))    +   (_C*EXP(-gamma*(BK$15-$H43 )))      )","v":0},{"$f":"  $G43/[0]!Poids      *      (     (A*EXP(-alpha*(BL$15-$H43)))     +      (B*EXP(-bêta*(BL$15-$H43)))    +   (_C*EXP(-gamma*(BL$15-$H43 )))      )","v":0},{"$f":"  $G43/[0]!Poids      *      (     (A*EXP(-alpha*(BM$15-$H43)))     +      (B*EXP(-bêta*(BM$15-$H43)))    +   (_C*EXP(-gamma*(BM$15-$H43 )))      )","v":0},{"$f":"  $G43/[0]!Poids      *      (     (A*EXP(-alpha*(BN$15-$H43)))     +      (B*EXP(-bêta*(BN$15-$H43)))    +   (_C*EXP(-gamma*(BN$15-$H43 )))      )","v":0},{"$f":"  $G43/[0]!Poids      *      (     (A*EXP(-alpha*(BO$15-$H43)))     +      (B*EXP(-bêta*(BO$15-$H43)))    +   (_C*EXP(-gamma*(BO$15-$H43 )))      )","v":0},{"$f":"  $G43/[0]!Poids      *      (     (A*EXP(-alpha*(BP$15-$H43)))     +      (B*EXP(-bêta*(BP$15-$H43)))    +   (_C*EXP(-gamma*(BP$15-$H43 )))      )","v":0},{"$f":"  $G43/[0]!Poids      *      (     (A*EXP(-alpha*(BQ$15-$H43)))     +      (B*EXP(-bêta*(BQ$15-$H43)))    +   (_C*EXP(-gamma*(BQ$15-$H43 )))      )","v":0},{"$f":"  $G43/[0]!Poids      *      (     (A*EXP(-alpha*(BR$15-$H43)))     +      (B*EXP(-bêta*(BR$15-$H43)))    +   (_C*EXP(-gamma*(BR$15-$H43 )))      )","v":0}]
[null,null,null,null,null,null,{"$f":"AL$10","v":0},140,null,null,null,null,null,null,null,null,null,null,null,null,null,null,null,null,null,null,null,null,null,null,null,null,null,null,null,null,null,{"$f":"  $G44/[0]!Poids      *      (     (A*EXP(-alpha*(AL$15-$H44)))     +      (B*EXP(-bêta*(AL$15-$H44)))    +   (_C*EXP(-gamma*(AL$15-$H44 )))      )","v":0},{"$f":"  $G44/[0]!Poids      *      (     (A*EXP(-alpha*(AM$15-$H44)))     +      (B*EXP(-bêta*(AM$15-$H44)))    +   (_C*EXP(-gamma*(AM$15-$H44 )))      )","v":0},{"$f":"  $G44/[0]!Poids      *      (     (A*EXP(-alpha*(AN$15-$H44)))     +      (B*EXP(-bêta*(AN$15-$H44)))    +   (_C*EXP(-gamma*(AN$15-$H44 )))      )","v":0},{"$f":"  $G44/[0]!Poids      *      (     (A*EXP(-alpha*(AO$15-$H44)))     +      (B*EXP(-bêta*(AO$15-$H44)))    +   (_C*EXP(-gamma*(AO$15-$H44 )))      )","v":0},{"$f":"  $G44/[0]!Poids      *      (     (A*EXP(-alpha*(AP$15-$H44)))     +      (B*EXP(-bêta*(AP$15-$H44)))    +   (_C*EXP(-gamma*(AP$15-$H44 )))      )","v":0},{"$f":"  $G44/[0]!Poids      *      (     (A*EXP(-alpha*(AQ$15-$H44)))     +      (B*EXP(-bêta*(AQ$15-$H44)))    +   (_C*EXP(-gamma*(AQ$15-$H44 )))      )","v":0},{"$f":"  $G44/[0]!Poids      *      (     (A*EXP(-alpha*(AR$15-$H44)))     +      (B*EXP(-bêta*(AR$15-$H44)))    +   (_C*EXP(-gamma*(AR$15-$H44 )))      )","v":0},{"$f":"  $G44/[0]!Poids      *      (     (A*EXP(-alpha*(AS$15-$H44)))     +      (B*EXP(-bêta*(AS$15-$H44)))    +   (_C*EXP(-gamma*(AS$15-$H44 )))      )","v":0},{"$f":"  $G44/[0]!Poids      *      (     (A*EXP(-alpha*(AT$15-$H44)))     +      (B*EXP(-bêta*(AT$15-$H44)))    +   (_C*EXP(-gamma*(AT$15-$H44 )))      )","v":0},{"$f":"  $G44/[0]!Poids      *      (     (A*EXP(-alpha*(AU$15-$H44)))     +      (B*EXP(-bêta*(AU$15-$H44)))    +   (_C*EXP(-gamma*(AU$15-$H44 )))      )","v":0},{"$f":"  $G44/[0]!Poids      *      (     (A*EXP(-alpha*(AV$15-$H44)))     +      (B*EXP(-bêta*(AV$15-$H44)))    +   (_C*EXP(-gamma*(AV$15-$H44 )))      )","v":0},{"$f":"  $G44/[0]!Poids      *      (     (A*EXP(-alpha*(AW$15-$H44)))     +      (B*EXP(-bêta*(AW$15-$H44)))    +   (_C*EXP(-gamma*(AW$15-$H44 )))      )","v":0},{"$f":"  $G44/[0]!Poids      *      (     (A*EXP(-alpha*(AX$15-$H44)))     +      (B*EXP(-bêta*(AX$15-$H44)))    +   (_C*EXP(-gamma*(AX$15-$H44 )))      )","v":0},{"$f":"  $G44/[0]!Poids      *      (     (A*EXP(-alpha*(AY$15-$H44)))     +      (B*EXP(-bêta*(AY$15-$H44)))    +   (_C*EXP(-gamma*(AY$15-$H44 )))      )","v":0},{"$f":"  $G44/[0]!Poids      *      (     (A*EXP(-alpha*(AZ$15-$H44)))     +      (B*EXP(-bêta*(AZ$15-$H44)))    +   (_C*EXP(-gamma*(AZ$15-$H44 )))      )","v":0},{"$f":"  $G44/[0]!Poids      *      (     (A*EXP(-alpha*(BA$15-$H44)))     +      (B*EXP(-bêta*(BA$15-$H44)))    +   (_C*EXP(-gamma*(BA$15-$H44 )))      )","v":0},{"$f":"  $G44/[0]!Poids      *      (     (A*EXP(-alpha*(BB$15-$H44)))     +      (B*EXP(-bêta*(BB$15-$H44)))    +   (_C*EXP(-gamma*(BB$15-$H44 )))      )","v":0},{"$f":"  $G44/[0]!Poids      *      (     (A*EXP(-alpha*(BC$15-$H44)))     +      (B*EXP(-bêta*(BC$15-$H44)))    +   (_C*EXP(-gamma*(BC$15-$H44 )))      )","v":0},{"$f":"  $G44/[0]!Poids      *      (     (A*EXP(-alpha*(BD$15-$H44)))     +      (B*EXP(-bêta*(BD$15-$H44)))    +   (_C*EXP(-gamma*(BD$15-$H44 )))      )","v":0},{"$f":"  $G44/[0]!Poids      *      (     (A*EXP(-alpha*(BE$15-$H44)))     +      (B*EXP(-bêta*(BE$15-$H44)))    +   (_C*EXP(-gamma*(BE$15-$H44 )))      )","v":0},{"$f":"  $G44/[0]!Poids      *      (     (A*EXP(-alpha*(BF$15-$H44)))     +      (B*EXP(-bêta*(BF$15-$H44)))    +   (_C*EXP(-gamma*(BF$15-$H44 )))      )","v":0},{"$f":"  $G44/[0]!Poids      *      (     (A*EXP(-alpha*(BG$15-$H44)))     +      (B*EXP(-bêta*(BG$15-$H44)))    +   (_C*EXP(-gamma*(BG$15-$H44 )))      )","v":0},{"$f":"  $G44/[0]!Poids      *      (     (A*EXP(-alpha*(BH$15-$H44)))     +      (B*EXP(-bêta*(BH$15-$H44)))    +   (_C*EXP(-gamma*(BH$15-$H44 )))      )","v":0},{"$f":"  $G44/[0]!Poids      *      (     (A*EXP(-alpha*(BI$15-$H44)))     +      (B*EXP(-bêta*(BI$15-$H44)))    +   (_C*EXP(-gamma*(BI$15-$H44 )))      )","v":0},{"$f":"  $G44/[0]!Poids      *      (     (A*EXP(-alpha*(BJ$15-$H44)))     +      (B*EXP(-bêta*(BJ$15-$H44)))    +   (_C*EXP(-gamma*(BJ$15-$H44 )))      )","v":0},{"$f":"  $G44/[0]!Poids      *      (     (A*EXP(-alpha*(BK$15-$H44)))     +      (B*EXP(-bêta*(BK$15-$H44)))    +   (_C*EXP(-gamma*(BK$15-$H44 )))      )","v":0},{"$f":"  $G44/[0]!Poids      *      (     (A*EXP(-alpha*(BL$15-$H44)))     +      (B*EXP(-bêta*(BL$15-$H44)))    +   (_C*EXP(-gamma*(BL$15-$H44 )))      )","v":0},{"$f":"  $G44/[0]!Poids      *      (     (A*EXP(-alpha*(BM$15-$H44)))     +      (B*EXP(-bêta*(BM$15-$H44)))    +   (_C*EXP(-gamma*(BM$15-$H44 )))      )","v":0},{"$f":"  $G44/[0]!Poids      *      (     (A*EXP(-alpha*(BN$15-$H44)))     +      (B*EXP(-bêta*(BN$15-$H44)))    +   (_C*EXP(-gamma*(BN$15-$H44 )))      )","v":0},{"$f":"  $G44/[0]!Poids      *      (     (A*EXP(-alpha*(BO$15-$H44)))     +      (B*EXP(-bêta*(BO$15-$H44)))    +   (_C*EXP(-gamma*(BO$15-$H44 )))      )","v":0},{"$f":"  $G44/[0]!Poids      *      (     (A*EXP(-alpha*(BP$15-$H44)))     +      (B*EXP(-bêta*(BP$15-$H44)))    +   (_C*EXP(-gamma*(BP$15-$H44 )))      )","v":0},{"$f":"  $G44/[0]!Poids      *      (     (A*EXP(-alpha*(BQ$15-$H44)))     +      (B*EXP(-bêta*(BQ$15-$H44)))    +   (_C*EXP(-gamma*(BQ$15-$H44 )))      )","v":0},{"$f":"  $G44/[0]!Poids      *      (     (A*EXP(-alpha*(BR$15-$H44)))     +      (B*EXP(-bêta*(BR$15-$H44)))    +   (_C*EXP(-gamma*(BR$15-$H44 )))      )","v":0}]
[null,null,null,null,null,null,{"$f":"AM$10","v":0},145,null,null,null,null,null,null,null,null,null,null,null,null,null,null,null,null,null,null,null,null,null,null,null,null,null,null,null,null,null,null,{"$f":"  $G45/[0]!Poids      *      (     (A*EXP(-alpha*(AM$15-$H45)))     +      (B*EXP(-bêta*(AM$15-$H45)))    +   (_C*EXP(-gamma*(AM$15-$H45 )))      )","v":0},{"$f":"  $G45/[0]!Poids      *      (     (A*EXP(-alpha*(AN$15-$H45)))     +      (B*EXP(-bêta*(AN$15-$H45)))    +   (_C*EXP(-gamma*(AN$15-$H45 )))      )","v":0},{"$f":"  $G45/[0]!Poids      *      (     (A*EXP(-alpha*(AO$15-$H45)))     +      (B*EXP(-bêta*(AO$15-$H45)))    +   (_C*EXP(-gamma*(AO$15-$H45 )))      )","v":0},{"$f":"  $G45/[0]!Poids      *      (     (A*EXP(-alpha*(AP$15-$H45)))     +      (B*EXP(-bêta*(AP$15-$H45)))    +   (_C*EXP(-gamma*(AP$15-$H45 )))      )","v":0},{"$f":"  $G45/[0]!Poids      *      (     (A*EXP(-alpha*(AQ$15-$H45)))     +      (B*EXP(-bêta*(AQ$15-$H45)))    +   (_C*EXP(-gamma*(AQ$15-$H45 )))      )","v":0},{"$f":"  $G45/[0]!Poids      *      (     (A*EXP(-alpha*(AR$15-$H45)))     +      (B*EXP(-bêta*(AR$15-$H45)))    +   (_C*EXP(-gamma*(AR$15-$H45 )))      )","v":0},{"$f":"  $G45/[0]!Poids      *      (     (A*EXP(-alpha*(AS$15-$H45)))     +      (B*EXP(-bêta*(AS$15-$H45)))    +   (_C*EXP(-gamma*(AS$15-$H45 )))      )","v":0},{"$f":"  $G45/[0]!Poids      *      (     (A*EXP(-alpha*(AT$15-$H45)))     +      (B*EXP(-bêta*(AT$15-$H45)))    +   (_C*EXP(-gamma*(AT$15-$H45 )))      )","v":0},{"$f":"  $G45/[0]!Poids      *      (     (A*EXP(-alpha*(AU$15-$H45)))     +      (B*EXP(-bêta*(AU$15-$H45)))    +   (_C*EXP(-gamma*(AU$15-$H45 )))      )","v":0},{"$f":"  $G45/[0]!Poids      *      (     (A*EXP(-alpha*(AV$15-$H45)))     +      (B*EXP(-bêta*(AV$15-$H45)))    +   (_C*EXP(-gamma*(AV$15-$H45 )))      )","v":0},{"$f":"  $G45/[0]!Poids      *      (     (A*EXP(-alpha*(AW$15-$H45)))     +      (B*EXP(-bêta*(AW$15-$H45)))    +   (_C*EXP(-gamma*(AW$15-$H45 )))      )","v":0},{"$f":"  $G45/[0]!Poids      *      (     (A*EXP(-alpha*(AX$15-$H45)))     +      (B*EXP(-bêta*(AX$15-$H45)))    +   (_C*EXP(-gamma*(AX$15-$H45 )))      )","v":0},{"$f":"  $G45/[0]!Poids      *      (     (A*EXP(-alpha*(AY$15-$H45)))     +      (B*EXP(-bêta*(AY$15-$H45)))    +   (_C*EXP(-gamma*(AY$15-$H45 )))      )","v":0},{"$f":"  $G45/[0]!Poids      *      (     (A*EXP(-alpha*(AZ$15-$H45)))     +      (B*EXP(-bêta*(AZ$15-$H45)))    +   (_C*EXP(-gamma*(AZ$15-$H45 )))      )","v":0},{"$f":"  $G45/[0]!Poids      *      (     (A*EXP(-alpha*(BA$15-$H45)))     +      (B*EXP(-bêta*(BA$15-$H45)))    +   (_C*EXP(-gamma*(BA$15-$H45 )))      )","v":0},{"$f":"  $G45/[0]!Poids      *      (     (A*EXP(-alpha*(BB$15-$H45)))     +      (B*EXP(-bêta*(BB$15-$H45)))    +   (_C*EXP(-gamma*(BB$15-$H45 )))      )","v":0},{"$f":"  $G45/[0]!Poids      *      (     (A*EXP(-alpha*(BC$15-$H45)))     +      (B*EXP(-bêta*(BC$15-$H45)))    +   (_C*EXP(-gamma*(BC$15-$H45 )))      )","v":0},{"$f":"  $G45/[0]!Poids      *      (     (A*EXP(-alpha*(BD$15-$H45)))     +      (B*EXP(-bêta*(BD$15-$H45)))    +   (_C*EXP(-gamma*(BD$15-$H45 )))      )","v":0},{"$f":"  $G45/[0]!Poids      *      (     (A*EXP(-alpha*(BE$15-$H45)))     +      (B*EXP(-bêta*(BE$15-$H45)))    +   (_C*EXP(-gamma*(BE$15-$H45 )))      )","v":0},{"$f":"  $G45/[0]!Poids      *      (     (A*EXP(-alpha*(BF$15-$H45)))     +      (B*EXP(-bêta*(BF$15-$H45)))    +   (_C*EXP(-gamma*(BF$15-$H45 )))      )","v":0},{"$f":"  $G45/[0]!Poids      *      (     (A*EXP(-alpha*(BG$15-$H45)))     +      (B*EXP(-bêta*(BG$15-$H45)))    +   (_C*EXP(-gamma*(BG$15-$H45 )))      )","v":0},{"$f":"  $G45/[0]!Poids      *      (     (A*EXP(-alpha*(BH$15-$H45)))     +      (B*EXP(-bêta*(BH$15-$H45)))    +   (_C*EXP(-gamma*(BH$15-$H45 )))      )","v":0},{"$f":"  $G45/[0]!Poids      *      (     (A*EXP(-alpha*(BI$15-$H45)))     +      (B*EXP(-bêta*(BI$15-$H45)))    +   (_C*EXP(-gamma*(BI$15-$H45 )))      )","v":0},{"$f":"  $G45/[0]!Poids      *      (     (A*EXP(-alpha*(BJ$15-$H45)))     +      (B*EXP(-bêta*(BJ$15-$H45)))    +   (_C*EXP(-gamma*(BJ$15-$H45 )))      )","v":0},{"$f":"  $G45/[0]!Poids      *      (     (A*EXP(-alpha*(BK$15-$H45)))     +      (B*EXP(-bêta*(BK$15-$H45)))    +   (_C*EXP(-gamma*(BK$15-$H45 )))      )","v":0},{"$f":"  $G45/[0]!Poids      *      (     (A*EXP(-alpha*(BL$15-$H45)))     +      (B*EXP(-bêta*(BL$15-$H45)))    +   (_C*EXP(-gamma*(BL$15-$H45 )))      )","v":0},{"$f":"  $G45/[0]!Poids      *      (     (A*EXP(-alpha*(BM$15-$H45)))     +      (B*EXP(-bêta*(BM$15-$H45)))    +   (_C*EXP(-gamma*(BM$15-$H45 )))      )","v":0},{"$f":"  $G45/[0]!Poids      *      (     (A*EXP(-alpha*(BN$15-$H45)))     +      (B*EXP(-bêta*(BN$15-$H45)))    +   (_C*EXP(-gamma*(BN$15-$H45 )))      )","v":0},{"$f":"  $G45/[0]!Poids      *      (     (A*EXP(-alpha*(BO$15-$H45)))     +      (B*EXP(-bêta*(BO$15-$H45)))    +   (_C*EXP(-gamma*(BO$15-$H45 )))      )","v":0},{"$f":"  $G45/[0]!Poids      *      (     (A*EXP(-alpha*(BP$15-$H45)))     +      (B*EXP(-bêta*(BP$15-$H45)))    +   (_C*EXP(-gamma*(BP$15-$H45 )))      )","v":0},{"$f":"  $G45/[0]!Poids      *      (     (A*EXP(-alpha*(BQ$15-$H45)))     +      (B*EXP(-bêta*(BQ$15-$H45)))    +   (_C*EXP(-gamma*(BQ$15-$H45 )))      )","v":0},{"$f":"  $G45/[0]!Poids      *      (     (A*EXP(-alpha*(BR$15-$H45)))     +      (B*EXP(-bêta*(BR$15-$H45)))    +   (_C*EXP(-gamma*(BR$15-$H45 )))      )","v":0}]
[null,null,null,null,null,null,{"$f":"AN$10","v":0},150,null,null,null,null,null,null,null,null,null,null,null,null,null,null,null,null,null,null,null,null,null,null,null,null,null,null,null,null,null,null,null,{"$f":"  $G46/[0]!Poids      *      (     (A*EXP(-alpha*(AN$15-$H46)))     +      (B*EXP(-bêta*(AN$15-$H46)))    +   (_C*EXP(-gamma*(AN$15-$H46 )))      )","v":0},{"$f":"  $G46/[0]!Poids      *      (     (A*EXP(-alpha*(AO$15-$H46)))     +      (B*EXP(-bêta*(AO$15-$H46)))    +   (_C*EXP(-gamma*(AO$15-$H46 )))      )","v":0},{"$f":"  $G46/[0]!Poids      *      (     (A*EXP(-alpha*(AP$15-$H46)))     +      (B*EXP(-bêta*(AP$15-$H46)))    +   (_C*EXP(-gamma*(AP$15-$H46 )))      )","v":0},{"$f":"  $G46/[0]!Poids      *      (     (A*EXP(-alpha*(AQ$15-$H46)))     +      (B*EXP(-bêta*(AQ$15-$H46)))    +   (_C*EXP(-gamma*(AQ$15-$H46 )))      )","v":0},{"$f":"  $G46/[0]!Poids      *      (     (A*EXP(-alpha*(AR$15-$H46)))     +      (B*EXP(-bêta*(AR$15-$H46)))    +   (_C*EXP(-gamma*(AR$15-$H46 )))      )","v":0},{"$f":"  $G46/[0]!Poids      *      (     (A*EXP(-alpha*(AS$15-$H46)))     +      (B*EXP(-bêta*(AS$15-$H46)))    +   (_C*EXP(-gamma*(AS$15-$H46 )))      )","v":0},{"$f":"  $G46/[0]!Poids      *      (     (A*EXP(-alpha*(AT$15-$H46)))     +      (B*EXP(-bêta*(AT$15-$H46)))    +   (_C*EXP(-gamma*(AT$15-$H46 )))      )","v":0},{"$f":"  $G46/[0]!Poids      *      (     (A*EXP(-alpha*(AU$15-$H46)))     +      (B*EXP(-bêta*(AU$15-$H46)))    +   (_C*EXP(-gamma*(AU$15-$H46 )))      )","v":0},{"$f":"  $G46/[0]!Poids      *      (     (A*EXP(-alpha*(AV$15-$H46)))     +      (B*EXP(-bêta*(AV$15-$H46)))    +   (_C*EXP(-gamma*(AV$15-$H46 )))      )","v":0},{"$f":"  $G46/[0]!Poids      *      (     (A*EXP(-alpha*(AW$15-$H46)))     +      (B*EXP(-bêta*(AW$15-$H46)))    +   (_C*EXP(-gamma*(AW$15-$H46 )))      )","v":0},{"$f":"  $G46/[0]!Poids      *      (     (A*EXP(-alpha*(AX$15-$H46)))     +      (B*EXP(-bêta*(AX$15-$H46)))    +   (_C*EXP(-gamma*(AX$15-$H46 )))      )","v":0},{"$f":"  $G46/[0]!Poids      *      (     (A*EXP(-alpha*(AY$15-$H46)))     +      (B*EXP(-bêta*(AY$15-$H46)))    +   (_C*EXP(-gamma*(AY$15-$H46 )))      )","v":0},{"$f":"  $G46/[0]!Poids      *      (     (A*EXP(-alpha*(AZ$15-$H46)))     +      (B*EXP(-bêta*(AZ$15-$H46)))    +   (_C*EXP(-gamma*(AZ$15-$H46 )))      )","v":0},{"$f":"  $G46/[0]!Poids      *      (     (A*EXP(-alpha*(BA$15-$H46)))     +      (B*EXP(-bêta*(BA$15-$H46)))    +   (_C*EXP(-gamma*(BA$15-$H46 )))      )","v":0},{"$f":"  $G46/[0]!Poids      *      (     (A*EXP(-alpha*(BB$15-$H46)))     +      (B*EXP(-bêta*(BB$15-$H46)))    +   (_C*EXP(-gamma*(BB$15-$H46 )))      )","v":0},{"$f":"  $G46/[0]!Poids      *      (     (A*EXP(-alpha*(BC$15-$H46)))     +      (B*EXP(-bêta*(BC$15-$H46)))    +   (_C*EXP(-gamma*(BC$15-$H46 )))      )","v":0},{"$f":"  $G46/[0]!Poids      *      (     (A*EXP(-alpha*(BD$15-$H46)))     +      (B*EXP(-bêta*(BD$15-$H46)))    +   (_C*EXP(-gamma*(BD$15-$H46 )))      )","v":0},{"$f":"  $G46/[0]!Poids      *      (     (A*EXP(-alpha*(BE$15-$H46)))     +      (B*EXP(-bêta*(BE$15-$H46)))    +   (_C*EXP(-gamma*(BE$15-$H46 )))      )","v":0},{"$f":"  $G46/[0]!Poids      *      (     (A*EXP(-alpha*(BF$15-$H46)))     +      (B*EXP(-bêta*(BF$15-$H46)))    +   (_C*EXP(-gamma*(BF$15-$H46 )))      )","v":0},{"$f":"  $G46/[0]!Poids      *      (     (A*EXP(-alpha*(BG$15-$H46)))     +      (B*EXP(-bêta*(BG$15-$H46)))    +   (_C*EXP(-gamma*(BG$15-$H46 )))      )","v":0},{"$f":"  $G46/[0]!Poids      *      (     (A*EXP(-alpha*(BH$15-$H46)))     +      (B*EXP(-bêta*(BH$15-$H46)))    +   (_C*EXP(-gamma*(BH$15-$H46 )))      )","v":0},{"$f":"  $G46/[0]!Poids      *      (     (A*EXP(-alpha*(BI$15-$H46)))     +      (B*EXP(-bêta*(BI$15-$H46)))    +   (_C*EXP(-gamma*(BI$15-$H46 )))      )","v":0},{"$f":"  $G46/[0]!Poids      *      (     (A*EXP(-alpha*(BJ$15-$H46)))     +      (B*EXP(-bêta*(BJ$15-$H46)))    +   (_C*EXP(-gamma*(BJ$15-$H46 )))      )","v":0},{"$f":"  $G46/[0]!Poids      *      (     (A*EXP(-alpha*(BK$15-$H46)))     +      (B*EXP(-bêta*(BK$15-$H46)))    +   (_C*EXP(-gamma*(BK$15-$H46 )))      )","v":0},{"$f":"  $G46/[0]!Poids      *      (     (A*EXP(-alpha*(BL$15-$H46)))     +      (B*EXP(-bêta*(BL$15-$H46)))    +   (_C*EXP(-gamma*(BL$15-$H46 )))      )","v":0},{"$f":"  $G46/[0]!Poids      *      (     (A*EXP(-alpha*(BM$15-$H46)))     +      (B*EXP(-bêta*(BM$15-$H46)))    +   (_C*EXP(-gamma*(BM$15-$H46 )))      )","v":0},{"$f":"  $G46/[0]!Poids      *      (     (A*EXP(-alpha*(BN$15-$H46)))     +      (B*EXP(-bêta*(BN$15-$H46)))    +   (_C*EXP(-gamma*(BN$15-$H46 )))      )","v":0},{"$f":"  $G46/[0]!Poids      *      (     (A*EXP(-alpha*(BO$15-$H46)))     +      (B*EXP(-bêta*(BO$15-$H46)))    +   (_C*EXP(-gamma*(BO$15-$H46 )))      )","v":0},{"$f":"  $G46/[0]!Poids      *      (     (A*EXP(-alpha*(BP$15-$H46)))     +      (B*EXP(-bêta*(BP$15-$H46)))    +   (_C*EXP(-gamma*(BP$15-$H46 )))      )","v":0},{"$f":"  $G46/[0]!Poids      *      (     (A*EXP(-alpha*(BQ$15-$H46)))     +      (B*EXP(-bêta*(BQ$15-$H46)))    +   (_C*EXP(-gamma*(BQ$15-$H46 )))      )","v":0},{"$f":"  $G46/[0]!Poids      *      (     (A*EXP(-alpha*(BR$15-$H46)))     +      (B*EXP(-bêta*(BR$15-$H46)))    +   (_C*EXP(-gamma*(BR$15-$H46 )))      )","v":0}]
[null,null,null,null,null,null,{"$f":"AO$10","v":0},155,null,null,null,null,null,null,null,null,null,null,null,null,null,null,null,null,null,null,null,null,null,null,null,null,null,null,null,null,null,null,null,null,{"$f":"  $G47/[0]!Poids      *      (     (A*EXP(-alpha*(AO$15-$H47)))     +      (B*EXP(-bêta*(AO$15-$H47)))    +   (_C*EXP(-gamma*(AO$15-$H47 )))      )","v":0},{"$f":"  $G47/[0]!Poids      *      (     (A*EXP(-alpha*(AP$15-$H47)))     +      (B*EXP(-bêta*(AP$15-$H47)))    +   (_C*EXP(-gamma*(AP$15-$H47 )))      )","v":0},{"$f":"  $G47/[0]!Poids      *      (     (A*EXP(-alpha*(AQ$15-$H47)))     +      (B*EXP(-bêta*(AQ$15-$H47)))    +   (_C*EXP(-gamma*(AQ$15-$H47 )))      )","v":0},{"$f":"  $G47/[0]!Poids      *      (     (A*EXP(-alpha*(AR$15-$H47)))     +      (B*EXP(-bêta*(AR$15-$H47)))    +   (_C*EXP(-gamma*(AR$15-$H47 )))      )","v":0},{"$f":"  $G47/[0]!Poids      *      (     (A*EXP(-alpha*(AS$15-$H47)))     +      (B*EXP(-bêta*(AS$15-$H47)))    +   (_C*EXP(-gamma*(AS$15-$H47 )))      )","v":0},{"$f":"  $G47/[0]!Poids      *      (     (A*EXP(-alpha*(AT$15-$H47)))     +      (B*EXP(-bêta*(AT$15-$H47)))    +   (_C*EXP(-gamma*(AT$15-$H47 )))      )","v":0},{"$f":"  $G47/[0]!Poids      *      (     (A*EXP(-alpha*(AU$15-$H47)))     +      (B*EXP(-bêta*(AU$15-$H47)))    +   (_C*EXP(-gamma*(AU$15-$H47 )))      )","v":0},{"$f":"  $G47/[0]!Poids      *      (     (A*EXP(-alpha*(AV$15-$H47)))     +      (B*EXP(-bêta*(AV$15-$H47)))    +   (_C*EXP(-gamma*(AV$15-$H47 )))      )","v":0},{"$f":"  $G47/[0]!Poids      *      (     (A*EXP(-alpha*(AW$15-$H47)))     +      (B*EXP(-bêta*(AW$15-$H47)))    +   (_C*EXP(-gamma*(AW$15-$H47 )))      )","v":0},{"$f":"  $G47/[0]!Poids      *      (     (A*EXP(-alpha*(AX$15-$H47)))     +      (B*EXP(-bêta*(AX$15-$H47)))    +   (_C*EXP(-gamma*(AX$15-$H47 )))      )","v":0},{"$f":"  $G47/[0]!Poids      *      (     (A*EXP(-alpha*(AY$15-$H47)))     +      (B*EXP(-bêta*(AY$15-$H47)))    +   (_C*EXP(-gamma*(AY$15-$H47 )))      )","v":0},{"$f":"  $G47/[0]!Poids      *      (     (A*EXP(-alpha*(AZ$15-$H47)))     +      (B*EXP(-bêta*(AZ$15-$H47)))    +   (_C*EXP(-gamma*(AZ$15-$H47 )))      )","v":0},{"$f":"  $G47/[0]!Poids      *      (     (A*EXP(-alpha*(BA$15-$H47)))     +      (B*EXP(-bêta*(BA$15-$H47)))    +   (_C*EXP(-gamma*(BA$15-$H47 )))      )","v":0},{"$f":"  $G47/[0]!Poids      *      (     (A*EXP(-alpha*(BB$15-$H47)))     +      (B*EXP(-bêta*(BB$15-$H47)))    +   (_C*EXP(-gamma*(BB$15-$H47 )))      )","v":0},{"$f":"  $G47/[0]!Poids      *      (     (A*EXP(-alpha*(BC$15-$H47)))     +      (B*EXP(-bêta*(BC$15-$H47)))    +   (_C*EXP(-gamma*(BC$15-$H47 )))      )","v":0},{"$f":"  $G47/[0]!Poids      *      (     (A*EXP(-alpha*(BD$15-$H47)))     +      (B*EXP(-bêta*(BD$15-$H47)))    +   (_C*EXP(-gamma*(BD$15-$H47 )))      )","v":0},{"$f":"  $G47/[0]!Poids      *      (     (A*EXP(-alpha*(BE$15-$H47)))     +      (B*EXP(-bêta*(BE$15-$H47)))    +   (_C*EXP(-gamma*(BE$15-$H47 )))      )","v":0},{"$f":"  $G47/[0]!Poids      *      (     (A*EXP(-alpha*(BF$15-$H47)))     +      (B*EXP(-bêta*(BF$15-$H47)))    +   (_C*EXP(-gamma*(BF$15-$H47 )))      )","v":0},{"$f":"  $G47/[0]!Poids      *      (     (A*EXP(-alpha*(BG$15-$H47)))     +      (B*EXP(-bêta*(BG$15-$H47)))    +   (_C*EXP(-gamma*(BG$15-$H47 )))      )","v":0},{"$f":"  $G47/[0]!Poids      *      (     (A*EXP(-alpha*(BH$15-$H47)))     +      (B*EXP(-bêta*(BH$15-$H47)))    +   (_C*EXP(-gamma*(BH$15-$H47 )))      )","v":0},{"$f":"  $G47/[0]!Poids      *      (     (A*EXP(-alpha*(BI$15-$H47)))     +      (B*EXP(-bêta*(BI$15-$H47)))    +   (_C*EXP(-gamma*(BI$15-$H47 )))      )","v":0},{"$f":"  $G47/[0]!Poids      *      (     (A*EXP(-alpha*(BJ$15-$H47)))     +      (B*EXP(-bêta*(BJ$15-$H47)))    +   (_C*EXP(-gamma*(BJ$15-$H47 )))      )","v":0},{"$f":"  $G47/[0]!Poids      *      (     (A*EXP(-alpha*(BK$15-$H47)))     +      (B*EXP(-bêta*(BK$15-$H47)))    +   (_C*EXP(-gamma*(BK$15-$H47 )))      )","v":0},{"$f":"  $G47/[0]!Poids      *      (     (A*EXP(-alpha*(BL$15-$H47)))     +      (B*EXP(-bêta*(BL$15-$H47)))    +   (_C*EXP(-gamma*(BL$15-$H47 )))      )","v":0},{"$f":"  $G47/[0]!Poids      *      (     (A*EXP(-alpha*(BM$15-$H47)))     +      (B*EXP(-bêta*(BM$15-$H47)))    +   (_C*EXP(-gamma*(BM$15-$H47 )))      )","v":0},{"$f":"  $G47/[0]!Poids      *      (     (A*EXP(-alpha*(BN$15-$H47)))     +      (B*EXP(-bêta*(BN$15-$H47)))    +   (_C*EXP(-gamma*(BN$15-$H47 )))      )","v":0},{"$f":"  $G47/[0]!Poids      *      (     (A*EXP(-alpha*(BO$15-$H47)))     +      (B*EXP(-bêta*(BO$15-$H47)))    +   (_C*EXP(-gamma*(BO$15-$H47 )))      )","v":0},{"$f":"  $G47/[0]!Poids      *      (     (A*EXP(-alpha*(BP$15-$H47)))     +      (B*EXP(-bêta*(BP$15-$H47)))    +   (_C*EXP(-gamma*(BP$15-$H47 )))      )","v":0},{"$f":"  $G47/[0]!Poids      *      (     (A*EXP(-alpha*(BQ$15-$H47)))     +      (B*EXP(-bêta*(BQ$15-$H47)))    +   (_C*EXP(-gamma*(BQ$15-$H47 )))      )","v":0},{"$f":"  $G47/[0]!Poids      *      (     (A*EXP(-alpha*(BR$15-$H47)))     +      (B*EXP(-bêta*(BR$15-$H47)))    +   (_C*EXP(-gamma*(BR$15-$H47 )))      )","v":0}]
[null,null,null,null,null,null,{"$f":"AP$10","v":0},160,null,null,null,null,null,null,null,null,null,null,null,null,null,null,null,null,null,null,null,null,null,null,null,null,null,null,null,null,null,null,null,null,null,{"$f":"  $G48/[0]!Poids      *      (     (A*EXP(-alpha*(AP$15-$H48)))     +      (B*EXP(-bêta*(AP$15-$H48)))    +   (_C*EXP(-gamma*(AP$15-$H48 )))      )","v":0},{"$f":"  $G48/[0]!Poids      *      (     (A*EXP(-alpha*(AQ$15-$H48)))     +      (B*EXP(-bêta*(AQ$15-$H48)))    +   (_C*EXP(-gamma*(AQ$15-$H48 )))      )","v":0},{"$f":"  $G48/[0]!Poids      *      (     (A*EXP(-alpha*(AR$15-$H48)))     +      (B*EXP(-bêta*(AR$15-$H48)))    +   (_C*EXP(-gamma*(AR$15-$H48 )))      )","v":0},{"$f":"  $G48/[0]!Poids      *      (     (A*EXP(-alpha*(AS$15-$H48)))     +      (B*EXP(-bêta*(AS$15-$H48)))    +   (_C*EXP(-gamma*(AS$15-$H48 )))      )","v":0},{"$f":"  $G48/[0]!Poids      *      (     (A*EXP(-alpha*(AT$15-$H48)))     +      (B*EXP(-bêta*(AT$15-$H48)))    +   (_C*EXP(-gamma*(AT$15-$H48 )))      )","v":0},{"$f":"  $G48/[0]!Poids      *      (     (A*EXP(-alpha*(AU$15-$H48)))     +      (B*EXP(-bêta*(AU$15-$H48)))    +   (_C*EXP(-gamma*(AU$15-$H48 )))      )","v":0},{"$f":"  $G48/[0]!Poids      *      (     (A*EXP(-alpha*(AV$15-$H48)))     +      (B*EXP(-bêta*(AV$15-$H48)))    +   (_C*EXP(-gamma*(AV$15-$H48 )))      )","v":0},{"$f":"  $G48/[0]!Poids      *      (     (A*EXP(-alpha*(AW$15-$H48)))     +      (B*EXP(-bêta*(AW$15-$H48)))    +   (_C*EXP(-gamma*(AW$15-$H48 )))      )","v":0},{"$f":"  $G48/[0]!Poids      *      (     (A*EXP(-alpha*(AX$15-$H48)))     +      (B*EXP(-bêta*(AX$15-$H48)))    +   (_C*EXP(-gamma*(AX$15-$H48 )))      )","v":0},{"$f":"  $G48/[0]!Poids      *      (     (A*EXP(-alpha*(AY$15-$H48)))     +      (B*EXP(-bêta*(AY$15-$H48)))    +   (_C*EXP(-gamma*(AY$15-$H48 )))      )","v":0},{"$f":"  $G48/[0]!Poids      *      (     (A*EXP(-alpha*(AZ$15-$H48)))     +      (B*EXP(-bêta*(AZ$15-$H48)))    +   (_C*EXP(-gamma*(AZ$15-$H48 )))      )","v":0},{"$f":"  $G48/[0]!Poids      *      (     (A*EXP(-alpha*(BA$15-$H48)))     +      (B*EXP(-bêta*(BA$15-$H48)))    +   (_C*EXP(-gamma*(BA$15-$H48 )))      )","v":0},{"$f":"  $G48/[0]!Poids      *      (     (A*EXP(-alpha*(BB$15-$H48)))     +      (B*EXP(-bêta*(BB$15-$H48)))    +   (_C*EXP(-gamma*(BB$15-$H48 )))      )","v":0},{"$f":"  $G48/[0]!Poids      *      (     (A*EXP(-alpha*(BC$15-$H48)))     +      (B*EXP(-bêta*(BC$15-$H48)))    +   (_C*EXP(-gamma*(BC$15-$H48 )))      )","v":0},{"$f":"  $G48/[0]!Poids      *      (     (A*EXP(-alpha*(BD$15-$H48)))     +      (B*EXP(-bêta*(BD$15-$H48)))    +   (_C*EXP(-gamma*(BD$15-$H48 )))      )","v":0},{"$f":"  $G48/[0]!Poids      *      (     (A*EXP(-alpha*(BE$15-$H48)))     +      (B*EXP(-bêta*(BE$15-$H48)))    +   (_C*EXP(-gamma*(BE$15-$H48 )))      )","v":0},{"$f":"  $G48/[0]!Poids      *      (     (A*EXP(-alpha*(BF$15-$H48)))     +      (B*EXP(-bêta*(BF$15-$H48)))    +   (_C*EXP(-gamma*(BF$15-$H48 )))      )","v":0},{"$f":"  $G48/[0]!Poids      *      (     (A*EXP(-alpha*(BG$15-$H48)))     +      (B*EXP(-bêta*(BG$15-$H48)))    +   (_C*EXP(-gamma*(BG$15-$H48 )))      )","v":0},{"$f":"  $G48/[0]!Poids      *      (     (A*EXP(-alpha*(BH$15-$H48)))     +      (B*EXP(-bêta*(BH$15-$H48)))    +   (_C*EXP(-gamma*(BH$15-$H48 )))      )","v":0},{"$f":"  $G48/[0]!Poids      *      (     (A*EXP(-alpha*(BI$15-$H48)))     +      (B*EXP(-bêta*(BI$15-$H48)))    +   (_C*EXP(-gamma*(BI$15-$H48 )))      )","v":0},{"$f":"  $G48/[0]!Poids      *      (     (A*EXP(-alpha*(BJ$15-$H48)))     +      (B*EXP(-bêta*(BJ$15-$H48)))    +   (_C*EXP(-gamma*(BJ$15-$H48 )))      )","v":0},{"$f":"  $G48/[0]!Poids      *      (     (A*EXP(-alpha*(BK$15-$H48)))     +      (B*EXP(-bêta*(BK$15-$H48)))    +   (_C*EXP(-gamma*(BK$15-$H48 )))      )","v":0},{"$f":"  $G48/[0]!Poids      *      (     (A*EXP(-alpha*(BL$15-$H48)))     +      (B*EXP(-bêta*(BL$15-$H48)))    +   (_C*EXP(-gamma*(BL$15-$H48 )))      )","v":0},{"$f":"  $G48/[0]!Poids      *      (     (A*EXP(-alpha*(BM$15-$H48)))     +      (B*EXP(-bêta*(BM$15-$H48)))    +   (_C*EXP(-gamma*(BM$15-$H48 )))      )","v":0},{"$f":"  $G48/[0]!Poids      *      (     (A*EXP(-alpha*(BN$15-$H48)))     +      (B*EXP(-bêta*(BN$15-$H48)))    +   (_C*EXP(-gamma*(BN$15-$H48 )))      )","v":0},{"$f":"  $G48/[0]!Poids      *      (     (A*EXP(-alpha*(BO$15-$H48)))     +      (B*EXP(-bêta*(BO$15-$H48)))    +   (_C*EXP(-gamma*(BO$15-$H48 )))      )","v":0},{"$f":"  $G48/[0]!Poids      *      (     (A*EXP(-alpha*(BP$15-$H48)))     +      (B*EXP(-bêta*(BP$15-$H48)))    +   (_C*EXP(-gamma*(BP$15-$H48 )))      )","v":0},{"$f":"  $G48/[0]!Poids      *      (     (A*EXP(-alpha*(BQ$15-$H48)))     +      (B*EXP(-bêta*(BQ$15-$H48)))    +   (_C*EXP(-gamma*(BQ$15-$H48 )))      )","v":0},{"$f":"  $G48/[0]!Poids      *      (     (A*EXP(-alpha*(BR$15-$H48)))     +      (B*EXP(-bêta*(BR$15-$H48)))    +   (_C*EXP(-gamma*(BR$15-$H48 )))      )","v":0}]
[null,null,null,null,null,null,{"$f":"AQ$10","v":0},165,null,null,null,null,null,null,null,null,null,null,null,null,null,null,null,null,null,null,null,null,null,null,null,null,null,null,null,null,null,null,null,null,null,null,{"$f":"  $G49/[0]!Poids      *      (     (A*EXP(-alpha*(AQ$15-$H49)))     +      (B*EXP(-bêta*(AQ$15-$H49)))    +   (_C*EXP(-gamma*(AQ$15-$H49 )))      )","v":0},{"$f":"  $G49/[0]!Poids      *      (     (A*EXP(-alpha*(AR$15-$H49)))     +      (B*EXP(-bêta*(AR$15-$H49)))    +   (_C*EXP(-gamma*(AR$15-$H49 )))      )","v":0},{"$f":"  $G49/[0]!Poids      *      (     (A*EXP(-alpha*(AS$15-$H49)))     +      (B*EXP(-bêta*(AS$15-$H49)))    +   (_C*EXP(-gamma*(AS$15-$H49 )))      )","v":0},{"$f":"  $G49/[0]!Poids      *      (     (A*EXP(-alpha*(AT$15-$H49)))     +      (B*EXP(-bêta*(AT$15-$H49)))    +   (_C*EXP(-gamma*(AT$15-$H49 )))      )","v":0},{"$f":"  $G49/[0]!Poids      *      (     (A*EXP(-alpha*(AU$15-$H49)))     +      (B*EXP(-bêta*(AU$15-$H49)))    +   (_C*EXP(-gamma*(AU$15-$H49 )))      )","v":0},{"$f":"  $G49/[0]!Poids      *      (     (A*EXP(-alpha*(AV$15-$H49)))     +      (B*EXP(-bêta*(AV$15-$H49)))    +   (_C*EXP(-gamma*(AV$15-$H49 )))      )","v":0},{"$f":"  $G49/[0]!Poids      *      (     (A*EXP(-alpha*(AW$15-$H49)))     +      (B*EXP(-bêta*(AW$15-$H49)))    +   (_C*EXP(-gamma*(AW$15-$H49 )))      )","v":0},{"$f":"  $G49/[0]!Poids      *      (     (A*EXP(-alpha*(AX$15-$H49)))     +      (B*EXP(-bêta*(AX$15-$H49)))    +   (_C*EXP(-gamma*(AX$15-$H49 )))      )","v":0},{"$f":"  $G49/[0]!Poids      *      (     (A*EXP(-alpha*(AY$15-$H49)))     +      (B*EXP(-bêta*(AY$15-$H49)))    +   (_C*EXP(-gamma*(AY$15-$H49 )))      )","v":0},{"$f":"  $G49/[0]!Poids      *      (     (A*EXP(-alpha*(AZ$15-$H49)))     +      (B*EXP(-bêta*(AZ$15-$H49)))    +   (_C*EXP(-gamma*(AZ$15-$H49 )))      )","v":0},{"$f":"  $G49/[0]!Poids      *      (     (A*EXP(-alpha*(BA$15-$H49)))     +      (B*EXP(-bêta*(BA$15-$H49)))    +   (_C*EXP(-gamma*(BA$15-$H49 )))      )","v":0},{"$f":"  $G49/[0]!Poids      *      (     (A*EXP(-alpha*(BB$15-$H49)))     +      (B*EXP(-bêta*(BB$15-$H49)))    +   (_C*EXP(-gamma*(BB$15-$H49 )))      )","v":0},{"$f":"  $G49/[0]!Poids      *      (     (A*EXP(-alpha*(BC$15-$H49)))     +      (B*EXP(-bêta*(BC$15-$H49)))    +   (_C*EXP(-gamma*(BC$15-$H49 )))      )","v":0},{"$f":"  $G49/[0]!Poids      *      (     (A*EXP(-alpha*(BD$15-$H49)))     +      (B*EXP(-bêta*(BD$15-$H49)))    +   (_C*EXP(-gamma*(BD$15-$H49 )))      )","v":0},{"$f":"  $G49/[0]!Poids      *      (     (A*EXP(-alpha*(BE$15-$H49)))     +      (B*EXP(-bêta*(BE$15-$H49)))    +   (_C*EXP(-gamma*(BE$15-$H49 )))      )","v":0},{"$f":"  $G49/[0]!Poids      *      (     (A*EXP(-alpha*(BF$15-$H49)))     +      (B*EXP(-bêta*(BF$15-$H49)))    +   (_C*EXP(-gamma*(BF$15-$H49 )))      )","v":0},{"$f":"  $G49/[0]!Poids      *      (     (A*EXP(-alpha*(BG$15-$H49)))     +      (B*EXP(-bêta*(BG$15-$H49)))    +   (_C*EXP(-gamma*(BG$15-$H49 )))      )","v":0},{"$f":"  $G49/[0]!Poids      *      (     (A*EXP(-alpha*(BH$15-$H49)))     +      (B*EXP(-bêta*(BH$15-$H49)))    +   (_C*EXP(-gamma*(BH$15-$H49 )))      )","v":0},{"$f":"  $G49/[0]!Poids      *      (     (A*EXP(-alpha*(BI$15-$H49)))     +      (B*EXP(-bêta*(BI$15-$H49)))    +   (_C*EXP(-gamma*(BI$15-$H49 )))      )","v":0},{"$f":"  $G49/[0]!Poids      *      (     (A*EXP(-alpha*(BJ$15-$H49)))     +      (B*EXP(-bêta*(BJ$15-$H49)))    +   (_C*EXP(-gamma*(BJ$15-$H49 )))      )","v":0},{"$f":"  $G49/[0]!Poids      *      (     (A*EXP(-alpha*(BK$15-$H49)))     +      (B*EXP(-bêta*(BK$15-$H49)))    +   (_C*EXP(-gamma*(BK$15-$H49 )))      )","v":0},{"$f":"  $G49/[0]!Poids      *      (     (A*EXP(-alpha*(BL$15-$H49)))     +      (B*EXP(-bêta*(BL$15-$H49)))    +   (_C*EXP(-gamma*(BL$15-$H49 )))      )","v":0},{"$f":"  $G49/[0]!Poids      *      (     (A*EXP(-alpha*(BM$15-$H49)))     +      (B*EXP(-bêta*(BM$15-$H49)))    +   (_C*EXP(-gamma*(BM$15-$H49 )))      )","v":0},{"$f":"  $G49/[0]!Poids      *      (     (A*EXP(-alpha*(BN$15-$H49)))     +      (B*EXP(-bêta*(BN$15-$H49)))    +   (_C*EXP(-gamma*(BN$15-$H49 )))      )","v":0},{"$f":"  $G49/[0]!Poids      *      (     (A*EXP(-alpha*(BO$15-$H49)))     +      (B*EXP(-bêta*(BO$15-$H49)))    +   (_C*EXP(-gamma*(BO$15-$H49 )))      )","v":0},{"$f":"  $G49/[0]!Poids      *      (     (A*EXP(-alpha*(BP$15-$H49)))     +      (B*EXP(-bêta*(BP$15-$H49)))    +   (_C*EXP(-gamma*(BP$15-$H49 )))      )","v":0},{"$f":"  $G49/[0]!Poids      *      (     (A*EXP(-alpha*(BQ$15-$H49)))     +      (B*EXP(-bêta*(BQ$15-$H49)))    +   (_C*EXP(-gamma*(BQ$15-$H49 )))      )","v":0},{"$f":"  $G49/[0]!Poids      *      (     (A*EXP(-alpha*(BR$15-$H49)))     +      (B*EXP(-bêta*(BR$15-$H49)))    +   (_C*EXP(-gamma*(BR$15-$H49 )))      )","v":0}]
[null,null,null,null,null,null,{"$f":"AR$10","v":0},170,null,null,null,null,null,null,null,null,null,null,null,null,null,null,null,null,null,null,null,null,null,null,null,null,null,null,null,null,null,null,null,null,null,null,null,{"$f":"  $G50/[0]!Poids      *      (     (A*EXP(-alpha*(AR$15-$H50)))     +      (B*EXP(-bêta*(AR$15-$H50)))    +   (_C*EXP(-gamma*(AR$15-$H50 )))      )","v":0},{"$f":"  $G50/[0]!Poids      *      (     (A*EXP(-alpha*(AS$15-$H50)))     +      (B*EXP(-bêta*(AS$15-$H50)))    +   (_C*EXP(-gamma*(AS$15-$H50 )))      )","v":0},{"$f":"  $G50/[0]!Poids      *      (     (A*EXP(-alpha*(AT$15-$H50)))     +      (B*EXP(-bêta*(AT$15-$H50)))    +   (_C*EXP(-gamma*(AT$15-$H50 )))      )","v":0},{"$f":"  $G50/[0]!Poids      *      (     (A*EXP(-alpha*(AU$15-$H50)))     +      (B*EXP(-bêta*(AU$15-$H50)))    +   (_C*EXP(-gamma*(AU$15-$H50 )))      )","v":0},{"$f":"  $G50/[0]!Poids      *      (     (A*EXP(-alpha*(AV$15-$H50)))     +      (B*EXP(-bêta*(AV$15-$H50)))    +   (_C*EXP(-gamma*(AV$15-$H50 )))      )","v":0},{"$f":"  $G50/[0]!Poids      *      (     (A*EXP(-alpha*(AW$15-$H50)))     +      (B*EXP(-bêta*(AW$15-$H50)))    +   (_C*EXP(-gamma*(AW$15-$H50 )))      )","v":0},{"$f":"  $G50/[0]!Poids      *      (     (A*EXP(-alpha*(AX$15-$H50)))     +      (B*EXP(-bêta*(AX$15-$H50)))    +   (_C*EXP(-gamma*(AX$15-$H50 )))      )","v":0},{"$f":"  $G50/[0]!Poids      *      (     (A*EXP(-alpha*(AY$15-$H50)))     +      (B*EXP(-bêta*(AY$15-$H50)))    +   (_C*EXP(-gamma*(AY$15-$H50 )))      )","v":0},{"$f":"  $G50/[0]!Poids      *      (     (A*EXP(-alpha*(AZ$15-$H50)))     +      (B*EXP(-bêta*(AZ$15-$H50)))    +   (_C*EXP(-gamma*(AZ$15-$H50 )))      )","v":0},{"$f":"  $G50/[0]!Poids      *      (     (A*EXP(-alpha*(BA$15-$H50)))     +      (B*EXP(-bêta*(BA$15-$H50)))    +   (_C*EXP(-gamma*(BA$15-$H50 )))      )","v":0},{"$f":"  $G50/[0]!Poids      *      (     (A*EXP(-alpha*(BB$15-$H50)))     +      (B*EXP(-bêta*(BB$15-$H50)))    +   (_C*EXP(-gamma*(BB$15-$H50 )))      )","v":0},{"$f":"  $G50/[0]!Poids      *      (     (A*EXP(-alpha*(BC$15-$H50)))     +      (B*EXP(-bêta*(BC$15-$H50)))    +   (_C*EXP(-gamma*(BC$15-$H50 )))      )","v":0},{"$f":"  $G50/[0]!Poids      *      (     (A*EXP(-alpha*(BD$15-$H50)))     +      (B*EXP(-bêta*(BD$15-$H50)))    +   (_C*EXP(-gamma*(BD$15-$H50 )))      )","v":0},{"$f":"  $G50/[0]!Poids      *      (     (A*EXP(-alpha*(BE$15-$H50)))     +      (B*EXP(-bêta*(BE$15-$H50)))    +   (_C*EXP(-gamma*(BE$15-$H50 )))      )","v":0},{"$f":"  $G50/[0]!Poids      *      (     (A*EXP(-alpha*(BF$15-$H50)))     +      (B*EXP(-bêta*(BF$15-$H50)))    +   (_C*EXP(-gamma*(BF$15-$H50 )))      )","v":0},{"$f":"  $G50/[0]!Poids      *      (     (A*EXP(-alpha*(BG$15-$H50)))     +      (B*EXP(-bêta*(BG$15-$H50)))    +   (_C*EXP(-gamma*(BG$15-$H50 )))      )","v":0},{"$f":"  $G50/[0]!Poids      *      (     (A*EXP(-alpha*(BH$15-$H50)))     +      (B*EXP(-bêta*(BH$15-$H50)))    +   (_C*EXP(-gamma*(BH$15-$H50 )))      )","v":0},{"$f":"  $G50/[0]!Poids      *      (     (A*EXP(-alpha*(BI$15-$H50)))     +      (B*EXP(-bêta*(BI$15-$H50)))    +   (_C*EXP(-gamma*(BI$15-$H50 )))      )","v":0},{"$f":"  $G50/[0]!Poids      *      (     (A*EXP(-alpha*(BJ$15-$H50)))     +      (B*EXP(-bêta*(BJ$15-$H50)))    +   (_C*EXP(-gamma*(BJ$15-$H50 )))      )","v":0},{"$f":"  $G50/[0]!Poids      *      (     (A*EXP(-alpha*(BK$15-$H50)))     +      (B*EXP(-bêta*(BK$15-$H50)))    +   (_C*EXP(-gamma*(BK$15-$H50 )))      )","v":0},{"$f":"  $G50/[0]!Poids      *      (     (A*EXP(-alpha*(BL$15-$H50)))     +      (B*EXP(-bêta*(BL$15-$H50)))    +   (_C*EXP(-gamma*(BL$15-$H50 )))      )","v":0},{"$f":"  $G50/[0]!Poids      *      (     (A*EXP(-alpha*(BM$15-$H50)))     +      (B*EXP(-bêta*(BM$15-$H50)))    +   (_C*EXP(-gamma*(BM$15-$H50 )))      )","v":0},{"$f":"  $G50/[0]!Poids      *      (     (A*EXP(-alpha*(BN$15-$H50)))     +      (B*EXP(-bêta*(BN$15-$H50)))    +   (_C*EXP(-gamma*(BN$15-$H50 )))      )","v":0},{"$f":"  $G50/[0]!Poids      *      (     (A*EXP(-alpha*(BO$15-$H50)))     +      (B*EXP(-bêta*(BO$15-$H50)))    +   (_C*EXP(-gamma*(BO$15-$H50 )))      )","v":0},{"$f":"  $G50/[0]!Poids      *      (     (A*EXP(-alpha*(BP$15-$H50)))     +      (B*EXP(-bêta*(BP$15-$H50)))    +   (_C*EXP(-gamma*(BP$15-$H50 )))      )","v":0},{"$f":"  $G50/[0]!Poids      *      (     (A*EXP(-alpha*(BQ$15-$H50)))     +      (B*EXP(-bêta*(BQ$15-$H50)))    +   (_C*EXP(-gamma*(BQ$15-$H50 )))      )","v":0},{"$f":"  $G50/[0]!Poids      *      (     (A*EXP(-alpha*(BR$15-$H50)))     +      (B*EXP(-bêta*(BR$15-$H50)))    +   (_C*EXP(-gamma*(BR$15-$H50 )))      )","v":0}]
[null,null,null,null,null,null,{"$f":"AS$10","v":0},175,null,null,null,null,null,null,null,null,null,null,null,null,null,null,null,null,null,null,null,null,null,null,null,null,null,null,null,null,null,null,null,null,null,null,null,null,{"$f":"  $G51/[0]!Poids      *      (     (A*EXP(-alpha*(AS$15-$H51)))     +      (B*EXP(-bêta*(AS$15-$H51)))    +   (_C*EXP(-gamma*(AS$15-$H51 )))      )","v":0},{"$f":"  $G51/[0]!Poids      *      (     (A*EXP(-alpha*(AT$15-$H51)))     +      (B*EXP(-bêta*(AT$15-$H51)))    +   (_C*EXP(-gamma*(AT$15-$H51 )))      )","v":0},{"$f":"  $G51/[0]!Poids      *      (     (A*EXP(-alpha*(AU$15-$H51)))     +      (B*EXP(-bêta*(AU$15-$H51)))    +   (_C*EXP(-gamma*(AU$15-$H51 )))      )","v":0},{"$f":"  $G51/[0]!Poids      *      (     (A*EXP(-alpha*(AV$15-$H51)))     +      (B*EXP(-bêta*(AV$15-$H51)))    +   (_C*EXP(-gamma*(AV$15-$H51 )))      )","v":0},{"$f":"  $G51/[0]!Poids      *      (     (A*EXP(-alpha*(AW$15-$H51)))     +      (B*EXP(-bêta*(AW$15-$H51)))    +   (_C*EXP(-gamma*(AW$15-$H51 )))      )","v":0},{"$f":"  $G51/[0]!Poids      *      (     (A*EXP(-alpha*(AX$15-$H51)))     +      (B*EXP(-bêta*(AX$15-$H51)))    +   (_C*EXP(-gamma*(AX$15-$H51 )))      )","v":0},{"$f":"  $G51/[0]!Poids      *      (     (A*EXP(-alpha*(AY$15-$H51)))     +      (B*EXP(-bêta*(AY$15-$H51)))    +   (_C*EXP(-gamma*(AY$15-$H51 )))      )","v":0},{"$f":"  $G51/[0]!Poids      *      (     (A*EXP(-alpha*(AZ$15-$H51)))     +      (B*EXP(-bêta*(AZ$15-$H51)))    +   (_C*EXP(-gamma*(AZ$15-$H51 )))      )","v":0},{"$f":"  $G51/[0]!Poids      *      (     (A*EXP(-alpha*(BA$15-$H51)))     +      (B*EXP(-bêta*(BA$15-$H51)))    +   (_C*EXP(-gamma*(BA$15-$H51 )))      )","v":0},{"$f":"  $G51/[0]!Poids      *      (     (A*EXP(-alpha*(BB$15-$H51)))     +      (B*EXP(-bêta*(BB$15-$H51)))    +   (_C*EXP(-gamma*(BB$15-$H51 )))      )","v":0},{"$f":"  $G51/[0]!Poids      *      (     (A*EXP(-alpha*(BC$15-$H51)))     +      (B*EXP(-bêta*(BC$15-$H51)))    +   (_C*EXP(-gamma*(BC$15-$H51 )))      )","v":0},{"$f":"  $G51/[0]!Poids      *      (     (A*EXP(-alpha*(BD$15-$H51)))     +      (B*EXP(-bêta*(BD$15-$H51)))    +   (_C*EXP(-gamma*(BD$15-$H51 )))      )","v":0},{"$f":"  $G51/[0]!Poids      *      (     (A*EXP(-alpha*(BE$15-$H51)))     +      (B*EXP(-bêta*(BE$15-$H51)))    +   (_C*EXP(-gamma*(BE$15-$H51 )))      )","v":0},{"$f":"  $G51/[0]!Poids      *      (     (A*EXP(-alpha*(BF$15-$H51)))     +      (B*EXP(-bêta*(BF$15-$H51)))    +   (_C*EXP(-gamma*(BF$15-$H51 )))      )","v":0},{"$f":"  $G51/[0]!Poids      *      (     (A*EXP(-alpha*(BG$15-$H51)))     +      (B*EXP(-bêta*(BG$15-$H51)))    +   (_C*EXP(-gamma*(BG$15-$H51 )))      )","v":0},{"$f":"  $G51/[0]!Poids      *      (     (A*EXP(-alpha*(BH$15-$H51)))     +      (B*EXP(-bêta*(BH$15-$H51)))    +   (_C*EXP(-gamma*(BH$15-$H51 )))      )","v":0},{"$f":"  $G51/[0]!Poids      *      (     (A*EXP(-alpha*(BI$15-$H51)))     +      (B*EXP(-bêta*(BI$15-$H51)))    +   (_C*EXP(-gamma*(BI$15-$H51 )))      )","v":0},{"$f":"  $G51/[0]!Poids      *      (     (A*EXP(-alpha*(BJ$15-$H51)))     +      (B*EXP(-bêta*(BJ$15-$H51)))    +   (_C*EXP(-gamma*(BJ$15-$H51 )))      )","v":0},{"$f":"  $G51/[0]!Poids      *      (     (A*EXP(-alpha*(BK$15-$H51)))     +      (B*EXP(-bêta*(BK$15-$H51)))    +   (_C*EXP(-gamma*(BK$15-$H51 )))      )","v":0},{"$f":"  $G51/[0]!Poids      *      (     (A*EXP(-alpha*(BL$15-$H51)))     +      (B*EXP(-bêta*(BL$15-$H51)))    +   (_C*EXP(-gamma*(BL$15-$H51 )))      )","v":0},{"$f":"  $G51/[0]!Poids      *      (     (A*EXP(-alpha*(BM$15-$H51)))     +      (B*EXP(-bêta*(BM$15-$H51)))    +   (_C*EXP(-gamma*(BM$15-$H51 )))      )","v":0},{"$f":"  $G51/[0]!Poids      *      (     (A*EXP(-alpha*(BN$15-$H51)))     +      (B*EXP(-bêta*(BN$15-$H51)))    +   (_C*EXP(-gamma*(BN$15-$H51 )))      )","v":0},{"$f":"  $G51/[0]!Poids      *      (     (A*EXP(-alpha*(BO$15-$H51)))     +      (B*EXP(-bêta*(BO$15-$H51)))    +   (_C*EXP(-gamma*(BO$15-$H51 )))      )","v":0},{"$f":"  $G51/[0]!Poids      *      (     (A*EXP(-alpha*(BP$15-$H51)))     +      (B*EXP(-bêta*(BP$15-$H51)))    +   (_C*EXP(-gamma*(BP$15-$H51 )))      )","v":0},{"$f":"  $G51/[0]!Poids      *      (     (A*EXP(-alpha*(BQ$15-$H51)))     +      (B*EXP(-bêta*(BQ$15-$H51)))    +   (_C*EXP(-gamma*(BQ$15-$H51 )))      )","v":0},{"$f":"  $G51/[0]!Poids      *      (     (A*EXP(-alpha*(BR$15-$H51)))     +      (B*EXP(-bêta*(BR$15-$H51)))    +   (_C*EXP(-gamma*(BR$15-$H51 )))      )","v":0}]
[null,null,null,null,null,null,{"$f":"AT$10","v":0},180,null,null,null,null,null,null,null,null,null,null,null,null,null,null,null,null,null,null,null,null,null,null,null,null,null,null,null,null,null,null,null,null,null,null,null,null,null,{"$f":"  $G52/[0]!Poids      *      (     (A*EXP(-alpha*(AT$15-$H52)))     +      (B*EXP(-bêta*(AT$15-$H52)))    +   (_C*EXP(-gamma*(AT$15-$H52 )))      )","v":0},{"$f":"  $G52/[0]!Poids      *      (     (A*EXP(-alpha*(AU$15-$H52)))     +      (B*EXP(-bêta*(AU$15-$H52)))    +   (_C*EXP(-gamma*(AU$15-$H52 )))      )","v":0},{"$f":"  $G52/[0]!Poids      *      (     (A*EXP(-alpha*(AV$15-$H52)))     +      (B*EXP(-bêta*(AV$15-$H52)))    +   (_C*EXP(-gamma*(AV$15-$H52 )))      )","v":0},{"$f":"  $G52/[0]!Poids      *      (     (A*EXP(-alpha*(AW$15-$H52)))     +      (B*EXP(-bêta*(AW$15-$H52)))    +   (_C*EXP(-gamma*(AW$15-$H52 )))      )","v":0},{"$f":"  $G52/[0]!Poids      *      (     (A*EXP(-alpha*(AX$15-$H52)))     +      (B*EXP(-bêta*(AX$15-$H52)))    +   (_C*EXP(-gamma*(AX$15-$H52 )))      )","v":0},{"$f":"  $G52/[0]!Poids      *      (     (A*EXP(-alpha*(AY$15-$H52)))     +      (B*EXP(-bêta*(AY$15-$H52)))    +   (_C*EXP(-gamma*(AY$15-$H52 )))      )","v":0},{"$f":"  $G52/[0]!Poids      *      (     (A*EXP(-alpha*(AZ$15-$H52)))     +      (B*EXP(-bêta*(AZ$15-$H52)))    +   (_C*EXP(-gamma*(AZ$15-$H52 )))      )","v":0},{"$f":"  $G52/[0]!Poids      *      (     (A*EXP(-alpha*(BA$15-$H52)))     +      (B*EXP(-bêta*(BA$15-$H52)))    +   (_C*EXP(-gamma*(BA$15-$H52 )))      )","v":0},{"$f":"  $G52/[0]!Poids      *      (     (A*EXP(-alpha*(BB$15-$H52)))     +      (B*EXP(-bêta*(BB$15-$H52)))    +   (_C*EXP(-gamma*(BB$15-$H52 )))      )","v":0},{"$f":"  $G52/[0]!Poids      *      (     (A*EXP(-alpha*(BC$15-$H52)))     +      (B*EXP(-bêta*(BC$15-$H52)))    +   (_C*EXP(-gamma*(BC$15-$H52 )))      )","v":0},{"$f":"  $G52/[0]!Poids      *      (     (A*EXP(-alpha*(BD$15-$H52)))     +      (B*EXP(-bêta*(BD$15-$H52)))    +   (_C*EXP(-gamma*(BD$15-$H52 )))      )","v":0},{"$f":"  $G52/[0]!Poids      *      (     (A*EXP(-alpha*(BE$15-$H52)))     +      (B*EXP(-bêta*(BE$15-$H52)))    +   (_C*EXP(-gamma*(BE$15-$H52 )))      )","v":0},{"$f":"  $G52/[0]!Poids      *      (     (A*EXP(-alpha*(BF$15-$H52)))     +      (B*EXP(-bêta*(BF$15-$H52)))    +   (_C*EXP(-gamma*(BF$15-$H52 )))      )","v":0},{"$f":"  $G52/[0]!Poids      *      (     (A*EXP(-alpha*(BG$15-$H52)))     +      (B*EXP(-bêta*(BG$15-$H52)))    +   (_C*EXP(-gamma*(BG$15-$H52 )))      )","v":0},{"$f":"  $G52/[0]!Poids      *      (     (A*EXP(-alpha*(BH$15-$H52)))     +      (B*EXP(-bêta*(BH$15-$H52)))    +   (_C*EXP(-gamma*(BH$15-$H52 )))      )","v":0},{"$f":"  $G52/[0]!Poids      *      (     (A*EXP(-alpha*(BI$15-$H52)))     +      (B*EXP(-bêta*(BI$15-$H52)))    +   (_C*EXP(-gamma*(BI$15-$H52 )))      )","v":0},{"$f":"  $G52/[0]!Poids      *      (     (A*EXP(-alpha*(BJ$15-$H52)))     +      (B*EXP(-bêta*(BJ$15-$H52)))    +   (_C*EXP(-gamma*(BJ$15-$H52 )))      )","v":0},{"$f":"  $G52/[0]!Poids      *      (     (A*EXP(-alpha*(BK$15-$H52)))     +      (B*EXP(-bêta*(BK$15-$H52)))    +   (_C*EXP(-gamma*(BK$15-$H52 )))      )","v":0},{"$f":"  $G52/[0]!Poids      *      (     (A*EXP(-alpha*(BL$15-$H52)))     +      (B*EXP(-bêta*(BL$15-$H52)))    +   (_C*EXP(-gamma*(BL$15-$H52 )))      )","v":0},{"$f":"  $G52/[0]!Poids      *      (     (A*EXP(-alpha*(BM$15-$H52)))     +      (B*EXP(-bêta*(BM$15-$H52)))    +   (_C*EXP(-gamma*(BM$15-$H52 )))      )","v":0},{"$f":"  $G52/[0]!Poids      *      (     (A*EXP(-alpha*(BN$15-$H52)))     +      (B*EXP(-bêta*(BN$15-$H52)))    +   (_C*EXP(-gamma*(BN$15-$H52 )))      )","v":0},{"$f":"  $G52/[0]!Poids      *      (     (A*EXP(-alpha*(BO$15-$H52)))     +      (B*EXP(-bêta*(BO$15-$H52)))    +   (_C*EXP(-gamma*(BO$15-$H52 )))      )","v":0},{"$f":"  $G52/[0]!Poids      *      (     (A*EXP(-alpha*(BP$15-$H52)))     +      (B*EXP(-bêta*(BP$15-$H52)))    +   (_C*EXP(-gamma*(BP$15-$H52 )))      )","v":0},{"$f":"  $G52/[0]!Poids      *      (     (A*EXP(-alpha*(BQ$15-$H52)))     +      (B*EXP(-bêta*(BQ$15-$H52)))    +   (_C*EXP(-gamma*(BQ$15-$H52 )))      )","v":0},{"$f":"  $G52/[0]!Poids      *      (     (A*EXP(-alpha*(BR$15-$H52)))     +      (B*EXP(-bêta*(BR$15-$H52)))    +   (_C*EXP(-gamma*(BR$15-$H52 )))      )","v":0}]
[null,null,null,null,null,null,{"$f":"AU$10","v":0},185,null,null,null,null,null,null,null,null,null,null,null,null,null,null,null,null,null,null,null,null,null,null,null,null,null,null,null,null,null,null,null,null,null,null,null,null,null,null,{"$f":"  $G53/[0]!Poids      *      (     (A*EXP(-alpha*(AU$15-$H53)))     +      (B*EXP(-bêta*(AU$15-$H53)))    +   (_C*EXP(-gamma*(AU$15-$H53 )))      )","v":0},{"$f":"  $G53/[0]!Poids      *      (     (A*EXP(-alpha*(AV$15-$H53)))     +      (B*EXP(-bêta*(AV$15-$H53)))    +   (_C*EXP(-gamma*(AV$15-$H53 )))      )","v":0},{"$f":"  $G53/[0]!Poids      *      (     (A*EXP(-alpha*(AW$15-$H53)))     +      (B*EXP(-bêta*(AW$15-$H53)))    +   (_C*EXP(-gamma*(AW$15-$H53 )))      )","v":0},{"$f":"  $G53/[0]!Poids      *      (     (A*EXP(-alpha*(AX$15-$H53)))     +      (B*EXP(-bêta*(AX$15-$H53)))    +   (_C*EXP(-gamma*(AX$15-$H53 )))      )","v":0},{"$f":"  $G53/[0]!Poids      *      (     (A*EXP(-alpha*(AY$15-$H53)))     +      (B*EXP(-bêta*(AY$15-$H53)))    +   (_C*EXP(-gamma*(AY$15-$H53 )))      )","v":0},{"$f":"  $G53/[0]!Poids      *      (     (A*EXP(-alpha*(AZ$15-$H53)))     +      (B*EXP(-bêta*(AZ$15-$H53)))    +   (_C*EXP(-gamma*(AZ$15-$H53 )))      )","v":0},{"$f":"  $G53/[0]!Poids      *      (     (A*EXP(-alpha*(BA$15-$H53)))     +      (B*EXP(-bêta*(BA$15-$H53)))    +   (_C*EXP(-gamma*(BA$15-$H53 )))      )","v":0},{"$f":"  $G53/[0]!Poids      *      (     (A*EXP(-alpha*(BB$15-$H53)))     +      (B*EXP(-bêta*(BB$15-$H53)))    +   (_C*EXP(-gamma*(BB$15-$H53 )))      )","v":0},{"$f":"  $G53/[0]!Poids      *      (     (A*EXP(-alpha*(BC$15-$H53)))     +      (B*EXP(-bêta*(BC$15-$H53)))    +   (_C*EXP(-gamma*(BC$15-$H53 )))      )","v":0},{"$f":"  $G53/[0]!Poids      *      (     (A*EXP(-alpha*(BD$15-$H53)))     +      (B*EXP(-bêta*(BD$15-$H53)))    +   (_C*EXP(-gamma*(BD$15-$H53 )))      )","v":0},{"$f":"  $G53/[0]!Poids      *      (     (A*EXP(-alpha*(BE$15-$H53)))     +      (B*EXP(-bêta*(BE$15-$H53)))    +   (_C*EXP(-gamma*(BE$15-$H53 )))      )","v":0},{"$f":"  $G53/[0]!Poids      *      (     (A*EXP(-alpha*(BF$15-$H53)))     +      (B*EXP(-bêta*(BF$15-$H53)))    +   (_C*EXP(-gamma*(BF$15-$H53 )))      )","v":0},{"$f":"  $G53/[0]!Poids      *      (     (A*EXP(-alpha*(BG$15-$H53)))     +      (B*EXP(-bêta*(BG$15-$H53)))    +   (_C*EXP(-gamma*(BG$15-$H53 )))      )","v":0},{"$f":"  $G53/[0]!Poids      *      (     (A*EXP(-alpha*(BH$15-$H53)))     +      (B*EXP(-bêta*(BH$15-$H53)))    +   (_C*EXP(-gamma*(BH$15-$H53 )))      )","v":0},{"$f":"  $G53/[0]!Poids      *      (     (A*EXP(-alpha*(BI$15-$H53)))     +      (B*EXP(-bêta*(BI$15-$H53)))    +   (_C*EXP(-gamma*(BI$15-$H53 )))      )","v":0},{"$f":"  $G53/[0]!Poids      *      (     (A*EXP(-alpha*(BJ$15-$H53)))     +      (B*EXP(-bêta*(BJ$15-$H53)))    +   (_C*EXP(-gamma*(BJ$15-$H53 )))      )","v":0},{"$f":"  $G53/[0]!Poids      *      (     (A*EXP(-alpha*(BK$15-$H53)))     +      (B*EXP(-bêta*(BK$15-$H53)))    +   (_C*EXP(-gamma*(BK$15-$H53 )))      )","v":0},{"$f":"  $G53/[0]!Poids      *      (     (A*EXP(-alpha*(BL$15-$H53)))     +      (B*EXP(-bêta*(BL$15-$H53)))    +   (_C*EXP(-gamma*(BL$15-$H53 )))      )","v":0},{"$f":"  $G53/[0]!Poids      *      (     (A*EXP(-alpha*(BM$15-$H53)))     +      (B*EXP(-bêta*(BM$15-$H53)))    +   (_C*EXP(-gamma*(BM$15-$H53 )))      )","v":0},{"$f":"  $G53/[0]!Poids      *      (     (A*EXP(-alpha*(BN$15-$H53)))     +      (B*EXP(-bêta*(BN$15-$H53)))    +   (_C*EXP(-gamma*(BN$15-$H53 )))      )","v":0},{"$f":"  $G53/[0]!Poids      *      (     (A*EXP(-alpha*(BO$15-$H53)))     +      (B*EXP(-bêta*(BO$15-$H53)))    +   (_C*EXP(-gamma*(BO$15-$H53 )))      )","v":0},{"$f":"  $G53/[0]!Poids      *      (     (A*EXP(-alpha*(BP$15-$H53)))     +      (B*EXP(-bêta*(BP$15-$H53)))    +   (_C*EXP(-gamma*(BP$15-$H53 )))      )","v":0},{"$f":"  $G53/[0]!Poids      *      (     (A*EXP(-alpha*(BQ$15-$H53)))     +      (B*EXP(-bêta*(BQ$15-$H53)))    +   (_C*EXP(-gamma*(BQ$15-$H53 )))      )","v":0},{"$f":"  $G53/[0]!Poids      *      (     (A*EXP(-alpha*(BR$15-$H53)))     +      (B*EXP(-bêta*(BR$15-$H53)))    +   (_C*EXP(-gamma*(BR$15-$H53 )))      )","v":0}]
[null,null,null,null,null,null,{"$f":"AV$10","v":0},190,null,null,null,null,null,null,null,null,null,null,null,null,null,null,null,null,null,null,null,null,null,null,null,null,null,null,null,null,null,null,null,null,null,null,null,null,null,null,null,{"$f":"  $G54/[0]!Poids      *      (     (A*EXP(-alpha*(AV$15-$H54)))     +      (B*EXP(-bêta*(AV$15-$H54)))    +   (_C*EXP(-gamma*(AV$15-$H54 )))      )","v":0},{"$f":"  $G54/[0]!Poids      *      (     (A*EXP(-alpha*(AW$15-$H54)))     +      (B*EXP(-bêta*(AW$15-$H54)))    +   (_C*EXP(-gamma*(AW$15-$H54 )))      )","v":0},{"$f":"  $G54/[0]!Poids      *      (     (A*EXP(-alpha*(AX$15-$H54)))     +      (B*EXP(-bêta*(AX$15-$H54)))    +   (_C*EXP(-gamma*(AX$15-$H54 )))      )","v":0},{"$f":"  $G54/[0]!Poids      *      (     (A*EXP(-alpha*(AY$15-$H54)))     +      (B*EXP(-bêta*(AY$15-$H54)))    +   (_C*EXP(-gamma*(AY$15-$H54 )))      )","v":0},{"$f":"  $G54/[0]!Poids      *      (     (A*EXP(-alpha*(AZ$15-$H54)))     +      (B*EXP(-bêta*(AZ$15-$H54)))    +   (_C*EXP(-gamma*(AZ$15-$H54 )))      )","v":0},{"$f":"  $G54/[0]!Poids      *      (     (A*EXP(-alpha*(BA$15-$H54)))     +      (B*EXP(-bêta*(BA$15-$H54)))    +   (_C*EXP(-gamma*(BA$15-$H54 )))      )","v":0},{"$f":"  $G54/[0]!Poids      *      (     (A*EXP(-alpha*(BB$15-$H54)))     +      (B*EXP(-bêta*(BB$15-$H54)))    +   (_C*EXP(-gamma*(BB$15-$H54 )))      )","v":0},{"$f":"  $G54/[0]!Poids      *      (     (A*EXP(-alpha*(BC$15-$H54)))     +      (B*EXP(-bêta*(BC$15-$H54)))    +   (_C*EXP(-gamma*(BC$15-$H54 )))      )","v":0},{"$f":"  $G54/[0]!Poids      *      (     (A*EXP(-alpha*(BD$15-$H54)))     +      (B*EXP(-bêta*(BD$15-$H54)))    +   (_C*EXP(-gamma*(BD$15-$H54 )))      )","v":0},{"$f":"  $G54/[0]!Poids      *      (     (A*EXP(-alpha*(BE$15-$H54)))     +      (B*EXP(-bêta*(BE$15-$H54)))    +   (_C*EXP(-gamma*(BE$15-$H54 )))      )","v":0},{"$f":"  $G54/[0]!Poids      *      (     (A*EXP(-alpha*(BF$15-$H54)))     +      (B*EXP(-bêta*(BF$15-$H54)))    +   (_C*EXP(-gamma*(BF$15-$H54 )))      )","v":0},{"$f":"  $G54/[0]!Poids      *      (     (A*EXP(-alpha*(BG$15-$H54)))     +      (B*EXP(-bêta*(BG$15-$H54)))    +   (_C*EXP(-gamma*(BG$15-$H54 )))      )","v":0},{"$f":"  $G54/[0]!Poids      *      (     (A*EXP(-alpha*(BH$15-$H54)))     +      (B*EXP(-bêta*(BH$15-$H54)))    +   (_C*EXP(-gamma*(BH$15-$H54 )))      )","v":0},{"$f":"  $G54/[0]!Poids      *      (     (A*EXP(-alpha*(BI$15-$H54)))     +      (B*EXP(-bêta*(BI$15-$H54)))    +   (_C*EXP(-gamma*(BI$15-$H54 )))      )","v":0},{"$f":"  $G54/[0]!Poids      *      (     (A*EXP(-alpha*(BJ$15-$H54)))     +      (B*EXP(-bêta*(BJ$15-$H54)))    +   (_C*EXP(-gamma*(BJ$15-$H54 )))      )","v":0},{"$f":"  $G54/[0]!Poids      *      (     (A*EXP(-alpha*(BK$15-$H54)))     +      (B*EXP(-bêta*(BK$15-$H54)))    +   (_C*EXP(-gamma*(BK$15-$H54 )))      )","v":0},{"$f":"  $G54/[0]!Poids      *      (     (A*EXP(-alpha*(BL$15-$H54)))     +      (B*EXP(-bêta*(BL$15-$H54)))    +   (_C*EXP(-gamma*(BL$15-$H54 )))      )","v":0},{"$f":"  $G54/[0]!Poids      *      (     (A*EXP(-alpha*(BM$15-$H54)))     +      (B*EXP(-bêta*(BM$15-$H54)))    +   (_C*EXP(-gamma*(BM$15-$H54 )))      )","v":0},{"$f":"  $G54/[0]!Poids      *      (     (A*EXP(-alpha*(BN$15-$H54)))     +      (B*EXP(-bêta*(BN$15-$H54)))    +   (_C*EXP(-gamma*(BN$15-$H54 )))      )","v":0},{"$f":"  $G54/[0]!Poids      *      (     (A*EXP(-alpha*(BO$15-$H54)))     +      (B*EXP(-bêta*(BO$15-$H54)))    +   (_C*EXP(-gamma*(BO$15-$H54 )))      )","v":0},{"$f":"  $G54/[0]!Poids      *      (     (A*EXP(-alpha*(BP$15-$H54)))     +      (B*EXP(-bêta*(BP$15-$H54)))    +   (_C*EXP(-gamma*(BP$15-$H54 )))      )","v":0},{"$f":"  $G54/[0]!Poids      *      (     (A*EXP(-alpha*(BQ$15-$H54)))     +      (B*EXP(-bêta*(BQ$15-$H54)))    +   (_C*EXP(-gamma*(BQ$15-$H54 )))      )","v":0},{"$f":"  $G54/[0]!Poids      *      (     (A*EXP(-alpha*(BR$15-$H54)))     +      (B*EXP(-bêta*(BR$15-$H54)))    +   (_C*EXP(-gamma*(BR$15-$H54 )))      )","v":0}]
[null,null,null,null,null,null,{"$f":"AW$10","v":0},195,null,null,null,null,null,null,null,null,null,null,null,null,null,null,null,null,null,null,null,null,null,null,null,null,null,null,null,null,null,null,null,null,null,null,null,null,null,null,null,null,{"$f":"  $G55/[0]!Poids      *      (     (A*EXP(-alpha*(AW$15-$H55)))     +      (B*EXP(-bêta*(AW$15-$H55)))    +   (_C*EXP(-gamma*(AW$15-$H55 )))      )","v":0},{"$f":"  $G55/[0]!Poids      *      (     (A*EXP(-alpha*(AX$15-$H55)))     +      (B*EXP(-bêta*(AX$15-$H55)))    +   (_C*EXP(-gamma*(AX$15-$H55 )))      )","v":0},{"$f":"  $G55/[0]!Poids      *      (     (A*EXP(-alpha*(AY$15-$H55)))     +      (B*EXP(-bêta*(AY$15-$H55)))    +   (_C*EXP(-gamma*(AY$15-$H55 )))      )","v":0},{"$f":"  $G55/[0]!Poids      *      (     (A*EXP(-alpha*(AZ$15-$H55)))     +      (B*EXP(-bêta*(AZ$15-$H55)))    +   (_C*EXP(-gamma*(AZ$15-$H55 )))      )","v":0},{"$f":"  $G55/[0]!Poids      *      (     (A*EXP(-alpha*(BA$15-$H55)))     +      (B*EXP(-bêta*(BA$15-$H55)))    +   (_C*EXP(-gamma*(BA$15-$H55 )))      )","v":0},{"$f":"  $G55/[0]!Poids      *      (     (A*EXP(-alpha*(BB$15-$H55)))     +      (B*EXP(-bêta*(BB$15-$H55)))    +   (_C*EXP(-gamma*(BB$15-$H55 )))      )","v":0},{"$f":"  $G55/[0]!Poids      *      (     (A*EXP(-alpha*(BC$15-$H55)))     +      (B*EXP(-bêta*(BC$15-$H55)))    +   (_C*EXP(-gamma*(BC$15-$H55 )))      )","v":0},{"$f":"  $G55/[0]!Poids      *      (     (A*EXP(-alpha*(BD$15-$H55)))     +      (B*EXP(-bêta*(BD$15-$H55)))    +   (_C*EXP(-gamma*(BD$15-$H55 )))      )","v":0},{"$f":"  $G55/[0]!Poids      *      (     (A*EXP(-alpha*(BE$15-$H55)))     +      (B*EXP(-bêta*(BE$15-$H55)))    +   (_C*EXP(-gamma*(BE$15-$H55 )))      )","v":0},{"$f":"  $G55/[0]!Poids      *      (     (A*EXP(-alpha*(BF$15-$H55)))     +      (B*EXP(-bêta*(BF$15-$H55)))    +   (_C*EXP(-gamma*(BF$15-$H55 )))      )","v":0},{"$f":"  $G55/[0]!Poids      *      (     (A*EXP(-alpha*(BG$15-$H55)))     +      (B*EXP(-bêta*(BG$15-$H55)))    +   (_C*EXP(-gamma*(BG$15-$H55 )))      )","v":0},{"$f":"  $G55/[0]!Poids      *      (     (A*EXP(-alpha*(BH$15-$H55)))     +      (B*EXP(-bêta*(BH$15-$H55)))    +   (_C*EXP(-gamma*(BH$15-$H55 )))      )","v":0},{"$f":"  $G55/[0]!Poids      *      (     (A*EXP(-alpha*(BI$15-$H55)))     +      (B*EXP(-bêta*(BI$15-$H55)))    +   (_C*EXP(-gamma*(BI$15-$H55 )))      )","v":0},{"$f":"  $G55/[0]!Poids      *      (     (A*EXP(-alpha*(BJ$15-$H55)))     +      (B*EXP(-bêta*(BJ$15-$H55)))    +   (_C*EXP(-gamma*(BJ$15-$H55 )))      )","v":0},{"$f":"  $G55/[0]!Poids      *      (     (A*EXP(-alpha*(BK$15-$H55)))     +      (B*EXP(-bêta*(BK$15-$H55)))    +   (_C*EXP(-gamma*(BK$15-$H55 )))      )","v":0},{"$f":"  $G55/[0]!Poids      *      (     (A*EXP(-alpha*(BL$15-$H55)))     +      (B*EXP(-bêta*(BL$15-$H55)))    +   (_C*EXP(-gamma*(BL$15-$H55 )))      )","v":0},{"$f":"  $G55/[0]!Poids      *      (     (A*EXP(-alpha*(BM$15-$H55)))     +      (B*EXP(-bêta*(BM$15-$H55)))    +   (_C*EXP(-gamma*(BM$15-$H55 )))      )","v":0},{"$f":"  $G55/[0]!Poids      *      (     (A*EXP(-alpha*(BN$15-$H55)))     +      (B*EXP(-bêta*(BN$15-$H55)))    +   (_C*EXP(-gamma*(BN$15-$H55 )))      )","v":0},{"$f":"  $G55/[0]!Poids      *      (     (A*EXP(-alpha*(BO$15-$H55)))     +      (B*EXP(-bêta*(BO$15-$H55)))    +   (_C*EXP(-gamma*(BO$15-$H55 )))      )","v":0},{"$f":"  $G55/[0]!Poids      *      (     (A*EXP(-alpha*(BP$15-$H55)))     +      (B*EXP(-bêta*(BP$15-$H55)))    +   (_C*EXP(-gamma*(BP$15-$H55 )))      )","v":0},{"$f":"  $G55/[0]!Poids      *      (     (A*EXP(-alpha*(BQ$15-$H55)))     +      (B*EXP(-bêta*(BQ$15-$H55)))    +   (_C*EXP(-gamma*(BQ$15-$H55 )))      )","v":0},{"$f":"  $G55/[0]!Poids      *      (     (A*EXP(-alpha*(BR$15-$H55)))     +      (B*EXP(-bêta*(BR$15-$H55)))    +   (_C*EXP(-gamma*(BR$15-$H55 )))      )","v":0}]
[null,null,null,null,null,null,{"$f":"AX$10","v":0},200,null,null,null,null,null,null,null,null,null,null,null,null,null,null,null,null,null,null,null,null,null,null,null,null,null,null,null,null,null,null,null,null,null,null,null,null,null,null,null,null,null,{"$f":"  $G56/[0]!Poids      *      (     (A*EXP(-alpha*(AX$15-$H56)))     +      (B*EXP(-bêta*(AX$15-$H56)))    +   (_C*EXP(-gamma*(AX$15-$H56 )))      )","v":0},{"$f":"  $G56/[0]!Poids      *      (     (A*EXP(-alpha*(AY$15-$H56)))     +      (B*EXP(-bêta*(AY$15-$H56)))    +   (_C*EXP(-gamma*(AY$15-$H56 )))      )","v":0},{"$f":"  $G56/[0]!Poids      *      (     (A*EXP(-alpha*(AZ$15-$H56)))     +      (B*EXP(-bêta*(AZ$15-$H56)))    +   (_C*EXP(-gamma*(AZ$15-$H56 )))      )","v":0},{"$f":"  $G56/[0]!Poids      *      (     (A*EXP(-alpha*(BA$15-$H56)))     +      (B*EXP(-bêta*(BA$15-$H56)))    +   (_C*EXP(-gamma*(BA$15-$H56 )))      )","v":0},{"$f":"  $G56/[0]!Poids      *      (     (A*EXP(-alpha*(BB$15-$H56)))     +      (B*EXP(-bêta*(BB$15-$H56)))    +   (_C*EXP(-gamma*(BB$15-$H56 )))      )","v":0},{"$f":"  $G56/[0]!Poids      *      (     (A*EXP(-alpha*(BC$15-$H56)))     +      (B*EXP(-bêta*(BC$15-$H56)))    +   (_C*EXP(-gamma*(BC$15-$H56 )))      )","v":0},{"$f":"  $G56/[0]!Poids      *      (     (A*EXP(-alpha*(BD$15-$H56)))     +      (B*EXP(-bêta*(BD$15-$H56)))    +   (_C*EXP(-gamma*(BD$15-$H56 )))      )","v":0},{"$f":"  $G56/[0]!Poids      *      (     (A*EXP(-alpha*(BE$15-$H56)))     +      (B*EXP(-bêta*(BE$15-$H56)))    +   (_C*EXP(-gamma*(BE$15-$H56 )))      )","v":0},{"$f":"  $G56/[0]!Poids      *      (     (A*EXP(-alpha*(BF$15-$H56)))     +      (B*EXP(-bêta*(BF$15-$H56)))    +   (_C*EXP(-gamma*(BF$15-$H56 )))      )","v":0},{"$f":"  $G56/[0]!Poids      *      (     (A*EXP(-alpha*(BG$15-$H56)))     +      (B*EXP(-bêta*(BG$15-$H56)))    +   (_C*EXP(-gamma*(BG$15-$H56 )))      )","v":0},{"$f":"  $G56/[0]!Poids      *      (     (A*EXP(-alpha*(BH$15-$H56)))     +      (B*EXP(-bêta*(BH$15-$H56)))    +   (_C*EXP(-gamma*(BH$15-$H56 )))      )","v":0},{"$f":"  $G56/[0]!Poids      *      (     (A*EXP(-alpha*(BI$15-$H56)))     +      (B*EXP(-bêta*(BI$15-$H56)))    +   (_C*EXP(-gamma*(BI$15-$H56 )))      )","v":0},{"$f":"  $G56/[0]!Poids      *      (     (A*EXP(-alpha*(BJ$15-$H56)))     +      (B*EXP(-bêta*(BJ$15-$H56)))    +   (_C*EXP(-gamma*(BJ$15-$H56 )))      )","v":0},{"$f":"  $G56/[0]!Poids      *      (     (A*EXP(-alpha*(BK$15-$H56)))     +      (B*EXP(-bêta*(BK$15-$H56)))    +   (_C*EXP(-gamma*(BK$15-$H56 )))      )","v":0},{"$f":"  $G56/[0]!Poids      *      (     (A*EXP(-alpha*(BL$15-$H56)))     +      (B*EXP(-bêta*(BL$15-$H56)))    +   (_C*EXP(-gamma*(BL$15-$H56 )))      )","v":0},{"$f":"  $G56/[0]!Poids      *      (     (A*EXP(-alpha*(BM$15-$H56)))     +      (B*EXP(-bêta*(BM$15-$H56)))    +   (_C*EXP(-gamma*(BM$15-$H56 )))      )","v":0},{"$f":"  $G56/[0]!Poids      *      (     (A*EXP(-alpha*(BN$15-$H56)))     +      (B*EXP(-bêta*(BN$15-$H56)))    +   (_C*EXP(-gamma*(BN$15-$H56 )))      )","v":0},{"$f":"  $G56/[0]!Poids      *      (     (A*EXP(-alpha*(BO$15-$H56)))     +      (B*EXP(-bêta*(BO$15-$H56)))    +   (_C*EXP(-gamma*(BO$15-$H56 )))      )","v":0},{"$f":"  $G56/[0]!Poids      *      (     (A*EXP(-alpha*(BP$15-$H56)))     +      (B*EXP(-bêta*(BP$15-$H56)))    +   (_C*EXP(-gamma*(BP$15-$H56 )))      )","v":0},{"$f":"  $G56/[0]!Poids      *      (     (A*EXP(-alpha*(BQ$15-$H56)))     +      (B*EXP(-bêta*(BQ$15-$H56)))    +   (_C*EXP(-gamma*(BQ$15-$H56 )))      )","v":0},{"$f":"  $G56/[0]!Poids      *      (     (A*EXP(-alpha*(BR$15-$H56)))     +      (B*EXP(-bêta*(BR$15-$H56)))    +   (_C*EXP(-gamma*(BR$15-$H56 )))      )","v":0}]
[null,null,null,null,null,null,{"$f":"AY$10","v":0},205,null,null,null,null,null,null,null,null,null,null,null,null,null,null,null,null,null,null,null,null,null,null,null,null,null,null,null,null,null,null,null,null,null,null,null,null,null,null,null,null,null,null,{"$f":"  $G57/[0]!Poids      *      (     (A*EXP(-alpha*(AY$15-$H57)))     +      (B*EXP(-bêta*(AY$15-$H57)))    +   (_C*EXP(-gamma*(AY$15-$H57 )))      )","v":0},{"$f":"  $G57/[0]!Poids      *      (     (A*EXP(-alpha*(AZ$15-$H57)))     +      (B*EXP(-bêta*(AZ$15-$H57)))    +   (_C*EXP(-gamma*(AZ$15-$H57 )))      )","v":0},{"$f":"  $G57/[0]!Poids      *      (     (A*EXP(-alpha*(BA$15-$H57)))     +      (B*EXP(-bêta*(BA$15-$H57)))    +   (_C*EXP(-gamma*(BA$15-$H57 )))      )","v":0},{"$f":"  $G57/[0]!Poids      *      (     (A*EXP(-alpha*(BB$15-$H57)))     +      (B*EXP(-bêta*(BB$15-$H57)))    +   (_C*EXP(-gamma*(BB$15-$H57 )))      )","v":0},{"$f":"  $G57/[0]!Poids      *      (     (A*EXP(-alpha*(BC$15-$H57)))     +      (B*EXP(-bêta*(BC$15-$H57)))    +   (_C*EXP(-gamma*(BC$15-$H57 )))      )","v":0},{"$f":"  $G57/[0]!Poids      *      (     (A*EXP(-alpha*(BD$15-$H57)))     +      (B*EXP(-bêta*(BD$15-$H57)))    +   (_C*EXP(-gamma*(BD$15-$H57 )))      )","v":0},{"$f":"  $G57/[0]!Poids      *      (     (A*EXP(-alpha*(BE$15-$H57)))     +      (B*EXP(-bêta*(BE$15-$H57)))    +   (_C*EXP(-gamma*(BE$15-$H57 )))      )","v":0},{"$f":"  $G57/[0]!Poids      *      (     (A*EXP(-alpha*(BF$15-$H57)))     +      (B*EXP(-bêta*(BF$15-$H57)))    +   (_C*EXP(-gamma*(BF$15-$H57 )))      )","v":0},{"$f":"  $G57/[0]!Poids      *      (     (A*EXP(-alpha*(BG$15-$H57)))     +      (B*EXP(-bêta*(BG$15-$H57)))    +   (_C*EXP(-gamma*(BG$15-$H57 )))      )","v":0},{"$f":"  $G57/[0]!Poids      *      (     (A*EXP(-alpha*(BH$15-$H57)))     +      (B*EXP(-bêta*(BH$15-$H57)))    +   (_C*EXP(-gamma*(BH$15-$H57 )))      )","v":0},{"$f":"  $G57/[0]!Poids      *      (     (A*EXP(-alpha*(BI$15-$H57)))     +      (B*EXP(-bêta*(BI$15-$H57)))    +   (_C*EXP(-gamma*(BI$15-$H57 )))      )","v":0},{"$f":"  $G57/[0]!Poids      *      (     (A*EXP(-alpha*(BJ$15-$H57)))     +      (B*EXP(-bêta*(BJ$15-$H57)))    +   (_C*EXP(-gamma*(BJ$15-$H57 )))      )","v":0},{"$f":"  $G57/[0]!Poids      *      (     (A*EXP(-alpha*(BK$15-$H57)))     +      (B*EXP(-bêta*(BK$15-$H57)))    +   (_C*EXP(-gamma*(BK$15-$H57 )))      )","v":0},{"$f":"  $G57/[0]!Poids      *      (     (A*EXP(-alpha*(BL$15-$H57)))     +      (B*EXP(-bêta*(BL$15-$H57)))    +   (_C*EXP(-gamma*(BL$15-$H57 )))      )","v":0},{"$f":"  $G57/[0]!Poids      *      (     (A*EXP(-alpha*(BM$15-$H57)))     +      (B*EXP(-bêta*(BM$15-$H57)))    +   (_C*EXP(-gamma*(BM$15-$H57 )))      )","v":0},{"$f":"  $G57/[0]!Poids      *      (     (A*EXP(-alpha*(BN$15-$H57)))     +      (B*EXP(-bêta*(BN$15-$H57)))    +   (_C*EXP(-gamma*(BN$15-$H57 )))      )","v":0},{"$f":"  $G57/[0]!Poids      *      (     (A*EXP(-alpha*(BO$15-$H57)))     +      (B*EXP(-bêta*(BO$15-$H57)))    +   (_C*EXP(-gamma*(BO$15-$H57 )))      )","v":0},{"$f":"  $G57/[0]!Poids      *      (     (A*EXP(-alpha*(BP$15-$H57)))     +      (B*EXP(-bêta*(BP$15-$H57)))    +   (_C*EXP(-gamma*(BP$15-$H57 )))      )","v":0},{"$f":"  $G57/[0]!Poids      *      (     (A*EXP(-alpha*(BQ$15-$H57)))     +      (B*EXP(-bêta*(BQ$15-$H57)))    +   (_C*EXP(-gamma*(BQ$15-$H57 )))      )","v":0},{"$f":"  $G57/[0]!Poids      *      (     (A*EXP(-alpha*(BR$15-$H57)))     +      (B*EXP(-bêta*(BR$15-$H57)))    +   (_C*EXP(-gamma*(BR$15-$H57 )))      )","v":0}]
[null,null,null,null,null,null,{"$f":"AZ$10","v":0},210,null,null,null,null,null,null,null,null,null,null,null,null,null,null,null,null,null,null,null,null,null,null,null,null,null,null,null,null,null,null,null,null,null,null,null,null,null,null,null,null,null,null,null,{"$f":"  $G58/[0]!Poids      *      (     (A*EXP(-alpha*(AZ$15-$H58)))     +      (B*EXP(-bêta*(AZ$15-$H58)))    +   (_C*EXP(-gamma*(AZ$15-$H58 )))      )","v":0},{"$f":"  $G58/[0]!Poids      *      (     (A*EXP(-alpha*(BA$15-$H58)))     +      (B*EXP(-bêta*(BA$15-$H58)))    +   (_C*EXP(-gamma*(BA$15-$H58 )))      )","v":0},{"$f":"  $G58/[0]!Poids      *      (     (A*EXP(-alpha*(BB$15-$H58)))     +      (B*EXP(-bêta*(BB$15-$H58)))    +   (_C*EXP(-gamma*(BB$15-$H58 )))      )","v":0},{"$f":"  $G58/[0]!Poids      *      (     (A*EXP(-alpha*(BC$15-$H58)))     +      (B*EXP(-bêta*(BC$15-$H58)))    +   (_C*EXP(-gamma*(BC$15-$H58 )))      )","v":0},{"$f":"  $G58/[0]!Poids      *      (     (A*EXP(-alpha*(BD$15-$H58)))     +      (B*EXP(-bêta*(BD$15-$H58)))    +   (_C*EXP(-gamma*(BD$15-$H58 )))      )","v":0},{"$f":"  $G58/[0]!Poids      *      (     (A*EXP(-alpha*(BE$15-$H58)))     +      (B*EXP(-bêta*(BE$15-$H58)))    +   (_C*EXP(-gamma*(BE$15-$H58 )))      )","v":0},{"$f":"  $G58/[0]!Poids      *      (     (A*EXP(-alpha*(BF$15-$H58)))     +      (B*EXP(-bêta*(BF$15-$H58)))    +   (_C*EXP(-gamma*(BF$15-$H58 )))      )","v":0},{"$f":"  $G58/[0]!Poids      *      (     (A*EXP(-alpha*(BG$15-$H58)))     +      (B*EXP(-bêta*(BG$15-$H58)))    +   (_C*EXP(-gamma*(BG$15-$H58 )))      )","v":0},{"$f":"  $G58/[0]!Poids      *      (     (A*EXP(-alpha*(BH$15-$H58)))     +      (B*EXP(-bêta*(BH$15-$H58)))    +   (_C*EXP(-gamma*(BH$15-$H58 )))      )","v":0},{"$f":"  $G58/[0]!Poids      *      (     (A*EXP(-alpha*(BI$15-$H58)))     +      (B*EXP(-bêta*(BI$15-$H58)))    +   (_C*EXP(-gamma*(BI$15-$H58 )))      )","v":0},{"$f":"  $G58/[0]!Poids      *      (     (A*EXP(-alpha*(BJ$15-$H58)))     +      (B*EXP(-bêta*(BJ$15-$H58)))    +   (_C*EXP(-gamma*(BJ$15-$H58 )))      )","v":0},{"$f":"  $G58/[0]!Poids      *      (     (A*EXP(-alpha*(BK$15-$H58)))     +      (B*EXP(-bêta*(BK$15-$H58)))    +   (_C*EXP(-gamma*(BK$15-$H58 )))      )","v":0},{"$f":"  $G58/[0]!Poids      *      (     (A*EXP(-alpha*(BL$15-$H58)))     +      (B*EXP(-bêta*(BL$15-$H58)))    +   (_C*EXP(-gamma*(BL$15-$H58 )))      )","v":0},{"$f":"  $G58/[0]!Poids      *      (     (A*EXP(-alpha*(BM$15-$H58)))     +      (B*EXP(-bêta*(BM$15-$H58)))    +   (_C*EXP(-gamma*(BM$15-$H58 )))      )","v":0},{"$f":"  $G58/[0]!Poids      *      (     (A*EXP(-alpha*(BN$15-$H58)))     +      (B*EXP(-bêta*(BN$15-$H58)))    +   (_C*EXP(-gamma*(BN$15-$H58 )))      )","v":0},{"$f":"  $G58/[0]!Poids      *      (     (A*EXP(-alpha*(BO$15-$H58)))     +      (B*EXP(-bêta*(BO$15-$H58)))    +   (_C*EXP(-gamma*(BO$15-$H58 )))      )","v":0},{"$f":"  $G58/[0]!Poids      *      (     (A*EXP(-alpha*(BP$15-$H58)))     +      (B*EXP(-bêta*(BP$15-$H58)))    +   (_C*EXP(-gamma*(BP$15-$H58 )))      )","v":0},{"$f":"  $G58/[0]!Poids      *      (     (A*EXP(-alpha*(BQ$15-$H58)))     +      (B*EXP(-bêta*(BQ$15-$H58)))    +   (_C*EXP(-gamma*(BQ$15-$H58 )))      )","v":0},{"$f":"  $G58/[0]!Poids      *      (     (A*EXP(-alpha*(BR$15-$H58)))     +      (B*EXP(-bêta*(BR$15-$H58)))    +   (_C*EXP(-gamma*(BR$15-$H58 )))      )","v":0}]
[null,null,null,null,null,null,{"$f":"BA$10","v":0},215,null,null,null,null,null,null,null,null,null,null,null,null,null,null,null,null,null,null,null,null,null,null,null,null,null,null,null,null,null,null,null,null,null,null,null,null,null,null,null,null,null,null,null,null,{"$f":"  $G59/[0]!Poids      *      (     (A*EXP(-alpha*(BA$15-$H59)))     +      (B*EXP(-bêta*(BA$15-$H59)))    +   (_C*EXP(-gamma*(BA$15-$H59 )))      )","v":0},{"$f":"  $G59/[0]!Poids      *      (     (A*EXP(-alpha*(BB$15-$H59)))     +      (B*EXP(-bêta*(BB$15-$H59)))    +   (_C*EXP(-gamma*(BB$15-$H59 )))      )","v":0},{"$f":"  $G59/[0]!Poids      *      (     (A*EXP(-alpha*(BC$15-$H59)))     +      (B*EXP(-bêta*(BC$15-$H59)))    +   (_C*EXP(-gamma*(BC$15-$H59 )))      )","v":0},{"$f":"  $G59/[0]!Poids      *      (     (A*EXP(-alpha*(BD$15-$H59)))     +      (B*EXP(-bêta*(BD$15-$H59)))    +   (_C*EXP(-gamma*(BD$15-$H59 )))      )","v":0},{"$f":"  $G59/[0]!Poids      *      (     (A*EXP(-alpha*(BE$15-$H59)))     +      (B*EXP(-bêta*(BE$15-$H59)))    +   (_C*EXP(-gamma*(BE$15-$H59 )))      )","v":0},{"$f":"  $G59/[0]!Poids      *      (     (A*EXP(-alpha*(BF$15-$H59)))     +      (B*EXP(-bêta*(BF$15-$H59)))    +   (_C*EXP(-gamma*(BF$15-$H59 )))      )","v":0},{"$f":"  $G59/[0]!Poids      *      (     (A*EXP(-alpha*(BG$15-$H59)))     +      (B*EXP(-bêta*(BG$15-$H59)))    +   (_C*EXP(-gamma*(BG$15-$H59 )))      )","v":0},{"$f":"  $G59/[0]!Poids      *      (     (A*EXP(-alpha*(BH$15-$H59)))     +      (B*EXP(-bêta*(BH$15-$H59)))    +   (_C*EXP(-gamma*(BH$15-$H59 )))      )","v":0},{"$f":"  $G59/[0]!Poids      *      (     (A*EXP(-alpha*(BI$15-$H59)))     +      (B*EXP(-bêta*(BI$15-$H59)))    +   (_C*EXP(-gamma*(BI$15-$H59 )))      )","v":0},{"$f":"  $G59/[0]!Poids      *      (     (A*EXP(-alpha*(BJ$15-$H59)))     +      (B*EXP(-bêta*(BJ$15-$H59)))    +   (_C*EXP(-gamma*(BJ$15-$H59 )))      )","v":0},{"$f":"  $G59/[0]!Poids      *      (     (A*EXP(-alpha*(BK$15-$H59)))     +      (B*EXP(-bêta*(BK$15-$H59)))    +   (_C*EXP(-gamma*(BK$15-$H59 )))      )","v":0},{"$f":"  $G59/[0]!Poids      *      (     (A*EXP(-alpha*(BL$15-$H59)))     +      (B*EXP(-bêta*(BL$15-$H59)))    +   (_C*EXP(-gamma*(BL$15-$H59 )))      )","v":0},{"$f":"  $G59/[0]!Poids      *      (     (A*EXP(-alpha*(BM$15-$H59)))     +      (B*EXP(-bêta*(BM$15-$H59)))    +   (_C*EXP(-gamma*(BM$15-$H59 )))      )","v":0},{"$f":"  $G59/[0]!Poids      *      (     (A*EXP(-alpha*(BN$15-$H59)))     +      (B*EXP(-bêta*(BN$15-$H59)))    +   (_C*EXP(-gamma*(BN$15-$H59 )))      )","v":0},{"$f":"  $G59/[0]!Poids      *      (     (A*EXP(-alpha*(BO$15-$H59)))     +      (B*EXP(-bêta*(BO$15-$H59)))    +   (_C*EXP(-gamma*(BO$15-$H59 )))      )","v":0},{"$f":"  $G59/[0]!Poids      *      (     (A*EXP(-alpha*(BP$15-$H59)))     +      (B*EXP(-bêta*(BP$15-$H59)))    +   (_C*EXP(-gamma*(BP$15-$H59 )))      )","v":0},{"$f":"  $G59/[0]!Poids      *      (     (A*EXP(-alpha*(BQ$15-$H59)))     +      (B*EXP(-bêta*(BQ$15-$H59)))    +   (_C*EXP(-gamma*(BQ$15-$H59 )))      )","v":0},{"$f":"  $G59/[0]!Poids      *      (     (A*EXP(-alpha*(BR$15-$H59)))     +      (B*EXP(-bêta*(BR$15-$H59)))    +   (_C*EXP(-gamma*(BR$15-$H59 )))      )","v":0}]
[null,null,null,null,null,null,{"$f":"BB$10","v":0},220,null,null,null,null,null,null,null,null,null,null,null,null,null,null,null,null,null,null,null,null,null,null,null,null,null,null,null,null,null,null,null,null,null,null,null,null,null,null,null,null,null,null,null,null,null,{"$f":"  $G60/[0]!Poids      *      (     (A*EXP(-alpha*(BB$15-$H60)))     +      (B*EXP(-bêta*(BB$15-$H60)))    +   (_C*EXP(-gamma*(BB$15-$H60 )))      )","v":0},{"$f":"  $G60/[0]!Poids      *      (     (A*EXP(-alpha*(BC$15-$H60)))     +      (B*EXP(-bêta*(BC$15-$H60)))    +   (_C*EXP(-gamma*(BC$15-$H60 )))      )","v":0},{"$f":"  $G60/[0]!Poids      *      (     (A*EXP(-alpha*(BD$15-$H60)))     +      (B*EXP(-bêta*(BD$15-$H60)))    +   (_C*EXP(-gamma*(BD$15-$H60 )))      )","v":0},{"$f":"  $G60/[0]!Poids      *      (     (A*EXP(-alpha*(BE$15-$H60)))     +      (B*EXP(-bêta*(BE$15-$H60)))    +   (_C*EXP(-gamma*(BE$15-$H60 )))      )","v":0},{"$f":"  $G60/[0]!Poids      *      (     (A*EXP(-alpha*(BF$15-$H60)))     +      (B*EXP(-bêta*(BF$15-$H60)))    +   (_C*EXP(-gamma*(BF$15-$H60 )))      )","v":0},{"$f":"  $G60/[0]!Poids      *      (     (A*EXP(-alpha*(BG$15-$H60)))     +      (B*EXP(-bêta*(BG$15-$H60)))    +   (_C*EXP(-gamma*(BG$15-$H60 )))      )","v":0},{"$f":"  $G60/[0]!Poids      *      (     (A*EXP(-alpha*(BH$15-$H60)))     +      (B*EXP(-bêta*(BH$15-$H60)))    +   (_C*EXP(-gamma*(BH$15-$H60 )))      )","v":0},{"$f":"  $G60/[0]!Poids      *      (     (A*EXP(-alpha*(BI$15-$H60)))     +      (B*EXP(-bêta*(BI$15-$H60)))    +   (_C*EXP(-gamma*(BI$15-$H60 )))      )","v":0},{"$f":"  $G60/[0]!Poids      *      (     (A*EXP(-alpha*(BJ$15-$H60)))     +      (B*EXP(-bêta*(BJ$15-$H60)))    +   (_C*EXP(-gamma*(BJ$15-$H60 )))      )","v":0},{"$f":"  $G60/[0]!Poids      *      (     (A*EXP(-alpha*(BK$15-$H60)))     +      (B*EXP(-bêta*(BK$15-$H60)))    +   (_C*EXP(-gamma*(BK$15-$H60 )))      )","v":0},{"$f":"  $G60/[0]!Poids      *      (     (A*EXP(-alpha*(BL$15-$H60)))     +      (B*EXP(-bêta*(BL$15-$H60)))    +   (_C*EXP(-gamma*(BL$15-$H60 )))      )","v":0},{"$f":"  $G60/[0]!Poids      *      (     (A*EXP(-alpha*(BM$15-$H60)))     +      (B*EXP(-bêta*(BM$15-$H60)))    +   (_C*EXP(-gamma*(BM$15-$H60 )))      )","v":0},{"$f":"  $G60/[0]!Poids      *      (     (A*EXP(-alpha*(BN$15-$H60)))     +      (B*EXP(-bêta*(BN$15-$H60)))    +   (_C*EXP(-gamma*(BN$15-$H60 )))      )","v":0},{"$f":"  $G60/[0]!Poids      *      (     (A*EXP(-alpha*(BO$15-$H60)))     +      (B*EXP(-bêta*(BO$15-$H60)))    +   (_C*EXP(-gamma*(BO$15-$H60 )))      )","v":0},{"$f":"  $G60/[0]!Poids      *      (     (A*EXP(-alpha*(BP$15-$H60)))     +      (B*EXP(-bêta*(BP$15-$H60)))    +   (_C*EXP(-gamma*(BP$15-$H60 )))      )","v":0},{"$f":"  $G60/[0]!Poids      *      (     (A*EXP(-alpha*(BQ$15-$H60)))     +      (B*EXP(-bêta*(BQ$15-$H60)))    +   (_C*EXP(-gamma*(BQ$15-$H60 )))      )","v":0},{"$f":"  $G60/[0]!Poids      *      (     (A*EXP(-alpha*(BR$15-$H60)))     +      (B*EXP(-bêta*(BR$15-$H60)))    +   (_C*EXP(-gamma*(BR$15-$H60 )))      )","v":0}]
[null,null,null,null,null,null,{"$f":"BC$10","v":0},225,null,null,null,null,null,null,null,null,null,null,null,null,null,null,null,null,null,null,null,null,null,null,null,null,null,null,null,null,null,null,null,null,null,null,null,null,null,null,null,null,null,null,null,null,null,null,{"$f":"  $G61/[0]!Poids      *      (     (A*EXP(-alpha*(BC$15-$H61)))     +      (B*EXP(-bêta*(BC$15-$H61)))    +   (_C*EXP(-gamma*(BC$15-$H61 )))      )","v":0},{"$f":"  $G61/[0]!Poids      *      (     (A*EXP(-alpha*(BD$15-$H61)))     +      (B*EXP(-bêta*(BD$15-$H61)))    +   (_C*EXP(-gamma*(BD$15-$H61 )))      )","v":0},{"$f":"  $G61/[0]!Poids      *      (     (A*EXP(-alpha*(BE$15-$H61)))     +      (B*EXP(-bêta*(BE$15-$H61)))    +   (_C*EXP(-gamma*(BE$15-$H61 )))      )","v":0},{"$f":"  $G61/[0]!Poids      *      (     (A*EXP(-alpha*(BF$15-$H61)))     +      (B*EXP(-bêta*(BF$15-$H61)))    +   (_C*EXP(-gamma*(BF$15-$H61 )))      )","v":0},{"$f":"  $G61/[0]!Poids      *      (     (A*EXP(-alpha*(BG$15-$H61)))     +      (B*EXP(-bêta*(BG$15-$H61)))    +   (_C*EXP(-gamma*(BG$15-$H61 )))      )","v":0},{"$f":"  $G61/[0]!Poids      *      (     (A*EXP(-alpha*(BH$15-$H61)))     +      (B*EXP(-bêta*(BH$15-$H61)))    +   (_C*EXP(-gamma*(BH$15-$H61 )))      )","v":0},{"$f":"  $G61/[0]!Poids      *      (     (A*EXP(-alpha*(BI$15-$H61)))     +      (B*EXP(-bêta*(BI$15-$H61)))    +   (_C*EXP(-gamma*(BI$15-$H61 )))      )","v":0},{"$f":"  $G61/[0]!Poids      *      (     (A*EXP(-alpha*(BJ$15-$H61)))     +      (B*EXP(-bêta*(BJ$15-$H61)))    +   (_C*EXP(-gamma*(BJ$15-$H61 )))      )","v":0},{"$f":"  $G61/[0]!Poids      *      (     (A*EXP(-alpha*(BK$15-$H61)))     +      (B*EXP(-bêta*(BK$15-$H61)))    +   (_C*EXP(-gamma*(BK$15-$H61 )))      )","v":0},{"$f":"  $G61/[0]!Poids      *      (     (A*EXP(-alpha*(BL$15-$H61)))     +      (B*EXP(-bêta*(BL$15-$H61)))    +   (_C*EXP(-gamma*(BL$15-$H61 )))      )","v":0},{"$f":"  $G61/[0]!Poids      *      (     (A*EXP(-alpha*(BM$15-$H61)))     +      (B*EXP(-bêta*(BM$15-$H61)))    +   (_C*EXP(-gamma*(BM$15-$H61 )))      )","v":0},{"$f":"  $G61/[0]!Poids      *      (     (A*EXP(-alpha*(BN$15-$H61)))     +      (B*EXP(-bêta*(BN$15-$H61)))    +   (_C*EXP(-gamma*(BN$15-$H61 )))      )","v":0},{"$f":"  $G61/[0]!Poids      *      (     (A*EXP(-alpha*(BO$15-$H61)))     +      (B*EXP(-bêta*(BO$15-$H61)))    +   (_C*EXP(-gamma*(BO$15-$H61 )))      )","v":0},{"$f":"  $G61/[0]!Poids      *      (     (A*EXP(-alpha*(BP$15-$H61)))     +      (B*EXP(-bêta*(BP$15-$H61)))    +   (_C*EXP(-gamma*(BP$15-$H61 )))      )","v":0},{"$f":"  $G61/[0]!Poids      *      (     (A*EXP(-alpha*(BQ$15-$H61)))     +      (B*EXP(-bêta*(BQ$15-$H61)))    +   (_C*EXP(-gamma*(BQ$15-$H61 )))      )","v":0},{"$f":"  $G61/[0]!Poids      *      (     (A*EXP(-alpha*(BR$15-$H61)))     +      (B*EXP(-bêta*(BR$15-$H61)))    +   (_C*EXP(-gamma*(BR$15-$H61 )))      )","v":0}]
[null,null,null,null,null,null,{"$f":"BD$10","v":0},230,null,null,null,null,null,null,null,null,null,null,null,null,null,null,null,null,null,null,null,null,null,null,null,null,null,null,null,null,null,null,null,null,null,null,null,null,null,null,null,null,null,null,null,null,null,null,null,{"$f":"  $G62/[0]!Poids      *      (     (A*EXP(-alpha*(BD$15-$H62)))     +      (B*EXP(-bêta*(BD$15-$H62)))    +   (_C*EXP(-gamma*(BD$15-$H62 )))      )","v":0},{"$f":"  $G62/[0]!Poids      *      (     (A*EXP(-alpha*(BE$15-$H62)))     +      (B*EXP(-bêta*(BE$15-$H62)))    +   (_C*EXP(-gamma*(BE$15-$H62 )))      )","v":0},{"$f":"  $G62/[0]!Poids      *      (     (A*EXP(-alpha*(BF$15-$H62)))     +      (B*EXP(-bêta*(BF$15-$H62)))    +   (_C*EXP(-gamma*(BF$15-$H62 )))      )","v":0},{"$f":"  $G62/[0]!Poids      *      (     (A*EXP(-alpha*(BG$15-$H62)))     +      (B*EXP(-bêta*(BG$15-$H62)))    +   (_C*EXP(-gamma*(BG$15-$H62 )))      )","v":0},{"$f":"  $G62/[0]!Poids      *      (     (A*EXP(-alpha*(BH$15-$H62)))     +      (B*EXP(-bêta*(BH$15-$H62)))    +   (_C*EXP(-gamma*(BH$15-$H62 )))      )","v":0},{"$f":"  $G62/[0]!Poids      *      (     (A*EXP(-alpha*(BI$15-$H62)))     +      (B*EXP(-bêta*(BI$15-$H62)))    +   (_C*EXP(-gamma*(BI$15-$H62 )))      )","v":0},{"$f":"  $G62/[0]!Poids      *      (     (A*EXP(-alpha*(BJ$15-$H62)))     +      (B*EXP(-bêta*(BJ$15-$H62)))    +   (_C*EXP(-gamma*(BJ$15-$H62 )))      )","v":0},{"$f":"  $G62/[0]!Poids      *      (     (A*EXP(-alpha*(BK$15-$H62)))     +      (B*EXP(-bêta*(BK$15-$H62)))    +   (_C*EXP(-gamma*(BK$15-$H62 )))      )","v":0},{"$f":"  $G62/[0]!Poids      *      (     (A*EXP(-alpha*(BL$15-$H62)))     +      (B*EXP(-bêta*(BL$15-$H62)))    +   (_C*EXP(-gamma*(BL$15-$H62 )))      )","v":0},{"$f":"  $G62/[0]!Poids      *      (     (A*EXP(-alpha*(BM$15-$H62)))     +      (B*EXP(-bêta*(BM$15-$H62)))    +   (_C*EXP(-gamma*(BM$15-$H62 )))      )","v":0},{"$f":"  $G62/[0]!Poids      *      (     (A*EXP(-alpha*(BN$15-$H62)))     +      (B*EXP(-bêta*(BN$15-$H62)))    +   (_C*EXP(-gamma*(BN$15-$H62 )))      )","v":0},{"$f":"  $G62/[0]!Poids      *      (     (A*EXP(-alpha*(BO$15-$H62)))     +      (B*EXP(-bêta*(BO$15-$H62)))    +   (_C*EXP(-gamma*(BO$15-$H62 )))      )","v":0},{"$f":"  $G62/[0]!Poids      *      (     (A*EXP(-alpha*(BP$15-$H62)))     +      (B*EXP(-bêta*(BP$15-$H62)))    +   (_C*EXP(-gamma*(BP$15-$H62 )))      )","v":0},{"$f":"  $G62/[0]!Poids      *      (     (A*EXP(-alpha*(BQ$15-$H62)))     +      (B*EXP(-bêta*(BQ$15-$H62)))    +   (_C*EXP(-gamma*(BQ$15-$H62 )))      )","v":0},{"$f":"  $G62/[0]!Poids      *      (     (A*EXP(-alpha*(BR$15-$H62)))     +      (B*EXP(-bêta*(BR$15-$H62)))    +   (_C*EXP(-gamma*(BR$15-$H62 )))      )","v":0}]
[null,null,null,null,null,null,{"$f":"BE$10","v":0},235,null,null,null,null,null,null,null,null,null,null,null,null,null,null,null,null,null,null,null,null,null,null,null,null,null,null,null,null,null,null,null,null,null,null,null,null,null,null,null,null,null,null,null,null,null,null,null,null,{"$f":"  $G63/[0]!Poids      *      (     (A*EXP(-alpha*(BE$15-$H63)))     +      (B*EXP(-bêta*(BE$15-$H63)))    +   (_C*EXP(-gamma*(BE$15-$H63 )))      )","v":0},{"$f":"  $G63/[0]!Poids      *      (     (A*EXP(-alpha*(BF$15-$H63)))     +      (B*EXP(-bêta*(BF$15-$H63)))    +   (_C*EXP(-gamma*(BF$15-$H63 )))      )","v":0},{"$f":"  $G63/[0]!Poids      *      (     (A*EXP(-alpha*(BG$15-$H63)))     +      (B*EXP(-bêta*(BG$15-$H63)))    +   (_C*EXP(-gamma*(BG$15-$H63 )))      )","v":0},{"$f":"  $G63/[0]!Poids      *      (     (A*EXP(-alpha*(BH$15-$H63)))     +      (B*EXP(-bêta*(BH$15-$H63)))    +   (_C*EXP(-gamma*(BH$15-$H63 )))      )","v":0},{"$f":"  $G63/[0]!Poids      *      (     (A*EXP(-alpha*(BI$15-$H63)))     +      (B*EXP(-bêta*(BI$15-$H63)))    +   (_C*EXP(-gamma*(BI$15-$H63 )))      )","v":0},{"$f":"  $G63/[0]!Poids      *      (     (A*EXP(-alpha*(BJ$15-$H63)))     +      (B*EXP(-bêta*(BJ$15-$H63)))    +   (_C*EXP(-gamma*(BJ$15-$H63 )))      )","v":0},{"$f":"  $G63/[0]!Poids      *      (     (A*EXP(-alpha*(BK$15-$H63)))     +      (B*EXP(-bêta*(BK$15-$H63)))    +   (_C*EXP(-gamma*(BK$15-$H63 )))      )","v":0},{"$f":"  $G63/[0]!Poids      *      (     (A*EXP(-alpha*(BL$15-$H63)))     +      (B*EXP(-bêta*(BL$15-$H63)))    +   (_C*EXP(-gamma*(BL$15-$H63 )))      )","v":0},{"$f":"  $G63/[0]!Poids      *      (     (A*EXP(-alpha*(BM$15-$H63)))     +      (B*EXP(-bêta*(BM$15-$H63)))    +   (_C*EXP(-gamma*(BM$15-$H63 )))      )","v":0},{"$f":"  $G63/[0]!Poids      *      (     (A*EXP(-alpha*(BN$15-$H63)))     +      (B*EXP(-bêta*(BN$15-$H63)))    +   (_C*EXP(-gamma*(BN$15-$H63 )))      )","v":0},{"$f":"  $G63/[0]!Poids      *      (     (A*EXP(-alpha*(BO$15-$H63)))     +      (B*EXP(-bêta*(BO$15-$H63)))    +   (_C*EXP(-gamma*(BO$15-$H63 )))      )","v":0},{"$f":"  $G63/[0]!Poids      *      (     (A*EXP(-alpha*(BP$15-$H63)))     +      (B*EXP(-bêta*(BP$15-$H63)))    +   (_C*EXP(-gamma*(BP$15-$H63 )))      )","v":0},{"$f":"  $G63/[0]!Poids      *      (     (A*EXP(-alpha*(BQ$15-$H63)))     +      (B*EXP(-bêta*(BQ$15-$H63)))    +   (_C*EXP(-gamma*(BQ$15-$H63 )))      )","v":0},{"$f":"  $G63/[0]!Poids      *      (     (A*EXP(-alpha*(BR$15-$H63)))     +      (B*EXP(-bêta*(BR$15-$H63)))    +   (_C*EXP(-gamma*(BR$15-$H63 )))      )","v":0}]
[null,null,null,null,null,null,{"$f":"BF$10","v":0},240,null,null,null,null,null,null,null,null,null,null,null,null,null,null,null,null,null,null,null,null,null,null,null,null,null,null,null,null,null,null,null,null,null,null,null,null,null,null,null,null,null,null,null,null,null,null,null,null,null,{"$f":"  $G64/[0]!Poids      *      (     (A*EXP(-alpha*(BF$15-$H64)))     +      (B*EXP(-bêta*(BF$15-$H64)))    +   (_C*EXP(-gamma*(BF$15-$H64 )))      )","v":0},{"$f":"  $G64/[0]!Poids      *      (     (A*EXP(-alpha*(BG$15-$H64)))     +      (B*EXP(-bêta*(BG$15-$H64)))    +   (_C*EXP(-gamma*(BG$15-$H64 )))      )","v":0},{"$f":"  $G64/[0]!Poids      *      (     (A*EXP(-alpha*(BH$15-$H64)))     +      (B*EXP(-bêta*(BH$15-$H64)))    +   (_C*EXP(-gamma*(BH$15-$H64 )))      )","v":0},{"$f":"  $G64/[0]!Poids      *      (     (A*EXP(-alpha*(BI$15-$H64)))     +      (B*EXP(-bêta*(BI$15-$H64)))    +   (_C*EXP(-gamma*(BI$15-$H64 )))      )","v":0},{"$f":"  $G64/[0]!Poids      *      (     (A*EXP(-alpha*(BJ$15-$H64)))     +      (B*EXP(-bêta*(BJ$15-$H64)))    +   (_C*EXP(-gamma*(BJ$15-$H64 )))      )","v":0},{"$f":"  $G64/[0]!Poids      *      (     (A*EXP(-alpha*(BK$15-$H64)))     +      (B*EXP(-bêta*(BK$15-$H64)))    +   (_C*EXP(-gamma*(BK$15-$H64 )))      )","v":0},{"$f":"  $G64/[0]!Poids      *      (     (A*EXP(-alpha*(BL$15-$H64)))     +      (B*EXP(-bêta*(BL$15-$H64)))    +   (_C*EXP(-gamma*(BL$15-$H64 )))      )","v":0},{"$f":"  $G64/[0]!Poids      *      (     (A*EXP(-alpha*(BM$15-$H64)))     +      (B*EXP(-bêta*(BM$15-$H64)))    +   (_C*EXP(-gamma*(BM$15-$H64 )))      )","v":0},{"$f":"  $G64/[0]!Poids      *      (     (A*EXP(-alpha*(BN$15-$H64)))     +      (B*EXP(-bêta*(BN$15-$H64)))    +   (_C*EXP(-gamma*(BN$15-$H64 )))      )","v":0},{"$f":"  $G64/[0]!Poids      *      (     (A*EXP(-alpha*(BO$15-$H64)))     +      (B*EXP(-bêta*(BO$15-$H64)))    +   (_C*EXP(-gamma*(BO$15-$H64 )))      )","v":0},{"$f":"  $G64/[0]!Poids      *      (     (A*EXP(-alpha*(BP$15-$H64)))     +      (B*EXP(-bêta*(BP$15-$H64)))    +   (_C*EXP(-gamma*(BP$15-$H64 )))      )","v":0},{"$f":"  $G64/[0]!Poids      *      (     (A*EXP(-alpha*(BQ$15-$H64)))     +      (B*EXP(-bêta*(BQ$15-$H64)))    +   (_C*EXP(-gamma*(BQ$15-$H64 )))      )","v":0},{"$f":"  $G64/[0]!Poids      *      (     (A*EXP(-alpha*(BR$15-$H64)))     +      (B*EXP(-bêta*(BR$15-$H64)))    +   (_C*EXP(-gamma*(BR$15-$H64 )))      )","v":0}]
[null,null,null,null,null,null,{"$f":"BG$10","v":0},245,null,null,null,null,null,null,null,null,null,null,null,null,null,null,null,null,null,null,null,null,null,null,null,null,null,null,null,null,null,null,null,null,null,null,null,null,null,null,null,null,null,null,null,null,null,null,null,null,null,null,{"$f":"  $G65/[0]!Poids      *      (     (A*EXP(-alpha*(BG$15-$H65)))     +      (B*EXP(-bêta*(BG$15-$H65)))    +   (_C*EXP(-gamma*(BG$15-$H65 )))      )","v":0},{"$f":"  $G65/[0]!Poids      *      (     (A*EXP(-alpha*(BH$15-$H65)))     +      (B*EXP(-bêta*(BH$15-$H65)))    +   (_C*EXP(-gamma*(BH$15-$H65 )))      )","v":0},{"$f":"  $G65/[0]!Poids      *      (     (A*EXP(-alpha*(BI$15-$H65)))     +      (B*EXP(-bêta*(BI$15-$H65)))    +   (_C*EXP(-gamma*(BI$15-$H65 )))      )","v":0},{"$f":"  $G65/[0]!Poids      *      (     (A*EXP(-alpha*(BJ$15-$H65)))     +      (B*EXP(-bêta*(BJ$15-$H65)))    +   (_C*EXP(-gamma*(BJ$15-$H65 )))      )","v":0},{"$f":"  $G65/[0]!Poids      *      (     (A*EXP(-alpha*(BK$15-$H65)))     +      (B*EXP(-bêta*(BK$15-$H65)))    +   (_C*EXP(-gamma*(BK$15-$H65 )))      )","v":0},{"$f":"  $G65/[0]!Poids      *      (     (A*EXP(-alpha*(BL$15-$H65)))     +      (B*EXP(-bêta*(BL$15-$H65)))    +   (_C*EXP(-gamma*(BL$15-$H65 )))      )","v":0},{"$f":"  $G65/[0]!Poids      *      (     (A*EXP(-alpha*(BM$15-$H65)))     +      (B*EXP(-bêta*(BM$15-$H65)))    +   (_C*EXP(-gamma*(BM$15-$H65 )))      )","v":0},{"$f":"  $G65/[0]!Poids      *      (     (A*EXP(-alpha*(BN$15-$H65)))     +      (B*EXP(-bêta*(BN$15-$H65)))    +   (_C*EXP(-gamma*(BN$15-$H65 )))      )","v":0},{"$f":"  $G65/[0]!Poids      *      (     (A*EXP(-alpha*(BO$15-$H65)))     +      (B*EXP(-bêta*(BO$15-$H65)))    +   (_C*EXP(-gamma*(BO$15-$H65 )))      )","v":0},{"$f":"  $G65/[0]!Poids      *      (     (A*EXP(-alpha*(BP$15-$H65)))     +      (B*EXP(-bêta*(BP$15-$H65)))    +   (_C*EXP(-gamma*(BP$15-$H65 )))      )","v":0},{"$f":"  $G65/[0]!Poids      *      (     (A*EXP(-alpha*(BQ$15-$H65)))     +      (B*EXP(-bêta*(BQ$15-$H65)))    +   (_C*EXP(-gamma*(BQ$15-$H65 )))      )","v":0},{"$f":"  $G65/[0]!Poids      *      (     (A*EXP(-alpha*(BR$15-$H65)))     +      (B*EXP(-bêta*(BR$15-$H65)))    +   (_C*EXP(-gamma*(BR$15-$H65 )))      )","v":0}]
[null,null,null,null,null,null,{"$f":"BH$10","v":0},250,null,null,null,null,null,null,null,null,null,null,null,null,null,null,null,null,null,null,null,null,null,null,null,null,null,null,null,null,null,null,null,null,null,null,null,null,null,null,null,null,null,null,null,null,null,null,null,null,null,null,null,{"$f":"  $G66/[0]!Poids      *      (     (A*EXP(-alpha*(BH$15-$H66)))     +      (B*EXP(-bêta*(BH$15-$H66)))    +   (_C*EXP(-gamma*(BH$15-$H66 )))      )","v":0},{"$f":"  $G66/[0]!Poids      *      (     (A*EXP(-alpha*(BI$15-$H66)))     +      (B*EXP(-bêta*(BI$15-$H66)))    +   (_C*EXP(-gamma*(BI$15-$H66 )))      )","v":0},{"$f":"  $G66/[0]!Poids      *      (     (A*EXP(-alpha*(BJ$15-$H66)))     +      (B*EXP(-bêta*(BJ$15-$H66)))    +   (_C*EXP(-gamma*(BJ$15-$H66 )))      )","v":0},{"$f":"  $G66/[0]!Poids      *      (     (A*EXP(-alpha*(BK$15-$H66)))     +      (B*EXP(-bêta*(BK$15-$H66)))    +   (_C*EXP(-gamma*(BK$15-$H66 )))      )","v":0},{"$f":"  $G66/[0]!Poids      *      (     (A*EXP(-alpha*(BL$15-$H66)))     +      (B*EXP(-bêta*(BL$15-$H66)))    +   (_C*EXP(-gamma*(BL$15-$H66 )))      )","v":0},{"$f":"  $G66/[0]!Poids      *      (     (A*EXP(-alpha*(BM$15-$H66)))     +      (B*EXP(-bêta*(BM$15-$H66)))    +   (_C*EXP(-gamma*(BM$15-$H66 )))      )","v":0},{"$f":"  $G66/[0]!Poids      *      (     (A*EXP(-alpha*(BN$15-$H66)))     +      (B*EXP(-bêta*(BN$15-$H66)))    +   (_C*EXP(-gamma*(BN$15-$H66 )))      )","v":0},{"$f":"  $G66/[0]!Poids      *      (     (A*EXP(-alpha*(BO$15-$H66)))     +      (B*EXP(-bêta*(BO$15-$H66)))    +   (_C*EXP(-gamma*(BO$15-$H66 )))      )","v":0},{"$f":"  $G66/[0]!Poids      *      (     (A*EXP(-alpha*(BP$15-$H66)))     +      (B*EXP(-bêta*(BP$15-$H66)))    +   (_C*EXP(-gamma*(BP$15-$H66 )))      )","v":0},{"$f":"  $G66/[0]!Poids      *      (     (A*EXP(-alpha*(BQ$15-$H66)))     +      (B*EXP(-bêta*(BQ$15-$H66)))    +   (_C*EXP(-gamma*(BQ$15-$H66 )))      )","v":0},{"$f":"  $G66/[0]!Poids      *      (     (A*EXP(-alpha*(BR$15-$H66)))     +      (B*EXP(-bêta*(BR$15-$H66)))    +   (_C*EXP(-gamma*(BR$15-$H66 )))      )","v":0}]
[null,null,null,null,null,null,{"$f":"BI$10","v":0},255,null,null,null,null,null,null,null,null,null,null,null,null,null,null,null,null,null,null,null,null,null,null,null,null,null,null,null,null,null,null,null,null,null,null,null,null,null,null,null,null,null,null,null,null,null,null,null,null,null,null,null,null,{"$f":"  $G67/[0]!Poids      *      (     (A*EXP(-alpha*(BI$15-$H67)))     +      (B*EXP(-bêta*(BI$15-$H67)))    +   (_C*EXP(-gamma*(BI$15-$H67 )))      )","v":0},{"$f":"  $G67/[0]!Poids      *      (     (A*EXP(-alpha*(BJ$15-$H67)))     +      (B*EXP(-bêta*(BJ$15-$H67)))    +   (_C*EXP(-gamma*(BJ$15-$H67 )))      )","v":0},{"$f":"  $G67/[0]!Poids      *      (     (A*EXP(-alpha*(BK$15-$H67)))     +      (B*EXP(-bêta*(BK$15-$H67)))    +   (_C*EXP(-gamma*(BK$15-$H67 )))      )","v":0},{"$f":"  $G67/[0]!Poids      *      (     (A*EXP(-alpha*(BL$15-$H67)))     +      (B*EXP(-bêta*(BL$15-$H67)))    +   (_C*EXP(-gamma*(BL$15-$H67 )))      )","v":0},{"$f":"  $G67/[0]!Poids      *      (     (A*EXP(-alpha*(BM$15-$H67)))     +      (B*EXP(-bêta*(BM$15-$H67)))    +   (_C*EXP(-gamma*(BM$15-$H67 )))      )","v":0},{"$f":"  $G67/[0]!Poids      *      (     (A*EXP(-alpha*(BN$15-$H67)))     +      (B*EXP(-bêta*(BN$15-$H67)))    +   (_C*EXP(-gamma*(BN$15-$H67 )))      )","v":0},{"$f":"  $G67/[0]!Poids      *      (     (A*EXP(-alpha*(BO$15-$H67)))     +      (B*EXP(-bêta*(BO$15-$H67)))    +   (_C*EXP(-gamma*(BO$15-$H67 )))      )","v":0},{"$f":"  $G67/[0]!Poids      *      (     (A*EXP(-alpha*(BP$15-$H67)))     +      (B*EXP(-bêta*(BP$15-$H67)))    +   (_C*EXP(-gamma*(BP$15-$H67 )))      )","v":0},{"$f":"  $G67/[0]!Poids      *      (     (A*EXP(-alpha*(BQ$15-$H67)))     +      (B*EXP(-bêta*(BQ$15-$H67)))    +   (_C*EXP(-gamma*(BQ$15-$H67 )))      )","v":0},{"$f":"  $G67/[0]!Poids      *      (     (A*EXP(-alpha*(BR$15-$H67)))     +      (B*EXP(-bêta*(BR$15-$H67)))    +   (_C*EXP(-gamma*(BR$15-$H67 )))      )","v":0}]
[null,null,null,null,null,null,{"$f":"BJ$10","v":0},260,null,null,null,null,null,null,null,null,null,null,null,null,null,null,null,null,null,null,null,null,null,null,null,null,null,null,null,null,null,null,null,null,null,null,null,null,null,null,null,null,null,null,null,null,null,null,null,null,null,null,null,null,null,{"$f":"  $G68/[0]!Poids      *      (     (A*EXP(-alpha*(BJ$15-$H68)))     +      (B*EXP(-bêta*(BJ$15-$H68)))    +   (_C*EXP(-gamma*(BJ$15-$H68 )))      )","v":0},{"$f":"  $G68/[0]!Poids      *      (     (A*EXP(-alpha*(BK$15-$H68)))     +      (B*EXP(-bêta*(BK$15-$H68)))    +   (_C*EXP(-gamma*(BK$15-$H68 )))      )","v":0},{"$f":"  $G68/[0]!Poids      *      (     (A*EXP(-alpha*(BL$15-$H68)))     +      (B*EXP(-bêta*(BL$15-$H68)))    +   (_C*EXP(-gamma*(BL$15-$H68 )))      )","v":0},{"$f":"  $G68/[0]!Poids      *      (     (A*EXP(-alpha*(BM$15-$H68)))     +      (B*EXP(-bêta*(BM$15-$H68)))    +   (_C*EXP(-gamma*(BM$15-$H68 )))      )","v":0},{"$f":"  $G68/[0]!Poids      *      (     (A*EXP(-alpha*(BN$15-$H68)))     +      (B*EXP(-bêta*(BN$15-$H68)))    +   (_C*EXP(-gamma*(BN$15-$H68 )))      )","v":0},{"$f":"  $G68/[0]!Poids      *      (     (A*EXP(-alpha*(BO$15-$H68)))     +      (B*EXP(-bêta*(BO$15-$H68)))    +   (_C*EXP(-gamma*(BO$15-$H68 )))      )","v":0},{"$f":"  $G68/[0]!Poids      *      (     (A*EXP(-alpha*(BP$15-$H68)))     +      (B*EXP(-bêta*(BP$15-$H68)))    +   (_C*EXP(-gamma*(BP$15-$H68 )))      )","v":0},{"$f":"  $G68/[0]!Poids      *      (     (A*EXP(-alpha*(BQ$15-$H68)))     +      (B*EXP(-bêta*(BQ$15-$H68)))    +   (_C*EXP(-gamma*(BQ$15-$H68 )))      )","v":0},{"$f":"  $G68/[0]!Poids      *      (     (A*EXP(-alpha*(BR$15-$H68)))     +      (B*EXP(-bêta*(BR$15-$H68)))    +   (_C*EXP(-gamma*(BR$15-$H68 )))      )","v":0}]
[null,null,null,null,null,null,{"$f":"BK$10","v":0},265,null,null,null,null,null,null,null,null,null,null,null,null,null,null,null,null,null,null,null,null,null,null,null,null,null,null,null,null,null,null,null,null,null,null,null,null,null,null,null,null,null,null,null,null,null,null,null,null,null,null,null,null,null,null,{"$f":"  $G69/[0]!Poids      *      (     (A*EXP(-alpha*(BK$15-$H69)))     +      (B*EXP(-bêta*(BK$15-$H69)))    +   (_C*EXP(-gamma*(BK$15-$H69 )))      )","v":0},{"$f":"  $G69/[0]!Poids      *      (     (A*EXP(-alpha*(BL$15-$H69)))     +      (B*EXP(-bêta*(BL$15-$H69)))    +   (_C*EXP(-gamma*(BL$15-$H69 )))      )","v":0},{"$f":"  $G69/[0]!Poids      *      (     (A*EXP(-alpha*(BM$15-$H69)))     +      (B*EXP(-bêta*(BM$15-$H69)))    +   (_C*EXP(-gamma*(BM$15-$H69 )))      )","v":0},{"$f":"  $G69/[0]!Poids      *      (     (A*EXP(-alpha*(BN$15-$H69)))     +      (B*EXP(-bêta*(BN$15-$H69)))    +   (_C*EXP(-gamma*(BN$15-$H69 )))      )","v":0},{"$f":"  $G69/[0]!Poids      *      (     (A*EXP(-alpha*(BO$15-$H69)))     +      (B*EXP(-bêta*(BO$15-$H69)))    +   (_C*EXP(-gamma*(BO$15-$H69 )))      )","v":0},{"$f":"  $G69/[0]!Poids      *      (     (A*EXP(-alpha*(BP$15-$H69)))     +      (B*EXP(-bêta*(BP$15-$H69)))    +   (_C*EXP(-gamma*(BP$15-$H69 )))      )","v":0},{"$f":"  $G69/[0]!Poids      *      (     (A*EXP(-alpha*(BQ$15-$H69)))     +      (B*EXP(-bêta*(BQ$15-$H69)))    +   (_C*EXP(-gamma*(BQ$15-$H69 )))      )","v":0},{"$f":"  $G69/[0]!Poids      *      (     (A*EXP(-alpha*(BR$15-$H69)))     +      (B*EXP(-bêta*(BR$15-$H69)))    +   (_C*EXP(-gamma*(BR$15-$H69 )))      )","v":0}]
[null,null,null,null,null,null,{"$f":"BL$10","v":0},270,null,null,null,null,null,null,null,null,null,null,null,null,null,null,null,null,null,null,null,null,null,null,null,null,null,null,null,null,null,null,null,null,null,null,null,null,null,null,null,null,null,null,null,null,null,null,null,null,null,null,null,null,null,null,null,{"$f":"  $G70/[0]!Poids      *      (     (A*EXP(-alpha*(BL$15-$H70)))     +      (B*EXP(-bêta*(BL$15-$H70)))    +   (_C*EXP(-gamma*(BL$15-$H70 )))      )","v":0},{"$f":"  $G70/[0]!Poids      *      (     (A*EXP(-alpha*(BM$15-$H70)))     +      (B*EXP(-bêta*(BM$15-$H70)))    +   (_C*EXP(-gamma*(BM$15-$H70 )))      )","v":0},{"$f":"  $G70/[0]!Poids      *      (     (A*EXP(-alpha*(BN$15-$H70)))     +      (B*EXP(-bêta*(BN$15-$H70)))    +   (_C*EXP(-gamma*(BN$15-$H70 )))      )","v":0},{"$f":"  $G70/[0]!Poids      *      (     (A*EXP(-alpha*(BO$15-$H70)))     +      (B*EXP(-bêta*(BO$15-$H70)))    +   (_C*EXP(-gamma*(BO$15-$H70 )))      )","v":0},{"$f":"  $G70/[0]!Poids      *      (     (A*EXP(-alpha*(BP$15-$H70)))     +      (B*EXP(-bêta*(BP$15-$H70)))    +   (_C*EXP(-gamma*(BP$15-$H70 )))      )","v":0},{"$f":"  $G70/[0]!Poids      *      (     (A*EXP(-alpha*(BQ$15-$H70)))     +      (B*EXP(-bêta*(BQ$15-$H70)))    +   (_C*EXP(-gamma*(BQ$15-$H70 )))      )","v":0},{"$f":"  $G70/[0]!Poids      *      (     (A*EXP(-alpha*(BR$15-$H70)))     +      (B*EXP(-bêta*(BR$15-$H70)))    +   (_C*EXP(-gamma*(BR$15-$H70 )))      )","v":0}]
[null,null,null,null,null,null,{"$f":"BM$10","v":0},275,null,null,null,null,null,null,null,null,null,null,null,null,null,null,null,null,null,null,null,null,null,null,null,null,null,null,null,null,null,null,null,null,null,null,null,null,null,null,null,null,null,null,null,null,null,null,null,null,null,null,null,null,null,null,null,null,{"$f":"  $G71/[0]!Poids      *      (     (A*EXP(-alpha*(BM$15-$H71)))     +      (B*EXP(-bêta*(BM$15-$H71)))    +   (_C*EXP(-gamma*(BM$15-$H71 )))      )","v":0},{"$f":"  $G71/[0]!Poids      *      (     (A*EXP(-alpha*(BN$15-$H71)))     +      (B*EXP(-bêta*(BN$15-$H71)))    +   (_C*EXP(-gamma*(BN$15-$H71 )))      )","v":0},{"$f":"  $G71/[0]!Poids      *      (     (A*EXP(-alpha*(BO$15-$H71)))     +      (B*EXP(-bêta*(BO$15-$H71)))    +   (_C*EXP(-gamma*(BO$15-$H71 )))      )","v":0},{"$f":"  $G71/[0]!Poids      *      (     (A*EXP(-alpha*(BP$15-$H71)))     +      (B*EXP(-bêta*(BP$15-$H71)))    +   (_C*EXP(-gamma*(BP$15-$H71 )))      )","v":0},{"$f":"  $G71/[0]!Poids      *      (     (A*EXP(-alpha*(BQ$15-$H71)))     +      (B*EXP(-bêta*(BQ$15-$H71)))    +   (_C*EXP(-gamma*(BQ$15-$H71 )))      )","v":0},{"$f":"  $G71/[0]!Poids      *      (     (A*EXP(-alpha*(BR$15-$H71)))     +      (B*EXP(-bêta*(BR$15-$H71)))    +   (_C*EXP(-gamma*(BR$15-$H71 )))      )","v":0}]
[null,null,null,null,null,null,{"$f":"BN$10","v":0},280,null,null,null,null,null,null,null,null,null,null,null,null,null,null,null,null,null,null,null,null,null,null,null,null,null,null,null,null,null,null,null,null,null,null,null,null,null,null,null,null,null,null,null,null,null,null,null,null,null,null,null,null,null,null,null,null,null,{"$f":"  $G72/[0]!Poids      *      (     (A*EXP(-alpha*(BN$15-$H72)))     +      (B*EXP(-bêta*(BN$15-$H72)))    +   (_C*EXP(-gamma*(BN$15-$H72 )))      )","v":0},{"$f":"  $G72/[0]!Poids      *      (     (A*EXP(-alpha*(BO$15-$H72)))     +      (B*EXP(-bêta*(BO$15-$H72)))    +   (_C*EXP(-gamma*(BO$15-$H72 )))      )","v":0},{"$f":"  $G72/[0]!Poids      *      (     (A*EXP(-alpha*(BP$15-$H72)))     +      (B*EXP(-bêta*(BP$15-$H72)))    +   (_C*EXP(-gamma*(BP$15-$H72 )))      )","v":0},{"$f":"  $G72/[0]!Poids      *      (     (A*EXP(-alpha*(BQ$15-$H72)))     +      (B*EXP(-bêta*(BQ$15-$H72)))    +   (_C*EXP(-gamma*(BQ$15-$H72 )))      )","v":0},{"$f":"  $G72/[0]!Poids      *      (     (A*EXP(-alpha*(BR$15-$H72)))     +      (B*EXP(-bêta*(BR$15-$H72)))    +   (_C*EXP(-gamma*(BR$15-$H72 )))      )","v":0}]
[null,null,null,null,null,null,{"$f":"BO$10","v":0},285,null,null,null,null,null,null,null,null,null,null,null,null,null,null,null,null,null,null,null,null,null,null,null,null,null,null,null,null,null,null,null,null,null,null,null,null,null,null,null,null,null,null,null,null,null,null,null,null,null,null,null,null,null,null,null,null,null,null,{"$f":"  $G73/[0]!Poids      *      (     (A*EXP(-alpha*(BO$15-$H73)))     +      (B*EXP(-bêta*(BO$15-$H73)))    +   (_C*EXP(-gamma*(BO$15-$H73 )))      )","v":0},{"$f":"  $G73/[0]!Poids      *      (     (A*EXP(-alpha*(BP$15-$H73)))     +      (B*EXP(-bêta*(BP$15-$H73)))    +   (_C*EXP(-gamma*(BP$15-$H73 )))      )","v":0},{"$f":"  $G73/[0]!Poids      *      (     (A*EXP(-alpha*(BQ$15-$H73)))     +      (B*EXP(-bêta*(BQ$15-$H73)))    +   (_C*EXP(-gamma*(BQ$15-$H73 )))      )","v":0},{"$f":"  $G73/[0]!Poids      *      (     (A*EXP(-alpha*(BR$15-$H73)))     +      (B*EXP(-bêta*(BR$15-$H73)))    +   (_C*EXP(-gamma*(BR$15-$H73 )))      )","v":0}]
[null,null,null,null,null,null,{"$f":"BP$10","v":0},290,null,null,null,null,null,null,null,null,null,null,null,null,null,null,null,null,null,null,null,null,null,null,null,null,null,null,null,null,null,null,null,null,null,null,null,null,null,null,null,null,null,null,null,null,null,null,null,null,null,null,null,null,null,null,null,null,null,null,null,{"$f":"  $G74/[0]!Poids      *      (     (A*EXP(-alpha*(BP$15-$H74)))     +      (B*EXP(-bêta*(BP$15-$H74)))    +   (_C*EXP(-gamma*(BP$15-$H74 )))      )","v":0},{"$f":"  $G74/[0]!Poids      *      (     (A*EXP(-alpha*(BQ$15-$H74)))     +      (B*EXP(-bêta*(BQ$15-$H74)))    +   (_C*EXP(-gamma*(BQ$15-$H74 )))      )","v":0},{"$f":"  $G74/[0]!Poids      *      (     (A*EXP(-alpha*(BR$15-$H74)))     +      (B*EXP(-bêta*(BR$15-$H74)))    +   (_C*EXP(-gamma*(BR$15-$H74 )))      )","v":0}]
[null,null,null,null,null,null,{"$f":"BQ$10","v":0},295,null,null,null,null,null,null,null,null,null,null,null,null,null,null,null,null,null,null,null,null,null,null,null,null,null,null,null,null,null,null,null,null,null,null,null,null,null,null,null,null,null,null,null,null,null,null,null,null,null,null,null,null,null,null,null,null,null,null,null,null,{"$f":"  $G75/[0]!Poids      *      (     (A*EXP(-alpha*(BQ$15-$H75)))     +      (B*EXP(-bêta*(BQ$15-$H75)))    +   (_C*EXP(-gamma*(BQ$15-$H75 )))      )","v":0},{"$f":"  $G75/[0]!Poids      *      (     (A*EXP(-alpha*(BR$15-$H75)))     +      (B*EXP(-bêta*(BR$15-$H75)))    +   (_C*EXP(-gamma*(BR$15-$H75 )))      )","v":0}]
[null,null,null,null,null,null,{"$f":"BR$10","v":0},300,null,null,null,null,null,null,null,null,null,null,null,null,null,null,null,null,null,null,null,null,null,null,null,null,null,null,null,null,null,null,null,null,null,null,null,null,null,null,null,null,null,null,null,null,null,null,null,null,null,null,null,null,null,null,null,null,null,null,null,null,null,{"$f":"  $G76/[0]!Poids      *      (     (A*EXP(-alpha*(BR$15-$H76)))     +      (B*EXP(-bêta*(BR$15-$H76)))    +   (_C*EXP(-gamma*(BR$15-$H76 )))      )","v":0}]
[]
[null,null,null,null,null,null,null,"time",null,{"$f":"J15","v":0},{"$f":"K15","v":5},10,15,20,25,30,35,40,45,50,55,60,65,70,75,80,85,90,95,100,105,110,115,120,125,130,135,140,145,150,155,160,165,170,175,180,185,190,195,200,205,210,215,220,225,230,235,240,245,250,255,260,265,270,275,280,285,290,295,300]
[null,null,null,null,null,null,null,"C (t)",null,{"$f":"SUM(J16:J76)","v":0},{"$f":"SUM(K16:K75)","v":0},0,0,0,0,0,0,0,0,0,0,0,0,0,0,0,0,0,0,0,0,0,0,0,0,0,0,0,0,{"$f":"SUM(AN16:AN75)","v":0},{"$f":"SUM(AO16:AO75)","v":0},0,0,0,0,0,0,0,0,0,0,0,0,0,0,0,0,0,0,0,0,0,0,0,0,0,0,0,{"$f":"SUM(BQ16:BQ75)","v":0},{"$f":"SUM(BR16:BR77)","v":0}]

{"sheet":"CLEMENTS","index":7,"n_rows":79,"n_cols":70,"rows_kept":79,"cut":false,"hidden":true,"merged":[[30,1,30,4],[5,6,5,8],[6,6,6,8],[7,6,7,8]]}
[]
[]
[]
[null," C(t) = q/OFA!Poids      *    [     (A*EXP(-alpha*(E$9-$F2))      +      B*EXP(-bêta*(E$9-$F2))      +     C*EXP(-gamma*(E$9-$F2 ))     ] "]
[]
[null,null,null,null,null,null,"Bolus",null,null,{"$f":"KPTiva!I31","v":0},{"$f":"KPTiva!J31","v":0},{"$f":"KPTiva!K31","v":0},{"$f":"KPTiva!L31","v":0},{"$f":"KPTiva!M31","v":0},{"$f":"KPTiva!N31","v":0},{"$f":"KPTiva!O31","v":0},{"$f":"KPTiva!P31","v":0},{"$f":"KPTiva!Q31","v":0},{"$f":"KPTiva!R31","v":0},{"$f":"KPTiva!S31","v":0},{"$f":"KPTiva!T31","v":0},{"$f":"KPTiva!U31","v":0},{"$f":"KPTiva!V31","v":0},{"$f":"KPTiva!W31","v":0},{"$f":"KPTiva!X31","v":0},{"$f":"KPTiva!Y31","v":0},{"$f":"KPTiva!Z31","v":0},{"$f":"KPTiva!AA31","v":0},{"$f":"KPTiva!AB31","v":0},{"$f":"KPTiva!AC31","v":0},{"$f":"KPTiva!AD31","v":0},{"$f":"KPTiva!AE31","v":0},{"$f":"KPTiva!AF31","v":0},{"$f":"KPTiva!AG31","v":0},{"$f":"KPTiva!AH31","v":0},{"$f":"KPTiva!AI31","v":0},{"$f":"KPTiva!AJ31","v":0},{"$f":"KPTiva!AK31","v":0},{"$f":"KPTiva!AL31","v":0},{"$f":"KPTiva!AM31","v":0},{"$f":"KPTiva!AN31","v":0},{"$f":"KPTiva!AO31","v":0},{"$f":"KPTiva!AP31","v":0},{"$f":"KPTiva!AQ31","v":0},{"$f":"KPTiva!AR31","v":0},{"$f":"KPTiva!AS31","v":0},{"$f":"KPTiva!AT31","v":0},{"$f":"KPTiva!AU31","v":0},{"$f":"KPTiva!AV31","v":0},{"$f":"KPTiva!AW31","v":0},{"$f":"KPTiva!AX31","v":0},{"$f":"KPTiva!AY31","v":0},{"$f":"KPTiva!AZ31","v":0},{"$f":"KPTiva!BA31","v":0},{"$f":"KPTiva!BB31","v":0},{"$f":"KPTiva!BC31","v":0},{"$f":"KPTiva!BD31","v":0},{"$f":"KPTiva!BE31","v":0},{"$f":"KPTiva!BF31","v":0},{"$f":"KPTiva!BG31","v":0},{"$f":"KPTiva!BH31","v":0},{"$f":"KPTiva!BI31","v":0},{"$f":"KPTiva!BJ31","v":0},{"$f":"KPTiva!BK31","v":0},{"$f":"KPTiva!BL31","v":0},{"$f":"KPTiva!BM31","v":0},{"$f":"KPTiva!BN31","v":0},{"$f":"KPTiva!BO31","v":0},{"$f":"KPTiva!BP31","v":0},{"$f":"KPTiva!BQ31","v":0}]
[null,null,null,null,null,null,"mg/kg/h",null,null,{"$f":"KPTiva!I33*Poids/12","v":0},{"$f":"KPTiva!J33*Poids/12","v":0},{"$f":"KPTiva!K33*Poids/12","v":0},{"$f":"KPTiva!L33*Poids/12","v":0},{"$f":"KPTiva!M33*Poids/12","v":0},{"$f":"KPTiva!N33*Poids/12","v":0},{"$f":"KPTiva!O33*Poids/12","v":0},{"$f":"KPTiva!P33*Poids/12","v":0},{"$f":"KPTiva!Q33*Poids/12","v":0},{"$f":"KPTiva!R33*Poids/12","v":0},{"$f":"KPTiva!S33*Poids/12","v":0},{"$f":"KPTiva!T33*Poids/12","v":0},{"$f":"KPTiva!U33*Poids/12","v":0},{"$f":"KPTiva!V33*Poids/12","v":0},{"$f":"KPTiva!W33*Poids/12","v":0},{"$f":"KPTiva!X33*Poids/12","v":0},{"$f":"KPTiva!Y33*Poids/12","v":0},{"$f":"KPTiva!Z33*Poids/12","v":0},{"$f":"KPTiva!AA33*Poids/12","v":0},{"$f":"KPTiva!AB33*Poids/12","v":0},{"$f":"KPTiva!AC33*Poids/12","v":0},{"$f":"KPTiva!AD33*Poids/12","v":0},{"$f":"KPTiva!AE33*Poids/12","v":0},{"$f":"KPTiva!AF33*Poids/12","v":0},{"$f":"KPTiva!AG33*Poids/12","v":0},{"$f":"KPTiva!AH33*Poids/12","v":0},{"$f":"KPTiva!AI33*Poids/12","v":0},{"$f":"KPTiva!AJ33*Poids/12","v":0},{"$f":"KPTiva!AK33*Poids/12","v":0},{"$f":"KPTiva!AL33*Poids/12","v":0},{"$f":"KPTiva!AM33*Poids/12","v":0},{"$f":"KPTiva!AN33*Poids/12","v":0},{"$f":"KPTiva!AO33*Poids/12","v":0},{"$f":"KPTiva!AP33*Poids/12","v":0},{"$f":"KPTiva!AQ33*Poids/12","v":0},{"$f":"KPTiva!AR33*Poids/12","v":0},{"$f":"KPTiva!AS33*Poids/12","v":0},{"$f":"KPTiva!AT33*Poids/12","v":0},{"$f":"KPTiva!AU33*Poids/12","v":0},{"$f":"KPTiva!AV33*Poids/12","v":0},{"$f":"KPTiva!AW33*Poids/12","v":0},{"$f":"KPTiva!AX33*Poids/12","v":0},{"$f":"KPTiva!AY33*Poids/12","v":0},{"$f":"KPTiva!AZ33*Poids/12","v":0},{"$f":"KPTiva!BA33*Poids/12","v":0},{"$f":"KPTiva!BB33*Poids/12","v":0},{"$f":"KPTiva!BC33*Poids/12","v":0},{"$f":"KPTiva!BD33*Poids/12","v":0},{"$f":"KPTiva!BE33*Poids/12","v":0},{"$f":"KPTiva!BF33*Poids/12","v":0},{"$f":"KPTiva!BG33*Poids/12","v":0},{"$f":"KPTiva!BH33*Poids/12","v":0},{"$f":"KPTiva!BI33*Poids/12","v":0},{"$f":"KPTiva!BJ33*Poids/12","v":0},{"$f":"KPTiva!BK33*Poids/12","v":0},{"$f":"KPTiva!BL33*Poids/12","v":0},{"$f":"KPTiva!BM33*Poids/12","v":0},{"$f":"KPTiva!BN33*Poids/12","v":0},{"$f":"KPTiva!BO33*Poids/12","v":0},{"$f":"KPTiva!BP33*Poids/12","v":0},{"$f":"KPTiva!BQ33*Poids/12","v":0}]
[null,null,null,null,null,null,"µg/kg/min",null,null,{"$f":"(KPTiva!I34*Poids)/200","v":0},{"$f":"(KPTiva!J34*Poids)/200","v":0},{"$f":"(KPTiva!K34*Poids)/200","v":0},{"$f":"(KPTiva!L34*Poids)/200","v":0},{"$f":"(KPTiva!M34*Poids)/200","v":0},{"$f":"(KPTiva!N34*Poids)/200","v":0},{"$f":"(KPTiva!O34*Poids)/200","v":0},{"$f":"(KPTiva!P34*Poids)/200","v":0},{"$f":"(KPTiva!Q34*Poids)/200","v":0},{"$f":"(KPTiva!R34*Poids)/200","v":0},{"$f":"(KPTiva!S34*Poids)/200","v":0},{"$f":"(KPTiva!T34*Poids)/200","v":0},{"$f":"(KPTiva!U34*Poids)/200","v":0},{"$f":"(KPTiva!V34*Poids)/200","v":0},{"$f":"(KPTiva!W34*Poids)/200","v":0},{"$f":"(KPTiva!X34*Poids)/200","v":0},{"$f":"(KPTiva!Y34*Poids)/200","v":0},{"$f":"(KPTiva!Z34*Poids)/200","v":0},{"$f":"(KPTiva!AA34*Poids)/200","v":0},{"$f":"(KPTiva!AB34*Poids)/200","v":0},{"$f":"(KPTiva!AC34*Poids)/200","v":0},{"$f":"(KPTiva!AD34*Poids)/200","v":0},{"$f":"(KPTiva!AE34*Poids)/200","v":0},{"$f":"(KPTiva!AF34*Poids)/200","v":0},{"$f":"(KPTiva!AG34*Poids)/200","v":0},{"$f":"(KPTiva!AH34*Poids)/200","v":0},{"$f":"(KPTiva!AI34*Poids)/200","v":0},{"$f":"(KPTiva!AJ34*Poids)/200","v":0},{"$f":"(KPTiva!AK34*Poids)/200","v":0},{"$f":"(KPTiva!AL34*Poids)/200","v":0},{"$f":"(KPTiva!AM34*Poids)/200","v":0},{"$f":"(KPTiva!AN34*Poids)/200","v":0},{"$f":"(KPTiva!AO34*Poids)/200","v":0},{"$f":"(KPTiva!AP34*Poids)/200","v":0},{"$f":"(KPTiva!AQ34*Poids)/200","v":0},{"$f":"(KPTiva!AR34*Poids)/200","v":0},{"$f":"(KPTiva!AS34*Poids)/200","v":0},{"$f":"(KPTiva!AT34*Poids)/200","v":0},{"$f":"(KPTiva!AU34*Poids)/200","v":0},{"$f":"(KPTiva!AV34*Poids)/200","v":0},{"$f":"(KPTiva!AW34*Poids)/200","v":0},{"$f":"(KPTiva!AX34*Poids)/200","v":0},{"$f":"(KPTiva!AY34*Poids)/200","v":0},{"$f":"(KPTiva!AZ34*Poids)/200","v":0},{"$f":"(KPTiva!BA34*Poids)/200","v":0},{"$f":"(KPTiva!BB34*Poids)/200","v":0},{"$f":"(KPTiva!BC34*Poids)/200","v":0},{"$f":"(KPTiva!BD34*Poids)/200","v":0},{"$f":"(KPTiva!BE34*Poids)/200","v":0},{"$f":"(KPTiva!BF34*Poids)/200","v":0},{"$f":"(KPTiva!BG34*Poids)/200","v":0},{"$f":"(KPTiva!BH34*Poids)/200","v":0},{"$f":"(KPTiva!BI34*Poids)/200","v":0},{"$f":"(KPTiva!BJ34*Poids)/200","v":0},{"$f":"(KPTiva!BK34*Poids)/200","v":0},{"$f":"(KPTiva!BL34*Poids)/200","v":0},{"$f":"(KPTiva!BM34*Poids)/200","v":0},{"$f":"(KPTiva!BN34*Poids)/200","v":0},{"$f":"(KPTiva!BO34*Poids)/200","v":0},{"$f":"(KPTiva!BP34*Poids)/200","v":0},{"$f":"(KPTiva!BQ34*Poids)/200","v":0}]
[]
[null,null,null,null,null,null,"total mg",null,"zéro",{"$f":"SUM(J6:J8)","v":0},{"$f":"SUM(K6:K8)","v":0},0,0,0,0,0,0,0,0,0,0,0,0,0,0,0,0,0,0,0,0,0,0,0,0,0,0,0,0,0,0,0,0,0,0,0,0,0,0,0,0,0,0,0,0,0,0,0,0,0,0,0,0,0,0,0,0,0,0,0]
[]
[]
[]
[null,null,null,null,null,null,"q (t)",null,null,{"$f":"J$10","v":0},0,0,0,0,0,0,0,0,0,0,0,0,0,0,0,0,0,0,0,0,0,0,0,0,0,0,0,0,0,0,0,0,0,0,0,0,0,0,0,0,0,0,0,0,0,0,0,0,0,0,0,0,0,0,0,0,0,0,0,{"$f":"BR$10","v":0}]
[null,null,null,null,null,null,null,null,null,0,5,10,15,20,25,30,35,40,45,50,55,60,65,70,75,80,85,90,95,100,105,110,115,120,125,130,135,140,145,150,155,160,165,170,175,180,185,190,195,200,205,210,215,220,225,230,235,240,245,250,255,260,265,270,275,280,285,290,295,300]
[null,null,null,null,null,null,{"$f":"J$10","v":0},0,null,{"$f":"  $G16/[0]!Poids      *      (     (A*EXP(-alpha*(J$15-$H16)))     +      (B*EXP(-bêta*(J$15-$H16)))    +   (_C*EXP(-gamma*(J$15-$H16 )))      )","v":0},{"$f":"  $G16/[0]!Poids      *      (     (A*EXP(-alpha*(K$15-$H16)))     +      (B*EXP(-bêta*(K$15-$H16)))    +   (_C*EXP(-gamma*(K$15-$H16 )))      )","v":0},{"$f":"  $G16/[0]!Poids      *      (     (A*EXP(-alpha*(L$15-$H16)))     +      (B*EXP(-bêta*(L$15-$H16)))    +   (_C*EXP(-gamma*(L$15-$H16 )))      )","v":0},{"$f":"  $G16/[0]!Poids      *      (     (A*EXP(-alpha*(M$15-$H16)))     +      (B*EXP(-bêta*(M$15-$H16)))    +   (_C*EXP(-gamma*(M$15-$H16 )))      )","v":0},{"$f":"  $G16/[0]!Poids      *      (     (A*EXP(-alpha*(N$15-$H16)))     +      (B*EXP(-bêta*(N$15-$H16)))    +   (_C*EXP(-gamma*(N$15-$H16 )))      )","v":0},{"$f":"  $G16/[0]!Poids      *      (     (A*EXP(-alpha*(O$15-$H16)))     +      (B*EXP(-bêta*(O$15-$H16)))    +   (_C*EXP(-gamma*(O$15-$H16 )))      )","v":0},{"$f":"  $G16/[0]!Poids      *      (     (A*EXP(-alpha*(P$15-$H16)))     +      (B*EXP(-bêta*(P$15-$H16)))    +   (_C*EXP(-gamma*(P$15-$H16 )))      )","v":0},{"$f":"  $G16/[0]!Poids      *      (     (A*EXP(-alpha*(Q$15-$H16)))     +      (B*EXP(-bêta*(Q$15-$H16)))    +   (_C*EXP(-gamma*(Q$15-$H16 )))      )","v":0},{"$f":"  $G16/[0]!Poids      *      (     (A*EXP(-alpha*(R$15-$H16)))     +      (B*EXP(-bêta*(R$15-$H16)))    +   (_C*EXP(-gamma*(R$15-$H16 )))      )","v":0},{"$f":"  $G16/[0]!Poids      *      (     (A*EXP(-alpha*(S$15-$H16)))     +      (B*EXP(-bêta*(S$15-$H16)))    +   (_C*EXP(-gamma*(S$15-$H16 )))      )","v":0},{"$f":"  $G16/[0]!Poids      *      (     (A*EXP(-alpha*(T$15-$H16)))     +      (B*EXP(-bêta*(T$15-$H16)))    +   (_C*EXP(-gamma*(T$15-$H16 )))      )","v":0},{"$f":"  $G16/[0]!Poids      *      (     (A*EXP(-alpha*(U$15-$H16)))     +      (B*EXP(-bêta*(U$15-$H16)))    +   (_C*EXP(-gamma*(U$15-$H16 )))      )","v":0},{"$f":"  $G16/[0]!Poids      *      (     (A*EXP(-alpha*(V$15-$H16)))     +      (B*EXP(-bêta*(V$15-$H16)))    +   (_C*EXP(-gamma*(V$15-$H16 )))      )","v":0},{"$f":"  $G16/[0]!Poids      *      (     (A*EXP(-alpha*(W$15-$H16)))     +      (B*EXP(-bêta*(W$15-$H16)))    +   (_C*EXP(-gamma*(W$15-$H16 )))      )","v":0},{"$f":"  $G16/[0]!Poids      *      (     (A*EXP(-alpha*(X$15-$H16)))     +      (B*EXP(-bêta*(X$15-$H16)))    +   (_C*EXP(-gamma*(X$15-$H16 )))      )","v":0},{"$f":"  $G16/[0]!Poids      *      (     (A*EXP(-alpha*(Y$15-$H16)))     +      (B*EXP(-bêta*(Y$15-$H16)))    +   (_C*EXP(-gamma*(Y$15-$H16 )))      )","v":0},{"$f":"  $G16/[0]!Poids      *      (     (A*EXP(-alpha*(Z$15-$H16)))     +      (B*EXP(-bêta*(Z$15-$H16)))    +   (_C*EXP(-gamma*(Z$15-$H16 )))      )","v":0},{"$f":"  $G16/[0]!Poids      *      (     (A*EXP(-alpha*(AA$15-$H16)))     +      (B*EXP(-bêta*(AA$15-$H16)))    +   (_C*EXP(-gamma*(AA$15-$H16 )))      )","v":0},{"$f":"  $G16/[0]!Poids      *      (     (A*EXP(-alpha*(AB$15-$H16)))     +      (B*EXP(-bêta*(AB$15-$H16)))    +   (_C*EXP(-gamma*(AB$15-$H16 )))      )","v":0},{"$f":"  $G16/[0]!Poids      *      (     (A*EXP(-alpha*(AC$15-$H16)))     +      (B*EXP(-bêta*(AC$15-$H16)))    +   (_C*EXP(-gamma*(AC$15-$H16 )))      )","v":0},{"$f":"  $G16/[0]!Poids      *      (     (A*EXP(-alpha*(AD$15-$H16)))     +      (B*EXP(-bêta*(AD$15-$H16)))    +   (_C*EXP(-gamma*(AD$15-$H16 )))      )","v":0},{"$f":"  $G16/[0]!Poids      *      (     (A*EXP(-alpha*(AE$15-$H16)))     +      (B*EXP(-bêta*(AE$15-$H16)))    +   (_C*EXP(-gamma*(AE$15-$H16 )))      )","v":0},{"$f":"  $G16/[0]!Poids      *      (     (A*EXP(-alpha*(AF$15-$H16)))     +      (B*EXP(-bêta*(AF$15-$H16)))    +   (_C*EXP(-gamma*(AF$15-$H16 )))      )","v":0},{"$f":"  $G16/[0]!Poids      *      (     (A*EXP(-alpha*(AG$15-$H16)))     +      (B*EXP(-bêta*(AG$15-$H16)))    +   (_C*EXP(-gamma*(AG$15-$H16 )))      )","v":0},{"$f":"  $G16/[0]!Poids      *      (     (A*EXP(-alpha*(AH$15-$H16)))     +      (B*EXP(-bêta*(AH$15-$H16)))    +   (_C*EXP(-gamma*(AH$15-$H16 )))      )","v":0},{"$f":"  $G16/[0]!Poids      *      (     (A*EXP(-alpha*(AI$15-$H16)))     +      (B*EXP(-bêta*(AI$15-$H16)))    +   (_C*EXP(-gamma*(AI$15-$H16 )))      )","v":0},{"$f":"  $G16/[0]!Poids      *      (     (A*EXP(-alpha*(AJ$15-$H16)))     +      (B*EXP(-bêta*(AJ$15-$H16)))    +   (_C*EXP(-gamma*(AJ$15-$H16 )))      )","v":0},{"$f":"  $G16/[0]!Poids      *      (     (A*EXP(-alpha*(AK$15-$H16)))     +      (B*EXP(-bêta*(AK$15-$H16)))    +   (_C*EXP(-gamma*(AK$15-$H16 )))      )","v":0},{"$f":"  $G16/[0]!Poids      *      (     (A*EXP(-alpha*(AL$15-$H16)))     +      (B*EXP(-bêta*(AL$15-$H16)))    +   (_C*EXP(-gamma*(AL$15-$H16 )))      )","v":0},{"$f":"  $G16/[0]!Poids      *      (     (A*EXP(-alpha*(AM$15-$H16)))     +      (B*EXP(-bêta*(AM$15-$H16)))    +   (_C*EXP(-gamma*(AM$15-$H16 )))      )","v":0},{"$f":"  $G16/[0]!Poids      *      (     (A*EXP(-alpha*(AN$15-$H16)))     +      (B*EXP(-bêta*(AN$15-$H16)))    +   (_C*EXP(-gamma*(AN$15-$H16 )))      )","v":0},{"$f":"  $G16/[0]!Poids      *      (     (A*EXP(-alpha*(AO$15-$H16)))     +      (B*EXP(-bêta*(AO$15-$H16)))    +   (_C*EXP(-gamma*(AO$15-$H16 )))      )","v":0},{"$f":"  $G16/[0]!Poids      *      (     (A*EXP(-alpha*(AP$15-$H16)))     +      (B*EXP(-bêta*(AP$15-$H16)))    +   (_C*EXP(-gamma*(AP$15-$H16 )))      )","v":0},{"$f":"  $G16/[0]!Poids      *      (     (A*EXP(-alpha*(AQ$15-$H16)))     +      (B*EXP(-bêta*(AQ$15-$H16)))    +   (_C*EXP(-gamma*(AQ$15-$H16 )))      )","v":0},{"$f":"  $G16/[0]!Poids      *      (     (A*EXP(-alpha*(AR$15-$H16)))     +      (B*EXP(-bêta*(AR$15-$H16)))    +   (_C*EXP(-gamma*(AR$15-$H16 )))      )","v":0},{"$f":"  $G16/[0]!Poids      *      (     (A*EXP(-alpha*(AS$15-$H16)))     +      (B*EXP(-bêta*(AS$15-$H16)))    +   (_C*EXP(-gamma*(AS$15-$H16 )))      )","v":0},{"$f":"  $G16/[0]!Poids      *      (     (A*EXP(-alpha*(AT$15-$H16)))     +      (B*EXP(-bêta*(AT$15-$H16)))    +   (_C*EXP(-gamma*(AT$15-$H16 )))      )","v":0},{"$f":"  $G16/[0]!Poids      *      (     (A*EXP(-alpha*(AU$15-$H16)))     +      (B*EXP(-bêta*(AU$15-$H16)))    +   (_C*EXP(-gamma*(AU$15-$H16 )))      )","v":0},{"$f":"  $G16/[0]!Poids      *      (     (A*EXP(-alpha*(AV$15-$H16)))     +      (B*EXP(-bêta*(AV$15-$H16)))    +   (_C*EXP(-gamma*(AV$15-$H16 )))      )","v":0},{"$f":"  $G16/[0]!Poids      *      (     (A*EXP(-alpha*(AW$15-$H16)))     +      (B*EXP(-bêta*(AW$15-$H16)))    +   (_C*EXP(-gamma*(AW$15-$H16 )))      )","v":0},{"$f":"  $G16/[0]!Poids      *      (     (A*EXP(-alpha*(AX$15-$H16)))     +      (B*EXP(-bêta*(AX$15-$H16)))    +   (_C*EXP(-gamma*(AX$15-$H16 )))      )","v":0},{"$f":"  $G16/[0]!Poids      *      (     (A*EXP(-alpha*(AY$15-$H16)))     +      (B*EXP(-bêta*(AY$15-$H16)))    +   (_C*EXP(-gamma*(AY$15-$H16 )))      )","v":0},{"$f":"  $G16/[0]!Poids      *      (     (A*EXP(-alpha*(AZ$15-$H16)))     +      (B*EXP(-bêta*(AZ$15-$H16)))    +   (_C*EXP(-gamma*(AZ$15-$H16 )))      )","v":0},{"$f":"  $G16/[0]!Poids      *      (     (A*EXP(-alpha*(BA$15-$H16)))     +      (B*EXP(-bêta*(BA$15-$H16)))    +   (_C*EXP(-gamma*(BA$15-$H16 )))      )","v":0},{"$f":"  $G16/[0]!Poids      *      (     (A*EXP(-alpha*(BB$15-$H16)))     +      (B*EXP(-bêta*(BB$15-$H16)))    +   (_C*EXP(-gamma*(BB$15-$H16 )))      )","v":0},{"$f":"  $G16/[0]!Poids      *      (     (A*EXP(-alpha*(BC$15-$H16)))     +      (B*EXP(-bêta*(BC$15-$H16)))    +   (_C*EXP(-gamma*(BC$15-$H16 )))      )","v":0},{"$f":"  $G16/[0]!Poids      *      (     (A*EXP(-alpha*(BD$15-$H16)))     +      (B*EXP(-bêta*(BD$15-$H16)))    +   (_C*EXP(-gamma*(BD$15-$H16 )))      )","v":0},{"$f":"  $G16/[0]!Poids      *      (     (A*EXP(-alpha*(BE$15-$H16)))     +      (B*EXP(-bêta*(BE$15-$H16)))    +   (_C*EXP(-gamma*(BE$15-$H16 )))      )","v":0},{"$f":"  $G16/[0]!Poids      *      (     (A*EXP(-alpha*(BF$15-$H16)))     +      (B*EXP(-bêta*(BF$15-$H16)))    +   (_C*EXP(-gamma*(BF$15-$H16 )))      )","v":0},{"$f":"  $G16/[0]!Poids      *      (     (A*EXP(-alpha*(BG$15-$H16)))     +      (B*EXP(-bêta*(BG$15-$H16)))    +   (_C*EXP(-gamma*(BG$15-$H16 )))      )","v":0},{"$f":"  $G16/[0]!Poids      *      (     (A*EXP(-alpha*(BH$15-$H16)))     +      (B*EXP(-bêta*(BH$15-$H16)))    +   (_C*EXP(-gamma*(BH$15-$H16 )))      )","v":0},{"$f":"  $G16/[0]!Poids      *      (     (A*EXP(-alpha*(BI$15-$H16)))     +      (B*EXP(-bêta*(BI$15-$H16)))    +   (_C*EXP(-gamma*(BI$15-$H16 )))      )","v":0},{"$f":"  $G16/[0]!Poids      *      (     (A*EXP(-alpha*(BJ$15-$H16)))     +      (B*EXP(-bêta*(BJ$15-$H16)))    +   (_C*EXP(-gamma*(BJ$15-$H16 )))      )","v":0},{"$f":"  $G16/[0]!Poids      *      (     (A*EXP(-alpha*(BK$15-$H16)))     +      (B*EXP(-bêta*(BK$15-$H16)))    +   (_C*EXP(-gamma*(BK$15-$H16 )))      )","v":0},{"$f":"  $G16/[0]!Poids      *      (     (A*EXP(-alpha*(BL$15-$H16)))     +      (B*EXP(-bêta*(BL$15-$H16)))    +   (_C*EXP(-gamma*(BL$15-$H16 )))      )","v":0},{"$f":"  $G16/[0]!Poids      *      (     (A*EXP(-alpha*(BM$15-$H16)))     +      (B*EXP(-bêta*(BM$15-$H16)))    +   (_C*EXP(-gamma*(BM$15-$H16 )))      )","v":0},{"$f":"  $G16/[0]!Poids      *      (     (A*EXP(-alpha*(BN$15-$H16)))     +      (B*EXP(-bêta*(BN$15-$H16)))    +   (_C*EXP(-gamma*(BN$15-$H16 )))      )","v":0},{"$f":"  $G16/[0]!Poids      *      (     (A*EXP(-alpha*(BO$15-$H16)))     +      (B*EXP(-bêta*(BO$15-$H16)))    +   (_C*EXP(-gamma*(BO$15-$H16 )))      )","v":0},{"$f":"  $G16/[0]!Poids      *      (     (A*EXP(-alpha*(BP$15-$H16)))     +      (B*EXP(-bêta*(BP$15-$H16)))    +   (_C*EXP(-gamma*(BP$15-$H16 )))      )","v":0},{"$f":"  $G16/[0]!Poids      *      (     (A*EXP(-alpha*(BQ$15-$H16)))     +      (B*EXP(-bêta*(BQ$15-$H16)))    +   (_C*EXP(-gamma*(BQ$15-$H16 )))      )","v":0},{"$f":"  $G16/[0]!Poids      *      (     (A*EXP(-alpha*(BR$15-$H16)))     +      (B*EXP(-bêta*(BR$15-$H16)))    +   (_C*EXP(-gamma*(BR$15-$H16 )))      )","v":0}]
[null,"A équation",108,"A/dose",{"$f":"C17/D28","v":432},null,{"$f":"K$10","v":0},5,null,null,{"$f":"  $G17/[0]!Poids      *      (     (A*EXP(-alpha*(K$15-$H17)))     +      (B*EXP(-bêta*(K$15-$H17)))    +   (_C*EXP(-gamma*(K$15-$H17 )))      )","v":0},{"$f":"  $G17/[0]!Poids      *      (     (A*EXP(-alpha*(L$15-$H17)))     +      (B*EXP(-bêta*(L$15-$H17)))    +   (_C*EXP(-gamma*(L$15-$H17 )))      )","v":0},{"$f":"  $G17/[0]!Poids      *      (     (A*EXP(-alpha*(M$15-$H17)))     +      (B*EXP(-bêta*(M$15-$H17)))    +   (_C*EXP(-gamma*(M$15-$H17 )))      )","v":0},{"$f":"  $G17/[0]!Poids      *      (     (A*EXP(-alpha*(N$15-$H17)))     +      (B*EXP(-bêta*(N$15-$H17)))    +   (_C*EXP(-gamma*(N$15-$H17 )))      )","v":0},{"$f":"  $G17/[0]!Poids      *      (     (A*EXP(-alpha*(O$15-$H17)))     +      (B*EXP(-bêta*(O$15-$H17)))    +   (_C*EXP(-gamma*(O$15-$H17 )))      )","v":0},{"$f":"  $G17/[0]!Poids      *      (     (A*EXP(-alpha*(P$15-$H17)))     +      (B*EXP(-bêta*(P$15-$H17)))    +   (_C*EXP(-gamma*(P$15-$H17 )))      )","v":0},{"$f":"  $G17/[0]!Poids      *      (     (A*EXP(-alpha*(Q$15-$H17)))     +      (B*EXP(-bêta*(Q$15-$H17)))    +   (_C*EXP(-gamma*(Q$15-$H17 )))      )","v":0},{"$f":"  $G17/[0]!Poids      *      (     (A*EXP(-alpha*(R$15-$H17)))     +      (B*EXP(-bêta*(R$15-$H17)))    +   (_C*EXP(-gamma*(R$15-$H17 )))      )","v":0},{"$f":"  $G17/[0]!Poids      *      (     (A*EXP(-alpha*(S$15-$H17)))     +      (B*EXP(-bêta*(S$15-$H17)))    +   (_C*EXP(-gamma*(S$15-$H17 )))      )","v":0},{"$f":"  $G17/[0]!Poids      *      (     (A*EXP(-alpha*(T$15-$H17)))     +      (B*EXP(-bêta*(T$15-$H17)))    +   (_C*EXP(-gamma*(T$15-$H17 )))      )","v":0},{"$f":"  $G17/[0]!Poids      *      (     (A*EXP(-alpha*(U$15-$H17)))     +      (B*EXP(-bêta*(U$15-$H17)))    +   (_C*EXP(-gamma*(U$15-$H17 )))      )","v":0},{"$f":"  $G17/[0]!Poids      *      (     (A*EXP(-alpha*(V$15-$H17)))     +      (B*EXP(-bêta*(V$15-$H17)))    +   (_C*EXP(-gamma*(V$15-$H17 )))      )","v":0},{"$f":"  $G17/[0]!Poids      *      (     (A*EXP(-alpha*(W$15-$H17)))     +      (B*EXP(-bêta*(W$15-$H17)))    +   (_C*EXP(-gamma*(W$15-$H17 )))      )","v":0},{"$f":"  $G17/[0]!Poids      *      (     (A*EXP(-alpha*(X$15-$H17)))     +      (B*EXP(-bêta*(X$15-$H17)))    +   (_C*EXP(-gamma*(X$15-$H17 )))      )","v":0},{"$f":"  $G17/[0]!Poids      *      (     (A*EXP(-alpha*(Y$15-$H17)))     +      (B*EXP(-bêta*(Y$15-$H17)))    +   (_C*EXP(-gamma*(Y$15-$H17 )))      )","v":0},{"$f":"  $G17/[0]!Poids      *      (     (A*EXP(-alpha*(Z$15-$H17)))     +      (B*EXP(-bêta*(Z$15-$H17)))    +   (_C*EXP(-gamma*(Z$15-$H17 )))      )","v":0},{"$f":"  $G17/[0]!Poids      *      (     (A*EXP(-alpha*(AA$15-$H17)))     +      (B*EXP(-bêta*(AA$15-$H17)))    +   (_C*EXP(-gamma*(AA$15-$H17 )))      )","v":0},{"$f":"  $G17/[0]!Poids      *      (     (A*EXP(-alpha*(AB$15-$H17)))     +      (B*EXP(-bêta*(AB$15-$H17)))    +   (_C*EXP(-gamma*(AB$15-$H17 )))      )","v":0},{"$f":"  $G17/[0]!Poids      *      (     (A*EXP(-alpha*(AC$15-$H17)))     +      (B*EXP(-bêta*(AC$15-$H17)))    +   (_C*EXP(-gamma*(AC$15-$H17 )))      )","v":0},{"$f":"  $G17/[0]!Poids      *      (     (A*EXP(-alpha*(AD$15-$H17)))     +      (B*EXP(-bêta*(AD$15-$H17)))    +   (_C*EXP(-gamma*(AD$15-$H17 )))      )","v":0},{"$f":"  $G17/[0]!Poids      *      (     (A*EXP(-alpha*(AE$15-$H17)))     +      (B*EXP(-bêta*(AE$15-$H17)))    +   (_C*EXP(-gamma*(AE$15-$H17 )))      )","v":0},{"$f":"  $G17/[0]!Poids      *      (     (A*EXP(-alpha*(AF$15-$H17)))     +      (B*EXP(-bêta*(AF$15-$H17)))    +   (_C*EXP(-gamma*(AF$15-$H17 )))      )","v":0},{"$f":"  $G17/[0]!Poids      *      (     (A*EXP(-alpha*(AG$15-$H17)))     +      (B*EXP(-bêta*(AG$15-$H17)))    +   (_C*EXP(-gamma*(AG$15-$H17 )))      )","v":0},{"$f":"  $G17/[0]!Poids      *      (     (A*EXP(-alpha*(AH$15-$H17)))     +      (B*EXP(-bêta*(AH$15-$H17)))    +   (_C*EXP(-gamma*(AH$15-$H17 )))      )","v":0},{"$f":"  $G17/[0]!Poids      *      (     (A*EXP(-alpha*(AI$15-$H17)))     +      (B*EXP(-bêta*(AI$15-$H17)))    +   (_C*EXP(-gamma*(AI$15-$H17 )))      )","v":0},{"$f":"  $G17/[0]!Poids      *      (     (A*EXP(-alpha*(AJ$15-$H17)))     +      (B*EXP(-bêta*(AJ$15-$H17)))    +   (_C*EXP(-gamma*(AJ$15-$H17 )))      )","v":0},{"$f":"  $G17/[0]!Poids      *      (     (A*EXP(-alpha*(AK$15-$H17)))     +      (B*EXP(-bêta*(AK$15-$H17)))    +   (_C*EXP(-gamma*(AK$15-$H17 )))      )","v":0},{"$f":"  $G17/[0]!Poids      *      (     (A*EXP(-alpha*(AL$15-$H17)))     +      (B*EXP(-bêta*(AL$15-$H17)))    +   (_C*EXP(-gamma*(AL$15-$H17 )))      )","v":0},{"$f":"  $G17/[0]!Poids      *      (     (A*EXP(-alpha*(AM$15-$H17)))     +      (B*EXP(-bêta*(AM$15-$H17)))    +   (_C*EXP(-gamma*(AM$15-$H17 )))      )","v":0},{"$f":"  $G17/[0]!Poids      *      (     (A*EXP(-alpha*(AN$15-$H17)))     +      (B*EXP(-bêta*(AN$15-$H17)))    +   (_C*EXP(-gamma*(AN$15-$H17 )))      )","v":0},{"$f":"  $G17/[0]!Poids      *      (     (A*EXP(-alpha*(AO$15-$H17)))     +      (B*EXP(-bêta*(AO$15-$H17)))    +   (_C*EXP(-gamma*(AO$15-$H17 )))      )","v":0},{"$f":"  $G17/[0]!Poids      *      (     (A*EXP(-alpha*(AP$15-$H17)))     +      (B*EXP(-bêta*(AP$15-$H17)))    +   (_C*EXP(-gamma*(AP$15-$H17 )))      )","v":0},{"$f":"  $G17/[0]!Poids      *      (     (A*EXP(-alpha*(AQ$15-$H17)))     +      (B*EXP(-bêta*(AQ$15-$H17)))    +   (_C*EXP(-gamma*(AQ$15-$H17 )))      )","v":0},{"$f":"  $G17/[0]!Poids      *      (     (A*EXP(-alpha*(AR$15-$H17)))     +      (B*EXP(-bêta*(AR$15-$H17)))    +   (_C*EXP(-gamma*(AR$15-$H17 )))      )","v":0},{"$f":"  $G17/[0]!Poids      *      (     (A*EXP(-alpha*(AS$15-$H17)))     +      (B*EXP(-bêta*(AS$15-$H17)))    +   (_C*EXP(-gamma*(AS$15-$H17 )))      )","v":0},{"$f":"  $G17/[0]!Poids      *      (     (A*EXP(-alpha*(AT$15-$H17)))     +      (B*EXP(-bêta*(AT$15-$H17)))    +   (_C*EXP(-gamma*(AT$15-$H17 )))      )","v":0},{"$f":"  $G17/[0]!Poids      *      (     (A*EXP(-alpha*(AU$15-$H17)))     +      (B*EXP(-bêta*(AU$15-$H17)))    +   (_C*EXP(-gamma*(AU$15-$H17 )))      )","v":0},{"$f":"  $G17/[0]!Poids      *      (     (A*EXP(-alpha*(AV$15-$H17)))     +      (B*EXP(-bêta*(AV$15-$H17)))    +   (_C*EXP(-gamma*(AV$15-$H17 )))      )","v":0},{"$f":"  $G17/[0]!Poids      *      (     (A*EXP(-alpha*(AW$15-$H17)))     +      (B*EXP(-bêta*(AW$15-$H17)))    +   (_C*EXP(-gamma*(AW$15-$H17 )))      )","v":0},{"$f":"  $G17/[0]!Poids      *      (     (A*EXP(-alpha*(AX$15-$H17)))     +      (B*EXP(-bêta*(AX$15-$H17)))    +   (_C*EXP(-gamma*(AX$15-$H17 )))      )","v":0},{"$f":"  $G17/[0]!Poids      *      (     (A*EXP(-alpha*(AY$15-$H17)))     +      (B*EXP(-bêta*(AY$15-$H17)))    +   (_C*EXP(-gamma*(AY$15-$H17 )))      )","v":0},{"$f":"  $G17/[0]!Poids      *      (     (A*EXP(-alpha*(AZ$15-$H17)))     +      (B*EXP(-bêta*(AZ$15-$H17)))    +   (_C*EXP(-gamma*(AZ$15-$H17 )))      )","v":0},{"$f":"  $G17/[0]!Poids      *      (     (A*EXP(-alpha*(BA$15-$H17)))     +      (B*EXP(-bêta*(BA$15-$H17)))    +   (_C*EXP(-gamma*(BA$15-$H17 )))      )","v":0},{"$f":"  $G17/[0]!Poids      *      (     (A*EXP(-alpha*(BB$15-$H17)))     +      (B*EXP(-bêta*(BB$15-$H17)))    +   (_C*EXP(-gamma*(BB$15-$H17 )))      )","v":0},{"$f":"  $G17/[0]!Poids      *      (     (A*EXP(-alpha*(BC$15-$H17)))     +      (B*EXP(-bêta*(BC$15-$H17)))    +   (_C*EXP(-gamma*(BC$15-$H17 )))      )","v":0},{"$f":"  $G17/[0]!Poids      *      (     (A*EXP(-alpha*(BD$15-$H17)))     +      (B*EXP(-bêta*(BD$15-$H17)))    +   (_C*EXP(-gamma*(BD$15-$H17 )))      )","v":0},{"$f":"  $G17/[0]!Poids      *      (     (A*EXP(-alpha*(BE$15-$H17)))     +      (B*EXP(-bêta*(BE$15-$H17)))    +   (_C*EXP(-gamma*(BE$15-$H17 )))      )","v":0},{"$f":"  $G17/[0]!Poids      *      (     (A*EXP(-alpha*(BF$15-$H17)))     +      (B*EXP(-bêta*(BF$15-$H17)))    +   (_C*EXP(-gamma*(BF$15-$H17 )))      )","v":0},{"$f":"  $G17/[0]!Poids      *      (     (A*EXP(-alpha*(BG$15-$H17)))     +      (B*EXP(-bêta*(BG$15-$H17)))    +   (_C*EXP(-gamma*(BG$15-$H17 )))      )","v":0},{"$f":"  $G17/[0]!Poids      *      (     (A*EXP(-alpha*(BH$15-$H17)))     +      (B*EXP(-bêta*(BH$15-$H17)))    +   (_C*EXP(-gamma*(BH$15-$H17 )))      )","v":0},{"$f":"  $G17/[0]!Poids      *      (     (A*EXP(-alpha*(BI$15-$H17)))     +      (B*EXP(-bêta*(BI$15-$H17)))    +   (_C*EXP(-gamma*(BI$15-$H17 )))      )","v":0},{"$f":"  $G17/[0]!Poids      *      (     (A*EXP(-alpha*(BJ$15-$H17)))     +      (B*EXP(-bêta*(BJ$15-$H17)))    +   (_C*EXP(-gamma*(BJ$15-$H17 )))      )","v":0},{"$f":"  $G17/[0]!Poids      *      (     (A*EXP(-alpha*(BK$15-$H17)))     +      (B*EXP(-bêta*(BK$15-$H17)))    +   (_C*EXP(-gamma*(BK$15-$H17 )))      )","v":0},{"$f":"  $G17/[0]!Poids      *      (     (A*EXP(-alpha*(BL$15-$H17)))     +      (B*EXP(-bêta*(BL$15-$H17)))    +   (_C*EXP(-gamma*(BL$15-$H17 )))      )","v":0},{"$f":"  $G17/[0]!Poids      *      (     (A*EXP(-alpha*(BM$15-$H17)))     +      (B*EXP(-bêta*(BM$15-$H17)))    +   (_C*EXP(-gamma*(BM$15-$H17 )))      )","v":0},{"$f":"  $G17/[0]!Poids      *      (     (A*EXP(-alpha*(BN$15-$H17)))     +      (B*EXP(-bêta*(BN$15-$H17)))    +   (_C*EXP(-gamma*(BN$15-$H17 )))      )","v":0},{"$f":"  $G17/[0]!Poids      *      (     (A*EXP(-alpha*(BO$15-$H17)))     +      (B*EXP(-bêta*(BO$15-$H17)))    +   (_C*EXP(-gamma*(BO$15-$H17 )))      )","v":0},{"$f":"  $G17/[0]!Poids      *      (     (A*EXP(-alpha*(BP$15-$H17)))     +      (B*EXP(-bêta*(BP$15-$H17)))    +   (_C*EXP(-gamma*(BP$15-$H17 )))      )","v":0},{"$f":"  $G17/[0]!Poids      *      (     (A*EXP(-alpha*(BQ$15-$H17)))     +      (B*EXP(-bêta*(BQ$15-$H17)))    +   (_C*EXP(-gamma*(BQ$15-$H17 )))      )","v":0},{"$f":"  $G17/[0]!Poids      *      (     (A*EXP(-alpha*(BR$15-$H17)))     +      (B*EXP(-bêta*(BR$15-$H17)))    +   (_C*EXP(-gamma*(BR$15-$H17 )))      )","v":0}]
[null,"B équation",39,"B/dose",{"$f":"C18/D28","v":156},null,{"$f":"L$10","v":0},10,null,null,null,{"$f":"  $G18/[0]!Poids      *      (     (A*EXP(-alpha*(L$15-$H18)))     +      (B*EXP(-bêta*(L$15-$H18)))    +   (_C*EXP(-gamma*(L$15-$H18 )))      )","v":0},{"$f":"  $G18/[0]!Poids      *      (     (A*EXP(-alpha*(M$15-$H18)))     +      (B*EXP(-bêta*(M$15-$H18)))    +   (_C*EXP(-gamma*(M$15-$H18 )))      )","v":0},{"$f":"  $G18/[0]!Poids      *      (     (A*EXP(-alpha*(N$15-$H18)))     +      (B*EXP(-bêta*(N$15-$H18)))    +   (_C*EXP(-gamma*(N$15-$H18 )))      )","v":0},{"$f":"  $G18/[0]!Poids      *      (     (A*EXP(-alpha*(O$15-$H18)))     +      (B*EXP(-bêta*(O$15-$H18)))    +   (_C*EXP(-gamma*(O$15-$H18 )))      )","v":0},{"$f":"  $G18/[0]!Poids      *      (     (A*EXP(-alpha*(P$15-$H18)))     +      (B*EXP(-bêta*(P$15-$H18)))    +   (_C*EXP(-gamma*(P$15-$H18 )))      )","v":0},{"$f":"  $G18/[0]!Poids      *      (     (A*EXP(-alpha*(Q$15-$H18)))     +      (B*EXP(-bêta*(Q$15-$H18)))    +   (_C*EXP(-gamma*(Q$15-$H18 )))      )","v":0},{"$f":"  $G18/[0]!Poids      *      (     (A*EXP(-alpha*(R$15-$H18)))     +      (B*EXP(-bêta*(R$15-$H18)))    +   (_C*EXP(-gamma*(R$15-$H18 )))      )","v":0},{"$f":"  $G18/[0]!Poids      *      (     (A*EXP(-alpha*(S$15-$H18)))     +      (B*EXP(-bêta*(S$15-$H18)))    +   (_C*EXP(-gamma*(S$15-$H18 )))      )","v":0},{"$f":"  $G18/[0]!Poids      *      (     (A*EXP(-alpha*(T$15-$H18)))     +      (B*EXP(-bêta*(T$15-$H18)))    +   (_C*EXP(-gamma*(T$15-$H18 )))      )","v":0},{"$f":"  $G18/[0]!Poids      *      (     (A*EXP(-alpha*(U$15-$H18)))     +      (B*EXP(-bêta*(U$15-$H18)))    +   (_C*EXP(-gamma*(U$15-$H18 )))      )","v":0},{"$f":"  $G18/[0]!Poids      *      (     (A*EXP(-alpha*(V$15-$H18)))     +      (B*EXP(-bêta*(V$15-$H18)))    +   (_C*EXP(-gamma*(V$15-$H18 )))      )","v":0},{"$f":"  $G18/[0]!Poids      *      (     (A*EXP(-alpha*(W$15-$H18)))     +      (B*EXP(-bêta*(W$15-$H18)))    +   (_C*EXP(-gamma*(W$15-$H18 )))      )","v":0},{"$f":"  $G18/[0]!Poids      *      (     (A*EXP(-alpha*(X$15-$H18)))     +      (B*EXP(-bêta*(X$15-$H18)))    +   (_C*EXP(-gamma*(X$15-$H18 )))      )","v":0},{"$f":"  $G18/[0]!Poids      *      (     (A*EXP(-alpha*(Y$15-$H18)))     +      (B*EXP(-bêta*(Y$15-$H18)))    +   (_C*EXP(-gamma*(Y$15-$H18 )))      )","v":0},{"$f":"  $G18/[0]!Poids      *      (     (A*EXP(-alpha*(Z$15-$H18)))     +      (B*EXP(-bêta*(Z$15-$H18)))    +   (_C*EXP(-gamma*(Z$15-$H18 )))      )","v":0},{"$f":"  $G18/[0]!Poids      *      (     (A*EXP(-alpha*(AA$15-$H18)))     +      (B*EXP(-bêta*(AA$15-$H18)))    +   (_C*EXP(-gamma*(AA$15-$H18 )))      )","v":0},{"$f":"  $G18/[0]!Poids      *      (     (A*EXP(-alpha*(AB$15-$H18)))     +      (B*EXP(-bêta*(AB$15-$H18)))    +   (_C*EXP(-gamma*(AB$15-$H18 )))      )","v":0},{"$f":"  $G18/[0]!Poids      *      (     (A*EXP(-alpha*(AC$15-$H18)))     +      (B*EXP(-bêta*(AC$15-$H18)))    +   (_C*EXP(-gamma*(AC$15-$H18 )))      )","v":0},{"$f":"  $G18/[0]!Poids      *      (     (A*EXP(-alpha*(AD$15-$H18)))     +      (B*EXP(-bêta*(AD$15-$H18)))    +   (_C*EXP(-gamma*(AD$15-$H18 )))      )","v":0},{"$f":"  $G18/[0]!Poids      *      (     (A*EXP(-alpha*(AE$15-$H18)))     +      (B*EXP(-bêta*(AE$15-$H18)))    +   (_C*EXP(-gamma*(AE$15-$H18 )))      )","v":0},{"$f":"  $G18/[0]!Poids      *      (     (A*EXP(-alpha*(AF$15-$H18)))     +      (B*EXP(-bêta*(AF$15-$H18)))    +   (_C*EXP(-gamma*(AF$15-$H18 )))      )","v":0},{"$f":"  $G18/[0]!Poids      *      (     (A*EXP(-alpha*(AG$15-$H18)))     +      (B*EXP(-bêta*(AG$15-$H18)))    +   (_C*EXP(-gamma*(AG$15-$H18 )))      )","v":0},{"$f":"  $G18/[0]!Poids      *      (     (A*EXP(-alpha*(AH$15-$H18)))     +      (B*EXP(-bêta*(AH$15-$H18)))    +   (_C*EXP(-gamma*(AH$15-$H18 )))      )","v":0},{"$f":"  $G18/[0]!Poids      *      (     (A*EXP(-alpha*(AI$15-$H18)))     +      (B*EXP(-bêta*(AI$15-$H18)))    +   (_C*EXP(-gamma*(AI$15-$H18 )))      )","v":0},{"$f":"  $G18/[0]!Poids      *      (     (A*EXP(-alpha*(AJ$15-$H18)))     +      (B*EXP(-bêta*(AJ$15-$H18)))    +   (_C*EXP(-gamma*(AJ$15-$H18 )))      )","v":0},{"$f":"  $G18/[0]!Poids      *      (     (A*EXP(-alpha*(AK$15-$H18)))     +      (B*EXP(-bêta*(AK$15-$H18)))    +   (_C*EXP(-gamma*(AK$15-$H18 )))      )","v":0},{"$f":"  $G18/[0]!Poids      *      (     (A*EXP(-alpha*(AL$15-$H18)))     +      (B*EXP(-bêta*(AL$15-$H18)))    +   (_C*EXP(-gamma*(AL$15-$H18 )))      )","v":0},{"$f":"  $G18/[0]!Poids      *      (     (A*EXP(-alpha*(AM$15-$H18)))     +      (B*EXP(-bêta*(AM$15-$H18)))    +   (_C*EXP(-gamma*(AM$15-$H18 )))      )","v":0},{"$f":"  $G18/[0]!Poids      *      (     (A*EXP(-alpha*(AN$15-$H18)))     +      (B*EXP(-bêta*(AN$15-$H18)))    +   (_C*EXP(-gamma*(AN$15-$H18 )))      )","v":0},{"$f":"  $G18/[0]!Poids      *      (     (A*EXP(-alpha*(AO$15-$H18)))     +      (B*EXP(-bêta*(AO$15-$H18)))    +   (_C*EXP(-gamma*(AO$15-$H18 )))      )","v":0},{"$f":"  $G18/[0]!Poids      *      (     (A*EXP(-alpha*(AP$15-$H18)))     +      (B*EXP(-bêta*(AP$15-$H18)))    +   (_C*EXP(-gamma*(AP$15-$H18 )))      )","v":0},{"$f":"  $G18/[0]!Poids      *      (     (A*EXP(-alpha*(AQ$15-$H18)))     +      (B*EXP(-bêta*(AQ$15-$H18)))    +   (_C*EXP(-gamma*(AQ$15-$H18 )))      )","v":0},{"$f":"  $G18/[0]!Poids      *      (     (A*EXP(-alpha*(AR$15-$H18)))     +      (B*EXP(-bêta*(AR$15-$H18)))    +   (_C*EXP(-gamma*(AR$15-$H18 )))      )","v":0},{"$f":"  $G18/[0]!Poids      *      (     (A*EXP(-alpha*(AS$15-$H18)))     +      (B*EXP(-bêta*(AS$15-$H18)))    +   (_C*EXP(-gamma*(AS$15-$H18 )))      )","v":0},{"$f":"  $G18/[0]!Poids      *      (     (A*EXP(-alpha*(AT$15-$H18)))     +      (B*EXP(-bêta*(AT$15-$H18)))    +   (_C*EXP(-gamma*(AT$15-$H18 )))      )","v":0},{"$f":"  $G18/[0]!Poids      *      (     (A*EXP(-alpha*(AU$15-$H18)))     +      (B*EXP(-bêta*(AU$15-$H18)))    +   (_C*EXP(-gamma*(AU$15-$H18 )))      )","v":0},{"$f":"  $G18/[0]!Poids      *      (     (A*EXP(-alpha*(AV$15-$H18)))     +      (B*EXP(-bêta*(AV$15-$H18)))    +   (_C*EXP(-gamma*(AV$15-$H18 )))      )","v":0},{"$f":"  $G18/[0]!Poids      *      (     (A*EXP(-alpha*(AW$15-$H18)))     +      (B*EXP(-bêta*(AW$15-$H18)))    +   (_C*EXP(-gamma*(AW$15-$H18 )))      )","v":0},{"$f":"  $G18/[0]!Poids      *      (     (A*EXP(-alpha*(AX$15-$H18)))     +      (B*EXP(-bêta*(AX$15-$H18)))    +   (_C*EXP(-gamma*(AX$15-$H18 )))      )","v":0},{"$f":"  $G18/[0]!Poids      *      (     (A*EXP(-alpha*(AY$15-$H18)))     +      (B*EXP(-bêta*(AY$15-$H18)))    +   (_C*EXP(-gamma*(AY$15-$H18 )))      )","v":0},{"$f":"  $G18/[0]!Poids      *      (     (A*EXP(-alpha*(AZ$15-$H18)))     +      (B*EXP(-bêta*(AZ$15-$H18)))    +   (_C*EXP(-gamma*(AZ$15-$H18 )))      )","v":0},{"$f":"  $G18/[0]!Poids      *      (     (A*EXP(-alpha*(BA$15-$H18)))     +      (B*EXP(-bêta*(BA$15-$H18)))    +   (_C*EXP(-gamma*(BA$15-$H18 )))      )","v":0},{"$f":"  $G18/[0]!Poids      *      (     (A*EXP(-alpha*(BB$15-$H18)))     +      (B*EXP(-bêta*(BB$15-$H18)))    +   (_C*EXP(-gamma*(BB$15-$H18 )))      )","v":0},{"$f":"  $G18/[0]!Poids      *      (     (A*EXP(-alpha*(BC$15-$H18)))     +      (B*EXP(-bêta*(BC$15-$H18)))    +   (_C*EXP(-gamma*(BC$15-$H18 )))      )","v":0},{"$f":"  $G18/[0]!Poids      *      (     (A*EXP(-alpha*(BD$15-$H18)))     +      (B*EXP(-bêta*(BD$15-$H18)))    +   (_C*EXP(-gamma*(BD$15-$H18 )))      )","v":0},{"$f":"  $G18/[0]!Poids      *      (     (A*EXP(-alpha*(BE$15-$H18)))     +      (B*EXP(-bêta*(BE$15-$H18)))    +   (_C*EXP(-gamma*(BE$15-$H18 )))      )","v":0},{"$f":"  $G18/[0]!Poids      *      (     (A*EXP(-alpha*(BF$15-$H18)))     +      (B*EXP(-bêta*(BF$15-$H18)))    +   (_C*EXP(-gamma*(BF$15-$H18 )))      )","v":0},{"$f":"  $G18/[0]!Poids      *      (     (A*EXP(-alpha*(BG$15-$H18)))     +      (B*EXP(-bêta*(BG$15-$H18)))    +   (_C*EXP(-gamma*(BG$15-$H18 )))      )","v":0},{"$f":"  $G18/[0]!Poids      *      (     (A*EXP(-alpha*(BH$15-$H18)))     +      (B*EXP(-bêta*(BH$15-$H18)))    +   (_C*EXP(-gamma*(BH$15-$H18 )))      )","v":0},{"$f":"  $G18/[0]!Poids      *      (     (A*EXP(-alpha*(BI$15-$H18)))     +      (B*EXP(-bêta*(BI$15-$H18)))    +   (_C*EXP(-gamma*(BI$15-$H18 )))      )","v":0},{"$f":"  $G18/[0]!Poids      *      (     (A*EXP(-alpha*(BJ$15-$H18)))     +      (B*EXP(-bêta*(BJ$15-$H18)))    +   (_C*EXP(-gamma*(BJ$15-$H18 )))      )","v":0},{"$f":"  $G18/[0]!Poids      *      (     (A*EXP(-alpha*(BK$15-$H18)))     +      (B*EXP(-bêta*(BK$15-$H18)))    +   (_C*EXP(-gamma*(BK$15-$H18 )))      )","v":0},{"$f":"  $G18/[0]!Poids      *      (     (A*EXP(-alpha*(BL$15-$H18)))     +      (B*EXP(-bêta*(BL$15-$H18)))    +   (_C*EXP(-gamma*(BL$15-$H18 )))      )","v":0},{"$f":"  $G18/[0]!Poids      *      (     (A*EXP(-alpha*(BM$15-$H18)))     +      (B*EXP(-bêta*(BM$15-$H18)))    +   (_C*EXP(-gamma*(BM$15-$H18 )))      )","v":0},{"$f":"  $G18/[0]!Poids      *      (     (A*EXP(-alpha*(BN$15-$H18)))     +      (B*EXP(-bêta*(BN$15-$H18)))    +   (_C*EXP(-gamma*(BN$15-$H18 )))      )","v":0},{"$f":"  $G18/[0]!Poids      *      (     (A*EXP(-alpha*(BO$15-$H18)))     +      (B*EXP(-bêta*(BO$15-$H18)))    +   (_C*EXP(-gamma*(BO$15-$H18 )))      )","v":0},{"$f":"  $G18/[0]!Poids      *      (     (A*EXP(-alpha*(BP$15-$H18)))     +      (B*EXP(-bêta*(BP$15-$H18)))    +   (_C*EXP(-gamma*(BP$15-$H18 )))      )","v":0},{"$f":"  $G18/[0]!Poids      *      (     (A*EXP(-alpha*(BQ$15-$H18)))     +      (B*EXP(-bêta*(BQ$15-$H18)))    +   (_C*EXP(-gamma*(BQ$15-$H18 )))      )","v":0},{"$f":"  $G18/[0]!Poids      *      (     (A*EXP(-alpha*(BR$15-$H18)))     +      (B*EXP(-bêta*(BR$15-$H18)))    +   (_C*EXP(-gamma*(BR$15-$H18 )))      )","v":0}]
[null,"C équation",null,"C/dose",{"$f":"C19/D28","v":0},null,{"$f":"M$10","v":0},15,null,null,null,null,{"$f":"  $G19/[0]!Poids      *      (     (A*EXP(-alpha*(M$15-$H19)))     +      (B*EXP(-bêta*(M$15-$H19)))    +   (_C*EXP(-gamma*(M$15-$H19 )))      )","v":0},{"$f":"  $G19/[0]!Poids      *      (     (A*EXP(-alpha*(N$15-$H19)))     +      (B*EXP(-bêta*(N$15-$H19)))    +   (_C*EXP(-gamma*(N$15-$H19 )))      )","v":0},{"$f":"  $G19/[0]!Poids      *      (     (A*EXP(-alpha*(O$15-$H19)))     +      (B*EXP(-bêta*(O$15-$H19)))    +   (_C*EXP(-gamma*(O$15-$H19 )))      )","v":0},{"$f":"  $G19/[0]!Poids      *      (     (A*EXP(-alpha*(P$15-$H19)))     +      (B*EXP(-bêta*(P$15-$H19)))    +   (_C*EXP(-gamma*(P$15-$H19 )))      )","v":0},{"$f":"  $G19/[0]!Poids      *      (     (A*EXP(-alpha*(Q$15-$H19)))     +      (B*EXP(-bêta*(Q$15-$H19)))    +   (_C*EXP(-gamma*(Q$15-$H19 )))      )","v":0},{"$f":"  $G19/[0]!Poids      *      (     (A*EXP(-alpha*(R$15-$H19)))     +      (B*EXP(-bêta*(R$15-$H19)))    +   (_C*EXP(-gamma*(R$15-$H19 )))      )","v":0},{"$f":"  $G19/[0]!Poids      *      (     (A*EXP(-alpha*(S$15-$H19)))     +      (B*EXP(-bêta*(S$15-$H19)))    +   (_C*EXP(-gamma*(S$15-$H19 )))      )","v":0},{"$f":"  $G19/[0]!Poids      *      (     (A*EXP(-alpha*(T$15-$H19)))     +      (B*EXP(-bêta*(T$15-$H19)))    +   (_C*EXP(-gamma*(T$15-$H19 )))      )","v":0},{"$f":"  $G19/[0]!Poids      *      (     (A*EXP(-alpha*(U$15-$H19)))     +      (B*EXP(-bêta*(U$15-$H19)))    +   (_C*EXP(-gamma*(U$15-$H19 )))      )","v":0},{"$f":"  $G19/[0]!Poids      *      (     (A*EXP(-alpha*(V$15-$H19)))     +      (B*EXP(-bêta*(V$15-$H19)))    +   (_C*EXP(-gamma*(V$15-$H19 )))      )","v":0},{"$f":"  $G19/[0]!Poids      *      (     (A*EXP(-alpha*(W$15-$H19)))     +      (B*EXP(-bêta*(W$15-$H19)))    +   (_C*EXP(-gamma*(W$15-$H19 )))      )","v":0},{"$f":"  $G19/[0]!Poids      *      (     (A*EXP(-alpha*(X$15-$H19)))     +      (B*EXP(-bêta*(X$15-$H19)))    +   (_C*EXP(-gamma*(X$15-$H19 )))      )","v":0},{"$f":"  $G19/[0]!Poids      *      (     (A*EXP(-alpha*(Y$15-$H19)))     +      (B*EXP(-bêta*(Y$15-$H19)))    +   (_C*EXP(-gamma*(Y$15-$H19 )))      )","v":0},{"$f":"  $G19/[0]!Poids      *      (     (A*EXP(-alpha*(Z$15-$H19)))     +      (B*EXP(-bêta*(Z$15-$H19)))    +   (_C*EXP(-gamma*(Z$15-$H19 )))      )","v":0},{"$f":"  $G19/[0]!Poids      *      (     (A*EXP(-alpha*(AA$15-$H19)))     +      (B*EXP(-bêta*(AA$15-$H19)))    +   (_C*EXP(-gamma*(AA$15-$H19 )))      )","v":0},{"$f":"  $G19/[0]!Poids      *      (     (A*EXP(-alpha*(AB$15-$H19)))     +      (B*EXP(-bêta*(AB$15-$H19)))    +   (_C*EXP(-gamma*(AB$15-$H19 )))      )","v":0},{"$f":"  $G19/[0]!Poids      *      (     (A*EXP(-alpha*(AC$15-$H19)))     +      (B*EXP(-bêta*(AC$15-$H19)))    +   (_C*EXP(-gamma*(AC$15-$H19 )))      )","v":0},{"$f":"  $G19/[0]!Poids      *      (     (A*EXP(-alpha*(AD$15-$H19)))     +      (B*EXP(-bêta*(AD$15-$H19)))    +   (_C*EXP(-gamma*(AD$15-$H19 )))      )","v":0},{"$f":"  $G19/[0]!Poids      *      (     (A*EXP(-alpha*(AE$15-$H19)))     +      (B*EXP(-bêta*(AE$15-$H19)))    +   (_C*EXP(-gamma*(AE$15-$H19 )))      )","v":0},{"$f":"  $G19/[0]!Poids      *      (     (A*EXP(-alpha*(AF$15-$H19)))     +      (B*EXP(-bêta*(AF$15-$H19)))    +   (_C*EXP(-gamma*(AF$15-$H19 )))      )","v":0},{"$f":"  $G19/[0]!Poids      *      (     (A*EXP(-alpha*(AG$15-$H19)))     +      (B*EXP(-bêta*(AG$15-$H19)))    +   (_C*EXP(-gamma*(AG$15-$H19 )))      )","v":0},{"$f":"  $G19/[0]!Poids      *      (     (A*EXP(-alpha*(AH$15-$H19)))     +      (B*EXP(-bêta*(AH$15-$H19)))    +   (_C*EXP(-gamma*(AH$15-$H19 )))      )","v":0},{"$f":"  $G19/[0]!Poids      *      (     (A*EXP(-alpha*(AI$15-$H19)))     +      (B*EXP(-bêta*(AI$15-$H19)))    +   (_C*EXP(-gamma*(AI$15-$H19 )))      )","v":0},{"$f":"  $G19/[0]!Poids      *      (     (A*EXP(-alpha*(AJ$15-$H19)))     +      (B*EXP(-bêta*(AJ$15-$H19)))    +   (_C*EXP(-gamma*(AJ$15-$H19 )))      )","v":0},{"$f":"  $G19/[0]!Poids      *      (     (A*EXP(-alpha*(AK$15-$H19)))     +      (B*EXP(-bêta*(AK$15-$H19)))    +   (_C*EXP(-gamma*(AK$15-$H19 )))      )","v":0},{"$f":"  $G19/[0]!Poids      *      (     (A*EXP(-alpha*(AL$15-$H19)))     +      (B*EXP(-bêta*(AL$15-$H19)))    +   (_C*EXP(-gamma*(AL$15-$H19 )))      )","v":0},{"$f":"  $G19/[0]!Poids      *      (     (A*EXP(-alpha*(AM$15-$H19)))     +      (B*EXP(-bêta*(AM$15-$H19)))    +   (_C*EXP(-gamma*(AM$15-$H19 )))      )","v":0},{"$f":"  $G19/[0]!Poids      *      (     (A*EXP(-alpha*(AN$15-$H19)))     +      (B*EXP(-bêta*(AN$15-$H19)))    +   (_C*EXP(-gamma*(AN$15-$H19 )))      )","v":0},{"$f":"  $G19/[0]!Poids      *      (     (A*EXP(-alpha*(AO$15-$H19)))     +      (B*EXP(-bêta*(AO$15-$H19)))    +   (_C*EXP(-gamma*(AO$15-$H19 )))      )","v":0},{"$f":"  $G19/[0]!Poids      *      (     (A*EXP(-alpha*(AP$15-$H19)))     +      (B*EXP(-bêta*(AP$15-$H19)))    +   (_C*EXP(-gamma*(AP$15-$H19 )))      )","v":0},{"$f":"  $G19/[0]!Poids      *      (     (A*EXP(-alpha*(AQ$15-$H19)))     +      (B*EXP(-bêta*(AQ$15-$H19)))    +   (_C*EXP(-gamma*(AQ$15-$H19 )))      )","v":0},{"$f":"  $G19/[0]!Poids      *      (     (A*EXP(-alpha*(AR$15-$H19)))     +      (B*EXP(-bêta*(AR$15-$H19)))    +   (_C*EXP(-gamma*(AR$15-$H19 )))      )","v":0},{"$f":"  $G19/[0]!Poids      *      (     (A*EXP(-alpha*(AS$15-$H19)))     +      (B*EXP(-bêta*(AS$15-$H19)))    +   (_C*EXP(-gamma*(AS$15-$H19 )))      )","v":0},{"$f":"  $G19/[0]!Poids      *      (     (A*EXP(-alpha*(AT$15-$H19)))     +      (B*EXP(-bêta*(AT$15-$H19)))    +   (_C*EXP(-gamma*(AT$15-$H19 )))      )","v":0},{"$f":"  $G19/[0]!Poids      *      (     (A*EXP(-alpha*(AU$15-$H19)))     +      (B*EXP(-bêta*(AU$15-$H19)))    +   (_C*EXP(-gamma*(AU$15-$H19 )))      )","v":0},{"$f":"  $G19/[0]!Poids      *      (     (A*EXP(-alpha*(AV$15-$H19)))     +      (B*EXP(-bêta*(AV$15-$H19)))    +   (_C*EXP(-gamma*(AV$15-$H19 )))      )","v":0},{"$f":"  $G19/[0]!Poids      *      (     (A*EXP(-alpha*(AW$15-$H19)))     +      (B*EXP(-bêta*(AW$15-$H19)))    +   (_C*EXP(-gamma*(AW$15-$H19 )))      )","v":0},{"$f":"  $G19/[0]!Poids      *      (     (A*EXP(-alpha*(AX$15-$H19)))     +      (B*EXP(-bêta*(AX$15-$H19)))    +   (_C*EXP(-gamma*(AX$15-$H19 )))      )","v":0},{"$f":"  $G19/[0]!Poids      *      (     (A*EXP(-alpha*(AY$15-$H19)))     +      (B*EXP(-bêta*(AY$15-$H19)))    +   (_C*EXP(-gamma*(AY$15-$H19 )))      )","v":0},{"$f":"  $G19/[0]!Poids      *      (     (A*EXP(-alpha*(AZ$15-$H19)))     +      (B*EXP(-bêta*(AZ$15-$H19)))    +   (_C*EXP(-gamma*(AZ$15-$H19 )))      )","v":0},{"$f":"  $G19/[0]!Poids      *      (     (A*EXP(-alpha*(BA$15-$H19)))     +      (B*EXP(-bêta*(BA$15-$H19)))    +   (_C*EXP(-gamma*(BA$15-$H19 )))      )","v":0},{"$f":"  $G19/[0]!Poids      *      (     (A*EXP(-alpha*(BB$15-$H19)))     +      (B*EXP(-bêta*(BB$15-$H19)))    +   (_C*EXP(-gamma*(BB$15-$H19 )))      )","v":0},{"$f":"  $G19/[0]!Poids      *      (     (A*EXP(-alpha*(BC$15-$H19)))     +      (B*EXP(-bêta*(BC$15-$H19)))    +   (_C*EXP(-gamma*(BC$15-$H19 )))      )","v":0},{"$f":"  $G19/[0]!Poids      *      (     (A*EXP(-alpha*(BD$15-$H19)))     +      (B*EXP(-bêta*(BD$15-$H19)))    +   (_C*EXP(-gamma*(BD$15-$H19 )))      )","v":0},{"$f":"  $G19/[0]!Poids      *      (     (A*EXP(-alpha*(BE$15-$H19)))     +      (B*EXP(-bêta*(BE$15-$H19)))    +   (_C*EXP(-gamma*(BE$15-$H19 )))      )","v":0},{"$f":"  $G19/[0]!Poids      *      (     (A*EXP(-alpha*(BF$15-$H19)))     +      (B*EXP(-bêta*(BF$15-$H19)))    +   (_C*EXP(-gamma*(BF$15-$H19 )))      )","v":0},{"$f":"  $G19/[0]!Poids      *      (     (A*EXP(-alpha*(BG$15-$H19)))     +      (B*EXP(-bêta*(BG$15-$H19)))    +   (_C*EXP(-gamma*(BG$15-$H19 )))      )","v":0},{"$f":"  $G19/[0]!Poids      *      (     (A*EXP(-alpha*(BH$15-$H19)))     +      (B*EXP(-bêta*(BH$15-$H19)))    +   (_C*EXP(-gamma*(BH$15-$H19 )))      )","v":0},{"$f":"  $G19/[0]!Poids      *      (     (A*EXP(-alpha*(BI$15-$H19)))     +      (B*EXP(-bêta*(BI$15-$H19)))    +   (_C*EXP(-gamma*(BI$15-$H19 )))      )","v":0},{"$f":"  $G19/[0]!Poids      *      (     (A*EXP(-alpha*(BJ$15-$H19)))     +      (B*EXP(-bêta*(BJ$15-$H19)))    +   (_C*EXP(-gamma*(BJ$15-$H19 )))      )","v":0},{"$f":"  $G19/[0]!Poids      *      (     (A*EXP(-alpha*(BK$15-$H19)))     +      (B*EXP(-bêta*(BK$15-$H19)))    +   (_C*EXP(-gamma*(BK$15-$H19 )))      )","v":0},{"$f":"  $G19/[0]!Poids      *      (     (A*EXP(-alpha*(BL$15-$H19)))     +      (B*EXP(-bêta*(BL$15-$H19)))    +   (_C*EXP(-gamma*(BL$15-$H19 )))      )","v":0},{"$f":"  $G19/[0]!Poids      *      (     (A*EXP(-alpha*(BM$15-$H19)))     +      (B*EXP(-bêta*(BM$15-$H19)))    +   (_C*EXP(-gamma*(BM$15-$H19 )))      )","v":0},{"$f":"  $G19/[0]!Poids      *      (     (A*EXP(-alpha*(BN$15-$H19)))     +      (B*EXP(-bêta*(BN$15-$H19)))    +   (_C*EXP(-gamma*(BN$15-$H19 )))      )","v":0},{"$f":"  $G19/[0]!Poids      *      (     (A*EXP(-alpha*(BO$15-$H19)))     +      (B*EXP(-bêta*(BO$15-$H19)))    +   (_C*EXP(-gamma*(BO$15-$H19 )))      )","v":0},{"$f":"  $G19/[0]!Poids      *      (     (A*EXP(-alpha*(BP$15-$H19)))     +      (B*EXP(-bêta*(BP$15-$H19)))    +   (_C*EXP(-gamma*(BP$15-$H19 )))      )","v":0},{"$f":"  $G19/[0]!Poids      *      (     (A*EXP(-alpha*(BQ$15-$H19)))     +      (B*EXP(-bêta*(BQ$15-$H19)))    +   (_C*EXP(-gamma*(BQ$15-$H19 )))      )","v":0},{"$f":"  $G19/[0]!Poids      *      (     (A*EXP(-alpha*(BR$15-$H19)))     +      (B*EXP(-bêta*(BR$15-$H19)))    +   (_C*EXP(-gamma*(BR$15-$H19 )))      )","v":0}]
[null,null,null,null,null,null,{"$f":"N$10","v":0},20,null,null,null,null,null,{"$f":"  $G20/[0]!Poids      *      (     (A*EXP(-alpha*(N$15-$H20)))     +      (B*EXP(-bêta*(N$15-$H20)))    +   (_C*EXP(-gamma*(N$15-$H20 )))      )","v":0},{"$f":"  $G20/[0]!Poids      *      (     (A*EXP(-alpha*(O$15-$H20)))     +      (B*EXP(-bêta*(O$15-$H20)))    +   (_C*EXP(-gamma*(O$15-$H20 )))      )","v":0},{"$f":"  $G20/[0]!Poids      *      (     (A*EXP(-alpha*(P$15-$H20)))     +      (B*EXP(-bêta*(P$15-$H20)))    +   (_C*EXP(-gamma*(P$15-$H20 )))      )","v":0},{"$f":"  $G20/[0]!Poids      *      (     (A*EXP(-alpha*(Q$15-$H20)))     +      (B*EXP(-bêta*(Q$15-$H20)))    +   (_C*EXP(-gamma*(Q$15-$H20 )))      )","v":0},{"$f":"  $G20/[0]!Poids      *      (     (A*EXP(-alpha*(R$15-$H20)))     +      (B*EXP(-bêta*(R$15-$H20)))    +   (_C*EXP(-gamma*(R$15-$H20 )))      )","v":0},{"$f":"  $G20/[0]!Poids      *      (     (A*EXP(-alpha*(S$15-$H20)))     +      (B*EXP(-bêta*(S$15-$H20)))    +   (_C*EXP(-gamma*(S$15-$H20 )))      )","v":0},{"$f":"  $G20/[0]!Poids      *      (     (A*EXP(-alpha*(T$15-$H20)))     +      (B*EXP(-bêta*(T$15-$H20)))    +   (_C*EXP(-gamma*(T$15-$H20 )))      )","v":0},{"$f":"  $G20/[0]!Poids      *      (     (A*EXP(-alpha*(U$15-$H20)))     +      (B*EXP(-bêta*(U$15-$H20)))    +   (_C*EXP(-gamma*(U$15-$H20 )))      )","v":0},{"$f":"  $G20/[0]!Poids      *      (     (A*EXP(-alpha*(V$15-$H20)))     +      (B*EXP(-bêta*(V$15-$H20)))    +   (_C*EXP(-gamma*(V$15-$H20 )))      )","v":0},{"$f":"  $G20/[0]!Poids      *      (     (A*EXP(-alpha*(W$15-$H20)))     +      (B*EXP(-bêta*(W$15-$H20)))    +   (_C*EXP(-gamma*(W$15-$H20 )))      )","v":0},{"$f":"  $G20/[0]!Poids      *      (     (A*EXP(-alpha*(X$15-$H20)))     +      (B*EXP(-bêta*(X$15-$H20)))    +   (_C*EXP(-gamma*(X$15-$H20 )))      )","v":0},{"$f":"  $G20/[0]!Poids      *      (     (A*EXP(-alpha*(Y$15-$H20)))     +      (B*EXP(-bêta*(Y$15-$H20)))    +   (_C*EXP(-gamma*(Y$15-$H20 )))      )","v":0},{"$f":"  $G20/[0]!Poids      *      (     (A*EXP(-alpha*(Z$15-$H20)))     +      (B*EXP(-bêta*(Z$15-$H20)))    +   (_C*EXP(-gamma*(Z$15-$H20 )))      )","v":0},{"$f":"  $G20/[0]!Poids      *      (     (A*EXP(-alpha*(AA$15-$H20)))     +      (B*EXP(-bêta*(AA$15-$H20)))    +   (_C*EXP(-gamma*(AA$15-$H20 )))      )","v":0},{"$f":"  $G20/[0]!Poids      *      (     (A*EXP(-alpha*(AB$15-$H20)))     +      (B*EXP(-bêta*(AB$15-$H20)))    +   (_C*EXP(-gamma*(AB$15-$H20 )))      )","v":0},{"$f":"  $G20/[0]!Poids      *      (     (A*EXP(-alpha*(AC$15-$H20)))     +      (B*EXP(-bêta*(AC$15-$H20)))    +   (_C*EXP(-gamma*(AC$15-$H20 )))      )","v":0},{"$f":"  $G20/[0]!Poids      *      (     (A*EXP(-alpha*(AD$15-$H20)))     +      (B*EXP(-bêta*(AD$15-$H20)))    +   (_C*EXP(-gamma*(AD$15-$H20 )))      )","v":0},{"$f":"  $G20/[0]!Poids      *      (     (A*EXP(-alpha*(AE$15-$H20)))     +      (B*EXP(-bêta*(AE$15-$H20)))    +   (_C*EXP(-gamma*(AE$15-$H20 )))      )","v":0},{"$f":"  $G20/[0]!Poids      *      (     (A*EXP(-alpha*(AF$15-$H20)))     +      (B*EXP(-bêta*(AF$15-$H20)))    +   (_C*EXP(-gamma*(AF$15-$H20 )))      )","v":0},{"$f":"  $G20/[0]!Poids      *      (     (A*EXP(-alpha*(AG$15-$H20)))     +      (B*EXP(-bêta*(AG$15-$H20)))    +   (_C*EXP(-gamma*(AG$15-$H20 )))      )","v":0},{"$f":"  $G20/[0]!Poids      *      (     (A*EXP(-alpha*(AH$15-$H20)))     +      (B*EXP(-bêta*(AH$15-$H20)))    +   (_C*EXP(-gamma*(AH$15-$H20 )))      )","v":0},{"$f":"  $G20/[0]!Poids      *      (     (A*EXP(-alpha*(AI$15-$H20)))     +      (B*EXP(-bêta*(AI$15-$H20)))    +   (_C*EXP(-gamma*(AI$15-$H20 )))      )","v":0},{"$f":"  $G20/[0]!Poids      *      (     (A*EXP(-alpha*(AJ$15-$H20)))     +      (B*EXP(-bêta*(AJ$15-$H20)))    +   (_C*EXP(-gamma*(AJ$15-$H20 )))      )","v":0},{"$f":"  $G20/[0]!Poids      *      (     (A*EXP(-alpha*(AK$15-$H20)))     +      (B*EXP(-bêta*(AK$15-$H20)))    +   (_C*EXP(-gamma*(AK$15-$H20 )))      )","v":0},{"$f":"  $G20/[0]!Poids      *      (     (A*EXP(-alpha*(AL$15-$H20)))     +      (B*EXP(-bêta*(AL$15-$H20)))    +   (_C*EXP(-gamma*(AL$15-$H20 )))      )","v":0},{"$f":"  $G20/[0]!Poids      *      (     (A*EXP(-alpha*(AM$15-$H20)))     +      (B*EXP(-bêta*(AM$15-$H20)))    +   (_C*EXP(-gamma*(AM$15-$H20 )))      )","v":0},{"$f":"  $G20/[0]!Poids      *      (     (A*EXP(-alpha*(AN$15-$H20)))     +      (B*EXP(-bêta*(AN$15-$H20)))    +   (_C*EXP(-gamma*(AN$15-$H20 )))      )","v":0},{"$f":"  $G20/[0]!Poids      *      (     (A*EXP(-alpha*(AO$15-$H20)))     +      (B*EXP(-bêta*(AO$15-$H20)))    +   (_C*EXP(-gamma*(AO$15-$H20 )))      )","v":0},{"$f":"  $G20/[0]!Poids      *      (     (A*EXP(-alpha*(AP$15-$H20)))     +      (B*EXP(-bêta*(AP$15-$H20)))    +   (_C*EXP(-gamma*(AP$15-$H20 )))      )","v":0},{"$f":"  $G20/[0]!Poids      *      (     (A*EXP(-alpha*(AQ$15-$H20)))     +      (B*EXP(-bêta*(AQ$15-$H20)))    +   (_C*EXP(-gamma*(AQ$15-$H20 )))      )","v":0},{"$f":"  $G20/[0]!Poids      *      (     (A*EXP(-alpha*(AR$15-$H20)))     +      (B*EXP(-bêta*(AR$15-$H20)))    +   (_C*EXP(-gamma*(AR$15-$H20 )))      )","v":0},{"$f":"  $G20/[0]!Poids      *      (     (A*EXP(-alpha*(AS$15-$H20)))     +      (B*EXP(-bêta*(AS$15-$H20)))    +   (_C*EXP(-gamma*(AS$15-$H20 )))      )","v":0},{"$f":"  $G20/[0]!Poids      *      (     (A*EXP(-alpha*(AT$15-$H20)))     +      (B*EXP(-bêta*(AT$15-$H20)))    +   (_C*EXP(-gamma*(AT$15-$H20 )))      )","v":0},{"$f":"  $G20/[0]!Poids      *      (     (A*EXP(-alpha*(AU$15-$H20)))     +      (B*EXP(-bêta*(AU$15-$H20)))    +   (_C*EXP(-gamma*(AU$15-$H20 )))      )","v":0},{"$f":"  $G20/[0]!Poids      *      (     (A*EXP(-alpha*(AV$15-$H20)))     +      (B*EXP(-bêta*(AV$15-$H20)))    +   (_C*EXP(-gamma*(AV$15-$H20 )))      )","v":0},{"$f":"  $G20/[0]!Poids      *      (     (A*EXP(-alpha*(AW$15-$H20)))     +      (B*EXP(-bêta*(AW$15-$H20)))    +   (_C*EXP(-gamma*(AW$15-$H20 )))      )","v":0},{"$f":"  $G20/[0]!Poids      *      (     (A*EXP(-alpha*(AX$15-$H20)))     +      (B*EXP(-bêta*(AX$15-$H20)))    +   (_C*EXP(-gamma*(AX$15-$H20 )))      )","v":0},{"$f":"  $G20/[0]!Poids      *      (     (A*EXP(-alpha*(AY$15-$H20)))     +      (B*EXP(-bêta*(AY$15-$H20)))    +   (_C*EXP(-gamma*(AY$15-$H20 )))      )","v":0},{"$f":"  $G20/[0]!Poids      *      (     (A*EXP(-alpha*(AZ$15-$H20)))     +      (B*EXP(-bêta*(AZ$15-$H20)))    +   (_C*EXP(-gamma*(AZ$15-$H20 )))      )","v":0},{"$f":"  $G20/[0]!Poids      *      (     (A*EXP(-alpha*(BA$15-$H20)))     +      (B*EXP(-bêta*(BA$15-$H20)))    +   (_C*EXP(-gamma*(BA$15-$H20 )))      )","v":0},{"$f":"  $G20/[0]!Poids      *      (     (A*EXP(-alpha*(BB$15-$H20)))     +      (B*EXP(-bêta*(BB$15-$H20)))    +   (_C*EXP(-gamma*(BB$15-$H20 )))      )","v":0},{"$f":"  $G20/[0]!Poids      *      (     (A*EXP(-alpha*(BC$15-$H20)))     +      (B*EXP(-bêta*(BC$15-$H20)))    +   (_C*EXP(-gamma*(BC$15-$H20 )))      )","v":0},{"$f":"  $G20/[0]!Poids      *      (     (A*EXP(-alpha*(BD$15-$H20)))     +      (B*EXP(-bêta*(BD$15-$H20)))    +   (_C*EXP(-gamma*(BD$15-$H20 )))      )","v":0},{"$f":"  $G20/[0]!Poids      *      (     (A*EXP(-alpha*(BE$15-$H20)))     +      (B*EXP(-bêta*(BE$15-$H20)))    +   (_C*EXP(-gamma*(BE$15-$H20 )))      )","v":0},{"$f":"  $G20/[0]!Poids      *      (     (A*EXP(-alpha*(BF$15-$H20)))     +      (B*EXP(-bêta*(BF$15-$H20)))    +   (_C*EXP(-gamma*(BF$15-$H20 )))      )","v":0},{"$f":"  $G20/[0]!Poids      *      (     (A*EXP(-alpha*(BG$15-$H20)))     +      (B*EXP(-bêta*(BG$15-$H20)))    +   (_C*EXP(-gamma*(BG$15-$H20 )))      )","v":0},{"$f":"  $G20/[0]!Poids      *      (     (A*EXP(-alpha*(BH$15-$H20)))     +      (B*EXP(-bêta*(BH$15-$H20)))    +   (_C*EXP(-gamma*(BH$15-$H20 )))      )","v":0},{"$f":"  $G20/[0]!Poids      *      (     (A*EXP(-alpha*(BI$15-$H20)))     +      (B*EXP(-bêta*(BI$15-$H20)))    +   (_C*EXP(-gamma*(BI$15-$H20 )))      )","v":0},{"$f":"  $G20/[0]!Poids      *      (     (A*EXP(-alpha*(BJ$15-$H20)))     +      (B*EXP(-bêta*(BJ$15-$H20)))    +   (_C*EXP(-gamma*(BJ$15-$H20 )))      )","v":0},{"$f":"  $G20/[0]!Poids      *      (     (A*EXP(-alpha*(BK$15-$H20)))     +      (B*EXP(-bêta*(BK$15-$H20)))    +   (_C*EXP(-gamma*(BK$15-$H20 )))      )","v":0},{"$f":"  $G20/[0]!Poids      *      (     (A*EXP(-alpha*(BL$15-$H20)))     +      (B*EXP(-bêta*(BL$15-$H20)))    +   (_C*EXP(-gamma*(BL$15-$H20 )))      )","v":0},{"$f":"  $G20/[0]!Poids      *      (     (A*EXP(-alpha*(BM$15-$H20)))     +      (B*EXP(-bêta*(BM$15-$H20)))    +   (_C*EXP(-gamma*(BM$15-$H20 )))      )","v":0},{"$f":"  $G20/[0]!Poids      *      (     (A*EXP(-alpha*(BN$15-$H20)))     +      (B*EXP(-bêta*(BN$15-$H20)))    +   (_C*EXP(-gamma*(BN$15-$H20 )))      )","v":0},{"$f":"  $G20/[0]!Poids      *      (     (A*EXP(-alpha*(BO$15-$H20)))     +      (B*EXP(-bêta*(BO$15-$H20)))    +   (_C*EXP(-gamma*(BO$15-$H20 )))      )","v":0},{"$f":"  $G20/[0]!Poids      *      (     (A*EXP(-alpha*(BP$15-$H20)))     +      (B*EXP(-bêta*(BP$15-$H20)))    +   (_C*EXP(-gamma*(BP$15-$H20 )))      )","v":0},{"$f":"  $G20/[0]!Poids      *      (     (A*EXP(-alpha*(BQ$15-$H20)))     +      (B*EXP(-bêta*(BQ$15-$H20)))    +   (_C*EXP(-gamma*(BQ$15-$H20 )))      )","v":0},{"$f":"  $G20/[0]!Poids      *      (     (A*EXP(-alpha*(BR$15-$H20)))     +      (B*EXP(-bêta*(BR$15-$H20)))    +   (_C*EXP(-gamma*(BR$15-$H20 )))      )","v":0}]
[null,"alpha",3.9399999999999998E-2,null,{"$f":"C21","v":3.9399999999999998E-2},null,{"$f":"O$10","v":0},25,null,null,null,null,null,null,{"$f":"  $G21/[0]!Poids      *      (     (A*EXP(-alpha*(O$15-$H21)))     +      (B*EXP(-bêta*(O$15-$H21)))    +   (_C*EXP(-gamma*(O$15-$H21 )))      )","v":0},{"$f":"  $G21/[0]!Poids      *      (     (A*EXP(-alpha*(P$15-$H21)))     +      (B*EXP(-bêta*(P$15-$H21)))    +   (_C*EXP(-gamma*(P$15-$H21 )))      )","v":0},{"$f":"  $G21/[0]!Poids      *      (     (A*EXP(-alpha*(Q$15-$H21)))     +      (B*EXP(-bêta*(Q$15-$H21)))    +   (_C*EXP(-gamma*(Q$15-$H21 )))      )","v":0},{"$f":"  $G21/[0]!Poids      *      (     (A*EXP(-alpha*(R$15-$H21)))     +      (B*EXP(-bêta*(R$15-$H21)))    +   (_C*EXP(-gamma*(R$15-$H21 )))      )","v":0},{"$f":"  $G21/[0]!Poids      *      (     (A*EXP(-alpha*(S$15-$H21)))     +      (B*EXP(-bêta*(S$15-$H21)))    +   (_C*EXP(-gamma*(S$15-$H21 )))      )","v":0},{"$f":"  $G21/[0]!Poids      *      (     (A*EXP(-alpha*(T$15-$H21)))     +      (B*EXP(-bêta*(T$15-$H21)))    +   (_C*EXP(-gamma*(T$15-$H21 )))      )","v":0},{"$f":"  $G21/[0]!Poids      *      (     (A*EXP(-alpha*(U$15-$H21)))     +      (B*EXP(-bêta*(U$15-$H21)))    +   (_C*EXP(-gamma*(U$15-$H21 )))      )","v":0},{"$f":"  $G21/[0]!Poids      *      (     (A*EXP(-alpha*(V$15-$H21)))     +      (B*EXP(-bêta*(V$15-$H21)))    +   (_C*EXP(-gamma*(V$15-$H21 )))      )","v":0},{"$f":"  $G21/[0]!Poids      *      (     (A*EXP(-alpha*(W$15-$H21)))     +      (B*EXP(-bêta*(W$15-$H21)))    +   (_C*EXP(-gamma*(W$15-$H21 )))      )","v":0},{"$f":"  $G21/[0]!Poids      *      (     (A*EXP(-alpha*(X$15-$H21)))     +      (B*EXP(-bêta*(X$15-$H21)))    +   (_C*EXP(-gamma*(X$15-$H21 )))      )","v":0},{"$f":"  $G21/[0]!Poids      *      (     (A*EXP(-alpha*(Y$15-$H21)))     +      (B*EXP(-bêta*(Y$15-$H21)))    +   (_C*EXP(-gamma*(Y$15-$H21 )))      )","v":0},{"$f":"  $G21/[0]!Poids      *      (     (A*EXP(-alpha*(Z$15-$H21)))     +      (B*EXP(-bêta*(Z$15-$H21)))    +   (_C*EXP(-gamma*(Z$15-$H21 )))      )","v":0},{"$f":"  $G21/[0]!Poids      *      (     (A*EXP(-alpha*(AA$15-$H21)))     +      (B*EXP(-bêta*(AA$15-$H21)))    +   (_C*EXP(-gamma*(AA$15-$H21 )))      )","v":0},{"$f":"  $G21/[0]!Poids      *      (     (A*EXP(-alpha*(AB$15-$H21)))     +      (B*EXP(-bêta*(AB$15-$H21)))    +   (_C*EXP(-gamma*(AB$15-$H21 )))      )","v":0},{"$f":"  $G21/[0]!Poids      *      (     (A*EXP(-alpha*(AC$15-$H21)))     +      (B*EXP(-bêta*(AC$15-$H21)))    +   (_C*EXP(-gamma*(AC$15-$H21 )))      )","v":0},{"$f":"  $G21/[0]!Poids      *      (     (A*EXP(-alpha*(AD$15-$H21)))     +      (B*EXP(-bêta*(AD$15-$H21)))    +   (_C*EXP(-gamma*(AD$15-$H21 )))      )","v":0},{"$f":"  $G21/[0]!Poids      *      (     (A*EXP(-alpha*(AE$15-$H21)))     +      (B*EXP(-bêta*(AE$15-$H21)))    +   (_C*EXP(-gamma*(AE$15-$H21 )))      )","v":0},{"$f":"  $G21/[0]!Poids      *      (     (A*EXP(-alpha*(AF$15-$H21)))     +      (B*EXP(-bêta*(AF$15-$H21)))    +   (_C*EXP(-gamma*(AF$15-$H21 )))      )","v":0},{"$f":"  $G21/[0]!Poids      *      (     (A*EXP(-alpha*(AG$15-$H21)))     +      (B*EXP(-bêta*(AG$15-$H21)))    +   (_C*EXP(-gamma*(AG$15-$H21 )))      )","v":0},{"$f":"  $G21/[0]!Poids      *      (     (A*EXP(-alpha*(AH$15-$H21)))     +      (B*EXP(-bêta*(AH$15-$H21)))    +   (_C*EXP(-gamma*(AH$15-$H21 )))      )","v":0},{"$f":"  $G21/[0]!Poids      *      (     (A*EXP(-alpha*(AI$15-$H21)))     +      (B*EXP(-bêta*(AI$15-$H21)))    +   (_C*EXP(-gamma*(AI$15-$H21 )))      )","v":0},{"$f":"  $G21/[0]!Poids      *      (     (A*EXP(-alpha*(AJ$15-$H21)))     +      (B*EXP(-bêta*(AJ$15-$H21)))    +   (_C*EXP(-gamma*(AJ$15-$H21 )))      )","v":0},{"$f":"  $G21/[0]!Poids      *      (     (A*EXP(-alpha*(AK$15-$H21)))     +      (B*EXP(-bêta*(AK$15-$H21)))    +   (_C*EXP(-gamma*(AK$15-$H21 )))      )","v":0},{"$f":"  $G21/[0]!Poids      *      (     (A*EXP(-alpha*(AL$15-$H21)))     +      (B*EXP(-bêta*(AL$15-$H21)))    +   (_C*EXP(-gamma*(AL$15-$H21 )))      )","v":0},{"$f":"  $G21/[0]!Poids      *      (     (A*EXP(-alpha*(AM$15-$H21)))     +      (B*EXP(-bêta*(AM$15-$H21)))    +   (_C*EXP(-gamma*(AM$15-$H21 )))      )","v":0},{"$f":"  $G21/[0]!Poids      *      (     (A*EXP(-alpha*(AN$15-$H21)))     +      (B*EXP(-bêta*(AN$15-$H21)))    +   (_C*EXP(-gamma*(AN$15-$H21 )))      )","v":0},{"$f":"  $G21/[0]!Poids      *      (     (A*EXP(-alpha*(AO$15-$H21)))     +      (B*EXP(-bêta*(AO$15-$H21)))    +   (_C*EXP(-gamma*(AO$15-$H21 )))      )","v":0},{"$f":"  $G21/[0]!Poids      *      (     (A*EXP(-alpha*(AP$15-$H21)))     +      (B*EXP(-bêta*(AP$15-$H21)))    +   (_C*EXP(-gamma*(AP$15-$H21 )))      )","v":0},{"$f":"  $G21/[0]!Poids      *      (     (A*EXP(-alpha*(AQ$15-$H21)))     +      (B*EXP(-bêta*(AQ$15-$H21)))    +   (_C*EXP(-gamma*(AQ$15-$H21 )))      )","v":0},{"$f":"  $G21/[0]!Poids      *      (     (A*EXP(-alpha*(AR$15-$H21)))     +      (B*EXP(-bêta*(AR$15-$H21)))    +   (_C*EXP(-gamma*(AR$15-$H21 )))      )","v":0},{"$f":"  $G21/[0]!Poids      *      (     (A*EXP(-alpha*(AS$15-$H21)))     +      (B*EXP(-bêta*(AS$15-$H21)))    +   (_C*EXP(-gamma*(AS$15-$H21 )))      )","v":0},{"$f":"  $G21/[0]!Poids      *      (     (A*EXP(-alpha*(AT$15-$H21)))     +      (B*EXP(-bêta*(AT$15-$H21)))    +   (_C*EXP(-gamma*(AT$15-$H21 )))      )","v":0},{"$f":"  $G21/[0]!Poids      *      (     (A*EXP(-alpha*(AU$15-$H21)))     +      (B*EXP(-bêta*(AU$15-$H21)))    +   (_C*EXP(-gamma*(AU$15-$H21 )))      )","v":0},{"$f":"  $G21/[0]!Poids      *      (     (A*EXP(-alpha*(AV$15-$H21)))     +      (B*EXP(-bêta*(AV$15-$H21)))    +   (_C*EXP(-gamma*(AV$15-$H21 )))      )","v":0},{"$f":"  $G21/[0]!Poids      *      (     (A*EXP(-alpha*(AW$15-$H21)))     +      (B*EXP(-bêta*(AW$15-$H21)))    +   (_C*EXP(-gamma*(AW$15-$H21 )))      )","v":0},{"$f":"  $G21/[0]!Poids      *      (     (A*EXP(-alpha*(AX$15-$H21)))     +      (B*EXP(-bêta*(AX$15-$H21)))    +   (_C*EXP(-gamma*(AX$15-$H21 )))      )","v":0},{"$f":"  $G21/[0]!Poids      *      (     (A*EXP(-alpha*(AY$15-$H21)))     +      (B*EXP(-bêta*(AY$15-$H21)))    +   (_C*EXP(-gamma*(AY$15-$H21 )))      )","v":0},{"$f":"  $G21/[0]!Poids      *      (     (A*EXP(-alpha*(AZ$15-$H21)))     +      (B*EXP(-bêta*(AZ$15-$H21)))    +   (_C*EXP(-gamma*(AZ$15-$H21 )))      )","v":0},{"$f":"  $G21/[0]!Poids      *      (     (A*EXP(-alpha*(BA$15-$H21)))     +      (B*EXP(-bêta*(BA$15-$H21)))    +   (_C*EXP(-gamma*(BA$15-$H21 )))      )","v":0},{"$f":"  $G21/[0]!Poids      *      (     (A*EXP(-alpha*(BB$15-$H21)))     +      (B*EXP(-bêta*(BB$15-$H21)))    +   (_C*EXP(-gamma*(BB$15-$H21 )))      )","v":0},{"$f":"  $G21/[0]!Poids      *      (     (A*EXP(-alpha*(BC$15-$H21)))     +      (B*EXP(-bêta*(BC$15-$H21)))    +   (_C*EXP(-gamma*(BC$15-$H21 )))      )","v":0},{"$f":"  $G21/[0]!Poids      *      (     (A*EXP(-alpha*(BD$15-$H21)))     +      (B*EXP(-bêta*(BD$15-$H21)))    +   (_C*EXP(-gamma*(BD$15-$H21 )))      )","v":0},{"$f":"  $G21/[0]!Poids      *      (     (A*EXP(-alpha*(BE$15-$H21)))     +      (B*EXP(-bêta*(BE$15-$H21)))    +   (_C*EXP(-gamma*(BE$15-$H21 )))      )","v":0},{"$f":"  $G21/[0]!Poids      *      (     (A*EXP(-alpha*(BF$15-$H21)))     +      (B*EXP(-bêta*(BF$15-$H21)))    +   (_C*EXP(-gamma*(BF$15-$H21 )))      )","v":0},{"$f":"  $G21/[0]!Poids      *      (     (A*EXP(-alpha*(BG$15-$H21)))     +      (B*EXP(-bêta*(BG$15-$H21)))    +   (_C*EXP(-gamma*(BG$15-$H21 )))      )","v":0},{"$f":"  $G21/[0]!Poids      *      (     (A*EXP(-alpha*(BH$15-$H21)))     +      (B*EXP(-bêta*(BH$15-$H21)))    +   (_C*EXP(-gamma*(BH$15-$H21 )))      )","v":0},{"$f":"  $G21/[0]!Poids      *      (     (A*EXP(-alpha*(BI$15-$H21)))     +      (B*EXP(-bêta*(BI$15-$H21)))    +   (_C*EXP(-gamma*(BI$15-$H21 )))      )","v":0},{"$f":"  $G21/[0]!Poids      *      (     (A*EXP(-alpha*(BJ$15-$H21)))     +      (B*EXP(-bêta*(BJ$15-$H21)))    +   (_C*EXP(-gamma*(BJ$15-$H21 )))      )","v":0},{"$f":"  $G21/[0]!Poids      *      (     (A*EXP(-alpha*(BK$15-$H21)))     +      (B*EXP(-bêta*(BK$15-$H21)))    +   (_C*EXP(-gamma*(BK$15-$H21 )))      )","v":0},{"$f":"  $G21/[0]!Poids      *      (     (A*EXP(-alpha*(BL$15-$H21)))     +      (B*EXP(-bêta*(BL$15-$H21)))    +   (_C*EXP(-gamma*(BL$15-$H21 )))      )","v":0},{"$f":"  $G21/[0]!Poids      *      (     (A*EXP(-alpha*(BM$15-$H21)))     +      (B*EXP(-bêta*(BM$15-$H21)))    +   (_C*EXP(-gamma*(BM$15-$H21 )))      )","v":0},{"$f":"  $G21/[0]!Poids      *      (     (A*EXP(-alpha*(BN$15-$H21)))     +      (B*EXP(-bêta*(BN$15-$H21)))    +   (_C*EXP(-gamma*(BN$15-$H21 )))      )","v":0},{"$f":"  $G21/[0]!Poids      *      (     (A*EXP(-alpha*(BO$15-$H21)))     +      (B*EXP(-bêta*(BO$15-$H21)))    +   (_C*EXP(-gamma*(BO$15-$H21 )))      )","v":0},{"$f":"  $G21/[0]!Poids      *      (     (A*EXP(-alpha*(BP$15-$H21)))     +      (B*EXP(-bêta*(BP$15-$H21)))    +   (_C*EXP(-gamma*(BP$15-$H21 )))      )","v":0},{"$f":"  $G21/[0]!Poids      *      (     (A*EXP(-alpha*(BQ$15-$H21)))     +      (B*EXP(-bêta*(BQ$15-$H21)))    +   (_C*EXP(-gamma*(BQ$15-$H21 )))      )","v":0},{"$f":"  $G21/[0]!Poids      *      (     (A*EXP(-alpha*(BR$15-$H21)))     +      (B*EXP(-bêta*(BR$15-$H21)))    +   (_C*EXP(-gamma*(BR$15-$H21 )))      )","v":0}]
[null,"bêta",3.8E-3,null,{"$f":"C22","v":3.8E-3},null,{"$f":"P$10","v":0},30,null,null,null,null,null,null,null,{"$f":"  $G22/[0]!Poids      *      (     (A*EXP(-alpha*(P$15-$H22)))     +      (B*EXP(-bêta*(P$15-$H22)))    +   (_C*EXP(-gamma*(P$15-$H22 )))      )","v":0},{"$f":"  $G22/[0]!Poids      *      (     (A*EXP(-alpha*(Q$15-$H22)))     +      (B*EXP(-bêta*(Q$15-$H22)))    +   (_C*EXP(-gamma*(Q$15-$H22 )))      )","v":0},{"$f":"  $G22/[0]!Poids      *      (     (A*EXP(-alpha*(R$15-$H22)))     +      (B*EXP(-bêta*(R$15-$H22)))    +   (_C*EXP(-gamma*(R$15-$H22 )))      )","v":0},{"$f":"  $G22/[0]!Poids      *      (     (A*EXP(-alpha*(S$15-$H22)))     +      (B*EXP(-bêta*(S$15-$H22)))    +   (_C*EXP(-gamma*(S$15-$H22 )))      )","v":0},{"$f":"  $G22/[0]!Poids      *      (     (A*EXP(-alpha*(T$15-$H22)))     +      (B*EXP(-bêta*(T$15-$H22)))    +   (_C*EXP(-gamma*(T$15-$H22 )))      )","v":0},{"$f":"  $G22/[0]!Poids      *      (     (A*EXP(-alpha*(U$15-$H22)))     +      (B*EXP(-bêta*(U$15-$H22)))    +   (_C*EXP(-gamma*(U$15-$H22 )))      )","v":0},{"$f":"  $G22/[0]!Poids      *      (     (A*EXP(-alpha*(V$15-$H22)))     +      (B*EXP(-bêta*(V$15-$H22)))    +   (_C*EXP(-gamma*(V$15-$H22 )))      )","v":0},{"$f":"  $G22/[0]!Poids      *      (     (A*EXP(-alpha*(W$15-$H22)))     +      (B*EXP(-bêta*(W$15-$H22)))    +   (_C*EXP(-gamma*(W$15-$H22 )))      )","v":0},{"$f":"  $G22/[0]!Poids      *      (     (A*EXP(-alpha*(X$15-$H22)))     +      (B*EXP(-bêta*(X$15-$H22)))    +   (_C*EXP(-gamma*(X$15-$H22 )))      )","v":0},{"$f":"  $G22/[0]!Poids      *      (     (A*EXP(-alpha*(Y$15-$H22)))     +      (B*EXP(-bêta*(Y$15-$H22)))    +   (_C*EXP(-gamma*(Y$15-$H22 )))      )","v":0},{"$f":"  $G22/[0]!Poids      *      (     (A*EXP(-alpha*(Z$15-$H22)))     +      (B*EXP(-bêta*(Z$15-$H22)))    +   (_C*EXP(-gamma*(Z$15-$H22 )))      )","v":0},{"$f":"  $G22/[0]!Poids      *      (     (A*EXP(-alpha*(AA$15-$H22)))     +      (B*EXP(-bêta*(AA$15-$H22)))    +   (_C*EXP(-gamma*(AA$15-$H22 )))      )","v":0},{"$f":"  $G22/[0]!Poids      *      (     (A*EXP(-alpha*(AB$15-$H22)))     +      (B*EXP(-bêta*(AB$15-$H22)))    +   (_C*EXP(-gamma*(AB$15-$H22 )))      )","v":0},{"$f":"  $G22/[0]!Poids      *      (     (A*EXP(-alpha*(AC$15-$H22)))     +      (B*EXP(-bêta*(AC$15-$H22)))    +   (_C*EXP(-gamma*(AC$15-$H22 )))      )","v":0},{"$f":"  $G22/[0]!Poids      *      (     (A*EXP(-alpha*(AD$15-$H22)))     +      (B*EXP(-bêta*(AD$15-$H22)))    +   (_C*EXP(-gamma*(AD$15-$H22 )))      )","v":0},{"$f":"  $G22/[0]!Poids      *      (     (A*EXP(-alpha*(AE$15-$H22)))     +      (B*EXP(-bêta*(AE$15-$H22)))    +   (_C*EXP(-gamma*(AE$15-$H22 )))      )","v":0},{"$f":"  $G22/[0]!Poids      *      (     (A*EXP(-alpha*(AF$15-$H22)))     +      (B*EXP(-bêta*(AF$15-$H22)))    +   (_C*EXP(-gamma*(AF$15-$H22 )))      )","v":0},{"$f":"  $G22/[0]!Poids      *      (     (A*EXP(-alpha*(AG$15-$H22)))     +      (B*EXP(-bêta*(AG$15-$H22)))    +   (_C*EXP(-gamma*(AG$15-$H22 )))      )","v":0},{"$f":"  $G22/[0]!Poids      *      (     (A*EXP(-alpha*(AH$15-$H22)))     +      (B*EXP(-bêta*(AH$15-$H22)))    +   (_C*EXP(-gamma*(AH$15-$H22 )))      )","v":0},{"$f":"  $G22/[0]!Poids      *      (     (A*EXP(-alpha*(AI$15-$H22)))     +      (B*EXP(-bêta*(AI$15-$H22)))    +   (_C*EXP(-gamma*(AI$15-$H22 )))      )","v":0},{"$f":"  $G22/[0]!Poids      *      (     (A*EXP(-alpha*(AJ$15-$H22)))     +      (B*EXP(-bêta*(AJ$15-$H22)))    +   (_C*EXP(-gamma*(AJ$15-$H22 )))      )","v":0},{"$f":"  $G22/[0]!Poids      *      (     (A*EXP(-alpha*(AK$15-$H22)))     +      (B*EXP(-bêta*(AK$15-$H22)))    +   (_C*EXP(-gamma*(AK$15-$H22 )))      )","v":0},{"$f":"  $G22/[0]!Poids      *      (     (A*EXP(-alpha*(AL$15-$H22)))     +      (B*EXP(-bêta*(AL$15-$H22)))    +   (_C*EXP(-gamma*(AL$15-$H22 )))      )","v":0},{"$f":"  $G22/[0]!Poids      *      (     (A*EXP(-alpha*(AM$15-$H22)))     +      (B*EXP(-bêta*(AM$15-$H22)))    +   (_C*EXP(-gamma*(AM$15-$H22 )))      )","v":0},{"$f":"  $G22/[0]!Poids      *      (     (A*EXP(-alpha*(AN$15-$H22)))     +      (B*EXP(-bêta*(AN$15-$H22)))    +   (_C*EXP(-gamma*(AN$15-$H22 )))      )","v":0},{"$f":"  $G22/[0]!Poids      *      (     (A*EXP(-alpha*(AO$15-$H22)))     +      (B*EXP(-bêta*(AO$15-$H22)))    +   (_C*EXP(-gamma*(AO$15-$H22 )))      )","v":0},{"$f":"  $G22/[0]!Poids      *      (     (A*EXP(-alpha*(AP$15-$H22)))     +      (B*EXP(-bêta*(AP$15-$H22)))    +   (_C*EXP(-gamma*(AP$15-$H22 )))      )","v":0},{"$f":"  $G22/[0]!Poids      *      (     (A*EXP(-alpha*(AQ$15-$H22)))     +      (B*EXP(-bêta*(AQ$15-$H22)))    +   (_C*EXP(-gamma*(AQ$15-$H22 )))      )","v":0},{"$f":"  $G22/[0]!Poids      *      (     (A*EXP(-alpha*(AR$15-$H22)))     +      (B*EXP(-bêta*(AR$15-$H22)))    +   (_C*EXP(-gamma*(AR$15-$H22 )))      )","v":0},{"$f":"  $G22/[0]!Poids      *      (     (A*EXP(-alpha*(AS$15-$H22)))     +      (B*EXP(-bêta*(AS$15-$H22)))    +   (_C*EXP(-gamma*(AS$15-$H22 )))      )","v":0},{"$f":"  $G22/[0]!Poids      *      (     (A*EXP(-alpha*(AT$15-$H22)))     +      (B*EXP(-bêta*(AT$15-$H22)))    +   (_C*EXP(-gamma*(AT$15-$H22 )))      )","v":0},{"$f":"  $G22/[0]!Poids      *      (     (A*EXP(-alpha*(AU$15-$H22)))     +      (B*EXP(-bêta*(AU$15-$H22)))    +   (_C*EXP(-gamma*(AU$15-$H22 )))      )","v":0},{"$f":"  $G22/[0]!Poids      *      (     (A*EXP(-alpha*(AV$15-$H22)))     +      (B*EXP(-bêta*(AV$15-$H22)))    +   (_C*EXP(-gamma*(AV$15-$H22 )))      )","v":0},{"$f":"  $G22/[0]!Poids      *      (     (A*EXP(-alpha*(AW$15-$H22)))     +      (B*EXP(-bêta*(AW$15-$H22)))    +   (_C*EXP(-gamma*(AW$15-$H22 )))      )","v":0},{"$f":"  $G22/[0]!Poids      *      (     (A*EXP(-alpha*(AX$15-$H22)))     +      (B*EXP(-bêta*(AX$15-$H22)))    +   (_C*EXP(-gamma*(AX$15-$H22 )))      )","v":0},{"$f":"  $G22/[0]!Poids      *      (     (A*EXP(-alpha*(AY$15-$H22)))     +      (B*EXP(-bêta*(AY$15-$H22)))    +   (_C*EXP(-gamma*(AY$15-$H22 )))      )","v":0},{"$f":"  $G22/[0]!Poids      *      (     (A*EXP(-alpha*(AZ$15-$H22)))     +      (B*EXP(-bêta*(AZ$15-$H22)))    +   (_C*EXP(-gamma*(AZ$15-$H22 )))      )","v":0},{"$f":"  $G22/[0]!Poids      *      (     (A*EXP(-alpha*(BA$15-$H22)))     +      (B*EXP(-bêta*(BA$15-$H22)))    +   (_C*EXP(-gamma*(BA$15-$H22 )))      )","v":0},{"$f":"  $G22/[0]!Poids      *      (     (A*EXP(-alpha*(BB$15-$H22)))     +      (B*EXP(-bêta*(BB$15-$H22)))    +   (_C*EXP(-gamma*(BB$15-$H22 )))      )","v":0},{"$f":"  $G22/[0]!Poids      *      (     (A*EXP(-alpha*(BC$15-$H22)))     +      (B*EXP(-bêta*(BC$15-$H22)))    +   (_C*EXP(-gamma*(BC$15-$H22 )))      )","v":0},{"$f":"  $G22/[0]!Poids      *      (     (A*EXP(-alpha*(BD$15-$H22)))     +      (B*EXP(-bêta*(BD$15-$H22)))    +   (_C*EXP(-gamma*(BD$15-$H22 )))      )","v":0},{"$f":"  $G22/[0]!Poids      *      (     (A*EXP(-alpha*(BE$15-$H22)))     +      (B*EXP(-bêta*(BE$15-$H22)))    +   (_C*EXP(-gamma*(BE$15-$H22 )))      )","v":0},{"$f":"  $G22/[0]!Poids      *      (     (A*EXP(-alpha*(BF$15-$H22)))     +      (B*EXP(-bêta*(BF$15-$H22)))    +   (_C*EXP(-gamma*(BF$15-$H22 )))      )","v":0},{"$f":"  $G22/[0]!Poids      *      (     (A*EXP(-alpha*(BG$15-$H22)))     +      (B*EXP(-bêta*(BG$15-$H22)))    +   (_C*EXP(-gamma*(BG$15-$H22 )))      )","v":0},{"$f":"  $G22/[0]!Poids      *      (     (A*EXP(-alpha*(BH$15-$H22)))     +      (B*EXP(-bêta*(BH$15-$H22)))    +   (_C*EXP(-gamma*(BH$15-$H22 )))      )","v":0},{"$f":"  $G22/[0]!Poids      *      (     (A*EXP(-alpha*(BI$15-$H22)))     +      (B*EXP(-bêta*(BI$15-$H22)))    +   (_C*EXP(-gamma*(BI$15-$H22 )))      )","v":0},{"$f":"  $G22/[0]!Poids      *      (     (A*EXP(-alpha*(BJ$15-$H22)))     +      (B*EXP(-bêta*(BJ$15-$H22)))    +   (_C*EXP(-gamma*(BJ$15-$H22 )))      )","v":0},{"$f":"  $G22/[0]!Poids      *      (     (A*EXP(-alpha*(BK$15-$H22)))     +      (B*EXP(-bêta*(BK$15-$H22)))    +   (_C*EXP(-gamma*(BK$15-$H22 )))      )","v":0},{"$f":"  $G22/[0]!Poids      *      (     (A*EXP(-alpha*(BL$15-$H22)))     +      (B*EXP(-bêta*(BL$15-$H22)))    +   (_C*EXP(-gamma*(BL$15-$H22 )))      )","v":0},{"$f":"  $G22/[0]!Poids      *      (     (A*EXP(-alpha*(BM$15-$H22)))     +      (B*EXP(-bêta*(BM$15-$H22)))    +   (_C*EXP(-gamma*(BM$15-$H22 )))      )","v":0},{"$f":"  $G22/[0]!Poids      *      (     (A*EXP(-alpha*(BN$15-$H22)))     +      (B*EXP(-bêta*(BN$15-$H22)))    +   (_C*EXP(-gamma*(BN$15-$H22 )))      )","v":0},{"$f":"  $G22/[0]!Poids      *      (     (A*EXP(-alpha*(BO$15-$H22)))     +      (B*EXP(-bêta*(BO$15-$H22)))    +   (_C*EXP(-gamma*(BO$15-$H22 )))      )","v":0},{"$f":"  $G22/[0]!Poids      *      (     (A*EXP(-alpha*(BP$15-$H22)))     +      (B*EXP(-bêta*(BP$15-$H22)))    +   (_C*EXP(-gamma*(BP$15-$H22 )))      )","v":0},{"$f":"  $G22/[0]!Poids      *      (     (A*EXP(-alpha*(BQ$15-$H22)))     +      (B*EXP(-bêta*(BQ$15-$H22)))    +   (_C*EXP(-gamma*(BQ$15-$H22 )))      )","v":0},{"$f":"  $G22/[0]!Poids      *      (     (A*EXP(-alpha*(BR$15-$H22)))     +      (B*EXP(-bêta*(BR$15-$H22)))    +   (_C*EXP(-gamma*(BR$15-$H22 )))      )","v":0}]
[null,"gamma",null,null,0,null,{"$f":"Q$10","v":0},35,null,null,null,null,null,null,null,null,{"$f":"  $G23/[0]!Poids      *      (     (A*EXP(-alpha*(Q$15-$H23)))     +      (B*EXP(-bêta*(Q$15-$H23)))    +   (_C*EXP(-gamma*(Q$15-$H23 )))      )","v":0},{"$f":"  $G23/[0]!Poids      *      (     (A*EXP(-alpha*(R$15-$H23)))     +      (B*EXP(-bêta*(R$15-$H23)))    +   (_C*EXP(-gamma*(R$15-$H23 )))      )","v":0},{"$f":"  $G23/[0]!Poids      *      (     (A*EXP(-alpha*(S$15-$H23)))     +      (B*EXP(-bêta*(S$15-$H23)))    +   (_C*EXP(-gamma*(S$15-$H23 )))      )","v":0},{"$f":"  $G23/[0]!Poids      *      (     (A*EXP(-alpha*(T$15-$H23)))     +      (B*EXP(-bêta*(T$15-$H23)))    +   (_C*EXP(-gamma*(T$15-$H23 )))      )","v":0},{"$f":"  $G23/[0]!Poids      *      (     (A*EXP(-alpha*(U$15-$H23)))     +      (B*EXP(-bêta*(U$15-$H23)))    +   (_C*EXP(-gamma*(U$15-$H23 )))      )","v":0},{"$f":"  $G23/[0]!Poids      *      (     (A*EXP(-alpha*(V$15-$H23)))     +      (B*EXP(-bêta*(V$15-$H23)))    +   (_C*EXP(-gamma*(V$15-$H23 )))      )","v":0},{"$f":"  $G23/[0]!Poids      *      (     (A*EXP(-alpha*(W$15-$H23)))     +      (B*EXP(-bêta*(W$15-$H23)))    +   (_C*EXP(-gamma*(W$15-$H23 )))      )","v":0},{"$f":"  $G23/[0]!Poids      *      (     (A*EXP(-alpha*(X$15-$H23)))     +      (B*EXP(-bêta*(X$15-$H23)))    +   (_C*EXP(-gamma*(X$15-$H23 )))      )","v":0},{"$f":"  $G23/[0]!Poids      *      (     (A*EXP(-alpha*(Y$15-$H23)))     +      (B*EXP(-bêta*(Y$15-$H23)))    +   (_C*EXP(-gamma*(Y$15-$H23 )))      )","v":0},{"$f":"  $G23/[0]!Poids      *      (     (A*EXP(-alpha*(Z$15-$H23)))     +      (B*EXP(-bêta*(Z$15-$H23)))    +   (_C*EXP(-gamma*(Z$15-$H23 )))      )","v":0},{"$f":"  $G23/[0]!Poids      *      (     (A*EXP(-alpha*(AA$15-$H23)))     +      (B*EXP(-bêta*(AA$15-$H23)))    +   (_C*EXP(-gamma*(AA$15-$H23 )))      )","v":0},{"$f":"  $G23/[0]!Poids      *      (     (A*EXP(-alpha*(AB$15-$H23)))     +      (B*EXP(-bêta*(AB$15-$H23)))    +   (_C*EXP(-gamma*(AB$15-$H23 )))      )","v":0},{"$f":"  $G23/[0]!Poids      *      (     (A*EXP(-alpha*(AC$15-$H23)))     +      (B*EXP(-bêta*(AC$15-$H23)))    +   (_C*EXP(-gamma*(AC$15-$H23 )))      )","v":0},{"$f":"  $G23/[0]!Poids      *      (     (A*EXP(-alpha*(AD$15-$H23)))     +      (B*EXP(-bêta*(AD$15-$H23)))    +   (_C*EXP(-gamma*(AD$15-$H23 )))      )","v":0},{"$f":"  $G23/[0]!Poids      *      (     (A*EXP(-alpha*(AE$15-$H23)))     +      (B*EXP(-bêta*(AE$15-$H23)))    +   (_C*EXP(-gamma*(AE$15-$H23 )))      )","v":0},{"$f":"  $G23/[0]!Poids      *      (     (A*EXP(-alpha*(AF$15-$H23)))     +      (B*EXP(-bêta*(AF$15-$H23)))    +   (_C*EXP(-gamma*(AF$15-$H23 )))      )","v":0},{"$f":"  $G23/[0]!Poids      *      (     (A*EXP(-alpha*(AG$15-$H23)))     +      (B*EXP(-bêta*(AG$15-$H23)))    +   (_C*EXP(-gamma*(AG$15-$H23 )))      )","v":0},{"$f":"  $G23/[0]!Poids      *      (     (A*EXP(-alpha*(AH$15-$H23)))     +      (B*EXP(-bêta*(AH$15-$H23)))    +   (_C*EXP(-gamma*(AH$15-$H23 )))      )","v":0},{"$f":"  $G23/[0]!Poids      *      (     (A*EXP(-alpha*(AI$15-$H23)))     +      (B*EXP(-bêta*(AI$15-$H23)))    +   (_C*EXP(-gamma*(AI$15-$H23 )))      )","v":0},{"$f":"  $G23/[0]!Poids      *      (     (A*EXP(-alpha*(AJ$15-$H23)))     +      (B*EXP(-bêta*(AJ$15-$H23)))    +   (_C*EXP(-gamma*(AJ$15-$H23 )))      )","v":0},{"$f":"  $G23/[0]!Poids      *      (     (A*EXP(-alpha*(AK$15-$H23)))     +      (B*EXP(-bêta*(AK$15-$H23)))    +   (_C*EXP(-gamma*(AK$15-$H23 )))      )","v":0},{"$f":"  $G23/[0]!Poids      *      (     (A*EXP(-alpha*(AL$15-$H23)))     +      (B*EXP(-bêta*(AL$15-$H23)))    +   (_C*EXP(-gamma*(AL$15-$H23 )))      )","v":0},{"$f":"  $G23/[0]!Poids      *      (     (A*EXP(-alpha*(AM$15-$H23)))     +      (B*EXP(-bêta*(AM$15-$H23)))    +   (_C*EXP(-gamma*(AM$15-$H23 )))      )","v":0},{"$f":"  $G23/[0]!Poids      *      (     (A*EXP(-alpha*(AN$15-$H23)))     +      (B*EXP(-bêta*(AN$15-$H23)))    +   (_C*EXP(-gamma*(AN$15-$H23 )))      )","v":0},{"$f":"  $G23/[0]!Poids      *      (     (A*EXP(-alpha*(AO$15-$H23)))     +      (B*EXP(-bêta*(AO$15-$H23)))    +   (_C*EXP(-gamma*(AO$15-$H23 )))      )","v":0},{"$f":"  $G23/[0]!Poids      *      (     (A*EXP(-alpha*(AP$15-$H23)))     +      (B*EXP(-bêta*(AP$15-$H23)))    +   (_C*EXP(-gamma*(AP$15-$H23 )))      )","v":0},{"$f":"  $G23/[0]!Poids      *      (     (A*EXP(-alpha*(AQ$15-$H23)))     +      (B*EXP(-bêta*(AQ$15-$H23)))    +   (_C*EXP(-gamma*(AQ$15-$H23 )))      )","v":0},{"$f":"  $G23/[0]!Poids      *      (     (A*EXP(-alpha*(AR$15-$H23)))     +      (B*EXP(-bêta*(AR$15-$H23)))    +   (_C*EXP(-gamma*(AR$15-$H23 )))      )","v":0},{"$f":"  $G23/[0]!Poids      *      (     (A*EXP(-alpha*(AS$15-$H23)))     +      (B*EXP(-bêta*(AS$15-$H23)))    +   (_C*EXP(-gamma*(AS$15-$H23 )))      )","v":0},{"$f":"  $G23/[0]!Poids      *      (     (A*EXP(-alpha*(AT$15-$H23)))     +      (B*EXP(-bêta*(AT$15-$H23)))    +   (_C*EXP(-gamma*(AT$15-$H23 )))      )","v":0},{"$f":"  $G23/[0]!Poids      *      (     (A*EXP(-alpha*(AU$15-$H23)))     +      (B*EXP(-bêta*(AU$15-$H23)))    +   (_C*EXP(-gamma*(AU$15-$H23 )))      )","v":0},{"$f":"  $G23/[0]!Poids      *      (     (A*EXP(-alpha*(AV$15-$H23)))     +      (B*EXP(-bêta*(AV$15-$H23)))    +   (_C*EXP(-gamma*(AV$15-$H23 )))      )","v":0},{"$f":"  $G23/[0]!Poids      *      (     (A*EXP(-alpha*(AW$15-$H23)))     +      (B*EXP(-bêta*(AW$15-$H23)))    +   (_C*EXP(-gamma*(AW$15-$H23 )))      )","v":0},{"$f":"  $G23/[0]!Poids      *      (     (A*EXP(-alpha*(AX$15-$H23)))     +      (B*EXP(-bêta*(AX$15-$H23)))    +   (_C*EXP(-gamma*(AX$15-$H23 )))      )","v":0},{"$f":"  $G23/[0]!Poids      *      (     (A*EXP(-alpha*(AY$15-$H23)))     +      (B*EXP(-bêta*(AY$15-$H23)))    +   (_C*EXP(-gamma*(AY$15-$H23 )))      )","v":0},{"$f":"  $G23/[0]!Poids      *      (     (A*EXP(-alpha*(AZ$15-$H23)))     +      (B*EXP(-bêta*(AZ$15-$H23)))    +   (_C*EXP(-gamma*(AZ$15-$H23 )))      )","v":0},{"$f":"  $G23/[0]!Poids      *      (     (A*EXP(-alpha*(BA$15-$H23)))     +      (B*EXP(-bêta*(BA$15-$H23)))    +   (_C*EXP(-gamma*(BA$15-$H23 )))      )","v":0},{"$f":"  $G23/[0]!Poids      *      (     (A*EXP(-alpha*(BB$15-$H23)))     +      (B*EXP(-bêta*(BB$15-$H23)))    +   (_C*EXP(-gamma*(BB$15-$H23 )))      )","v":0},{"$f":"  $G23/[0]!Poids      *      (     (A*EXP(-alpha*(BC$15-$H23)))     +      (B*EXP(-bêta*(BC$15-$H23)))    +   (_C*EXP(-gamma*(BC$15-$H23 )))      )","v":0},{"$f":"  $G23/[0]!Poids      *      (     (A*EXP(-alpha*(BD$15-$H23)))     +      (B*EXP(-bêta*(BD$15-$H23)))    +   (_C*EXP(-gamma*(BD$15-$H23 )))      )","v":0},{"$f":"  $G23/[0]!Poids      *      (     (A*EXP(-alpha*(BE$15-$H23)))     +      (B*EXP(-bêta*(BE$15-$H23)))    +   (_C*EXP(-gamma*(BE$15-$H23 )))      )","v":0},{"$f":"  $G23/[0]!Poids      *      (     (A*EXP(-alpha*(BF$15-$H23)))     +      (B*EXP(-bêta*(BF$15-$H23)))    +   (_C*EXP(-gamma*(BF$15-$H23 )))      )","v":0},{"$f":"  $G23/[0]!Poids      *      (     (A*EXP(-alpha*(BG$15-$H23)))     +      (B*EXP(-bêta*(BG$15-$H23)))    +   (_C*EXP(-gamma*(BG$15-$H23 )))      )","v":0},{"$f":"  $G23/[0]!Poids      *      (     (A*EXP(-alpha*(BH$15-$H23)))     +      (B*EXP(-bêta*(BH$15-$H23)))    +   (_C*EXP(-gamma*(BH$15-$H23 )))      )","v":0},{"$f":"  $G23/[0]!Poids      *      (     (A*EXP(-alpha*(BI$15-$H23)))     +      (B*EXP(-bêta*(BI$15-$H23)))    +   (_C*EXP(-gamma*(BI$15-$H23 )))      )","v":0},{"$f":"  $G23/[0]!Poids      *      (     (A*EXP(-alpha*(BJ$15-$H23)))     +      (B*EXP(-bêta*(BJ$15-$H23)))    +   (_C*EXP(-gamma*(BJ$15-$H23 )))      )","v":0},{"$f":"  $G23/[0]!Poids      *      (     (A*EXP(-alpha*(BK$15-$H23)))     +      (B*EXP(-bêta*(BK$15-$H23)))    +   (_C*EXP(-gamma*(BK$15-$H23 )))      )","v":0},{"$f":"  $G23/[0]!Poids      *      (     (A*EXP(-alpha*(BL$15-$H23)))     +      (B*EXP(-bêta*(BL$15-$H23)))    +   (_C*EXP(-gamma*(BL$15-$H23 )))      )","v":0},{"$f":"  $G23/[0]!Poids      *      (     (A*EXP(-alpha*(BM$15-$H23)))     +      (B*EXP(-bêta*(BM$15-$H23)))    +   (_C*EXP(-gamma*(BM$15-$H23 )))      )","v":0},{"$f":"  $G23/[0]!Poids      *      (     (A*EXP(-alpha*(BN$15-$H23)))     +      (B*EXP(-bêta*(BN$15-$H23)))    +   (_C*EXP(-gamma*(BN$15-$H23 )))      )","v":0},{"$f":"  $G23/[0]!Poids      *      (     (A*EXP(-alpha*(BO$15-$H23)))     +      (B*EXP(-bêta*(BO$15-$H23)))    +   (_C*EXP(-gamma*(BO$15-$H23 )))      )","v":0},{"$f":"  $G23/[0]!Poids      *      (     (A*EXP(-alpha*(BP$15-$H23)))     +      (B*EXP(-bêta*(BP$15-$H23)))    +   (_C*EXP(-gamma*(BP$15-$H23 )))      )","v":0},{"$f":"  $G23/[0]!Poids      *      (     (A*EXP(-alpha*(BQ$15-$H23)))     +      (B*EXP(-bêta*(BQ$15-$H23)))    +   (_C*EXP(-gamma*(BQ$15-$H23 )))      )","v":0},{"$f":"  $G23/[0]!Poids      *      (     (A*EXP(-alpha*(BR$15-$H23)))     +      (B*EXP(-bêta*(BR$15-$H23)))    +   (_C*EXP(-gamma*(BR$15-$H23 )))      )","v":0}]
[null,null,null,null,null,null,{"$f":"R$10","v":0},40,null,null,null,null,null,null,null,null,null,{"$f":"  $G24/[0]!Poids      *      (     (A*EXP(-alpha*(R$15-$H24)))     +      (B*EXP(-bêta*(R$15-$H24)))    +   (_C*EXP(-gamma*(R$15-$H24 )))      )","v":0},{"$f":"  $G24/[0]!Poids      *      (     (A*EXP(-alpha*(S$15-$H24)))     +      (B*EXP(-bêta*(S$15-$H24)))    +   (_C*EXP(-gamma*(S$15-$H24 )))      )","v":0},{"$f":"  $G24/[0]!Poids      *      (     (A*EXP(-alpha*(T$15-$H24)))     +      (B*EXP(-bêta*(T$15-$H24)))    +   (_C*EXP(-gamma*(T$15-$H24 )))      )","v":0},{"$f":"  $G24/[0]!Poids      *      (     (A*EXP(-alpha*(U$15-$H24)))     +      (B*EXP(-bêta*(U$15-$H24)))    +   (_C*EXP(-gamma*(U$15-$H24 )))      )","v":0},{"$f":"  $G24/[0]!Poids      *      (     (A*EXP(-alpha*(V$15-$H24)))     +      (B*EXP(-bêta*(V$15-$H24)))    +   (_C*EXP(-gamma*(V$15-$H24 )))      )","v":0},{"$f":"  $G24/[0]!Poids      *      (     (A*EXP(-alpha*(W$15-$H24)))     +      (B*EXP(-bêta*(W$15-$H24)))    +   (_C*EXP(-gamma*(W$15-$H24 )))      )","v":0},{"$f":"  $G24/[0]!Poids      *      (     (A*EXP(-alpha*(X$15-$H24)))     +      (B*EXP(-bêta*(X$15-$H24)))    +   (_C*EXP(-gamma*(X$15-$H24 )))      )","v":0},{"$f":"  $G24/[0]!Poids      *      (     (A*EXP(-alpha*(Y$15-$H24)))     +      (B*EXP(-bêta*(Y$15-$H24)))    +   (_C*EXP(-gamma*(Y$15-$H24 )))      )","v":0},{"$f":"  $G24/[0]!Poids      *      (     (A*EXP(-alpha*(Z$15-$H24)))     +      (B*EXP(-bêta*(Z$15-$H24)))    +   (_C*EXP(-gamma*(Z$15-$H24 )))      )","v":0},{"$f":"  $G24/[0]!Poids      *      (     (A*EXP(-alpha*(AA$15-$H24)))     +      (B*EXP(-bêta*(AA$15-$H24)))    +   (_C*EXP(-gamma*(AA$15-$H24 )))      )","v":0},{"$f":"  $G24/[0]!Poids      *      (     (A*EXP(-alpha*(AB$15-$H24)))     +      (B*EXP(-bêta*(AB$15-$H24)))    +   (_C*EXP(-gamma*(AB$15-$H24 )))      )","v":0},{"$f":"  $G24/[0]!Poids      *      (     (A*EXP(-alpha*(AC$15-$H24)))     +      (B*EXP(-bêta*(AC$15-$H24)))    +   (_C*EXP(-gamma*(AC$15-$H24 )))      )","v":0},{"$f":"  $G24/[0]!Poids      *      (     (A*EXP(-alpha*(AD$15-$H24)))     +      (B*EXP(-bêta*(AD$15-$H24)))    +   (_C*EXP(-gamma*(AD$15-$H24 )))      )","v":0},{"$f":"  $G24/[0]!Poids      *      (     (A*EXP(-alpha*(AE$15-$H24)))     +      (B*EXP(-bêta*(AE$15-$H24)))    +   (_C*EXP(-gamma*(AE$15-$H24 )))      )","v":0},{"$f":"  $G24/[0]!Poids      *      (     (A*EXP(-alpha*(AF$15-$H24)))     +      (B*EXP(-bêta*(AF$15-$H24)))    +   (_C*EXP(-gamma*(AF$15-$H24 )))      )","v":0},{"$f":"  $G24/[0]!Poids      *      (     (A*EXP(-alpha*(AG$15-$H24)))     +      (B*EXP(-bêta*(AG$15-$H24)))    +   (_C*EXP(-gamma*(AG$15-$H24 )))      )","v":0},{"$f":"  $G24/[0]!Poids      *      (     (A*EXP(-alpha*(AH$15-$H24)))     +      (B*EXP(-bêta*(AH$15-$H24)))    +   (_C*EXP(-gamma*(AH$15-$H24 )))      )","v":0},{"$f":"  $G24/[0]!Poids      *      (     (A*EXP(-alpha*(AI$15-$H24)))     +      (B*EXP(-bêta*(AI$15-$H24)))    +   (_C*EXP(-gamma*(AI$15-$H24 )))      )","v":0},{"$f":"  $G24/[0]!Poids      *      (     (A*EXP(-alpha*(AJ$15-$H24)))     +      (B*EXP(-bêta*(AJ$15-$H24)))    +   (_C*EXP(-gamma*(AJ$15-$H24 )))      )","v":0},{"$f":"  $G24/[0]!Poids      *      (     (A*EXP(-alpha*(AK$15-$H24)))     +      (B*EXP(-bêta*(AK$15-$H24)))    +   (_C*EXP(-gamma*(AK$15-$H24 )))      )","v":0},{"$f":"  $G24/[0]!Poids      *      (     (A*EXP(-alpha*(AL$15-$H24)))     +      (B*EXP(-bêta*(AL$15-$H24)))    +   (_C*EXP(-gamma*(AL$15-$H24 )))      )","v":0},{"$f":"  $G24/[0]!Poids      *      (     (A*EXP(-alpha*(AM$15-$H24)))     +      (B*EXP(-bêta*(AM$15-$H24)))    +   (_C*EXP(-gamma*(AM$15-$H24 )))      )","v":0},{"$f":"  $G24/[0]!Poids      *      (     (A*EXP(-alpha*(AN$15-$H24)))     +      (B*EXP(-bêta*(AN$15-$H24)))    +   (_C*EXP(-gamma*(AN$15-$H24 )))      )","v":0},{"$f":"  $G24/[0]!Poids      *      (     (A*EXP(-alpha*(AO$15-$H24)))     +      (B*EXP(-bêta*(AO$15-$H24)))    +   (_C*EXP(-gamma*(AO$15-$H24 )))      )","v":0},{"$f":"  $G24/[0]!Poids      *      (     (A*EXP(-alpha*(AP$15-$H24)))     +      (B*EXP(-bêta*(AP$15-$H24)))    +   (_C*EXP(-gamma*(AP$15-$H24 )))      )","v":0},{"$f":"  $G24/[0]!Poids      *      (     (A*EXP(-alpha*(AQ$15-$H24)))     +      (B*EXP(-bêta*(AQ$15-$H24)))    +   (_C*EXP(-gamma*(AQ$15-$H24 )))      )","v":0},{"$f":"  $G24/[0]!Poids      *      (     (A*EXP(-alpha*(AR$15-$H24)))     +      (B*EXP(-bêta*(AR$15-$H24)))    +   (_C*EXP(-gamma*(AR$15-$H24 )))      )","v":0},{"$f":"  $G24/[0]!Poids      *      (     (A*EXP(-alpha*(AS$15-$H24)))     +      (B*EXP(-bêta*(AS$15-$H24)))    +   (_C*EXP(-gamma*(AS$15-$H24 )))      )","v":0},{"$f":"  $G24/[0]!Poids      *      (     (A*EXP(-alpha*(AT$15-$H24)))     +      (B*EXP(-bêta*(AT$15-$H24)))    +   (_C*EXP(-gamma*(AT$15-$H24 )))      )","v":0},{"$f":"  $G24/[0]!Poids      *      (     (A*EXP(-alpha*(AU$15-$H24)))     +      (B*EXP(-bêta*(AU$15-$H24)))    +   (_C*EXP(-gamma*(AU$15-$H24 )))      )","v":0},{"$f":"  $G24/[0]!Poids      *      (     (A*EXP(-alpha*(AV$15-$H24)))     +      (B*EXP(-bêta*(AV$15-$H24)))    +   (_C*EXP(-gamma*(AV$15-$H24 )))      )","v":0},{"$f":"  $G24/[0]!Poids      *      (     (A*EXP(-alpha*(AW$15-$H24)))     +      (B*EXP(-bêta*(AW$15-$H24)))    +   (_C*EXP(-gamma*(AW$15-$H24 )))      )","v":0},{"$f":"  $G24/[0]!Poids      *      (     (A*EXP(-alpha*(AX$15-$H24)))     +      (B*EXP(-bêta*(AX$15-$H24)))    +   (_C*EXP(-gamma*(AX$15-$H24 )))      )","v":0},{"$f":"  $G24/[0]!Poids      *      (     (A*EXP(-alpha*(AY$15-$H24)))     +      (B*EXP(-bêta*(AY$15-$H24)))    +   (_C*EXP(-gamma*(AY$15-$H24 )))      )","v":0},{"$f":"  $G24/[0]!Poids      *      (     (A*EXP(-alpha*(AZ$15-$H24)))     +      (B*EXP(-bêta*(AZ$15-$H24)))    +   (_C*EXP(-gamma*(AZ$15-$H24 )))      )","v":0},{"$f":"  $G24/[0]!Poids      *      (     (A*EXP(-alpha*(BA$15-$H24)))     +      (B*EXP(-bêta*(BA$15-$H24)))    +   (_C*EXP(-gamma*(BA$15-$H24 )))      )","v":0},{"$f":"  $G24/[0]!Poids      *      (     (A*EXP(-alpha*(BB$15-$H24)))     +      (B*EXP(-bêta*(BB$15-$H24)))    +   (_C*EXP(-gamma*(BB$15-$H24 )))      )","v":0},{"$f":"  $G24/[0]!Poids      *      (     (A*EXP(-alpha*(BC$15-$H24)))     +      (B*EXP(-bêta*(BC$15-$H24)))    +   (_C*EXP(-gamma*(BC$15-$H24 )))      )","v":0},{"$f":"  $G24/[0]!Poids      *      (     (A*EXP(-alpha*(BD$15-$H24)))     +      (B*EXP(-bêta*(BD$15-$H24)))    +   (_C*EXP(-gamma*(BD$15-$H24 )))      )","v":0},{"$f":"  $G24/[0]!Poids      *      (     (A*EXP(-alpha*(BE$15-$H24)))     +      (B*EXP(-bêta*(BE$15-$H24)))    +   (_C*EXP(-gamma*(BE$15-$H24 )))      )","v":0},{"$f":"  $G24/[0]!Poids      *      (     (A*EXP(-alpha*(BF$15-$H24)))     +      (B*EXP(-bêta*(BF$15-$H24)))    +   (_C*EXP(-gamma*(BF$15-$H24 )))      )","v":0},{"$f":"  $G24/[0]!Poids      *      (     (A*EXP(-alpha*(BG$15-$H24)))     +      (B*EXP(-bêta*(BG$15-$H24)))    +   (_C*EXP(-gamma*(BG$15-$H24 )))      )","v":0},{"$f":"  $G24/[0]!Poids      *      (     (A*EXP(-alpha*(BH$15-$H24)))     +      (B*EXP(-bêta*(BH$15-$H24)))    +   (_C*EXP(-gamma*(BH$15-$H24 )))      )","v":0},{"$f":"  $G24/[0]!Poids      *      (     (A*EXP(-alpha*(BI$15-$H24)))     +      (B*EXP(-bêta*(BI$15-$H24)))    +   (_C*EXP(-gamma*(BI$15-$H24 )))      )","v":0},{"$f":"  $G24/[0]!Poids      *      (     (A*EXP(-alpha*(BJ$15-$H24)))     +      (B*EXP(-bêta*(BJ$15-$H24)))    +   (_C*EXP(-gamma*(BJ$15-$H24 )))      )","v":0},{"$f":"  $G24/[0]!Poids      *      (     (A*EXP(-alpha*(BK$15-$H24)))     +      (B*EXP(-bêta*(BK$15-$H24)))    +   (_C*EXP(-gamma*(BK$15-$H24 )))      )","v":0},{"$f":"  $G24/[0]!Poids      *      (     (A*EXP(-alpha*(BL$15-$H24)))     +      (B*EXP(-bêta*(BL$15-$H24)))    +   (_C*EXP(-gamma*(BL$15-$H24 )))      )","v":0},{"$f":"  $G24/[0]!Poids      *      (     (A*EXP(-alpha*(BM$15-$H24)))     +      (B*EXP(-bêta*(BM$15-$H24)))    +   (_C*EXP(-gamma*(BM$15-$H24 )))      )","v":0},{"$f":"  $G24/[0]!Poids      *      (     (A*EXP(-alpha*(BN$15-$H24)))     +      (B*EXP(-bêta*(BN$15-$H24)))    +   (_C*EXP(-gamma*(BN$15-$H24 )))      )","v":0},{"$f":"  $G24/[0]!Poids      *      (     (A*EXP(-alpha*(BO$15-$H24)))     +      (B*EXP(-bêta*(BO$15-$H24)))    +   (_C*EXP(-gamma*(BO$15-$H24 )))      )","v":0},{"$f":"  $G24/[0]!Poids      *      (     (A*EXP(-alpha*(BP$15-$H24)))     +      (B*EXP(-bêta*(BP$15-$H24)))    +   (_C*EXP(-gamma*(BP$15-$H24 )))      )","v":0},{"$f":"  $G24/[0]!Poids      *      (     (A*EXP(-alpha*(BQ$15-$H24)))     +      (B*EXP(-bêta*(BQ$15-$H24)))    +   (_C*EXP(-gamma*(BQ$15-$H24 )))      )","v":0},{"$f":"  $G24/[0]!Poids      *      (     (A*EXP(-alpha*(BR$15-$H24)))     +      (B*EXP(-bêta*(BR$15-$H24)))    +   (_C*EXP(-gamma*(BR$15-$H24 )))      )","v":0}]
[null,"Le modèle se base sur 70 kg",null,null,"POIDS",null,{"$f":"S$10","v":0},45,null,null,null,null,null,null,null,null,null,null,{"$f":"  $G25/[0]!Poids      *      (     (A*EXP(-alpha*(S$15-$H25)))     +      (B*EXP(-bêta*(S$15-$H25)))    +   (_C*EXP(-gamma*(S$15-$H25 )))      )","v":0},{"$f":"  $G25/[0]!Poids      *      (     (A*EXP(-alpha*(T$15-$H25)))     +      (B*EXP(-bêta*(T$15-$H25)))    +   (_C*EXP(-gamma*(T$15-$H25 )))      )","v":0},{"$f":"  $G25/[0]!Poids      *      (     (A*EXP(-alpha*(U$15-$H25)))     +      (B*EXP(-bêta*(U$15-$H25)))    +   (_C*EXP(-gamma*(U$15-$H25 )))      )","v":0},{"$f":"  $G25/[0]!Poids      *      (     (A*EXP(-alpha*(V$15-$H25)))     +      (B*EXP(-bêta*(V$15-$H25)))    +   (_C*EXP(-gamma*(V$15-$H25 )))      )","v":0},{"$f":"  $G25/[0]!Poids      *      (     (A*EXP(-alpha*(W$15-$H25)))     +      (B*EXP(-bêta*(W$15-$H25)))    +   (_C*EXP(-gamma*(W$15-$H25 )))      )","v":0},{"$f":"  $G25/[0]!Poids      *      (     (A*EXP(-alpha*(X$15-$H25)))     +      (B*EXP(-bêta*(X$15-$H25)))    +   (_C*EXP(-gamma*(X$15-$H25 )))      )","v":0},{"$f":"  $G25/[0]!Poids      *      (     (A*EXP(-alpha*(Y$15-$H25)))     +      (B*EXP(-bêta*(Y$15-$H25)))    +   (_C*EXP(-gamma*(Y$15-$H25 )))      )","v":0},{"$f":"  $G25/[0]!Poids      *      (     (A*EXP(-alpha*(Z$15-$H25)))     +      (B*EXP(-bêta*(Z$15-$H25)))    +   (_C*EXP(-gamma*(Z$15-$H25 )))      )","v":0},{"$f":"  $G25/[0]!Poids      *      (     (A*EXP(-alpha*(AA$15-$H25)))     +      (B*EXP(-bêta*(AA$15-$H25)))    +   (_C*EXP(-gamma*(AA$15-$H25 )))      )","v":0},{"$f":"  $G25/[0]!Poids      *      (     (A*EXP(-alpha*(AB$15-$H25)))     +      (B*EXP(-bêta*(AB$15-$H25)))    +   (_C*EXP(-gamma*(AB$15-$H25 )))      )","v":0},{"$f":"  $G25/[0]!Poids      *      (     (A*EXP(-alpha*(AC$15-$H25)))     +      (B*EXP(-bêta*(AC$15-$H25)))    +   (_C*EXP(-gamma*(AC$15-$H25 )))      )","v":0},{"$f":"  $G25/[0]!Poids      *      (     (A*EXP(-alpha*(AD$15-$H25)))     +      (B*EXP(-bêta*(AD$15-$H25)))    +   (_C*EXP(-gamma*(AD$15-$H25 )))      )","v":0},{"$f":"  $G25/[0]!Poids      *      (     (A*EXP(-alpha*(AE$15-$H25)))     +      (B*EXP(-bêta*(AE$15-$H25)))    +   (_C*EXP(-gamma*(AE$15-$H25 )))      )","v":0},{"$f":"  $G25/[0]!Poids      *      (     (A*EXP(-alpha*(AF$15-$H25)))     +      (B*EXP(-bêta*(AF$15-$H25)))    +   (_C*EXP(-gamma*(AF$15-$H25 )))      )","v":0},{"$f":"  $G25/[0]!Poids      *      (     (A*EXP(-alpha*(AG$15-$H25)))     +      (B*EXP(-bêta*(AG$15-$H25)))    +   (_C*EXP(-gamma*(AG$15-$H25 )))      )","v":0},{"$f":"  $G25/[0]!Poids      *      (     (A*EXP(-alpha*(AH$15-$H25)))     +      (B*EXP(-bêta*(AH$15-$H25)))    +   (_C*EXP(-gamma*(AH$15-$H25 )))      )","v":0},{"$f":"  $G25/[0]!Poids      *      (     (A*EXP(-alpha*(AI$15-$H25)))     +      (B*EXP(-bêta*(AI$15-$H25)))    +   (_C*EXP(-gamma*(AI$15-$H25 )))      )","v":0},{"$f":"  $G25/[0]!Poids      *      (     (A*EXP(-alpha*(AJ$15-$H25)))     +      (B*EXP(-bêta*(AJ$15-$H25)))    +   (_C*EXP(-gamma*(AJ$15-$H25 )))      )","v":0},{"$f":"  $G25/[0]!Poids      *      (     (A*EXP(-alpha*(AK$15-$H25)))     +      (B*EXP(-bêta*(AK$15-$H25)))    +   (_C*EXP(-gamma*(AK$15-$H25 )))      )","v":0},{"$f":"  $G25/[0]!Poids      *      (     (A*EXP(-alpha*(AL$15-$H25)))     +      (B*EXP(-bêta*(AL$15-$H25)))    +   (_C*EXP(-gamma*(AL$15-$H25 )))      )","v":0},{"$f":"  $G25/[0]!Poids      *      (     (A*EXP(-alpha*(AM$15-$H25)))     +      (B*EXP(-bêta*(AM$15-$H25)))    +   (_C*EXP(-gamma*(AM$15-$H25 )))      )","v":0},{"$f":"  $G25/[0]!Poids      *      (     (A*EXP(-alpha*(AN$15-$H25)))     +      (B*EXP(-bêta*(AN$15-$H25)))    +   (_C*EXP(-gamma*(AN$15-$H25 )))      )","v":0},{"$f":"  $G25/[0]!Poids      *      (     (A*EXP(-alpha*(AO$15-$H25)))     +      (B*EXP(-bêta*(AO$15-$H25)))    +   (_C*EXP(-gamma*(AO$15-$H25 )))      )","v":0},{"$f":"  $G25/[0]!Poids      *      (     (A*EXP(-alpha*(AP$15-$H25)))     +      (B*EXP(-bêta*(AP$15-$H25)))    +   (_C*EXP(-gamma*(AP$15-$H25 )))      )","v":0},{"$f":"  $G25/[0]!Poids      *      (     (A*EXP(-alpha*(AQ$15-$H25)))     +      (B*EXP(-bêta*(AQ$15-$H25)))    +   (_C*EXP(-gamma*(AQ$15-$H25 )))      )","v":0},{"$f":"  $G25/[0]!Poids      *      (     (A*EXP(-alpha*(AR$15-$H25)))     +      (B*EXP(-bêta*(AR$15-$H25)))    +   (_C*EXP(-gamma*(AR$15-$H25 )))      )","v":0},{"$f":"  $G25/[0]!Poids      *      (     (A*EXP(-alpha*(AS$15-$H25)))     +      (B*EXP(-bêta*(AS$15-$H25)))    +   (_C*EXP(-gamma*(AS$15-$H25 )))      )","v":0},{"$f":"  $G25/[0]!Poids      *      (     (A*EXP(-alpha*(AT$15-$H25)))     +      (B*EXP(-bêta*(AT$15-$H25)))    +   (_C*EXP(-gamma*(AT$15-$H25 )))      )","v":0},{"$f":"  $G25/[0]!Poids      *      (     (A*EXP(-alpha*(AU$15-$H25)))     +      (B*EXP(-bêta*(AU$15-$H25)))    +   (_C*EXP(-gamma*(AU$15-$H25 )))      )","v":0},{"$f":"  $G25/[0]!Poids      *      (     (A*EXP(-alpha*(AV$15-$H25)))     +      (B*EXP(-bêta*(AV$15-$H25)))    +   (_C*EXP(-gamma*(AV$15-$H25 )))      )","v":0},{"$f":"  $G25/[0]!Poids      *      (     (A*EXP(-alpha*(AW$15-$H25)))     +      (B*EXP(-bêta*(AW$15-$H25)))    +   (_C*EXP(-gamma*(AW$15-$H25 )))      )","v":0},{"$f":"  $G25/[0]!Poids      *      (     (A*EXP(-alpha*(AX$15-$H25)))     +      (B*EXP(-bêta*(AX$15-$H25)))    +   (_C*EXP(-gamma*(AX$15-$H25 )))      )","v":0},{"$f":"  $G25/[0]!Poids      *      (     (A*EXP(-alpha*(AY$15-$H25)))     +      (B*EXP(-bêta*(AY$15-$H25)))    +   (_C*EXP(-gamma*(AY$15-$H25 )))      )","v":0},{"$f":"  $G25/[0]!Poids      *      (     (A*EXP(-alpha*(AZ$15-$H25)))     +      (B*EXP(-bêta*(AZ$15-$H25)))    +   (_C*EXP(-gamma*(AZ$15-$H25 )))      )","v":0},{"$f":"  $G25/[0]!Poids      *      (     (A*EXP(-alpha*(BA$15-$H25)))     +      (B*EXP(-bêta*(BA$15-$H25)))    +   (_C*EXP(-gamma*(BA$15-$H25 )))      )","v":0},{"$f":"  $G25/[0]!Poids      *      (     (A*EXP(-alpha*(BB$15-$H25)))     +      (B*EXP(-bêta*(BB$15-$H25)))    +   (_C*EXP(-gamma*(BB$15-$H25 )))      )","v":0},{"$f":"  $G25/[0]!Poids      *      (     (A*EXP(-alpha*(BC$15-$H25)))     +      (B*EXP(-bêta*(BC$15-$H25)))    +   (_C*EXP(-gamma*(BC$15-$H25 )))      )","v":0},{"$f":"  $G25/[0]!Poids      *      (     (A*EXP(-alpha*(BD$15-$H25)))     +      (B*EXP(-bêta*(BD$15-$H25)))    +   (_C*EXP(-gamma*(BD$15-$H25 )))      )","v":0},{"$f":"  $G25/[0]!Poids      *      (     (A*EXP(-alpha*(BE$15-$H25)))     +      (B*EXP(-bêta*(BE$15-$H25)))    +   (_C*EXP(-gamma*(BE$15-$H25 )))      )","v":0},{"$f":"  $G25/[0]!Poids      *      (     (A*EXP(-alpha*(BF$15-$H25)))     +      (B*EXP(-bêta*(BF$15-$H25)))    +   (_C*EXP(-gamma*(BF$15-$H25 )))      )","v":0},{"$f":"  $G25/[0]!Poids      *      (     (A*EXP(-alpha*(BG$15-$H25)))     +      (B*EXP(-bêta*(BG$15-$H25)))    +   (_C*EXP(-gamma*(BG$15-$H25 )))      )","v":0},{"$f":"  $G25/[0]!Poids      *      (     (A*EXP(-alpha*(BH$15-$H25)))     +      (B*EXP(-bêta*(BH$15-$H25)))    +   (_C*EXP(-gamma*(BH$15-$H25 )))      )","v":0},{"$f":"  $G25/[0]!Poids      *      (     (A*EXP(-alpha*(BI$15-$H25)))     +      (B*EXP(-bêta*(BI$15-$H25)))    +   (_C*EXP(-gamma*(BI$15-$H25 )))      )","v":0},{"$f":"  $G25/[0]!Poids      *      (     (A*EXP(-alpha*(BJ$15-$H25)))     +      (B*EXP(-bêta*(BJ$15-$H25)))    +   (_C*EXP(-gamma*(BJ$15-$H25 )))      )","v":0},{"$f":"  $G25/[0]!Poids      *      (     (A*EXP(-alpha*(BK$15-$H25)))     +      (B*EXP(-bêta*(BK$15-$H25)))    +   (_C*EXP(-gamma*(BK$15-$H25 )))      )","v":0},{"$f":"  $G25/[0]!Poids      *      (     (A*EXP(-alpha*(BL$15-$H25)))     +      (B*EXP(-bêta*(BL$15-$H25)))    +   (_C*EXP(-gamma*(BL$15-$H25 )))      )","v":0},{"$f":"  $G25/[0]!Poids      *      (     (A*EXP(-alpha*(BM$15-$H25)))     +      (B*EXP(-bêta*(BM$15-$H25)))    +   (_C*EXP(-gamma*(BM$15-$H25 )))      )","v":0},{"$f":"  $G25/[0]!Poids      *      (     (A*EXP(-alpha*(BN$15-$H25)))     +      (B*EXP(-bêta*(BN$15-$H25)))    +   (_C*EXP(-gamma*(BN$15-$H25 )))      )","v":0},{"$f":"  $G25/[0]!Poids      *      (     (A*EXP(-alpha*(BO$15-$H25)))     +      (B*EXP(-bêta*(BO$15-$H25)))    +   (_C*EXP(-gamma*(BO$15-$H25 )))      )","v":0},{"$f":"  $G25/[0]!Poids      *      (     (A*EXP(-alpha*(BP$15-$H25)))     +      (B*EXP(-bêta*(BP$15-$H25)))    +   (_C*EXP(-gamma*(BP$15-$H25 )))      )","v":0},{"$f":"  $G25/[0]!Poids      *      (     (A*EXP(-alpha*(BQ$15-$H25)))     +      (B*EXP(-bêta*(BQ$15-$H25)))    +   (_C*EXP(-gamma*(BQ$15-$H25 )))      )","v":0},{"$f":"  $G25/[0]!Poids      *      (     (A*EXP(-alpha*(BR$15-$H25)))     +      (B*EXP(-bêta*(BR$15-$H25)))    +   (_C*EXP(-gamma*(BR$15-$H25 )))      )","v":0}]
[null,null,null,null,{"$f":"[0]!Poids","v":70},null,{"$f":"T$10","v":0},50,null,null,null,null,null,null,null,null,null,null,null,{"$f":"  $G26/[0]!Poids      *      (     (A*EXP(-alpha*(T$15-$H26)))     +      (B*EXP(-bêta*(T$15-$H26)))    +   (_C*EXP(-gamma*(T$15-$H26 )))      )","v":0},{"$f":"  $G26/[0]!Poids      *      (     (A*EXP(-alpha*(U$15-$H26)))     +      (B*EXP(-bêta*(U$15-$H26)))    +   (_C*EXP(-gamma*(U$15-$H26 )))      )","v":0},{"$f":"  $G26/[0]!Poids      *      (     (A*EXP(-alpha*(V$15-$H26)))     +      (B*EXP(-bêta*(V$15-$H26)))    +   (_C*EXP(-gamma*(V$15-$H26 )))      )","v":0},{"$f":"  $G26/[0]!Poids      *      (     (A*EXP(-alpha*(W$15-$H26)))     +      (B*EXP(-bêta*(W$15-$H26)))    +   (_C*EXP(-gamma*(W$15-$H26 )))      )","v":0},{"$f":"  $G26/[0]!Poids      *      (     (A*EXP(-alpha*(X$15-$H26)))     +      (B*EXP(-bêta*(X$15-$H26)))    +   (_C*EXP(-gamma*(X$15-$H26 )))      )","v":0},{"$f":"  $G26/[0]!Poids      *      (     (A*EXP(-alpha*(Y$15-$H26)))     +      (B*EXP(-bêta*(Y$15-$H26)))    +   (_C*EXP(-gamma*(Y$15-$H26 )))      )","v":0},{"$f":"  $G26/[0]!Poids      *      (     (A*EXP(-alpha*(Z$15-$H26)))     +      (B*EXP(-bêta*(Z$15-$H26)))    +   (_C*EXP(-gamma*(Z$15-$H26 )))      )","v":0},{"$f":"  $G26/[0]!Poids      *      (     (A*EXP(-alpha*(AA$15-$H26)))     +      (B*EXP(-bêta*(AA$15-$H26)))    +   (_C*EXP(-gamma*(AA$15-$H26 )))      )","v":0},{"$f":"  $G26/[0]!Poids      *      (     (A*EXP(-alpha*(AB$15-$H26)))     +      (B*EXP(-bêta*(AB$15-$H26)))    +   (_C*EXP(-gamma*(AB$15-$H26 )))      )","v":0},{"$f":"  $G26/[0]!Poids      *      (     (A*EXP(-alpha*(AC$15-$H26)))     +      (B*EXP(-bêta*(AC$15-$H26)))    +   (_C*EXP(-gamma*(AC$15-$H26 )))      )","v":0},{"$f":"  $G26/[0]!Poids      *      (     (A*EXP(-alpha*(AD$15-$H26)))     +      (B*EXP(-bêta*(AD$15-$H26)))    +   (_C*EXP(-gamma*(AD$15-$H26 )))      )","v":0},{"$f":"  $G26/[0]!Poids      *      (     (A*EXP(-alpha*(AE$15-$H26)))     +      (B*EXP(-bêta*(AE$15-$H26)))    +   (_C*EXP(-gamma*(AE$15-$H26 )))      )","v":0},{"$f":"  $G26/[0]!Poids      *      (     (A*EXP(-alpha*(AF$15-$H26)))     +      (B*EXP(-bêta*(AF$15-$H26)))    +   (_C*EXP(-gamma*(AF$15-$H26 )))      )","v":0},{"$f":"  $G26/[0]!Poids      *      (     (A*EXP(-alpha*(AG$15-$H26)))     +      (B*EXP(-bêta*(AG$15-$H26)))    +   (_C*EXP(-gamma*(AG$15-$H26 )))      )","v":0},{"$f":"  $G26/[0]!Poids      *      (     (A*EXP(-alpha*(AH$15-$H26)))     +      (B*EXP(-bêta*(AH$15-$H26)))    +   (_C*EXP(-gamma*(AH$15-$H26 )))      )","v":0},{"$f":"  $G26/[0]!Poids      *      (     (A*EXP(-alpha*(AI$15-$H26)))     +      (B*EXP(-bêta*(AI$15-$H26)))    +   (_C*EXP(-gamma*(AI$15-$H26 )))      )","v":0},{"$f":"  $G26/[0]!Poids      *      (     (A*EXP(-alpha*(AJ$15-$H26)))     +      (B*EXP(-bêta*(AJ$15-$H26)))    +   (_C*EXP(-gamma*(AJ$15-$H26 )))      )","v":0},{"$f":"  $G26/[0]!Poids      *      (     (A*EXP(-alpha*(AK$15-$H26)))     +      (B*EXP(-bêta*(AK$15-$H26)))    +   (_C*EXP(-gamma*(AK$15-$H26 )))      )","v":0},{"$f":"  $G26/[0]!Poids      *      (     (A*EXP(-alpha*(AL$15-$H26)))     +      (B*EXP(-bêta*(AL$15-$H26)))    +   (_C*EXP(-gamma*(AL$15-$H26 )))      )","v":0},{"$f":"  $G26/[0]!Poids      *      (     (A*EXP(-alpha*(AM$15-$H26)))     +      (B*EXP(-bêta*(AM$15-$H26)))    +   (_C*EXP(-gamma*(AM$15-$H26 )))      )","v":0},{"$f":"  $G26/[0]!Poids      *      (     (A*EXP(-alpha*(AN$15-$H26)))     +      (B*EXP(-bêta*(AN$15-$H26)))    +   (_C*EXP(-gamma*(AN$15-$H26 )))      )","v":0},{"$f":"  $G26/[0]!Poids      *      (     (A*EXP(-alpha*(AO$15-$H26)))     +      (B*EXP(-bêta*(AO$15-$H26)))    +   (_C*EXP(-gamma*(AO$15-$H26 )))      )","v":0},{"$f":"  $G26/[0]!Poids      *      (     (A*EXP(-alpha*(AP$15-$H26)))     +      (B*EXP(-bêta*(AP$15-$H26)))    +   (_C*EXP(-gamma*(AP$15-$H26 )))      )","v":0},{"$f":"  $G26/[0]!Poids      *      (     (A*EXP(-alpha*(AQ$15-$H26)))     +      (B*EXP(-bêta*(AQ$15-$H26)))    +   (_C*EXP(-gamma*(AQ$15-$H26 )))      )","v":0},{"$f":"  $G26/[0]!Poids      *      (     (A*EXP(-alpha*(AR$15-$H26)))     +      (B*EXP(-bêta*(AR$15-$H26)))    +   (_C*EXP(-gamma*(AR$15-$H26 )))      )","v":0},{"$f":"  $G26/[0]!Poids      *      (     (A*EXP(-alpha*(AS$15-$H26)))     +      (B*EXP(-bêta*(AS$15-$H26)))    +   (_C*EXP(-gamma*(AS$15-$H26 )))      )","v":0},{"$f":"  $G26/[0]!Poids      *      (     (A*EXP(-alpha*(AT$15-$H26)))     +      (B*EXP(-bêta*(AT$15-$H26)))    +   (_C*EXP(-gamma*(AT$15-$H26 )))      )","v":0},{"$f":"  $G26/[0]!Poids      *      (     (A*EXP(-alpha*(AU$15-$H26)))     +      (B*EXP(-bêta*(AU$15-$H26)))    +   (_C*EXP(-gamma*(AU$15-$H26 )))      )","v":0},{"$f":"  $G26/[0]!Poids      *      (     (A*EXP(-alpha*(AV$15-$H26)))     +      (B*EXP(-bêta*(AV$15-$H26)))    +   (_C*EXP(-gamma*(AV$15-$H26 )))      )","v":0},{"$f":"  $G26/[0]!Poids      *      (     (A*EXP(-alpha*(AW$15-$H26)))     +      (B*EXP(-bêta*(AW$15-$H26)))    +   (_C*EXP(-gamma*(AW$15-$H26 )))      )","v":0},{"$f":"  $G26/[0]!Poids      *      (     (A*EXP(-alpha*(AX$15-$H26)))     +      (B*EXP(-bêta*(AX$15-$H26)))    +   (_C*EXP(-gamma*(AX$15-$H26 )))      )","v":0},{"$f":"  $G26/[0]!Poids      *      (     (A*EXP(-alpha*(AY$15-$H26)))     +      (B*EXP(-bêta*(AY$15-$H26)))    +   (_C*EXP(-gamma*(AY$15-$H26 )))      )","v":0},{"$f":"  $G26/[0]!Poids      *      (     (A*EXP(-alpha*(AZ$15-$H26)))     +      (B*EXP(-bêta*(AZ$15-$H26)))    +   (_C*EXP(-gamma*(AZ$15-$H26 )))      )","v":0},{"$f":"  $G26/[0]!Poids      *      (     (A*EXP(-alpha*(BA$15-$H26)))     +      (B*EXP(-bêta*(BA$15-$H26)))    +   (_C*EXP(-gamma*(BA$15-$H26 )))      )","v":0},{"$f":"  $G26/[0]!Poids      *      (     (A*EXP(-alpha*(BB$15-$H26)))     +      (B*EXP(-bêta*(BB$15-$H26)))    +   (_C*EXP(-gamma*(BB$15-$H26 )))      )","v":0},{"$f":"  $G26/[0]!Poids      *      (     (A*EXP(-alpha*(BC$15-$H26)))     +      (B*EXP(-bêta*(BC$15-$H26)))    +   (_C*EXP(-gamma*(BC$15-$H26 )))      )","v":0},{"$f":"  $G26/[0]!Poids      *      (     (A*EXP(-alpha*(BD$15-$H26)))     +      (B*EXP(-bêta*(BD$15-$H26)))    +   (_C*EXP(-gamma*(BD$15-$H26 )))      )","v":0},{"$f":"  $G26/[0]!Poids      *      (     (A*EXP(-alpha*(BE$15-$H26)))     +      (B*EXP(-bêta*(BE$15-$H26)))    +   (_C*EXP(-gamma*(BE$15-$H26 )))      )","v":0},{"$f":"  $G26/[0]!Poids      *      (     (A*EXP(-alpha*(BF$15-$H26)))     +      (B*EXP(-bêta*(BF$15-$H26)))    +   (_C*EXP(-gamma*(BF$15-$H26 )))      )","v":0},{"$f":"  $G26/[0]!Poids      *      (     (A*EXP(-alpha*(BG$15-$H26)))     +      (B*EXP(-bêta*(BG$15-$H26)))    +   (_C*EXP(-gamma*(BG$15-$H26 )))      )","v":0},{"$f":"  $G26/[0]!Poids      *      (     (A*EXP(-alpha*(BH$15-$H26)))     +      (B*EXP(-bêta*(BH$15-$H26)))    +   (_C*EXP(-gamma*(BH$15-$H26 )))      )","v":0},{"$f":"  $G26/[0]!Poids      *      (     (A*EXP(-alpha*(BI$15-$H26)))     +      (B*EXP(-bêta*(BI$15-$H26)))    +   (_C*EXP(-gamma*(BI$15-$H26 )))      )","v":0},{"$f":"  $G26/[0]!Poids      *      (     (A*EXP(-alpha*(BJ$15-$H26)))     +      (B*EXP(-bêta*(BJ$15-$H26)))    +   (_C*EXP(-gamma*(BJ$15-$H26 )))      )","v":0},{"$f":"  $G26/[0]!Poids      *      (     (A*EXP(-alpha*(BK$15-$H26)))     +      (B*EXP(-bêta*(BK$15-$H26)))    +   (_C*EXP(-gamma*(BK$15-$H26 )))      )","v":0},{"$f":"  $G26/[0]!Poids      *      (     (A*EXP(-alpha*(BL$15-$H26)))     +      (B*EXP(-bêta*(BL$15-$H26)))    +   (_C*EXP(-gamma*(BL$15-$H26 )))      )","v":0},{"$f":"  $G26/[0]!Poids      *      (     (A*EXP(-alpha*(BM$15-$H26)))     +      (B*EXP(-bêta*(BM$15-$H26)))    +   (_C*EXP(-gamma*(BM$15-$H26 )))      )","v":0},{"$f":"  $G26/[0]!Poids      *      (     (A*EXP(-alpha*(BN$15-$H26)))     +      (B*EXP(-bêta*(BN$15-$H26)))    +   (_C*EXP(-gamma*(BN$15-$H26 )))      )","v":0},{"$f":"  $G26/[0]!Poids      *      (     (A*EXP(-alpha*(BO$15-$H26)))     +      (B*EXP(-bêta*(BO$15-$H26)))    +   (_C*EXP(-gamma*(BO$15-$H26 )))      )","v":0},{"$f":"  $G26/[0]!Poids      *      (     (A*EXP(-alpha*(BP$15-$H26)))     +      (B*EXP(-bêta*(BP$15-$H26)))    +   (_C*EXP(-gamma*(BP$15-$H26 )))      )","v":0},{"$f":"  $G26/[0]!Poids      *      (     (A*EXP(-alpha*(BQ$15-$H26)))     +      (B*EXP(-bêta*(BQ$15-$H26)))    +   (_C*EXP(-gamma*(BQ$15-$H26 )))      )","v":0},{"$f":"  $G26/[0]!Poids      *      (     (A*EXP(-alpha*(BR$15-$H26)))     +      (B*EXP(-bêta*(BR$15-$H26)))    +   (_C*EXP(-gamma*(BR$15-$H26 )))      )","v":0}]
[null,"Dose fournie pour équation",null,null,null,null,{"$f":"U$10","v":0},55,null,null,null,null,null,null,null,null,null,null,null,null,{"$f":"  $G27/[0]!Poids      *      (     (A*EXP(-alpha*(U$15-$H27)))     +      (B*EXP(-bêta*(U$15-$H27)))    +   (_C*EXP(-gamma*(U$15-$H27 )))      )","v":0},{"$f":"  $G27/[0]!Poids      *      (     (A*EXP(-alpha*(V$15-$H27)))     +      (B*EXP(-bêta*(V$15-$H27)))    +   (_C*EXP(-gamma*(V$15-$H27 )))      )","v":0},{"$f":"  $G27/[0]!Poids      *      (     (A*EXP(-alpha*(W$15-$H27)))     +      (B*EXP(-bêta*(W$15-$H27)))    +   (_C*EXP(-gamma*(W$15-$H27 )))      )","v":0},{"$f":"  $G27/[0]!Poids      *      (     (A*EXP(-alpha*(X$15-$H27)))     +      (B*EXP(-bêta*(X$15-$H27)))    +   (_C*EXP(-gamma*(X$15-$H27 )))      )","v":0},{"$f":"  $G27/[0]!Poids      *      (     (A*EXP(-alpha*(Y$15-$H27)))     +      (B*EXP(-bêta*(Y$15-$H27)))    +   (_C*EXP(-gamma*(Y$15-$H27 )))      )","v":0},{"$f":"  $G27/[0]!Poids      *      (     (A*EXP(-alpha*(Z$15-$H27)))     +      (B*EXP(-bêta*(Z$15-$H27)))    +   (_C*EXP(-gamma*(Z$15-$H27 )))      )","v":0},{"$f":"  $G27/[0]!Poids      *      (     (A*EXP(-alpha*(AA$15-$H27)))     +      (B*EXP(-bêta*(AA$15-$H27)))    +   (_C*EXP(-gamma*(AA$15-$H27 )))      )","v":0},{"$f":"  $G27/[0]!Poids      *      (     (A*EXP(-alpha*(AB$15-$H27)))     +      (B*EXP(-bêta*(AB$15-$H27)))    +   (_C*EXP(-gamma*(AB$15-$H27 )))      )","v":0},{"$f":"  $G27/[0]!Poids      *      (     (A*EXP(-alpha*(AC$15-$H27)))     +      (B*EXP(-bêta*(AC$15-$H27)))    +   (_C*EXP(-gamma*(AC$15-$H27 )))      )","v":0},{"$f":"  $G27/[0]!Poids      *      (     (A*EXP(-alpha*(AD$15-$H27)))     +      (B*EXP(-bêta*(AD$15-$H27)))    +   (_C*EXP(-gamma*(AD$15-$H27 )))      )","v":0},{"$f":"  $G27/[0]!Poids      *      (     (A*EXP(-alpha*(AE$15-$H27)))     +      (B*EXP(-bêta*(AE$15-$H27)))    +   (_C*EXP(-gamma*(AE$15-$H27 )))      )","v":0},{"$f":"  $G27/[0]!Poids      *      (     (A*EXP(-alpha*(AF$15-$H27)))     +      (B*EXP(-bêta*(AF$15-$H27)))    +   (_C*EXP(-gamma*(AF$15-$H27 )))      )","v":0},{"$f":"  $G27/[0]!Poids      *      (     (A*EXP(-alpha*(AG$15-$H27)))     +      (B*EXP(-bêta*(AG$15-$H27)))    +   (_C*EXP(-gamma*(AG$15-$H27 )))      )","v":0},{"$f":"  $G27/[0]!Poids      *      (     (A*EXP(-alpha*(AH$15-$H27)))     +      (B*EXP(-bêta*(AH$15-$H27)))    +   (_C*EXP(-gamma*(AH$15-$H27 )))      )","v":0},{"$f":"  $G27/[0]!Poids      *      (     (A*EXP(-alpha*(AI$15-$H27)))     +      (B*EXP(-bêta*(AI$15-$H27)))    +   (_C*EXP(-gamma*(AI$15-$H27 )))      )","v":0},{"$f":"  $G27/[0]!Poids      *      (     (A*EXP(-alpha*(AJ$15-$H27)))     +      (B*EXP(-bêta*(AJ$15-$H27)))    +   (_C*EXP(-gamma*(AJ$15-$H27 )))      )","v":0},{"$f":"  $G27/[0]!Poids      *      (     (A*EXP(-alpha*(AK$15-$H27)))     +      (B*EXP(-bêta*(AK$15-$H27)))    +   (_C*EXP(-gamma*(AK$15-$H27 )))      )","v":0},{"$f":"  $G27/[0]!Poids      *      (     (A*EXP(-alpha*(AL$15-$H27)))     +      (B*EXP(-bêta*(AL$15-$H27)))    +   (_C*EXP(-gamma*(AL$15-$H27 )))      )","v":0},{"$f":"  $G27/[0]!Poids      *      (     (A*EXP(-alpha*(AM$15-$H27)))     +      (B*EXP(-bêta*(AM$15-$H27)))    +   (_C*EXP(-gamma*(AM$15-$H27 )))      )","v":0},{"$f":"  $G27/[0]!Poids      *      (     (A*EXP(-alpha*(AN$15-$H27)))     +      (B*EXP(-bêta*(AN$15-$H27)))    +   (_C*EXP(-gamma*(AN$15-$H27 )))      )","v":0},{"$f":"  $G27/[0]!Poids      *      (     (A*EXP(-alpha*(AO$15-$H27)))     +      (B*EXP(-bêta*(AO$15-$H27)))    +   (_C*EXP(-gamma*(AO$15-$H27 )))      )","v":0},{"$f":"  $G27/[0]!Poids      *      (     (A*EXP(-alpha*(AP$15-$H27)))     +      (B*EXP(-bêta*(AP$15-$H27)))    +   (_C*EXP(-gamma*(AP$15-$H27 )))      )","v":0},{"$f":"  $G27/[0]!Poids      *      (     (A*EXP(-alpha*(AQ$15-$H27)))     +      (B*EXP(-bêta*(AQ$15-$H27)))    +   (_C*EXP(-gamma*(AQ$15-$H27 )))      )","v":0},{"$f":"  $G27/[0]!Poids      *      (     (A*EXP(-alpha*(AR$15-$H27)))     +      (B*EXP(-bêta*(AR$15-$H27)))    +   (_C*EXP(-gamma*(AR$15-$H27 )))      )","v":0},{"$f":"  $G27/[0]!Poids      *      (     (A*EXP(-alpha*(AS$15-$H27)))     +      (B*EXP(-bêta*(AS$15-$H27)))    +   (_C*EXP(-gamma*(AS$15-$H27 )))      )","v":0},{"$f":"  $G27/[0]!Poids      *      (     (A*EXP(-alpha*(AT$15-$H27)))     +      (B*EXP(-bêta*(AT$15-$H27)))    +   (_C*EXP(-gamma*(AT$15-$H27 )))      )","v":0},{"$f":"  $G27/[0]!Poids      *      (     (A*EXP(-alpha*(AU$15-$H27)))     +      (B*EXP(-bêta*(AU$15-$H27)))    +   (_C*EXP(-gamma*(AU$15-$H27 )))      )","v":0},{"$f":"  $G27/[0]!Poids      *      (     (A*EXP(-alpha*(AV$15-$H27)))     +      (B*EXP(-bêta*(AV$15-$H27)))    +   (_C*EXP(-gamma*(AV$15-$H27 )))      )","v":0},{"$f":"  $G27/[0]!Poids      *      (     (A*EXP(-alpha*(AW$15-$H27)))     +      (B*EXP(-bêta*(AW$15-$H27)))    +   (_C*EXP(-gamma*(AW$15-$H27 )))      )","v":0},{"$f":"  $G27/[0]!Poids      *      (     (A*EXP(-alpha*(AX$15-$H27)))     +      (B*EXP(-bêta*(AX$15-$H27)))    +   (_C*EXP(-gamma*(AX$15-$H27 )))      )","v":0},{"$f":"  $G27/[0]!Poids      *      (     (A*EXP(-alpha*(AY$15-$H27)))     +      (B*EXP(-bêta*(AY$15-$H27)))    +   (_C*EXP(-gamma*(AY$15-$H27 )))      )","v":0},{"$f":"  $G27/[0]!Poids      *      (     (A*EXP(-alpha*(AZ$15-$H27)))     +      (B*EXP(-bêta*(AZ$15-$H27)))    +   (_C*EXP(-gamma*(AZ$15-$H27 )))      )","v":0},{"$f":"  $G27/[0]!Poids      *      (     (A*EXP(-alpha*(BA$15-$H27)))     +      (B*EXP(-bêta*(BA$15-$H27)))    +   (_C*EXP(-gamma*(BA$15-$H27 )))      )","v":0},{"$f":"  $G27/[0]!Poids      *      (     (A*EXP(-alpha*(BB$15-$H27)))     +      (B*EXP(-bêta*(BB$15-$H27)))    +   (_C*EXP(-gamma*(BB$15-$H27 )))      )","v":0},{"$f":"  $G27/[0]!Poids      *      (     (A*EXP(-alpha*(BC$15-$H27)))     +      (B*EXP(-bêta*(BC$15-$H27)))    +   (_C*EXP(-gamma*(BC$15-$H27 )))      )","v":0},{"$f":"  $G27/[0]!Poids      *      (     (A*EXP(-alpha*(BD$15-$H27)))     +      (B*EXP(-bêta*(BD$15-$H27)))    +   (_C*EXP(-gamma*(BD$15-$H27 )))      )","v":0},{"$f":"  $G27/[0]!Poids      *      (     (A*EXP(-alpha*(BE$15-$H27)))     +      (B*EXP(-bêta*(BE$15-$H27)))    +   (_C*EXP(-gamma*(BE$15-$H27 )))      )","v":0},{"$f":"  $G27/[0]!Poids      *      (     (A*EXP(-alpha*(BF$15-$H27)))     +      (B*EXP(-bêta*(BF$15-$H27)))    +   (_C*EXP(-gamma*(BF$15-$H27 )))      )","v":0},{"$f":"  $G27/[0]!Poids      *      (     (A*EXP(-alpha*(BG$15-$H27)))     +      (B*EXP(-bêta*(BG$15-$H27)))    +   (_C*EXP(-gamma*(BG$15-$H27 )))      )","v":0},{"$f":"  $G27/[0]!Poids      *      (     (A*EXP(-alpha*(BH$15-$H27)))     +      (B*EXP(-bêta*(BH$15-$H27)))    +   (_C*EXP(-gamma*(BH$15-$H27 )))      )","v":0},{"$f":"  $G27/[0]!Poids      *      (     (A*EXP(-alpha*(BI$15-$H27)))     +      (B*EXP(-bêta*(BI$15-$H27)))    +   (_C*EXP(-gamma*(BI$15-$H27 )))      )","v":0},{"$f":"  $G27/[0]!Poids      *      (     (A*EXP(-alpha*(BJ$15-$H27)))     +      (B*EXP(-bêta*(BJ$15-$H27)))    +   (_C*EXP(-gamma*(BJ$15-$H27 )))      )","v":0},{"$f":"  $G27/[0]!Poids      *      (     (A*EXP(-alpha*(BK$15-$H27)))     +      (B*EXP(-bêta*(BK$15-$H27)))    +   (_C*EXP(-gamma*(BK$15-$H27 )))      )","v":0},{"$f":"  $G27/[0]!Poids      *      (     (A*EXP(-alpha*(BL$15-$H27)))     +      (B*EXP(-bêta*(BL$15-$H27)))    +   (_C*EXP(-gamma*(BL$15-$H27 )))      )","v":0},{"$f":"  $G27/[0]!Poids      *      (     (A*EXP(-alpha*(BM$15-$H27)))     +      (B*EXP(-bêta*(BM$15-$H27)))    +   (_C*EXP(-gamma*(BM$15-$H27 )))      )","v":0},{"$f":"  $G27/[0]!Poids      *      (     (A*EXP(-alpha*(BN$15-$H27)))     +      (B*EXP(-bêta*(BN$15-$H27)))    +   (_C*EXP(-gamma*(BN$15-$H27 )))      )","v":0},{"$f":"  $G27/[0]!Poids      *      (     (A*EXP(-alpha*(BO$15-$H27)))     +      (B*EXP(-bêta*(BO$15-$H27)))    +   (_C*EXP(-gamma*(BO$15-$H27 )))      )","v":0},{"$f":"  $G27/[0]!Poids      *      (     (A*EXP(-alpha*(BP$15-$H27)))     +      (B*EXP(-bêta*(BP$15-$H27)))    +   (_C*EXP(-gamma*(BP$15-$H27 )))      )","v":0},{"$f":"  $G27/[0]!Poids      *      (     (A*EXP(-alpha*(BQ$15-$H27)))     +      (B*EXP(-bêta*(BQ$15-$H27)))    +   (_C*EXP(-gamma*(BQ$15-$H27 )))      )","v":0},{"$f":"  $G27/[0]!Poids      *      (     (A*EXP(-alpha*(BR$15-$H27)))     +      (B*EXP(-bêta*(BR$15-$H27)))    +   (_C*EXP(-gamma*(BR$15-$H27 )))      )","v":0}]
[null,null,null,0.25,"mg/kg",null,{"$f":"V$10","v":0},60,null,null,null,null,null,null,null,null,null,null,null,null,null,{"$f":"  $G28/[0]!Poids      *      (     (A*EXP(-alpha*(V$15-$H28)))     +      (B*EXP(-bêta*(V$15-$H28)))    +   (_C*EXP(-gamma*(V$15-$H28 )))      )","v":0},{"$f":"  $G28/[0]!Poids      *      (     (A*EXP(-alpha*(W$15-$H28)))     +      (B*EXP(-bêta*(W$15-$H28)))    +   (_C*EXP(-gamma*(W$15-$H28 )))      )","v":0},{"$f":"  $G28/[0]!Poids      *      (     (A*EXP(-alpha*(X$15-$H28)))     +      (B*EXP(-bêta*(X$15-$H28)))    +   (_C*EXP(-gamma*(X$15-$H28 )))      )","v":0},{"$f":"  $G28/[0]!Poids      *      (     (A*EXP(-alpha*(Y$15-$H28)))     +      (B*EXP(-bêta*(Y$15-$H28)))    +   (_C*EXP(-gamma*(Y$15-$H28 )))      )","v":0},{"$f":"  $G28/[0]!Poids      *      (     (A*EXP(-alpha*(Z$15-$H28)))     +      (B*EXP(-bêta*(Z$15-$H28)))    +   (_C*EXP(-gamma*(Z$15-$H28 )))      )","v":0},{"$f":"  $G28/[0]!Poids      *      (     (A*EXP(-alpha*(AA$15-$H28)))     +      (B*EXP(-bêta*(AA$15-$H28)))    +   (_C*EXP(-gamma*(AA$15-$H28 )))      )","v":0},{"$f":"  $G28/[0]!Poids      *      (     (A*EXP(-alpha*(AB$15-$H28)))     +      (B*EXP(-bêta*(AB$15-$H28)))    +   (_C*EXP(-gamma*(AB$15-$H28 )))      )","v":0},{"$f":"  $G28/[0]!Poids      *      (     (A*EXP(-alpha*(AC$15-$H28)))     +      (B*EXP(-bêta*(AC$15-$H28)))    +   (_C*EXP(-gamma*(AC$15-$H28 )))      )","v":0},{"$f":"  $G28/[0]!Poids      *      (     (A*EXP(-alpha*(AD$15-$H28)))     +      (B*EXP(-bêta*(AD$15-$H28)))    +   (_C*EXP(-gamma*(AD$15-$H28 )))      )","v":0},{"$f":"  $G28/[0]!Poids      *      (     (A*EXP(-alpha*(AE$15-$H28)))     +      (B*EXP(-bêta*(AE$15-$H28)))    +   (_C*EXP(-gamma*(AE$15-$H28 )))      )","v":0},{"$f":"  $G28/[0]!Poids      *      (     (A*EXP(-alpha*(AF$15-$H28)))     +      (B*EXP(-bêta*(AF$15-$H28)))    +   (_C*EXP(-gamma*(AF$15-$H28 )))      )","v":0},{"$f":"  $G28/[0]!Poids      *      (     (A*EXP(-alpha*(AG$15-$H28)))     +      (B*EXP(-bêta*(AG$15-$H28)))    +   (_C*EXP(-gamma*(AG$15-$H28 )))      )","v":0},{"$f":"  $G28/[0]!Poids      *      (     (A*EXP(-alpha*(AH$15-$H28)))     +      (B*EXP(-bêta*(AH$15-$H28)))    +   (_C*EXP(-gamma*(AH$15-$H28 )))      )","v":0},{"$f":"  $G28/[0]!Poids      *      (     (A*EXP(-alpha*(AI$15-$H28)))     +      (B*EXP(-bêta*(AI$15-$H28)))    +   (_C*EXP(-gamma*(AI$15-$H28 )))      )","v":0},{"$f":"  $G28/[0]!Poids      *      (     (A*EXP(-alpha*(AJ$15-$H28)))     +      (B*EXP(-bêta*(AJ$15-$H28)))    +   (_C*EXP(-gamma*(AJ$15-$H28 )))      )","v":0},{"$f":"  $G28/[0]!Poids      *      (     (A*EXP(-alpha*(AK$15-$H28)))     +      (B*EXP(-bêta*(AK$15-$H28)))    +   (_C*EXP(-gamma*(AK$15-$H28 )))      )","v":0},{"$f":"  $G28/[0]!Poids      *      (     (A*EXP(-alpha*(AL$15-$H28)))     +      (B*EXP(-bêta*(AL$15-$H28)))    +   (_C*EXP(-gamma*(AL$15-$H28 )))      )","v":0},{"$f":"  $G28/[0]!Poids      *      (     (A*EXP(-alpha*(AM$15-$H28)))     +      (B*EXP(-bêta*(AM$15-$H28)))    +   (_C*EXP(-gamma*(AM$15-$H28 )))      )","v":0},{"$f":"  $G28/[0]!Poids      *      (     (A*EXP(-alpha*(AN$15-$H28)))     +      (B*EXP(-bêta*(AN$15-$H28)))    +   (_C*EXP(-gamma*(AN$15-$H28 )))      )","v":0},{"$f":"  $G28/[0]!Poids      *      (     (A*EXP(-alpha*(AO$15-$H28)))     +      (B*EXP(-bêta*(AO$15-$H28)))    +   (_C*EXP(-gamma*(AO$15-$H28 )))      )","v":0},{"$f":"  $G28/[0]!Poids      *      (     (A*EXP(-alpha*(AP$15-$H28)))     +      (B*EXP(-bêta*(AP$15-$H28)))    +   (_C*EXP(-gamma*(AP$15-$H28 )))      )","v":0},{"$f":"  $G28/[0]!Poids      *      (     (A*EXP(-alpha*(AQ$15-$H28)))     +      (B*EXP(-bêta*(AQ$15-$H28)))    +   (_C*EXP(-gamma*(AQ$15-$H28 )))      )","v":0},{"$f":"  $G28/[0]!Poids      *      (     (A*EXP(-alpha*(AR$15-$H28)))     +      (B*EXP(-bêta*(AR$15-$H28)))    +   (_C*EXP(-gamma*(AR$15-$H28 )))      )","v":0},{"$f":"  $G28/[0]!Poids      *      (     (A*EXP(-alpha*(AS$15-$H28)))     +      (B*EXP(-bêta*(AS$15-$H28)))    +   (_C*EXP(-gamma*(AS$15-$H28 )))      )","v":0},{"$f":"  $G28/[0]!Poids      *      (     (A*EXP(-alpha*(AT$15-$H28)))     +      (B*EXP(-bêta*(AT$15-$H28)))    +   (_C*EXP(-gamma*(AT$15-$H28 )))      )","v":0},{"$f":"  $G28/[0]!Poids      *      (     (A*EXP(-alpha*(AU$15-$H28)))     +      (B*EXP(-bêta*(AU$15-$H28)))    +   (_C*EXP(-gamma*(AU$15-$H28 )))      )","v":0},{"$f":"  $G28/[0]!Poids      *      (     (A*EXP(-alpha*(AV$15-$H28)))     +      (B*EXP(-bêta*(AV$15-$H28)))    +   (_C*EXP(-gamma*(AV$15-$H28 )))      )","v":0},{"$f":"  $G28/[0]!Poids      *      (     (A*EXP(-alpha*(AW$15-$H28)))     +      (B*EXP(-bêta*(AW$15-$H28)))    +   (_C*EXP(-gamma*(AW$15-$H28 )))      )","v":0},{"$f":"  $G28/[0]!Poids      *      (     (A*EXP(-alpha*(AX$15-$H28)))     +      (B*EXP(-bêta*(AX$15-$H28)))    +   (_C*EXP(-gamma*(AX$15-$H28 )))      )","v":0},{"$f":"  $G28/[0]!Poids      *      (     (A*EXP(-alpha*(AY$15-$H28)))     +      (B*EXP(-bêta*(AY$15-$H28)))    +   (_C*EXP(-gamma*(AY$15-$H28 )))      )","v":0},{"$f":"  $G28/[0]!Poids      *      (     (A*EXP(-alpha*(AZ$15-$H28)))     +      (B*EXP(-bêta*(AZ$15-$H28)))    +   (_C*EXP(-gamma*(AZ$15-$H28 )))      )","v":0},{"$f":"  $G28/[0]!Poids      *      (     (A*EXP(-alpha*(BA$15-$H28)))     +      (B*EXP(-bêta*(BA$15-$H28)))    +   (_C*EXP(-gamma*(BA$15-$H28 )))      )","v":0},{"$f":"  $G28/[0]!Poids      *      (     (A*EXP(-alpha*(BB$15-$H28)))     +      (B*EXP(-bêta*(BB$15-$H28)))    +   (_C*EXP(-gamma*(BB$15-$H28 )))      )","v":0},{"$f":"  $G28/[0]!Poids      *      (     (A*EXP(-alpha*(BC$15-$H28)))     +      (B*EXP(-bêta*(BC$15-$H28)))    +   (_C*EXP(-gamma*(BC$15-$H28 )))      )","v":0},{"$f":"  $G28/[0]!Poids      *      (     (A*EXP(-alpha*(BD$15-$H28)))     +      (B*EXP(-bêta*(BD$15-$H28)))    +   (_C*EXP(-gamma*(BD$15-$H28 )))      )","v":0},{"$f":"  $G28/[0]!Poids      *      (     (A*EXP(-alpha*(BE$15-$H28)))     +      (B*EXP(-bêta*(BE$15-$H28)))    +   (_C*EXP(-gamma*(BE$15-$H28 )))      )","v":0},{"$f":"  $G28/[0]!Poids      *      (     (A*EXP(-alpha*(BF$15-$H28)))     +      (B*EXP(-bêta*(BF$15-$H28)))    +   (_C*EXP(-gamma*(BF$15-$H28 )))      )","v":0},{"$f":"  $G28/[0]!Poids      *      (     (A*EXP(-alpha*(BG$15-$H28)))     +      (B*EXP(-bêta*(BG$15-$H28)))    +   (_C*EXP(-gamma*(BG$15-$H28 )))      )","v":0},{"$f":"  $G28/[0]!Poids      *      (     (A*EXP(-alpha*(BH$15-$H28)))     +      (B*EXP(-bêta*(BH$15-$H28)))    +   (_C*EXP(-gamma*(BH$15-$H28 )))      )","v":0},{"$f":"  $G28/[0]!Poids      *      (     (A*EXP(-alpha*(BI$15-$H28)))     +      (B*EXP(-bêta*(BI$15-$H28)))    +   (_C*EXP(-gamma*(BI$15-$H28 )))      )","v":0},{"$f":"  $G28/[0]!Poids      *      (     (A*EXP(-alpha*(BJ$15-$H28)))     +      (B*EXP(-bêta*(BJ$15-$H28)))    +   (_C*EXP(-gamma*(BJ$15-$H28 )))      )","v":0},{"$f":"  $G28/[0]!Poids      *      (     (A*EXP(-alpha*(BK$15-$H28)))     +      (B*EXP(-bêta*(BK$15-$H28)))    +   (_C*EXP(-gamma*(BK$15-$H28 )))      )","v":0},{"$f":"  $G28/[0]!Poids      *      (     (A*EXP(-alpha*(BL$15-$H28)))     +      (B*EXP(-bêta*(BL$15-$H28)))    +   (_C*EXP(-gamma*(BL$15-$H28 )))      )","v":0},{"$f":"  $G28/[0]!Poids      *      (     (A*EXP(-alpha*(BM$15-$H28)))     +      (B*EXP(-bêta*(BM$15-$H28)))    +   (_C*EXP(-gamma*(BM$15-$H28 )))      )","v":0},{"$f":"  $G28/[0]!Poids      *      (     (A*EXP(-alpha*(BN$15-$H28)))     +      (B*EXP(-bêta*(BN$15-$H28)))    +   (_C*EXP(-gamma*(BN$15-$H28 )))      )","v":0},{"$f":"  $G28/[0]!Poids      *      (     (A*EXP(-alpha*(BO$15-$H28)))     +      (B*EXP(-bêta*(BO$15-$H28)))    +   (_C*EXP(-gamma*(BO$15-$H28 )))      )","v":0},{"$f":"  $G28/[0]!Poids      *      (     (A*EXP(-alpha*(BP$15-$H28)))     +      (B*EXP(-bêta*(BP$15-$H28)))    +   (_C*EXP(-gamma*(BP$15-$H28 )))      )","v":0},{"$f":"  $G28/[0]!Poids      *      (     (A*EXP(-alpha*(BQ$15-$H28)))     +      (B*EXP(-bêta*(BQ$15-$H28)))    +   (_C*EXP(-gamma*(BQ$15-$H28 )))      )","v":0},{"$f":"  $G28/[0]!Poids      *      (     (A*EXP(-alpha*(BR$15-$H28)))     +      (B*EXP(-bêta*(BR$15-$H28)))    +   (_C*EXP(-gamma*(BR$15-$H28 )))      )","v":0}]
[null,"A+B+C",{"$f":"SUM(C17:C19)","v":147},"(0,25/kg)","à T=0",null,{"$f":"W$10","v":0},65,null,null,null,null,null,null,null,null,null,null,null,null,null,null,{"$f":"  $G29/[0]!Poids      *      (     (A*EXP(-alpha*(W$15-$H29)))     +      (B*EXP(-bêta*(W$15-$H29)))    +   (_C*EXP(-gamma*(W$15-$H29 )))      )","v":0},{"$f":"  $G29/[0]!Poids      *      (     (A*EXP(-alpha*(X$15-$H29)))     +      (B*EXP(-bêta*(X$15-$H29)))    +   (_C*EXP(-gamma*(X$15-$H29 )))      )","v":0},{"$f":"  $G29/[0]!Poids      *      (     (A*EXP(-alpha*(Y$15-$H29)))     +      (B*EXP(-bêta*(Y$15-$H29)))    +   (_C*EXP(-gamma*(Y$15-$H29 )))      )","v":0},{"$f":"  $G29/[0]!Poids      *      (     (A*EXP(-alpha*(Z$15-$H29)))     +      (B*EXP(-bêta*(Z$15-$H29)))    +   (_C*EXP(-gamma*(Z$15-$H29 )))      )","v":0},{"$f":"  $G29/[0]!Poids      *      (     (A*EXP(-alpha*(AA$15-$H29)))     +      (B*EXP(-bêta*(AA$15-$H29)))    +   (_C*EXP(-gamma*(AA$15-$H29 )))      )","v":0},{"$f":"  $G29/[0]!Poids      *      (     (A*EXP(-alpha*(AB$15-$H29)))     +      (B*EXP(-bêta*(AB$15-$H29)))    +   (_C*EXP(-gamma*(AB$15-$H29 )))      )","v":0},{"$f":"  $G29/[0]!Poids      *      (     (A*EXP(-alpha*(AC$15-$H29)))     +      (B*EXP(-bêta*(AC$15-$H29)))    +   (_C*EXP(-gamma*(AC$15-$H29 )))      )","v":0},{"$f":"  $G29/[0]!Poids      *      (     (A*EXP(-alpha*(AD$15-$H29)))     +      (B*EXP(-bêta*(AD$15-$H29)))    +   (_C*EXP(-gamma*(AD$15-$H29 )))      )","v":0},{"$f":"  $G29/[0]!Poids      *      (     (A*EXP(-alpha*(AE$15-$H29)))     +      (B*EXP(-bêta*(AE$15-$H29)))    +   (_C*EXP(-gamma*(AE$15-$H29 )))      )","v":0},{"$f":"  $G29/[0]!Poids      *      (     (A*EXP(-alpha*(AF$15-$H29)))     +      (B*EXP(-bêta*(AF$15-$H29)))    +   (_C*EXP(-gamma*(AF$15-$H29 )))      )","v":0},{"$f":"  $G29/[0]!Poids      *      (     (A*EXP(-alpha*(AG$15-$H29)))     +      (B*EXP(-bêta*(AG$15-$H29)))    +   (_C*EXP(-gamma*(AG$15-$H29 )))      )","v":0},{"$f":"  $G29/[0]!Poids      *      (     (A*EXP(-alpha*(AH$15-$H29)))     +      (B*EXP(-bêta*(AH$15-$H29)))    +   (_C*EXP(-gamma*(AH$15-$H29 )))      )","v":0},{"$f":"  $G29/[0]!Poids      *      (     (A*EXP(-alpha*(AI$15-$H29)))     +      (B*EXP(-bêta*(AI$15-$H29)))    +   (_C*EXP(-gamma*(AI$15-$H29 )))      )","v":0},{"$f":"  $G29/[0]!Poids      *      (     (A*EXP(-alpha*(AJ$15-$H29)))     +      (B*EXP(-bêta*(AJ$15-$H29)))    +   (_C*EXP(-gamma*(AJ$15-$H29 )))      )","v":0},{"$f":"  $G29/[0]!Poids      *      (     (A*EXP(-alpha*(AK$15-$H29)))     +      (B*EXP(-bêta*(AK$15-$H29)))    +   (_C*EXP(-gamma*(AK$15-$H29 )))      )","v":0},{"$f":"  $G29/[0]!Poids      *      (     (A*EXP(-alpha*(AL$15-$H29)))     +      (B*EXP(-bêta*(AL$15-$H29)))    +   (_C*EXP(-gamma*(AL$15-$H29 )))      )","v":0},{"$f":"  $G29/[0]!Poids      *      (     (A*EXP(-alpha*(AM$15-$H29)))     +      (B*EXP(-bêta*(AM$15-$H29)))    +   (_C*EXP(-gamma*(AM$15-$H29 )))      )","v":0},{"$f":"  $G29/[0]!Poids      *      (     (A*EXP(-alpha*(AN$15-$H29)))     +      (B*EXP(-bêta*(AN$15-$H29)))    +   (_C*EXP(-gamma*(AN$15-$H29 )))      )","v":0},{"$f":"  $G29/[0]!Poids      *      (     (A*EXP(-alpha*(AO$15-$H29)))     +      (B*EXP(-bêta*(AO$15-$H29)))    +   (_C*EXP(-gamma*(AO$15-$H29 )))      )","v":0},{"$f":"  $G29/[0]!Poids      *      (     (A*EXP(-alpha*(AP$15-$H29)))     +      (B*EXP(-bêta*(AP$15-$H29)))    +   (_C*EXP(-gamma*(AP$15-$H29 )))      )","v":0},{"$f":"  $G29/[0]!Poids      *      (     (A*EXP(-alpha*(AQ$15-$H29)))     +      (B*EXP(-bêta*(AQ$15-$H29)))    +   (_C*EXP(-gamma*(AQ$15-$H29 )))      )","v":0},{"$f":"  $G29/[0]!Poids      *      (     (A*EXP(-alpha*(AR$15-$H29)))     +      (B*EXP(-bêta*(AR$15-$H29)))    +   (_C*EXP(-gamma*(AR$15-$H29 )))      )","v":0},{"$f":"  $G29/[0]!Poids      *      (     (A*EXP(-alpha*(AS$15-$H29)))     +      (B*EXP(-bêta*(AS$15-$H29)))    +   (_C*EXP(-gamma*(AS$15-$H29 )))      )","v":0},{"$f":"  $G29/[0]!Poids      *      (     (A*EXP(-alpha*(AT$15-$H29)))     +      (B*EXP(-bêta*(AT$15-$H29)))    +   (_C*EXP(-gamma*(AT$15-$H29 )))      )","v":0},{"$f":"  $G29/[0]!Poids      *      (     (A*EXP(-alpha*(AU$15-$H29)))     +      (B*EXP(-bêta*(AU$15-$H29)))    +   (_C*EXP(-gamma*(AU$15-$H29 )))      )","v":0},{"$f":"  $G29/[0]!Poids      *      (     (A*EXP(-alpha*(AV$15-$H29)))     +      (B*EXP(-bêta*(AV$15-$H29)))    +   (_C*EXP(-gamma*(AV$15-$H29 )))      )","v":0},{"$f":"  $G29/[0]!Poids      *      (     (A*EXP(-alpha*(AW$15-$H29)))     +      (B*EXP(-bêta*(AW$15-$H29)))    +   (_C*EXP(-gamma*(AW$15-$H29 )))      )","v":0},{"$f":"  $G29/[0]!Poids      *      (     (A*EXP(-alpha*(AX$15-$H29)))     +      (B*EXP(-bêta*(AX$15-$H29)))    +   (_C*EXP(-gamma*(AX$15-$H29 )))      )","v":0},{"$f":"  $G29/[0]!Poids      *      (     (A*EXP(-alpha*(AY$15-$H29)))     +      (B*EXP(-bêta*(AY$15-$H29)))    +   (_C*EXP(-gamma*(AY$15-$H29 )))      )","v":0},{"$f":"  $G29/[0]!Poids      *      (     (A*EXP(-alpha*(AZ$15-$H29)))     +      (B*EXP(-bêta*(AZ$15-$H29)))    +   (_C*EXP(-gamma*(AZ$15-$H29 )))      )","v":0},{"$f":"  $G29/[0]!Poids      *      (     (A*EXP(-alpha*(BA$15-$H29)))     +      (B*EXP(-bêta*(BA$15-$H29)))    +   (_C*EXP(-gamma*(BA$15-$H29 )))      )","v":0},{"$f":"  $G29/[0]!Poids      *      (     (A*EXP(-alpha*(BB$15-$H29)))     +      (B*EXP(-bêta*(BB$15-$H29)))    +   (_C*EXP(-gamma*(BB$15-$H29 )))      )","v":0},{"$f":"  $G29/[0]!Poids      *      (     (A*EXP(-alpha*(BC$15-$H29)))     +      (B*EXP(-bêta*(BC$15-$H29)))    +   (_C*EXP(-gamma*(BC$15-$H29 )))      )","v":0},{"$f":"  $G29/[0]!Poids      *      (     (A*EXP(-alpha*(BD$15-$H29)))     +      (B*EXP(-bêta*(BD$15-$H29)))    +   (_C*EXP(-gamma*(BD$15-$H29 )))      )","v":0},{"$f":"  $G29/[0]!Poids      *      (     (A*EXP(-alpha*(BE$15-$H29)))     +      (B*EXP(-bêta*(BE$15-$H29)))    +   (_C*EXP(-gamma*(BE$15-$H29 )))      )","v":0},{"$f":"  $G29/[0]!Poids      *      (     (A*EXP(-alpha*(BF$15-$H29)))     +      (B*EXP(-bêta*(BF$15-$H29)))    +   (_C*EXP(-gamma*(BF$15-$H29 )))      )","v":0},{"$f":"  $G29/[0]!Poids      *      (     (A*EXP(-alpha*(BG$15-$H29)))     +      (B*EXP(-bêta*(BG$15-$H29)))    +   (_C*EXP(-gamma*(BG$15-$H29 )))      )","v":0},{"$f":"  $G29/[0]!Poids      *      (     (A*EXP(-alpha*(BH$15-$H29)))     +      (B*EXP(-bêta*(BH$15-$H29)))    +   (_C*EXP(-gamma*(BH$15-$H29 )))      )","v":0},{"$f":"  $G29/[0]!Poids      *      (     (A*EXP(-alpha*(BI$15-$H29)))     +      (B*EXP(-bêta*(BI$15-$H29)))    +   (_C*EXP(-gamma*(BI$15-$H29 )))      )","v":0},{"$f":"  $G29/[0]!Poids      *      (     (A*EXP(-alpha*(BJ$15-$H29)))     +      (B*EXP(-bêta*(BJ$15-$H29)))    +   (_C*EXP(-gamma*(BJ$15-$H29 )))      )","v":0},{"$f":"  $G29/[0]!Poids      *      (     (A*EXP(-alpha*(BK$15-$H29)))     +      (B*EXP(-bêta*(BK$15-$H29)))    +   (_C*EXP(-gamma*(BK$15-$H29 )))      )","v":0},{"$f":"  $G29/[0]!Poids      *      (     (A*EXP(-alpha*(BL$15-$H29)))     +      (B*EXP(-bêta*(BL$15-$H29)))    +   (_C*EXP(-gamma*(BL$15-$H29 )))      )","v":0},{"$f":"  $G29/[0]!Poids      *      (     (A*EXP(-alpha*(BM$15-$H29)))     +      (B*EXP(-bêta*(BM$15-$H29)))    +   (_C*EXP(-gamma*(BM$15-$H29 )))      )","v":0},{"$f":"  $G29/[0]!Poids      *      (     (A*EXP(-alpha*(BN$15-$H29)))     +      (B*EXP(-bêta*(BN$15-$H29)))    +   (_C*EXP(-gamma*(BN$15-$H29 )))      )","v":0},{"$f":"  $G29/[0]!Poids      *      (     (A*EXP(-alpha*(BO$15-$H29)))     +      (B*EXP(-bêta*(BO$15-$H29)))    +   (_C*EXP(-gamma*(BO$15-$H29 )))      )","v":0},{"$f":"  $G29/[0]!Poids      *      (     (A*EXP(-alpha*(BP$15-$H29)))     +      (B*EXP(-bêta*(BP$15-$H29)))    +   (_C*EXP(-gamma*(BP$15-$H29 )))      )","v":0},{"$f":"  $G29/[0]!Poids      *      (     (A*EXP(-alpha*(BQ$15-$H29)))     +      (B*EXP(-bêta*(BQ$15-$H29)))    +   (_C*EXP(-gamma*(BQ$15-$H29 )))      )","v":0},{"$f":"  $G29/[0]!Poids      *      (     (A*EXP(-alpha*(BR$15-$H29)))     +      (B*EXP(-bêta*(BR$15-$H29)))    +   (_C*EXP(-gamma*(BR$15-$H29 )))      )","v":0}]
[null,null,null,null,null,null,{"$f":"X$10","v":0},70,null,null,null,null,null,null,null,null,null,null,null,null,null,null,null,{"$f":"  $G30/[0]!Poids      *      (     (A*EXP(-alpha*(X$15-$H30)))     +      (B*EXP(-bêta*(X$15-$H30)))    +   (_C*EXP(-gamma*(X$15-$H30 )))      )","v":0},{"$f":"  $G30/[0]!Poids      *      (     (A*EXP(-alpha*(Y$15-$H30)))     +      (B*EXP(-bêta*(Y$15-$H30)))    +   (_C*EXP(-gamma*(Y$15-$H30 )))      )","v":0},{"$f":"  $G30/[0]!Poids      *      (     (A*EXP(-alpha*(Z$15-$H30)))     +      (B*EXP(-bêta*(Z$15-$H30)))    +   (_C*EXP(-gamma*(Z$15-$H30 )))      )","v":0},{"$f":"  $G30/[0]!Poids      *      (     (A*EXP(-alpha*(AA$15-$H30)))     +      (B*EXP(-bêta*(AA$15-$H30)))    +   (_C*EXP(-gamma*(AA$15-$H30 )))      )","v":0},{"$f":"  $G30/[0]!Poids      *      (     (A*EXP(-alpha*(AB$15-$H30)))     +      (B*EXP(-bêta*(AB$15-$H30)))    +   (_C*EXP(-gamma*(AB$15-$H30 )))      )","v":0},{"$f":"  $G30/[0]!Poids      *      (     (A*EXP(-alpha*(AC$15-$H30)))     +      (B*EXP(-bêta*(AC$15-$H30)))    +   (_C*EXP(-gamma*(AC$15-$H30 )))      )","v":0},{"$f":"  $G30/[0]!Poids      *      (     (A*EXP(-alpha*(AD$15-$H30)))     +      (B*EXP(-bêta*(AD$15-$H30)))    +   (_C*EXP(-gamma*(AD$15-$H30 )))      )","v":0},{"$f":"  $G30/[0]!Poids      *      (     (A*EXP(-alpha*(AE$15-$H30)))     +      (B*EXP(-bêta*(AE$15-$H30)))    +   (_C*EXP(-gamma*(AE$15-$H30 )))      )","v":0},{"$f":"  $G30/[0]!Poids      *      (     (A*EXP(-alpha*(AF$15-$H30)))     +      (B*EXP(-bêta*(AF$15-$H30)))    +   (_C*EXP(-gamma*(AF$15-$H30 )))      )","v":0},{"$f":"  $G30/[0]!Poids      *      (     (A*EXP(-alpha*(AG$15-$H30)))     +      (B*EXP(-bêta*(AG$15-$H30)))    +   (_C*EXP(-gamma*(AG$15-$H30 )))      )","v":0},{"$f":"  $G30/[0]!Poids      *      (     (A*EXP(-alpha*(AH$15-$H30)))     +      (B*EXP(-bêta*(AH$15-$H30)))    +   (_C*EXP(-gamma*(AH$15-$H30 )))      )","v":0},{"$f":"  $G30/[0]!Poids      *      (     (A*EXP(-alpha*(AI$15-$H30)))     +      (B*EXP(-bêta*(AI$15-$H30)))    +   (_C*EXP(-gamma*(AI$15-$H30 )))      )","v":0},{"$f":"  $G30/[0]!Poids      *      (     (A*EXP(-alpha*(AJ$15-$H30)))     +      (B*EXP(-bêta*(AJ$15-$H30)))    +   (_C*EXP(-gamma*(AJ$15-$H30 )))      )","v":0},{"$f":"  $G30/[0]!Poids      *      (     (A*EXP(-alpha*(AK$15-$H30)))     +      (B*EXP(-bêta*(AK$15-$H30)))    +   (_C*EXP(-gamma*(AK$15-$H30 )))      )","v":0},{"$f":"  $G30/[0]!Poids      *      (     (A*EXP(-alpha*(AL$15-$H30)))     +      (B*EXP(-bêta*(AL$15-$H30)))    +   (_C*EXP(-gamma*(AL$15-$H30 )))      )","v":0},{"$f":"  $G30/[0]!Poids      *      (     (A*EXP(-alpha*(AM$15-$H30)))     +      (B*EXP(-bêta*(AM$15-$H30)))    +   (_C*EXP(-gamma*(AM$15-$H30 )))      )","v":0},{"$f":"  $G30/[0]!Poids      *      (     (A*EXP(-alpha*(AN$15-$H30)))     +      (B*EXP(-bêta*(AN$15-$H30)))    +   (_C*EXP(-gamma*(AN$15-$H30 )))      )","v":0},{"$f":"  $G30/[0]!Poids      *      (     (A*EXP(-alpha*(AO$15-$H30)))     +      (B*EXP(-bêta*(AO$15-$H30)))    +   (_C*EXP(-gamma*(AO$15-$H30 )))      )","v":0},{"$f":"  $G30/[0]!Poids      *      (     (A*EXP(-alpha*(AP$15-$H30)))     +      (B*EXP(-bêta*(AP$15-$H30)))    +   (_C*EXP(-gamma*(AP$15-$H30 )))      )","v":0},{"$f":"  $G30/[0]!Poids      *      (     (A*EXP(-alpha*(AQ$15-$H30)))     +      (B*EXP(-bêta*(AQ$15-$H30)))    +   (_C*EXP(-gamma*(AQ$15-$H30 )))      )","v":0},{"$f":"  $G30/[0]!Poids      *      (     (A*EXP(-alpha*(AR$15-$H30)))     +      (B*EXP(-bêta*(AR$15-$H30)))    +   (_C*EXP(-gamma*(AR$15-$H30 )))      )","v":0},{"$f":"  $G30/[0]!Poids      *      (     (A*EXP(-alpha*(AS$15-$H30)))     +      (B*EXP(-bêta*(AS$15-$H30)))    +   (_C*EXP(-gamma*(AS$15-$H30 )))      )","v":0},{"$f":"  $G30/[0]!Poids      *      (     (A*EXP(-alpha*(AT$15-$H30)))     +      (B*EXP(-bêta*(AT$15-$H30)))    +   (_C*EXP(-gamma*(AT$15-$H30 )))      )","v":0},{"$f":"  $G30/[0]!Poids      *      (     (A*EXP(-alpha*(AU$15-$H30)))     +      (B*EXP(-bêta*(AU$15-$H30)))    +   (_C*EXP(-gamma*(AU$15-$H30 )))      )","v":0},{"$f":"  $G30/[0]!Poids      *      (     (A*EXP(-alpha*(AV$15-$H30)))     +      (B*EXP(-bêta*(AV$15-$H30)))    +   (_C*EXP(-gamma*(AV$15-$H30 )))      )","v":0},{"$f":"  $G30/[0]!Poids      *      (     (A*EXP(-alpha*(AW$15-$H30)))     +      (B*EXP(-bêta*(AW$15-$H30)))    +   (_C*EXP(-gamma*(AW$15-$H30 )))      )","v":0},{"$f":"  $G30/[0]!Poids      *      (     (A*EXP(-alpha*(AX$15-$H30)))     +      (B*EXP(-bêta*(AX$15-$H30)))    +   (_C*EXP(-gamma*(AX$15-$H30 )))      )","v":0},{"$f":"  $G30/[0]!Poids      *      (     (A*EXP(-alpha*(AY$15-$H30)))     +      (B*EXP(-bêta*(AY$15-$H30)))    +   (_C*EXP(-gamma*(AY$15-$H30 )))      )","v":0},{"$f":"  $G30/[0]!Poids      *      (     (A*EXP(-alpha*(AZ$15-$H30)))     +      (B*EXP(-bêta*(AZ$15-$H30)))    +   (_C*EXP(-gamma*(AZ$15-$H30 )))      )","v":0},{"$f":"  $G30/[0]!Poids      *      (     (A*EXP(-alpha*(BA$15-$H30)))     +      (B*EXP(-bêta*(BA$15-$H30)))    +   (_C*EXP(-gamma*(BA$15-$H30 )))      )","v":0},{"$f":"  $G30/[0]!Poids      *      (     (A*EXP(-alpha*(BB$15-$H30)))     +      (B*EXP(-bêta*(BB$15-$H30)))    +   (_C*EXP(-gamma*(BB$15-$H30 )))      )","v":0},{"$f":"  $G30/[0]!Poids      *      (     (A*EXP(-alpha*(BC$15-$H30)))     +      (B*EXP(-bêta*(BC$15-$H30)))    +   (_C*EXP(-gamma*(BC$15-$H30 )))      )","v":0},{"$f":"  $G30/[0]!Poids      *      (     (A*EXP(-alpha*(BD$15-$H30)))     +      (B*EXP(-bêta*(BD$15-$H30)))    +   (_C*EXP(-gamma*(BD$15-$H30 )))      )","v":0},{"$f":"  $G30/[0]!Poids      *      (     (A*EXP(-alpha*(BE$15-$H30)))     +      (B*EXP(-bêta*(BE$15-$H30)))    +   (_C*EXP(-gamma*(BE$15-$H30 )))      )","v":0},{"$f":"  $G30/[0]!Poids      *      (     (A*EXP(-alpha*(BF$15-$H30)))     +      (B*EXP(-bêta*(BF$15-$H30)))    +   (_C*EXP(-gamma*(BF$15-$H30 )))      )","v":0},{"$f":"  $G30/[0]!Poids      *      (     (A*EXP(-alpha*(BG$15-$H30)))     +      (B*EXP(-bêta*(BG$15-$H30)))    +   (_C*EXP(-gamma*(BG$15-$H30 )))      )","v":0},{"$f":"  $G30/[0]!Poids      *      (     (A*EXP(-alpha*(BH$15-$H30)))     +      (B*EXP(-bêta*(BH$15-$H30)))    +   (_C*EXP(-gamma*(BH$15-$H30 )))      )","v":0},{"$f":"  $G30/[0]!Poids      *      (     (A*EXP(-alpha*(BI$15-$H30)))     +      (B*EXP(-bêta*(BI$15-$H30)))    +   (_C*EXP(-gamma*(BI$15-$H30 )))      )","v":0},{"$f":"  $G30/[0]!Poids      *      (     (A*EXP(-alpha*(BJ$15-$H30)))     +      (B*EXP(-bêta*(BJ$15-$H30)))    +   (_C*EXP(-gamma*(BJ$15-$H30 )))      )","v":0},{"$f":"  $G30/[0]!Poids      *      (     (A*EXP(-alpha*(BK$15-$H30)))     +      (B*EXP(-bêta*(BK$15-$H30)))    +   (_C*EXP(-gamma*(BK$15-$H30 )))      )","v":0},{"$f":"  $G30/[0]!Poids      *      (     (A*EXP(-alpha*(BL$15-$H30)))     +      (B*EXP(-bêta*(BL$15-$H30)))    +   (_C*EXP(-gamma*(BL$15-$H30 )))      )","v":0},{"$f":"  $G30/[0]!Poids      *      (     (A*EXP(-alpha*(BM$15-$H30)))     +      (B*EXP(-bêta*(BM$15-$H30)))    +   (_C*EXP(-gamma*(BM$15-$H30 )))      )","v":0},{"$f":"  $G30/[0]!Poids      *      (     (A*EXP(-alpha*(BN$15-$H30)))     +      (B*EXP(-bêta*(BN$15-$H30)))    +   (_C*EXP(-gamma*(BN$15-$H30 )))      )","v":0},{"$f":"  $G30/[0]!Poids      *      (     (A*EXP(-alpha*(BO$15-$H30)))     +      (B*EXP(-bêta*(BO$15-$H30)))    +   (_C*EXP(-gamma*(BO$15-$H30 )))      )","v":0},{"$f":"  $G30/[0]!Poids      *      (     (A*EXP(-alpha*(BP$15-$H30)))     +      (B*EXP(-bêta*(BP$15-$H30)))    +   (_C*EXP(-gamma*(BP$15-$H30 )))      )","v":0},{"$f":"  $G30/[0]!Poids      *      (     (A*EXP(-alpha*(BQ$15-$H30)))     +      (B*EXP(-bêta*(BQ$15-$H30)))    +   (_C*EXP(-gamma*(BQ$15-$H30 )))      )","v":0},{"$f":"  $G30/[0]!Poids      *      (     (A*EXP(-alpha*(BR$15-$H30)))     +      (B*EXP(-bêta*(BR$15-$H30)))    +   (_C*EXP(-gamma*(BR$15-$H30 )))      )","v":0}]
[null,"Calculs test formule",null,null,null,null,{"$f":"Y$10","v":0},75,null,null,null,null,null,null,null,null,null,null,null,null,null,null,null,null,{"$f":"  $G31/[0]!Poids      *      (     (A*EXP(-alpha*(Y$15-$H31)))     +      (B*EXP(-bêta*(Y$15-$H31)))    +   (_C*EXP(-gamma*(Y$15-$H31 )))      )","v":0},{"$f":"  $G31/[0]!Poids      *      (     (A*EXP(-alpha*(Z$15-$H31)))     +      (B*EXP(-bêta*(Z$15-$H31)))    +   (_C*EXP(-gamma*(Z$15-$H31 )))      )","v":0},{"$f":"  $G31/[0]!Poids      *      (     (A*EXP(-alpha*(AA$15-$H31)))     +      (B*EXP(-bêta*(AA$15-$H31)))    +   (_C*EXP(-gamma*(AA$15-$H31 )))      )","v":0},{"$f":"  $G31/[0]!Poids      *      (     (A*EXP(-alpha*(AB$15-$H31)))     +      (B*EXP(-bêta*(AB$15-$H31)))    +   (_C*EXP(-gamma*(AB$15-$H31 )))      )","v":0},{"$f":"  $G31/[0]!Poids      *      (     (A*EXP(-alpha*(AC$15-$H31)))     +      (B*EXP(-bêta*(AC$15-$H31)))    +   (_C*EXP(-gamma*(AC$15-$H31 )))      )","v":0},{"$f":"  $G31/[0]!Poids      *      (     (A*EXP(-alpha*(AD$15-$H31)))     +      (B*EXP(-bêta*(AD$15-$H31)))    +   (_C*EXP(-gamma*(AD$15-$H31 )))      )","v":0},{"$f":"  $G31/[0]!Poids      *      (     (A*EXP(-alpha*(AE$15-$H31)))     +      (B*EXP(-bêta*(AE$15-$H31)))    +   (_C*EXP(-gamma*(AE$15-$H31 )))      )","v":0},{"$f":"  $G31/[0]!Poids      *      (     (A*EXP(-alpha*(AF$15-$H31)))     +      (B*EXP(-bêta*(AF$15-$H31)))    +   (_C*EXP(-gamma*(AF$15-$H31 )))      )","v":0},{"$f":"  $G31/[0]!Poids      *      (     (A*EXP(-alpha*(AG$15-$H31)))     +      (B*EXP(-bêta*(AG$15-$H31)))    +   (_C*EXP(-gamma*(AG$15-$H31 )))      )","v":0},{"$f":"  $G31/[0]!Poids      *      (     (A*EXP(-alpha*(AH$15-$H31)))     +      (B*EXP(-bêta*(AH$15-$H31)))    +   (_C*EXP(-gamma*(AH$15-$H31 )))      )","v":0},{"$f":"  $G31/[0]!Poids      *      (     (A*EXP(-alpha*(AI$15-$H31)))     +      (B*EXP(-bêta*(AI$15-$H31)))    +   (_C*EXP(-gamma*(AI$15-$H31 )))      )","v":0},{"$f":"  $G31/[0]!Poids      *      (     (A*EXP(-alpha*(AJ$15-$H31)))     +      (B*EXP(-bêta*(AJ$15-$H31)))    +   (_C*EXP(-gamma*(AJ$15-$H31 )))      )","v":0},{"$f":"  $G31/[0]!Poids      *      (     (A*EXP(-alpha*(AK$15-$H31)))     +      (B*EXP(-bêta*(AK$15-$H31)))    +   (_C*EXP(-gamma*(AK$15-$H31 )))      )","v":0},{"$f":"  $G31/[0]!Poids      *      (     (A*EXP(-alpha*(AL$15-$H31)))     +      (B*EXP(-bêta*(AL$15-$H31)))    +   (_C*EXP(-gamma*(AL$15-$H31 )))      )","v":0},{"$f":"  $G31/[0]!Poids      *      (     (A*EXP(-alpha*(AM$15-$H31)))     +      (B*EXP(-bêta*(AM$15-$H31)))    +   (_C*EXP(-gamma*(AM$15-$H31 )))      )","v":0},{"$f":"  $G31/[0]!Poids      *      (     (A*EXP(-alpha*(AN$15-$H31)))     +      (B*EXP(-bêta*(AN$15-$H31)))    +   (_C*EXP(-gamma*(AN$15-$H31 )))      )","v":0},{"$f":"  $G31/[0]!Poids      *      (     (A*EXP(-alpha*(AO$15-$H31)))     +      (B*EXP(-bêta*(AO$15-$H31)))    +   (_C*EXP(-gamma*(AO$15-$H31 )))      )","v":0},{"$f":"  $G31/[0]!Poids      *      (     (A*EXP(-alpha*(AP$15-$H31)))     +      (B*EXP(-bêta*(AP$15-$H31)))    +   (_C*EXP(-gamma*(AP$15-$H31 )))      )","v":0},{"$f":"  $G31/[0]!Poids      *      (     (A*EXP(-alpha*(AQ$15-$H31)))     +      (B*EXP(-bêta*(AQ$15-$H31)))    +   (_C*EXP(-gamma*(AQ$15-$H31 )))      )","v":0},{"$f":"  $G31/[0]!Poids      *      (     (A*EXP(-alpha*(AR$15-$H31)))     +      (B*EXP(-bêta*(AR$15-$H31)))    +   (_C*EXP(-gamma*(AR$15-$H31 )))      )","v":0},{"$f":"  $G31/[0]!Poids      *      (     (A*EXP(-alpha*(AS$15-$H31)))     +      (B*EXP(-bêta*(AS$15-$H31)))    +   (_C*EXP(-gamma*(AS$15-$H31 )))      )","v":0},{"$f":"  $G31/[0]!Poids      *      (     (A*EXP(-alpha*(AT$15-$H31)))     +      (B*EXP(-bêta*(AT$15-$H31)))    +   (_C*EXP(-gamma*(AT$15-$H31 )))      )","v":0},{"$f":"  $G31/[0]!Poids      *      (     (A*EXP(-alpha*(AU$15-$H31)))     +      (B*EXP(-bêta*(AU$15-$H31)))    +   (_C*EXP(-gamma*(AU$15-$H31 )))      )","v":0},{"$f":"  $G31/[0]!Poids      *      (     (A*EXP(-alpha*(AV$15-$H31)))     +      (B*EXP(-bêta*(AV$15-$H31)))    +   (_C*EXP(-gamma*(AV$15-$H31 )))      )","v":0},{"$f":"  $G31/[0]!Poids      *      (     (A*EXP(-alpha*(AW$15-$H31)))     +      (B*EXP(-bêta*(AW$15-$H31)))    +   (_C*EXP(-gamma*(AW$15-$H31 )))      )","v":0},{"$f":"  $G31/[0]!Poids      *      (     (A*EXP(-alpha*(AX$15-$H31)))     +      (B*EXP(-bêta*(AX$15-$H31)))    +   (_C*EXP(-gamma*(AX$15-$H31 )))      )","v":0},{"$f":"  $G31/[0]!Poids      *      (     (A*EXP(-alpha*(AY$15-$H31)))     +      (B*EXP(-bêta*(AY$15-$H31)))    +   (_C*EXP(-gamma*(AY$15-$H31 )))      )","v":0},{"$f":"  $G31/[0]!Poids      *      (     (A*EXP(-alpha*(AZ$15-$H31)))     +      (B*EXP(-bêta*(AZ$15-$H31)))    +   (_C*EXP(-gamma*(AZ$15-$H31 )))      )","v":0},{"$f":"  $G31/[0]!Poids      *      (     (A*EXP(-alpha*(BA$15-$H31)))     +      (B*EXP(-bêta*(BA$15-$H31)))    +   (_C*EXP(-gamma*(BA$15-$H31 )))      )","v":0},{"$f":"  $G31/[0]!Poids      *      (     (A*EXP(-alpha*(BB$15-$H31)))     +      (B*EXP(-bêta*(BB$15-$H31)))    +   (_C*EXP(-gamma*(BB$15-$H31 )))      )","v":0},{"$f":"  $G31/[0]!Poids      *      (     (A*EXP(-alpha*(BC$15-$H31)))     +      (B*EXP(-bêta*(BC$15-$H31)))    +   (_C*EXP(-gamma*(BC$15-$H31 )))      )","v":0},{"$f":"  $G31/[0]!Poids      *      (     (A*EXP(-alpha*(BD$15-$H31)))     +      (B*EXP(-bêta*(BD$15-$H31)))    +   (_C*EXP(-gamma*(BD$15-$H31 )))      )","v":0},{"$f":"  $G31/[0]!Poids      *      (     (A*EXP(-alpha*(BE$15-$H31)))     +      (B*EXP(-bêta*(BE$15-$H31)))    +   (_C*EXP(-gamma*(BE$15-$H31 )))      )","v":0},{"$f":"  $G31/[0]!Poids      *      (     (A*EXP(-alpha*(BF$15-$H31)))     +      (B*EXP(-bêta*(BF$15-$H31)))    +   (_C*EXP(-gamma*(BF$15-$H31 )))      )","v":0},{"$f":"  $G31/[0]!Poids      *      (     (A*EXP(-alpha*(BG$15-$H31)))     +      (B*EXP(-bêta*(BG$15-$H31)))    +   (_C*EXP(-gamma*(BG$15-$H31 )))      )","v":0},{"$f":"  $G31/[0]!Poids      *      (     (A*EXP(-alpha*(BH$15-$H31)))     +      (B*EXP(-bêta*(BH$15-$H31)))    +   (_C*EXP(-gamma*(BH$15-$H31 )))      )","v":0},{"$f":"  $G31/[0]!Poids      *      (     (A*EXP(-alpha*(BI$15-$H31)))     +      (B*EXP(-bêta*(BI$15-$H31)))    +   (_C*EXP(-gamma*(BI$15-$H31 )))      )","v":0},{"$f":"  $G31/[0]!Poids      *      (     (A*EXP(-alpha*(BJ$15-$H31)))     +      (B*EXP(-bêta*(BJ$15-$H31)))    +   (_C*EXP(-gamma*(BJ$15-$H31 )))      )","v":0},{"$f":"  $G31/[0]!Poids      *      (     (A*EXP(-alpha*(BK$15-$H31)))     +      (B*EXP(-bêta*(BK$15-$H31)))    +   (_C*EXP(-gamma*(BK$15-$H31 )))      )","v":0},{"$f":"  $G31/[0]!Poids      *      (     (A*EXP(-alpha*(BL$15-$H31)))     +      (B*EXP(-bêta*(BL$15-$H31)))    +   (_C*EXP(-gamma*(BL$15-$H31 )))      )","v":0},{"$f":"  $G31/[0]!Poids      *      (     (A*EXP(-alpha*(BM$15-$H31)))     +      (B*EXP(-bêta*(BM$15-$H31)))    +   (_C*EXP(-gamma*(BM$15-$H31 )))      )","v":0},{"$f":"  $G31/[0]!Poids      *      (     (A*EXP(-alpha*(BN$15-$H31)))     +      (B*EXP(-bêta*(BN$15-$H31)))    +   (_C*EXP(-gamma*(BN$15-$H31 )))      )","v":0},{"$f":"  $G31/[0]!Poids      *      (     (A*EXP(-alpha*(BO$15-$H31)))     +      (B*EXP(-bêta*(BO$15-$H31)))    +   (_C*EXP(-gamma*(BO$15-$H31 )))      )","v":0},{"$f":"  $G31/[0]!Poids      *      (     (A*EXP(-alpha*(BP$15-$H31)))     +      (B*EXP(-bêta*(BP$15-$H31)))    +   (_C*EXP(-gamma*(BP$15-$H31 )))      )","v":0},{"$f":"  $G31/[0]!Poids      *      (     (A*EXP(-alpha*(BQ$15-$H31)))     +      (B*EXP(-bêta*(BQ$15-$H31)))    +   (_C*EXP(-gamma*(BQ$15-$H31 )))      )","v":0},{"$f":"  $G31/[0]!Poids      *      (     (A*EXP(-alpha*(BR$15-$H31)))     +      (B*EXP(-bêta*(BR$15-$H31)))    +   (_C*EXP(-gamma*(BR$15-$H31 )))      )","v":0}]
[null,"poids","dose","temps",null,null,{"$f":"Z$10","v":0},80,null,null,null,null,null,null,null,null,null,null,null,null,null,null,null,null,null,{"$f":"  $G32/[0]!Poids      *      (     (A*EXP(-alpha*(Z$15-$H32)))     +      (B*EXP(-bêta*(Z$15-$H32)))    +   (_C*EXP(-gamma*(Z$15-$H32 )))      )","v":0},{"$f":"  $G32/[0]!Poids      *      (     (A*EXP(-alpha*(AA$15-$H32)))     +      (B*EXP(-bêta*(AA$15-$H32)))    +   (_C*EXP(-gamma*(AA$15-$H32 )))      )","v":0},{"$f":"  $G32/[0]!Poids      *      (     (A*EXP(-alpha*(AB$15-$H32)))     +      (B*EXP(-bêta*(AB$15-$H32)))    +   (_C*EXP(-gamma*(AB$15-$H32 )))      )","v":0},{"$f":"  $G32/[0]!Poids      *      (     (A*EXP(-alpha*(AC$15-$H32)))     +      (B*EXP(-bêta*(AC$15-$H32)))    +   (_C*EXP(-gamma*(AC$15-$H32 )))      )","v":0},{"$f":"  $G32/[0]!Poids      *      (     (A*EXP(-alpha*(AD$15-$H32)))     +      (B*EXP(-bêta*(AD$15-$H32)))    +   (_C*EXP(-gamma*(AD$15-$H32 )))      )","v":0},{"$f":"  $G32/[0]!Poids      *      (     (A*EXP(-alpha*(AE$15-$H32)))     +      (B*EXP(-bêta*(AE$15-$H32)))    +   (_C*EXP(-gamma*(AE$15-$H32 )))      )","v":0},{"$f":"  $G32/[0]!Poids      *      (     (A*EXP(-alpha*(AF$15-$H32)))     +      (B*EXP(-bêta*(AF$15-$H32)))    +   (_C*EXP(-gamma*(AF$15-$H32 )))      )","v":0},{"$f":"  $G32/[0]!Poids      *      (     (A*EXP(-alpha*(AG$15-$H32)))     +      (B*EXP(-bêta*(AG$15-$H32)))    +   (_C*EXP(-gamma*(AG$15-$H32 )))      )","v":0},{"$f":"  $G32/[0]!Poids      *      (     (A*EXP(-alpha*(AH$15-$H32)))     +      (B*EXP(-bêta*(AH$15-$H32)))    +   (_C*EXP(-gamma*(AH$15-$H32 )))      )","v":0},{"$f":"  $G32/[0]!Poids      *      (     (A*EXP(-alpha*(AI$15-$H32)))     +      (B*EXP(-bêta*(AI$15-$H32)))    +   (_C*EXP(-gamma*(AI$15-$H32 )))      )","v":0},{"$f":"  $G32/[0]!Poids      *      (     (A*EXP(-alpha*(AJ$15-$H32)))     +      (B*EXP(-bêta*(AJ$15-$H32)))    +   (_C*EXP(-gamma*(AJ$15-$H32 )))      )","v":0},{"$f":"  $G32/[0]!Poids      *      (     (A*EXP(-alpha*(AK$15-$H32)))     +      (B*EXP(-bêta*(AK$15-$H32)))    +   (_C*EXP(-gamma*(AK$15-$H32 )))      )","v":0},{"$f":"  $G32/[0]!Poids      *      (     (A*EXP(-alpha*(AL$15-$H32)))     +      (B*EXP(-bêta*(AL$15-$H32)))    +   (_C*EXP(-gamma*(AL$15-$H32 )))      )","v":0},{"$f":"  $G32/[0]!Poids      *      (     (A*EXP(-alpha*(AM$15-$H32)))     +      (B*EXP(-bêta*(AM$15-$H32)))    +   (_C*EXP(-gamma*(AM$15-$H32 )))      )","v":0},{"$f":"  $G32/[0]!Poids      *      (     (A*EXP(-alpha*(AN$15-$H32)))     +      (B*EXP(-bêta*(AN$15-$H32)))    +   (_C*EXP(-gamma*(AN$15-$H32 )))      )","v":0},{"$f":"  $G32/[0]!Poids      *      (     (A*EXP(-alpha*(AO$15-$H32)))     +      (B*EXP(-bêta*(AO$15-$H32)))    +   (_C*EXP(-gamma*(AO$15-$H32 )))      )","v":0},{"$f":"  $G32/[0]!Poids      *      (     (A*EXP(-alpha*(AP$15-$H32)))     +      (B*EXP(-bêta*(AP$15-$H32)))    +   (_C*EXP(-gamma*(AP$15-$H32 )))      )","v":0},{"$f":"  $G32/[0]!Poids      *      (     (A*EXP(-alpha*(AQ$15-$H32)))     +      (B*EXP(-bêta*(AQ$15-$H32)))    +   (_C*EXP(-gamma*(AQ$15-$H32 )))      )","v":0},{"$f":"  $G32/[0]!Poids      *      (     (A*EXP(-alpha*(AR$15-$H32)))     +      (B*EXP(-bêta*(AR$15-$H32)))    +   (_C*EXP(-gamma*(AR$15-$H32 )))      )","v":0},{"$f":"  $G32/[0]!Poids      *      (     (A*EXP(-alpha*(AS$15-$H32)))     +      (B*EXP(-bêta*(AS$15-$H32)))    +   (_C*EXP(-gamma*(AS$15-$H32 )))      )","v":0},{"$f":"  $G32/[0]!Poids      *      (     (A*EXP(-alpha*(AT$15-$H32)))     +      (B*EXP(-bêta*(AT$15-$H32)))    +   (_C*EXP(-gamma*(AT$15-$H32 )))      )","v":0},{"$f":"  $G32/[0]!Poids      *      (     (A*EXP(-alpha*(AU$15-$H32)))     +      (B*EXP(-bêta*(AU$15-$H32)))    +   (_C*EXP(-gamma*(AU$15-$H32 )))      )","v":0},{"$f":"  $G32/[0]!Poids      *      (     (A*EXP(-alpha*(AV$15-$H32)))     +      (B*EXP(-bêta*(AV$15-$H32)))    +   (_C*EXP(-gamma*(AV$15-$H32 )))      )","v":0},{"$f":"  $G32/[0]!Poids      *      (     (A*EXP(-alpha*(AW$15-$H32)))     +      (B*EXP(-bêta*(AW$15-$H32)))    +   (_C*EXP(-gamma*(AW$15-$H32 )))      )","v":0},{"$f":"  $G32/[0]!Poids      *      (     (A*EXP(-alpha*(AX$15-$H32)))     +      (B*EXP(-bêta*(AX$15-$H32)))    +   (_C*EXP(-gamma*(AX$15-$H32 )))      )","v":0},{"$f":"  $G32/[0]!Poids      *      (     (A*EXP(-alpha*(AY$15-$H32)))     +      (B*EXP(-bêta*(AY$15-$H32)))    +   (_C*EXP(-gamma*(AY$15-$H32 )))      )","v":0},{"$f":"  $G32/[0]!Poids      *      (     (A*EXP(-alpha*(AZ$15-$H32)))     +      (B*EXP(-bêta*(AZ$15-$H32)))    +   (_C*EXP(-gamma*(AZ$15-$H32 )))      )","v":0},{"$f":"  $G32/[0]!Poids      *      (     (A*EXP(-alpha*(BA$15-$H32)))     +      (B*EXP(-bêta*(BA$15-$H32)))    +   (_C*EXP(-gamma*(BA$15-$H32 )))      )","v":0},{"$f":"  $G32/[0]!Poids      *      (     (A*EXP(-alpha*(BB$15-$H32)))     +      (B*EXP(-bêta*(BB$15-$H32)))    +   (_C*EXP(-gamma*(BB$15-$H32 )))      )","v":0},{"$f":"  $G32/[0]!Poids      *      (     (A*EXP(-alpha*(BC$15-$H32)))     +      (B*EXP(-bêta*(BC$15-$H32)))    +   (_C*EXP(-gamma*(BC$15-$H32 )))      )","v":0},{"$f":"  $G32/[0]!Poids      *      (     (A*EXP(-alpha*(BD$15-$H32)))     +      (B*EXP(-bêta*(BD$15-$H32)))    +   (_C*EXP(-gamma*(BD$15-$H32 )))      )","v":0},{"$f":"  $G32/[0]!Poids      *      (     (A*EXP(-alpha*(BE$15-$H32)))     +      (B*EXP(-bêta*(BE$15-$H32)))    +   (_C*EXP(-gamma*(BE$15-$H32 )))      )","v":0},{"$f":"  $G32/[0]!Poids      *      (     (A*EXP(-alpha*(BF$15-$H32)))     +      (B*EXP(-bêta*(BF$15-$H32)))    +   (_C*EXP(-gamma*(BF$15-$H32 )))      )","v":0},{"$f":"  $G32/[0]!Poids      *      (     (A*EXP(-alpha*(BG$15-$H32)))     +      (B*EXP(-bêta*(BG$15-$H32)))    +   (_C*EXP(-gamma*(BG$15-$H32 )))      )","v":0},{"$f":"  $G32/[0]!Poids      *      (     (A*EXP(-alpha*(BH$15-$H32)))     +      (B*EXP(-bêta*(BH$15-$H32)))    +   (_C*EXP(-gamma*(BH$15-$H32 )))      )","v":0},{"$f":"  $G32/[0]!Poids      *      (     (A*EXP(-alpha*(BI$15-$H32)))     +      (B*EXP(-bêta*(BI$15-$H32)))    +   (_C*EXP(-gamma*(BI$15-$H32 )))      )","v":0},{"$f":"  $G32/[0]!Poids      *      (     (A*EXP(-alpha*(BJ$15-$H32)))     +      (B*EXP(-bêta*(BJ$15-$H32)))    +   (_C*EXP(-gamma*(BJ$15-$H32 )))      )","v":0},{"$f":"  $G32/[0]!Poids      *      (     (A*EXP(-alpha*(BK$15-$H32)))     +      (B*EXP(-bêta*(BK$15-$H32)))    +   (_C*EXP(-gamma*(BK$15-$H32 )))      )","v":0},{"$f":"  $G32/[0]!Poids      *      (     (A*EXP(-alpha*(BL$15-$H32)))     +      (B*EXP(-bêta*(BL$15-$H32)))    +   (_C*EXP(-gamma*(BL$15-$H32 )))      )","v":0},{"$f":"  $G32/[0]!Poids      *      (     (A*EXP(-alpha*(BM$15-$H32)))     +      (B*EXP(-bêta*(BM$15-$H32)))    +   (_C*EXP(-gamma*(BM$15-$H32 )))      )","v":0},{"$f":"  $G32/[0]!Poids      *      (     (A*EXP(-alpha*(BN$15-$H32)))     +      (B*EXP(-bêta*(BN$15-$H32)))    +   (_C*EXP(-gamma*(BN$15-$H32 )))      )","v":0},{"$f":"  $G32/[0]!Poids      *      (     (A*EXP(-alpha*(BO$15-$H32)))     +      (B*EXP(-bêta*(BO$15-$H32)))    +   (_C*EXP(-gamma*(BO$15-$H32 )))      )","v":0},{"$f":"  $G32/[0]!Poids      *      (     (A*EXP(-alpha*(BP$15-$H32)))     +      (B*EXP(-bêta*(BP$15-$H32)))    +   (_C*EXP(-gamma*(BP$15-$H32 )))      )","v":0},{"$f":"  $G32/[0]!Poids      *      (     (A*EXP(-alpha*(BQ$15-$H32)))     +      (B*EXP(-bêta*(BQ$15-$H32)))    +   (_C*EXP(-gamma*(BQ$15-$H32 )))      )","v":0},{"$f":"  $G32/[0]!Poids      *      (     (A*EXP(-alpha*(BR$15-$H32)))     +      (B*EXP(-bêta*(BR$15-$H32)))    +   (_C*EXP(-gamma*(BR$15-$H32 )))      )","v":0}]
[null,"Kg","mg",0,null,null,{"$f":"AA$10","v":0},85,null,null,null,null,null,null,null,null,null,null,null,null,null,null,null,null,null,null,{"$f":"  $G33/[0]!Poids      *      (     (A*EXP(-alpha*(AA$15-$H33)))     +      (B*EXP(-bêta*(AA$15-$H33)))    +   (_C*EXP(-gamma*(AA$15-$H33 )))      )","v":0},{"$f":"  $G33/[0]!Poids      *      (     (A*EXP(-alpha*(AB$15-$H33)))     +      (B*EXP(-bêta*(AB$15-$H33)))    +   (_C*EXP(-gamma*(AB$15-$H33 )))      )","v":0},{"$f":"  $G33/[0]!Poids      *      (     (A*EXP(-alpha*(AC$15-$H33)))     +      (B*EXP(-bêta*(AC$15-$H33)))    +   (_C*EXP(-gamma*(AC$15-$H33 )))      )","v":0},{"$f":"  $G33/[0]!Poids      *      (     (A*EXP(-alpha*(AD$15-$H33)))     +      (B*EXP(-bêta*(AD$15-$H33)))    +   (_C*EXP(-gamma*(AD$15-$H33 )))      )","v":0},{"$f":"  $G33/[0]!Poids      *      (     (A*EXP(-alpha*(AE$15-$H33)))     +      (B*EXP(-bêta*(AE$15-$H33)))    +   (_C*EXP(-gamma*(AE$15-$H33 )))      )","v":0},{"$f":"  $G33/[0]!Poids      *      (     (A*EXP(-alpha*(AF$15-$H33)))     +      (B*EXP(-bêta*(AF$15-$H33)))    +   (_C*EXP(-gamma*(AF$15-$H33 )))      )","v":0},{"$f":"  $G33/[0]!Poids      *      (     (A*EXP(-alpha*(AG$15-$H33)))     +      (B*EXP(-bêta*(AG$15-$H33)))    +   (_C*EXP(-gamma*(AG$15-$H33 )))      )","v":0},{"$f":"  $G33/[0]!Poids      *      (     (A*EXP(-alpha*(AH$15-$H33)))     +      (B*EXP(-bêta*(AH$15-$H33)))    +   (_C*EXP(-gamma*(AH$15-$H33 )))      )","v":0},{"$f":"  $G33/[0]!Poids      *      (     (A*EXP(-alpha*(AI$15-$H33)))     +      (B*EXP(-bêta*(AI$15-$H33)))    +   (_C*EXP(-gamma*(AI$15-$H33 )))      )","v":0},{"$f":"  $G33/[0]!Poids      *      (     (A*EXP(-alpha*(AJ$15-$H33)))     +      (B*EXP(-bêta*(AJ$15-$H33)))    +   (_C*EXP(-gamma*(AJ$15-$H33 )))      )","v":0},{"$f":"  $G33/[0]!Poids      *      (     (A*EXP(-alpha*(AK$15-$H33)))     +      (B*EXP(-bêta*(AK$15-$H33)))    +   (_C*EXP(-gamma*(AK$15-$H33 )))      )","v":0},{"$f":"  $G33/[0]!Poids      *      (     (A*EXP(-alpha*(AL$15-$H33)))     +      (B*EXP(-bêta*(AL$15-$H33)))    +   (_C*EXP(-gamma*(AL$15-$H33 )))      )","v":0},{"$f":"  $G33/[0]!Poids      *      (     (A*EXP(-alpha*(AM$15-$H33)))     +      (B*EXP(-bêta*(AM$15-$H33)))    +   (_C*EXP(-gamma*(AM$15-$H33 )))      )","v":0},{"$f":"  $G33/[0]!Poids      *      (     (A*EXP(-alpha*(AN$15-$H33)))     +      (B*EXP(-bêta*(AN$15-$H33)))    +   (_C*EXP(-gamma*(AN$15-$H33 )))      )","v":0},{"$f":"  $G33/[0]!Poids      *      (     (A*EXP(-alpha*(AO$15-$H33)))     +      (B*EXP(-bêta*(AO$15-$H33)))    +   (_C*EXP(-gamma*(AO$15-$H33 )))      )","v":0},{"$f":"  $G33/[0]!Poids      *      (     (A*EXP(-alpha*(AP$15-$H33)))     +      (B*EXP(-bêta*(AP$15-$H33)))    +   (_C*EXP(-gamma*(AP$15-$H33 )))      )","v":0},{"$f":"  $G33/[0]!Poids      *      (     (A*EXP(-alpha*(AQ$15-$H33)))     +      (B*EXP(-bêta*(AQ$15-$H33)))    +   (_C*EXP(-gamma*(AQ$15-$H33 )))      )","v":0},{"$f":"  $G33/[0]!Poids      *      (     (A*EXP(-alpha*(AR$15-$H33)))     +      (B*EXP(-bêta*(AR$15-$H33)))    +   (_C*EXP(-gamma*(AR$15-$H33 )))      )","v":0},{"$f":"  $G33/[0]!Poids      *      (     (A*EXP(-alpha*(AS$15-$H33)))     +      (B*EXP(-bêta*(AS$15-$H33)))    +   (_C*EXP(-gamma*(AS$15-$H33 )))      )","v":0},{"$f":"  $G33/[0]!Poids      *      (     (A*EXP(-alpha*(AT$15-$H33)))     +      (B*EXP(-bêta*(AT$15-$H33)))    +   (_C*EXP(-gamma*(AT$15-$H33 )))      )","v":0},{"$f":"  $G33/[0]!Poids      *      (     (A*EXP(-alpha*(AU$15-$H33)))     +      (B*EXP(-bêta*(AU$15-$H33)))    +   (_C*EXP(-gamma*(AU$15-$H33 )))      )","v":0},{"$f":"  $G33/[0]!Poids      *      (     (A*EXP(-alpha*(AV$15-$H33)))     +      (B*EXP(-bêta*(AV$15-$H33)))    +   (_C*EXP(-gamma*(AV$15-$H33 )))      )","v":0},{"$f":"  $G33/[0]!Poids      *      (     (A*EXP(-alpha*(AW$15-$H33)))     +      (B*EXP(-bêta*(AW$15-$H33)))    +   (_C*EXP(-gamma*(AW$15-$H33 )))      )","v":0},{"$f":"  $G33/[0]!Poids      *      (     (A*EXP(-alpha*(AX$15-$H33)))     +      (B*EXP(-bêta*(AX$15-$H33)))    +   (_C*EXP(-gamma*(AX$15-$H33 )))      )","v":0},{"$f":"  $G33/[0]!Poids      *      (     (A*EXP(-alpha*(AY$15-$H33)))     +      (B*EXP(-bêta*(AY$15-$H33)))    +   (_C*EXP(-gamma*(AY$15-$H33 )))      )","v":0},{"$f":"  $G33/[0]!Poids      *      (     (A*EXP(-alpha*(AZ$15-$H33)))     +      (B*EXP(-bêta*(AZ$15-$H33)))    +   (_C*EXP(-gamma*(AZ$15-$H33 )))      )","v":0},{"$f":"  $G33/[0]!Poids      *      (     (A*EXP(-alpha*(BA$15-$H33)))     +      (B*EXP(-bêta*(BA$15-$H33)))    +   (_C*EXP(-gamma*(BA$15-$H33 )))      )","v":0},{"$f":"  $G33/[0]!Poids      *      (     (A*EXP(-alpha*(BB$15-$H33)))     +      (B*EXP(-bêta*(BB$15-$H33)))    +   (_C*EXP(-gamma*(BB$15-$H33 )))      )","v":0},{"$f":"  $G33/[0]!Poids      *      (     (A*EXP(-alpha*(BC$15-$H33)))     +      (B*EXP(-bêta*(BC$15-$H33)))    +   (_C*EXP(-gamma*(BC$15-$H33 )))      )","v":0},{"$f":"  $G33/[0]!Poids      *      (     (A*EXP(-alpha*(BD$15-$H33)))     +      (B*EXP(-bêta*(BD$15-$H33)))    +   (_C*EXP(-gamma*(BD$15-$H33 )))      )","v":0},{"$f":"  $G33/[0]!Poids      *      (     (A*EXP(-alpha*(BE$15-$H33)))     +      (B*EXP(-bêta*(BE$15-$H33)))    +   (_C*EXP(-gamma*(BE$15-$H33 )))      )","v":0},{"$f":"  $G33/[0]!Poids      *      (     (A*EXP(-alpha*(BF$15-$H33)))     +      (B*EXP(-bêta*(BF$15-$H33)))    +   (_C*EXP(-gamma*(BF$15-$H33 )))      )","v":0},{"$f":"  $G33/[0]!Poids      *      (     (A*EXP(-alpha*(BG$15-$H33)))     +      (B*EXP(-bêta*(BG$15-$H33)))    +   (_C*EXP(-gamma*(BG$15-$H33 )))      )","v":0},{"$f":"  $G33/[0]!Poids      *      (     (A*EXP(-alpha*(BH$15-$H33)))     +      (B*EXP(-bêta*(BH$15-$H33)))    +   (_C*EXP(-gamma*(BH$15-$H33 )))      )","v":0},{"$f":"  $G33/[0]!Poids      *      (     (A*EXP(-alpha*(BI$15-$H33)))     +      (B*EXP(-bêta*(BI$15-$H33)))    +   (_C*EXP(-gamma*(BI$15-$H33 )))      )","v":0},{"$f":"  $G33/[0]!Poids      *      (     (A*EXP(-alpha*(BJ$15-$H33)))     +      (B*EXP(-bêta*(BJ$15-$H33)))    +   (_C*EXP(-gamma*(BJ$15-$H33 )))      )","v":0},{"$f":"  $G33/[0]!Poids      *      (     (A*EXP(-alpha*(BK$15-$H33)))     +      (B*EXP(-bêta*(BK$15-$H33)))    +   (_C*EXP(-gamma*(BK$15-$H33 )))      )","v":0},{"$f":"  $G33/[0]!Poids      *      (     (A*EXP(-alpha*(BL$15-$H33)))     +      (B*EXP(-bêta*(BL$15-$H33)))    +   (_C*EXP(-gamma*(BL$15-$H33 )))      )","v":0},{"$f":"  $G33/[0]!Poids      *      (     (A*EXP(-alpha*(BM$15-$H33)))     +      (B*EXP(-bêta*(BM$15-$H33)))    +   (_C*EXP(-gamma*(BM$15-$H33 )))      )","v":0},{"$f":"  $G33/[0]!Poids      *      (     (A*EXP(-alpha*(BN$15-$H33)))     +      (B*EXP(-bêta*(BN$15-$H33)))    +   (_C*EXP(-gamma*(BN$15-$H33 )))      )","v":0},{"$f":"  $G33/[0]!Poids      *      (     (A*EXP(-alpha*(BO$15-$H33)))     +      (B*EXP(-bêta*(BO$15-$H33)))    +   (_C*EXP(-gamma*(BO$15-$H33 )))      )","v":0},{"$f":"  $G33/[0]!Poids      *      (     (A*EXP(-alpha*(BP$15-$H33)))     +      (B*EXP(-bêta*(BP$15-$H33)))    +   (_C*EXP(-gamma*(BP$15-$H33 )))      )","v":0},{"$f":"  $G33/[0]!Poids      *      (     (A*EXP(-alpha*(BQ$15-$H33)))     +      (B*EXP(-bêta*(BQ$15-$H33)))    +   (_C*EXP(-gamma*(BQ$15-$H33 )))      )","v":0},{"$f":"  $G33/[0]!Poids      *      (     (A*EXP(-alpha*(BR$15-$H33)))     +      (B*EXP(-bêta*(BR$15-$H33)))    +   (_C*EXP(-gamma*(BR$15-$H33 )))      )","v":0}]
[null,70,{"$f":"E26/4","v":17.5},{"$f":"  C34/B34      *      (     (A*EXP(-alpha*(D33)))     +      (B*EXP(-bêta*(D33)))    +   (_C*EXP(-gamma*(D33 )))      )","v":147},"ng",null,{"$f":"AB$10","v":0},90,null,null,null,null,null,null,null,null,null,null,null,null,null,null,null,null,null,null,null,{"$f":"  $G34/[0]!Poids      *      (     (A*EXP(-alpha*(AB$15-$H34)))     +      (B*EXP(-bêta*(AB$15-$H34)))    +   (_C*EXP(-gamma*(AB$15-$H34 )))      )","v":0},{"$f":"  $G34/[0]!Poids      *      (     (A*EXP(-alpha*(AC$15-$H34)))     +      (B*EXP(-bêta*(AC$15-$H34)))    +   (_C*EXP(-gamma*(AC$15-$H34 )))      )","v":0},{"$f":"  $G34/[0]!Poids      *      (     (A*EXP(-alpha*(AD$15-$H34)))     +      (B*EXP(-bêta*(AD$15-$H34)))    +   (_C*EXP(-gamma*(AD$15-$H34 )))      )","v":0},{"$f":"  $G34/[0]!Poids      *      (     (A*EXP(-alpha*(AE$15-$H34)))     +      (B*EXP(-bêta*(AE$15-$H34)))    +   (_C*EXP(-gamma*(AE$15-$H34 )))      )","v":0},{"$f":"  $G34/[0]!Poids      *      (     (A*EXP(-alpha*(AF$15-$H34)))     +      (B*EXP(-bêta*(AF$15-$H34)))    +   (_C*EXP(-gamma*(AF$15-$H34 )))      )","v":0},{"$f":"  $G34/[0]!Poids      *      (     (A*EXP(-alpha*(AG$15-$H34)))     +      (B*EXP(-bêta*(AG$15-$H34)))    +   (_C*EXP(-gamma*(AG$15-$H34 )))      )","v":0},{"$f":"  $G34/[0]!Poids      *      (     (A*EXP(-alpha*(AH$15-$H34)))     +      (B*EXP(-bêta*(AH$15-$H34)))    +   (_C*EXP(-gamma*(AH$15-$H34 )))      )","v":0},{"$f":"  $G34/[0]!Poids      *      (     (A*EXP(-alpha*(AI$15-$H34)))     +      (B*EXP(-bêta*(AI$15-$H34)))    +   (_C*EXP(-gamma*(AI$15-$H34 )))      )","v":0},{"$f":"  $G34/[0]!Poids      *      (     (A*EXP(-alpha*(AJ$15-$H34)))     +      (B*EXP(-bêta*(AJ$15-$H34)))    +   (_C*EXP(-gamma*(AJ$15-$H34 )))      )","v":0},{"$f":"  $G34/[0]!Poids      *      (     (A*EXP(-alpha*(AK$15-$H34)))     +      (B*EXP(-bêta*(AK$15-$H34)))    +   (_C*EXP(-gamma*(AK$15-$H34 )))      )","v":0},{"$f":"  $G34/[0]!Poids      *      (     (A*EXP(-alpha*(AL$15-$H34)))     +      (B*EXP(-bêta*(AL$15-$H34)))    +   (_C*EXP(-gamma*(AL$15-$H34 )))      )","v":0},{"$f":"  $G34/[0]!Poids      *      (     (A*EXP(-alpha*(AM$15-$H34)))     +      (B*EXP(-bêta*(AM$15-$H34)))    +   (_C*EXP(-gamma*(AM$15-$H34 )))      )","v":0},{"$f":"  $G34/[0]!Poids      *      (     (A*EXP(-alpha*(AN$15-$H34)))     +      (B*EXP(-bêta*(AN$15-$H34)))    +   (_C*EXP(-gamma*(AN$15-$H34 )))      )","v":0},{"$f":"  $G34/[0]!Poids      *      (     (A*EXP(-alpha*(AO$15-$H34)))     +      (B*EXP(-bêta*(AO$15-$H34)))    +   (_C*EXP(-gamma*(AO$15-$H34 )))      )","v":0},{"$f":"  $G34/[0]!Poids      *      (     (A*EXP(-alpha*(AP$15-$H34)))     +      (B*EXP(-bêta*(AP$15-$H34)))    +   (_C*EXP(-gamma*(AP$15-$H34 )))      )","v":0},{"$f":"  $G34/[0]!Poids      *      (     (A*EXP(-alpha*(AQ$15-$H34)))     +      (B*EXP(-bêta*(AQ$15-$H34)))    +   (_C*EXP(-gamma*(AQ$15-$H34 )))      )","v":0},{"$f":"  $G34/[0]!Poids      *      (     (A*EXP(-alpha*(AR$15-$H34)))     +      (B*EXP(-bêta*(AR$15-$H34)))    +   (_C*EXP(-gamma*(AR$15-$H34 )))      )","v":0},{"$f":"  $G34/[0]!Poids      *      (     (A*EXP(-alpha*(AS$15-$H34)))     +      (B*EXP(-bêta*(AS$15-$H34)))    +   (_C*EXP(-gamma*(AS$15-$H34 )))      )","v":0},{"$f":"  $G34/[0]!Poids      *      (     (A*EXP(-alpha*(AT$15-$H34)))     +      (B*EXP(-bêta*(AT$15-$H34)))    +   (_C*EXP(-gamma*(AT$15-$H34 )))      )","v":0},{"$f":"  $G34/[0]!Poids      *      (     (A*EXP(-alpha*(AU$15-$H34)))     +      (B*EXP(-bêta*(AU$15-$H34)))    +   (_C*EXP(-gamma*(AU$15-$H34 )))      )","v":0},{"$f":"  $G34/[0]!Poids      *      (     (A*EXP(-alpha*(AV$15-$H34)))     +      (B*EXP(-bêta*(AV$15-$H34)))    +   (_C*EXP(-gamma*(AV$15-$H34 )))      )","v":0},{"$f":"  $G34/[0]!Poids      *      (     (A*EXP(-alpha*(AW$15-$H34)))     +      (B*EXP(-bêta*(AW$15-$H34)))    +   (_C*EXP(-gamma*(AW$15-$H34 )))      )","v":0},{"$f":"  $G34/[0]!Poids      *      (     (A*EXP(-alpha*(AX$15-$H34)))     +      (B*EXP(-bêta*(AX$15-$H34)))    +   (_C*EXP(-gamma*(AX$15-$H34 )))      )","v":0},{"$f":"  $G34/[0]!Poids      *      (     (A*EXP(-alpha*(AY$15-$H34)))     +      (B*EXP(-bêta*(AY$15-$H34)))    +   (_C*EXP(-gamma*(AY$15-$H34 )))      )","v":0},{"$f":"  $G34/[0]!Poids      *      (     (A*EXP(-alpha*(AZ$15-$H34)))     +      (B*EXP(-bêta*(AZ$15-$H34)))    +   (_C*EXP(-gamma*(AZ$15-$H34 )))      )","v":0},{"$f":"  $G34/[0]!Poids      *      (     (A*EXP(-alpha*(BA$15-$H34)))     +      (B*EXP(-bêta*(BA$15-$H34)))    +   (_C*EXP(-gamma*(BA$15-$H34 )))      )","v":0},{"$f":"  $G34/[0]!Poids      *      (     (A*EXP(-alpha*(BB$15-$H34)))     +      (B*EXP(-bêta*(BB$15-$H34)))    +   (_C*EXP(-gamma*(BB$15-$H34 )))      )","v":0},{"$f":"  $G34/[0]!Poids      *      (     (A*EXP(-alpha*(BC$15-$H34)))     +      (B*EXP(-bêta*(BC$15-$H34)))    +   (_C*EXP(-gamma*(BC$15-$H34 )))      )","v":0},{"$f":"  $G34/[0]!Poids      *      (     (A*EXP(-alpha*(BD$15-$H34)))     +      (B*EXP(-bêta*(BD$15-$H34)))    +   (_C*EXP(-gamma*(BD$15-$H34 )))      )","v":0},{"$f":"  $G34/[0]!Poids      *      (     (A*EXP(-alpha*(BE$15-$H34)))     +      (B*EXP(-bêta*(BE$15-$H34)))    +   (_C*EXP(-gamma*(BE$15-$H34 )))      )","v":0},{"$f":"  $G34/[0]!Poids      *      (     (A*EXP(-alpha*(BF$15-$H34)))     +      (B*EXP(-bêta*(BF$15-$H34)))    +   (_C*EXP(-gamma*(BF$15-$H34 )))      )","v":0},{"$f":"  $G34/[0]!Poids      *      (     (A*EXP(-alpha*(BG$15-$H34)))     +      (B*EXP(-bêta*(BG$15-$H34)))    +   (_C*EXP(-gamma*(BG$15-$H34 )))      )","v":0},{"$f":"  $G34/[0]!Poids      *      (     (A*EXP(-alpha*(BH$15-$H34)))     +      (B*EXP(-bêta*(BH$15-$H34)))    +   (_C*EXP(-gamma*(BH$15-$H34 )))      )","v":0},{"$f":"  $G34/[0]!Poids      *      (     (A*EXP(-alpha*(BI$15-$H34)))     +      (B*EXP(-bêta*(BI$15-$H34)))    +   (_C*EXP(-gamma*(BI$15-$H34 )))      )","v":0},{"$f":"  $G34/[0]!Poids      *      (     (A*EXP(-alpha*(BJ$15-$H34)))     +      (B*EXP(-bêta*(BJ$15-$H34)))    +   (_C*EXP(-gamma*(BJ$15-$H34 )))      )","v":0},{"$f":"  $G34/[0]!Poids      *      (     (A*EXP(-alpha*(BK$15-$H34)))     +      (B*EXP(-bêta*(BK$15-$H34)))    +   (_C*EXP(-gamma*(BK$15-$H34 )))      )","v":0},{"$f":"  $G34/[0]!Poids      *      (     (A*EXP(-alpha*(BL$15-$H34)))     +      (B*EXP(-bêta*(BL$15-$H34)))    +   (_C*EXP(-gamma*(BL$15-$H34 )))      )","v":0},{"$f":"  $G34/[0]!Poids      *      (     (A*EXP(-alpha*(BM$15-$H34)))     +      (B*EXP(-bêta*(BM$15-$H34)))    +   (_C*EXP(-gamma*(BM$15-$H34 )))      )","v":0},{"$f":"  $G34/[0]!Poids      *      (     (A*EXP(-alpha*(BN$15-$H34)))     +      (B*EXP(-bêta*(BN$15-$H34)))    +   (_C*EXP(-gamma*(BN$15-$H34 )))      )","v":0},{"$f":"  $G34/[0]!Poids      *      (     (A*EXP(-alpha*(BO$15-$H34)))     +      (B*EXP(-bêta*(BO$15-$H34)))    +   (_C*EXP(-gamma*(BO$15-$H34 )))      )","v":0},{"$f":"  $G34/[0]!Poids      *      (     (A*EXP(-alpha*(BP$15-$H34)))     +      (B*EXP(-bêta*(BP$15-$H34)))    +   (_C*EXP(-gamma*(BP$15-$H34 )))      )","v":0},{"$f":"  $G34/[0]!Poids      *      (     (A*EXP(-alpha*(BQ$15-$H34)))     +      (B*EXP(-bêta*(BQ$15-$H34)))    +   (_C*EXP(-gamma*(BQ$15-$H34 )))      )","v":0},{"$f":"  $G34/[0]!Poids      *      (     (A*EXP(-alpha*(BR$15-$H34)))     +      (B*EXP(-bêta*(BR$15-$H34)))    +   (_C*EXP(-gamma*(BR$15-$H34 )))      )","v":0}]
[null,null,null,null,null,null,{"$f":"AC$10","v":0},95,null,null,null,null,null,null,null,null,null,null,null,null,null,null,null,null,null,null,null,null,{"$f":"  $G35/[0]!Poids      *      (     (A*EXP(-alpha*(AC$15-$H35)))     +      (B*EXP(-bêta*(AC$15-$H35)))    +   (_C*EXP(-gamma*(AC$15-$H35 )))      )","v":0},{"$f":"  $G35/[0]!Poids      *      (     (A*EXP(-alpha*(AD$15-$H35)))     +      (B*EXP(-bêta*(AD$15-$H35)))    +   (_C*EXP(-gamma*(AD$15-$H35 )))      )","v":0},{"$f":"  $G35/[0]!Poids      *      (     (A*EXP(-alpha*(AE$15-$H35)))     +      (B*EXP(-bêta*(AE$15-$H35)))    +   (_C*EXP(-gamma*(AE$15-$H35 )))      )","v":0},{"$f":"  $G35/[0]!Poids      *      (     (A*EXP(-alpha*(AF$15-$H35)))     +      (B*EXP(-bêta*(AF$15-$H35)))    +   (_C*EXP(-gamma*(AF$15-$H35 )))      )","v":0},{"$f":"  $G35/[0]!Poids      *      (     (A*EXP(-alpha*(AG$15-$H35)))     +      (B*EXP(-bêta*(AG$15-$H35)))    +   (_C*EXP(-gamma*(AG$15-$H35 )))      )","v":0},{"$f":"  $G35/[0]!Poids      *      (     (A*EXP(-alpha*(AH$15-$H35)))     +      (B*EXP(-bêta*(AH$15-$H35)))    +   (_C*EXP(-gamma*(AH$15-$H35 )))      )","v":0},{"$f":"  $G35/[0]!Poids      *      (     (A*EXP(-alpha*(AI$15-$H35)))     +      (B*EXP(-bêta*(AI$15-$H35)))    +   (_C*EXP(-gamma*(AI$15-$H35 )))      )","v":0},{"$f":"  $G35/[0]!Poids      *      (     (A*EXP(-alpha*(AJ$15-$H35)))     +      (B*EXP(-bêta*(AJ$15-$H35)))    +   (_C*EXP(-gamma*(AJ$15-$H35 )))      )","v":0},{"$f":"  $G35/[0]!Poids      *      (     (A*EXP(-alpha*(AK$15-$H35)))     +      (B*EXP(-bêta*(AK$15-$H35)))    +   (_C*EXP(-gamma*(AK$15-$H35 )))      )","v":0},{"$f":"  $G35/[0]!Poids      *      (     (A*EXP(-alpha*(AL$15-$H35)))     +      (B*EXP(-bêta*(AL$15-$H35)))    +   (_C*EXP(-gamma*(AL$15-$H35 )))      )","v":0},{"$f":"  $G35/[0]!Poids      *      (     (A*EXP(-alpha*(AM$15-$H35)))     +      (B*EXP(-bêta*(AM$15-$H35)))    +   (_C*EXP(-gamma*(AM$15-$H35 )))      )","v":0},{"$f":"  $G35/[0]!Poids      *      (     (A*EXP(-alpha*(AN$15-$H35)))     +      (B*EXP(-bêta*(AN$15-$H35)))    +   (_C*EXP(-gamma*(AN$15-$H35 )))      )","v":0},{"$f":"  $G35/[0]!Poids      *      (     (A*EXP(-alpha*(AO$15-$H35)))     +      (B*EXP(-bêta*(AO$15-$H35)))    +   (_C*EXP(-gamma*(AO$15-$H35 )))      )","v":0},{"$f":"  $G35/[0]!Poids      *      (     (A*EXP(-alpha*(AP$15-$H35)))     +      (B*EXP(-bêta*(AP$15-$H35)))    +   (_C*EXP(-gamma*(AP$15-$H35 )))      )","v":0},{"$f":"  $G35/[0]!Poids      *      (     (A*EXP(-alpha*(AQ$15-$H35)))     +      (B*EXP(-bêta*(AQ$15-$H35)))    +   (_C*EXP(-gamma*(AQ$15-$H35 )))      )","v":0},{"$f":"  $G35/[0]!Poids      *      (     (A*EXP(-alpha*(AR$15-$H35)))     +      (B*EXP(-bêta*(AR$15-$H35)))    +   (_C*EXP(-gamma*(AR$15-$H35 )))      )","v":0},{"$f":"  $G35/[0]!Poids      *      (     (A*EXP(-alpha*(AS$15-$H35)))     +      (B*EXP(-bêta*(AS$15-$H35)))    +   (_C*EXP(-gamma*(AS$15-$H35 )))      )","v":0},{"$f":"  $G35/[0]!Poids      *      (     (A*EXP(-alpha*(AT$15-$H35)))     +      (B*EXP(-bêta*(AT$15-$H35)))    +   (_C*EXP(-gamma*(AT$15-$H35 )))      )","v":0},{"$f":"  $G35/[0]!Poids      *      (     (A*EXP(-alpha*(AU$15-$H35)))     +      (B*EXP(-bêta*(AU$15-$H35)))    +   (_C*EXP(-gamma*(AU$15-$H35 )))      )","v":0},{"$f":"  $G35/[0]!Poids      *      (     (A*EXP(-alpha*(AV$15-$H35)))     +      (B*EXP(-bêta*(AV$15-$H35)))    +   (_C*EXP(-gamma*(AV$15-$H35 )))      )","v":0},{"$f":"  $G35/[0]!Poids      *      (     (A*EXP(-alpha*(AW$15-$H35)))     +      (B*EXP(-bêta*(AW$15-$H35)))    +   (_C*EXP(-gamma*(AW$15-$H35 )))      )","v":0},{"$f":"  $G35/[0]!Poids      *      (     (A*EXP(-alpha*(AX$15-$H35)))     +      (B*EXP(-bêta*(AX$15-$H35)))    +   (_C*EXP(-gamma*(AX$15-$H35 )))      )","v":0},{"$f":"  $G35/[0]!Poids      *      (     (A*EXP(-alpha*(AY$15-$H35)))     +      (B*EXP(-bêta*(AY$15-$H35)))    +   (_C*EXP(-gamma*(AY$15-$H35 )))      )","v":0},{"$f":"  $G35/[0]!Poids      *      (     (A*EXP(-alpha*(AZ$15-$H35)))     +      (B*EXP(-bêta*(AZ$15-$H35)))    +   (_C*EXP(-gamma*(AZ$15-$H35 )))      )","v":0},{"$f":"  $G35/[0]!Poids      *      (     (A*EXP(-alpha*(BA$15-$H35)))     +      (B*EXP(-bêta*(BA$15-$H35)))    +   (_C*EXP(-gamma*(BA$15-$H35 )))      )","v":0},{"$f":"  $G35/[0]!Poids      *      (     (A*EXP(-alpha*(BB$15-$H35)))     +      (B*EXP(-bêta*(BB$15-$H35)))    +   (_C*EXP(-gamma*(BB$15-$H35 )))      )","v":0},{"$f":"  $G35/[0]!Poids      *      (     (A*EXP(-alpha*(BC$15-$H35)))     +      (B*EXP(-bêta*(BC$15-$H35)))    +   (_C*EXP(-gamma*(BC$15-$H35 )))      )","v":0},{"$f":"  $G35/[0]!Poids      *      (     (A*EXP(-alpha*(BD$15-$H35)))     +      (B*EXP(-bêta*(BD$15-$H35)))    +   (_C*EXP(-gamma*(BD$15-$H35 )))      )","v":0},{"$f":"  $G35/[0]!Poids      *      (     (A*EXP(-alpha*(BE$15-$H35)))     +      (B*EXP(-bêta*(BE$15-$H35)))    +   (_C*EXP(-gamma*(BE$15-$H35 )))      )","v":0},{"$f":"  $G35/[0]!Poids      *      (     (A*EXP(-alpha*(BF$15-$H35)))     +      (B*EXP(-bêta*(BF$15-$H35)))    +   (_C*EXP(-gamma*(BF$15-$H35 )))      )","v":0},{"$f":"  $G35/[0]!Poids      *      (     (A*EXP(-alpha*(BG$15-$H35)))     +      (B*EXP(-bêta*(BG$15-$H35)))    +   (_C*EXP(-gamma*(BG$15-$H35 )))      )","v":0},{"$f":"  $G35/[0]!Poids      *      (     (A*EXP(-alpha*(BH$15-$H35)))     +      (B*EXP(-bêta*(BH$15-$H35)))    +   (_C*EXP(-gamma*(BH$15-$H35 )))      )","v":0},{"$f":"  $G35/[0]!Poids      *      (     (A*EXP(-alpha*(BI$15-$H35)))     +      (B*EXP(-bêta*(BI$15-$H35)))    +   (_C*EXP(-gamma*(BI$15-$H35 )))      )","v":0},{"$f":"  $G35/[0]!Poids      *      (     (A*EXP(-alpha*(BJ$15-$H35)))     +      (B*EXP(-bêta*(BJ$15-$H35)))    +   (_C*EXP(-gamma*(BJ$15-$H35 )))      )","v":0},{"$f":"  $G35/[0]!Poids      *      (     (A*EXP(-alpha*(BK$15-$H35)))     +      (B*EXP(-bêta*(BK$15-$H35)))    +   (_C*EXP(-gamma*(BK$15-$H35 )))      )","v":0},{"$f":"  $G35/[0]!Poids      *      (     (A*EXP(-alpha*(BL$15-$H35)))     +      (B*EXP(-bêta*(BL$15-$H35)))    +   (_C*EXP(-gamma*(BL$15-$H35 )))      )","v":0},{"$f":"  $G35/[0]!Poids      *      (     (A*EXP(-alpha*(BM$15-$H35)))     +      (B*EXP(-bêta*(BM$15-$H35)))    +   (_C*EXP(-gamma*(BM$15-$H35 )))      )","v":0},{"$f":"  $G35/[0]!Poids      *      (     (A*EXP(-alpha*(BN$15-$H35)))     +      (B*EXP(-bêta*(BN$15-$H35)))    +   (_C*EXP(-gamma*(BN$15-$H35 )))      )","v":0},{"$f":"  $G35/[0]!Poids      *      (     (A*EXP(-alpha*(BO$15-$H35)))     +      (B*EXP(-bêta*(BO$15-$H35)))    +   (_C*EXP(-gamma*(BO$15-$H35 )))      )","v":0},{"$f":"  $G35/[0]!Poids      *      (     (A*EXP(-alpha*(BP$15-$H35)))     +      (B*EXP(-bêta*(BP$15-$H35)))    +   (_C*EXP(-gamma*(BP$15-$H35 )))      )","v":0},{"$f":"  $G35/[0]!Poids      *      (     (A*EXP(-alpha*(BQ$15-$H35)))     +      (B*EXP(-bêta*(BQ$15-$H35)))    +   (_C*EXP(-gamma*(BQ$15-$H35 )))      )","v":0},{"$f":"  $G35/[0]!Poids      *      (     (A*EXP(-alpha*(BR$15-$H35)))     +      (B*EXP(-bêta*(BR$15-$H35)))    +   (_C*EXP(-gamma*(BR$15-$H35 )))      )","v":0}]
[null,null,null,null,null,null,{"$f":"AD$10","v":0},100,null,null,null,null,null,null,null,null,null,null,null,null,null,null,null,null,null,null,null,null,null,{"$f":"  $G36/[0]!Poids      *      (     (A*EXP(-alpha*(AD$15-$H36)))     +      (B*EXP(-bêta*(AD$15-$H36)))    +   (_C*EXP(-gamma*(AD$15-$H36 )))      )","v":0},{"$f":"  $G36/[0]!Poids      *      (     (A*EXP(-alpha*(AE$15-$H36)))     +      (B*EXP(-bêta*(AE$15-$H36)))    +   (_C*EXP(-gamma*(AE$15-$H36 )))      )","v":0},{"$f":"  $G36/[0]!Poids      *      (     (A*EXP(-alpha*(AF$15-$H36)))     +      (B*EXP(-bêta*(AF$15-$H36)))    +   (_C*EXP(-gamma*(AF$15-$H36 )))      )","v":0},{"$f":"  $G36/[0]!Poids      *      (     (A*EXP(-alpha*(AG$15-$H36)))     +      (B*EXP(-bêta*(AG$15-$H36)))    +   (_C*EXP(-gamma*(AG$15-$H36 )))      )","v":0},{"$f":"  $G36/[0]!Poids      *      (     (A*EXP(-alpha*(AH$15-$H36)))     +      (B*EXP(-bêta*(AH$15-$H36)))    +   (_C*EXP(-gamma*(AH$15-$H36 )))      )","v":0},{"$f":"  $G36/[0]!Poids      *      (     (A*EXP(-alpha*(AI$15-$H36)))     +      (B*EXP(-bêta*(AI$15-$H36)))    +   (_C*EXP(-gamma*(AI$15-$H36 )))      )","v":0},{"$f":"  $G36/[0]!Poids      *      (     (A*EXP(-alpha*(AJ$15-$H36)))     +      (B*EXP(-bêta*(AJ$15-$H36)))    +   (_C*EXP(-gamma*(AJ$15-$H36 )))      )","v":0},{"$f":"  $G36/[0]!Poids      *      (     (A*EXP(-alpha*(AK$15-$H36)))     +      (B*EXP(-bêta*(AK$15-$H36)))    +   (_C*EXP(-gamma*(AK$15-$H36 )))      )","v":0},{"$f":"  $G36/[0]!Poids      *      (     (A*EXP(-alpha*(AL$15-$H36)))     +      (B*EXP(-bêta*(AL$15-$H36)))    +   (_C*EXP(-gamma*(AL$15-$H36 )))      )","v":0},{"$f":"  $G36/[0]!Poids      *      (     (A*EXP(-alpha*(AM$15-$H36)))     +      (B*EXP(-bêta*(AM$15-$H36)))    +   (_C*EXP(-gamma*(AM$15-$H36 )))      )","v":0},{"$f":"  $G36/[0]!Poids      *      (     (A*EXP(-alpha*(AN$15-$H36)))     +      (B*EXP(-bêta*(AN$15-$H36)))    +   (_C*EXP(-gamma*(AN$15-$H36 )))      )","v":0},{"$f":"  $G36/[0]!Poids      *      (     (A*EXP(-alpha*(AO$15-$H36)))     +      (B*EXP(-bêta*(AO$15-$H36)))    +   (_C*EXP(-gamma*(AO$15-$H36 )))      )","v":0},{"$f":"  $G36/[0]!Poids      *      (     (A*EXP(-alpha*(AP$15-$H36)))     +      (B*EXP(-bêta*(AP$15-$H36)))    +   (_C*EXP(-gamma*(AP$15-$H36 )))      )","v":0},{"$f":"  $G36/[0]!Poids      *      (     (A*EXP(-alpha*(AQ$15-$H36)))     +      (B*EXP(-bêta*(AQ$15-$H36)))    +   (_C*EXP(-gamma*(AQ$15-$H36 )))      )","v":0},{"$f":"  $G36/[0]!Poids      *      (     (A*EXP(-alpha*(AR$15-$H36)))     +      (B*EXP(-bêta*(AR$15-$H36)))    +   (_C*EXP(-gamma*(AR$15-$H36 )))      )","v":0},{"$f":"  $G36/[0]!Poids      *      (     (A*EXP(-alpha*(AS$15-$H36)))     +      (B*EXP(-bêta*(AS$15-$H36)))    +   (_C*EXP(-gamma*(AS$15-$H36 )))      )","v":0},{"$f":"  $G36/[0]!Poids      *      (     (A*EXP(-alpha*(AT$15-$H36)))     +      (B*EXP(-bêta*(AT$15-$H36)))    +   (_C*EXP(-gamma*(AT$15-$H36 )))      )","v":0},{"$f":"  $G36/[0]!Poids      *      (     (A*EXP(-alpha*(AU$15-$H36)))     +      (B*EXP(-bêta*(AU$15-$H36)))    +   (_C*EXP(-gamma*(AU$15-$H36 )))      )","v":0},{"$f":"  $G36/[0]!Poids      *      (     (A*EXP(-alpha*(AV$15-$H36)))     +      (B*EXP(-bêta*(AV$15-$H36)))    +   (_C*EXP(-gamma*(AV$15-$H36 )))      )","v":0},{"$f":"  $G36/[0]!Poids      *      (     (A*EXP(-alpha*(AW$15-$H36)))     +      (B*EXP(-bêta*(AW$15-$H36)))    +   (_C*EXP(-gamma*(AW$15-$H36 )))      )","v":0},{"$f":"  $G36/[0]!Poids      *      (     (A*EXP(-alpha*(AX$15-$H36)))     +      (B*EXP(-bêta*(AX$15-$H36)))    +   (_C*EXP(-gamma*(AX$15-$H36 )))      )","v":0},{"$f":"  $G36/[0]!Poids      *      (     (A*EXP(-alpha*(AY$15-$H36)))     +      (B*EXP(-bêta*(AY$15-$H36)))    +   (_C*EXP(-gamma*(AY$15-$H36 )))      )","v":0},{"$f":"  $G36/[0]!Poids      *      (     (A*EXP(-alpha*(AZ$15-$H36)))     +      (B*EXP(-bêta*(AZ$15-$H36)))    +   (_C*EXP(-gamma*(AZ$15-$H36 )))      )","v":0},{"$f":"  $G36/[0]!Poids      *      (     (A*EXP(-alpha*(BA$15-$H36)))     +      (B*EXP(-bêta*(BA$15-$H36)))    +   (_C*EXP(-gamma*(BA$15-$H36 )))      )","v":0},{"$f":"  $G36/[0]!Poids      *      (     (A*EXP(-alpha*(BB$15-$H36)))     +      (B*EXP(-bêta*(BB$15-$H36)))    +   (_C*EXP(-gamma*(BB$15-$H36 )))      )","v":0},{"$f":"  $G36/[0]!Poids      *      (     (A*EXP(-alpha*(BC$15-$H36)))     +      (B*EXP(-bêta*(BC$15-$H36)))    +   (_C*EXP(-gamma*(BC$15-$H36 )))      )","v":0},{"$f":"  $G36/[0]!Poids      *      (     (A*EXP(-alpha*(BD$15-$H36)))     +      (B*EXP(-bêta*(BD$15-$H36)))    +   (_C*EXP(-gamma*(BD$15-$H36 )))      )","v":0},{"$f":"  $G36/[0]!Poids      *      (     (A*EXP(-alpha*(BE$15-$H36)))     +      (B*EXP(-bêta*(BE$15-$H36)))    +   (_C*EXP(-gamma*(BE$15-$H36 )))      )","v":0},{"$f":"  $G36/[0]!Poids      *      (     (A*EXP(-alpha*(BF$15-$H36)))     +      (B*EXP(-bêta*(BF$15-$H36)))    +   (_C*EXP(-gamma*(BF$15-$H36 )))      )","v":0},{"$f":"  $G36/[0]!Poids      *      (     (A*EXP(-alpha*(BG$15-$H36)))     +      (B*EXP(-bêta*(BG$15-$H36)))    +   (_C*EXP(-gamma*(BG$15-$H36 )))      )","v":0},{"$f":"  $G36/[0]!Poids      *      (     (A*EXP(-alpha*(BH$15-$H36)))     +      (B*EXP(-bêta*(BH$15-$H36)))    +   (_C*EXP(-gamma*(BH$15-$H36 )))      )","v":0},{"$f":"  $G36/[0]!Poids      *      (     (A*EXP(-alpha*(BI$15-$H36)))     +      (B*EXP(-bêta*(BI$15-$H36)))    +   (_C*EXP(-gamma*(BI$15-$H36 )))      )","v":0},{"$f":"  $G36/[0]!Poids      *      (     (A*EXP(-alpha*(BJ$15-$H36)))     +      (B*EXP(-bêta*(BJ$15-$H36)))    +   (_C*EXP(-gamma*(BJ$15-$H36 )))      )","v":0},{"$f":"  $G36/[0]!Poids      *      (     (A*EXP(-alpha*(BK$15-$H36)))     +      (B*EXP(-bêta*(BK$15-$H36)))    +   (_C*EXP(-gamma*(BK$15-$H36 )))      )","v":0},{"$f":"  $G36/[0]!Poids      *      (     (A*EXP(-alpha*(BL$15-$H36)))     +      (B*EXP(-bêta*(BL$15-$H36)))    +   (_C*EXP(-gamma*(BL$15-$H36 )))      )","v":0},{"$f":"  $G36/[0]!Poids      *      (     (A*EXP(-alpha*(BM$15-$H36)))     +      (B*EXP(-bêta*(BM$15-$H36)))    +   (_C*EXP(-gamma*(BM$15-$H36 )))      )","v":0},{"$f":"  $G36/[0]!Poids      *      (     (A*EXP(-alpha*(BN$15-$H36)))     +      (B*EXP(-bêta*(BN$15-$H36)))    +   (_C*EXP(-gamma*(BN$15-$H36 )))      )","v":0},{"$f":"  $G36/[0]!Poids      *      (     (A*EXP(-alpha*(BO$15-$H36)))     +      (B*EXP(-bêta*(BO$15-$H36)))    +   (_C*EXP(-gamma*(BO$15-$H36 )))      )","v":0},{"$f":"  $G36/[0]!Poids      *      (     (A*EXP(-alpha*(BP$15-$H36)))     +      (B*EXP(-bêta*(BP$15-$H36)))    +   (_C*EXP(-gamma*(BP$15-$H36 )))      )","v":0},{"$f":"  $G36/[0]!Poids      *      (     (A*EXP(-alpha*(BQ$15-$H36)))     +      (B*EXP(-bêta*(BQ$15-$H36)))    +   (_C*EXP(-gamma*(BQ$15-$H36 )))      )","v":0},{"$f":"  $G36/[0]!Poids      *      (     (A*EXP(-alpha*(BR$15-$H36)))     +      (B*EXP(-bêta*(BR$15-$H36)))    +   (_C*EXP(-gamma*(BR$15-$H36 )))      )","v":0}]
[null,null,null,null,null,null,{"$f":"AE$10","v":0},105,null,null,null,null,null,null,null,null,null,null,null,null,null,null,null,null,null,null,null,null,null,null,{"$f":"  $G37/[0]!Poids      *      (     (A*EXP(-alpha*(AE$15-$H37)))     +      (B*EXP(-bêta*(AE$15-$H37)))    +   (_C*EXP(-gamma*(AE$15-$H37 )))      )","v":0},{"$f":"  $G37/[0]!Poids      *      (     (A*EXP(-alpha*(AF$15-$H37)))     +      (B*EXP(-bêta*(AF$15-$H37)))    +   (_C*EXP(-gamma*(AF$15-$H37 )))      )","v":0},{"$f":"  $G37/[0]!Poids      *      (     (A*EXP(-alpha*(AG$15-$H37)))     +      (B*EXP(-bêta*(AG$15-$H37)))    +   (_C*EXP(-gamma*(AG$15-$H37 )))      )","v":0},{"$f":"  $G37/[0]!Poids      *      (     (A*EXP(-alpha*(AH$15-$H37)))     +      (B*EXP(-bêta*(AH$15-$H37)))    +   (_C*EXP(-gamma*(AH$15-$H37 )))      )","v":0},{"$f":"  $G37/[0]!Poids      *      (     (A*EXP(-alpha*(AI$15-$H37)))     +      (B*EXP(-bêta*(AI$15-$H37)))    +   (_C*EXP(-gamma*(AI$15-$H37 )))      )","v":0},{"$f":"  $G37/[0]!Poids      *      (     (A*EXP(-alpha*(AJ$15-$H37)))     +      (B*EXP(-bêta*(AJ$15-$H37)))    +   (_C*EXP(-gamma*(AJ$15-$H37 )))      )","v":0},{"$f":"  $G37/[0]!Poids      *      (     (A*EXP(-alpha*(AK$15-$H37)))     +      (B*EXP(-bêta*(AK$15-$H37)))    +   (_C*EXP(-gamma*(AK$15-$H37 )))      )","v":0},{"$f":"  $G37/[0]!Poids      *      (     (A*EXP(-alpha*(AL$15-$H37)))     +      (B*EXP(-bêta*(AL$15-$H37)))    +   (_C*EXP(-gamma*(AL$15-$H37 )))      )","v":0},{"$f":"  $G37/[0]!Poids      *      (     (A*EXP(-alpha*(AM$15-$H37)))     +      (B*EXP(-bêta*(AM$15-$H37)))    +   (_C*EXP(-gamma*(AM$15-$H37 )))      )","v":0},{"$f":"  $G37/[0]!Poids      *      (     (A*EXP(-alpha*(AN$15-$H37)))     +      (B*EXP(-bêta*(AN$15-$H37)))    +   (_C*EXP(-gamma*(AN$15-$H37 )))      )","v":0},{"$f":"  $G37/[0]!Poids      *      (     (A*EXP(-alpha*(AO$15-$H37)))     +      (B*EXP(-bêta*(AO$15-$H37)))    +   (_C*EXP(-gamma*(AO$15-$H37 )))      )","v":0},{"$f":"  $G37/[0]!Poids      *      (     (A*EXP(-alpha*(AP$15-$H37)))     +      (B*EXP(-bêta*(AP$15-$H37)))    +   (_C*EXP(-gamma*(AP$15-$H37 )))      )","v":0},{"$f":"  $G37/[0]!Poids      *      (     (A*EXP(-alpha*(AQ$15-$H37)))     +      (B*EXP(-bêta*(AQ$15-$H37)))    +   (_C*EXP(-gamma*(AQ$15-$H37 )))      )","v":0},{"$f":"  $G37/[0]!Poids      *      (     (A*EXP(-alpha*(AR$15-$H37)))     +      (B*EXP(-bêta*(AR$15-$H37)))    +   (_C*EXP(-gamma*(AR$15-$H37 )))      )","v":0},{"$f":"  $G37/[0]!Poids      *      (     (A*EXP(-alpha*(AS$15-$H37)))     +      (B*EXP(-bêta*(AS$15-$H37)))    +   (_C*EXP(-gamma*(AS$15-$H37 )))      )","v":0},{"$f":"  $G37/[0]!Poids      *      (     (A*EXP(-alpha*(AT$15-$H37)))     +      (B*EXP(-bêta*(AT$15-$H37)))    +   (_C*EXP(-gamma*(AT$15-$H37 )))      )","v":0},{"$f":"  $G37/[0]!Poids      *      (     (A*EXP(-alpha*(AU$15-$H37)))     +      (B*EXP(-bêta*(AU$15-$H37)))    +   (_C*EXP(-gamma*(AU$15-$H37 )))      )","v":0},{"$f":"  $G37/[0]!Poids      *      (     (A*EXP(-alpha*(AV$15-$H37)))     +      (B*EXP(-bêta*(AV$15-$H37)))    +   (_C*EXP(-gamma*(AV$15-$H37 )))      )","v":0},{"$f":"  $G37/[0]!Poids      *      (     (A*EXP(-alpha*(AW$15-$H37)))     +      (B*EXP(-bêta*(AW$15-$H37)))    +   (_C*EXP(-gamma*(AW$15-$H37 )))      )","v":0},{"$f":"  $G37/[0]!Poids      *      (     (A*EXP(-alpha*(AX$15-$H37)))     +      (B*EXP(-bêta*(AX$15-$H37)))    +   (_C*EXP(-gamma*(AX$15-$H37 )))      )","v":0},{"$f":"  $G37/[0]!Poids      *      (     (A*EXP(-alpha*(AY$15-$H37)))     +      (B*EXP(-bêta*(AY$15-$H37)))    +   (_C*EXP(-gamma*(AY$15-$H37 )))      )","v":0},{"$f":"  $G37/[0]!Poids      *      (     (A*EXP(-alpha*(AZ$15-$H37)))     +      (B*EXP(-bêta*(AZ$15-$H37)))    +   (_C*EXP(-gamma*(AZ$15-$H37 )))      )","v":0},{"$f":"  $G37/[0]!Poids      *      (     (A*EXP(-alpha*(BA$15-$H37)))     +      (B*EXP(-bêta*(BA$15-$H37)))    +   (_C*EXP(-gamma*(BA$15-$H37 )))      )","v":0},{"$f":"  $G37/[0]!Poids      *      (     (A*EXP(-alpha*(BB$15-$H37)))     +      (B*EXP(-bêta*(BB$15-$H37)))    +   (_C*EXP(-gamma*(BB$15-$H37 )))      )","v":0},{"$f":"  $G37/[0]!Poids      *      (     (A*EXP(-alpha*(BC$15-$H37)))     +      (B*EXP(-bêta*(BC$15-$H37)))    +   (_C*EXP(-gamma*(BC$15-$H37 )))      )","v":0},{"$f":"  $G37/[0]!Poids      *      (     (A*EXP(-alpha*(BD$15-$H37)))     +      (B*EXP(-bêta*(BD$15-$H37)))    +   (_C*EXP(-gamma*(BD$15-$H37 )))      )","v":0},{"$f":"  $G37/[0]!Poids      *      (     (A*EXP(-alpha*(BE$15-$H37)))     +      (B*EXP(-bêta*(BE$15-$H37)))    +   (_C*EXP(-gamma*(BE$15-$H37 )))      )","v":0},{"$f":"  $G37/[0]!Poids      *      (     (A*EXP(-alpha*(BF$15-$H37)))     +      (B*EXP(-bêta*(BF$15-$H37)))    +   (_C*EXP(-gamma*(BF$15-$H37 )))      )","v":0},{"$f":"  $G37/[0]!Poids      *      (     (A*EXP(-alpha*(BG$15-$H37)))     +      (B*EXP(-bêta*(BG$15-$H37)))    +   (_C*EXP(-gamma*(BG$15-$H37 )))      )","v":0},{"$f":"  $G37/[0]!Poids      *      (     (A*EXP(-alpha*(BH$15-$H37)))     +      (B*EXP(-bêta*(BH$15-$H37)))    +   (_C*EXP(-gamma*(BH$15-$H37 )))      )","v":0},{"$f":"  $G37/[0]!Poids      *      (     (A*EXP(-alpha*(BI$15-$H37)))     +      (B*EXP(-bêta*(BI$15-$H37)))    +   (_C*EXP(-gamma*(BI$15-$H37 )))      )","v":0},{"$f":"  $G37/[0]!Poids      *      (     (A*EXP(-alpha*(BJ$15-$H37)))     +      (B*EXP(-bêta*(BJ$15-$H37)))    +   (_C*EXP(-gamma*(BJ$15-$H37 )))      )","v":0},{"$f":"  $G37/[0]!Poids      *      (     (A*EXP(-alpha*(BK$15-$H37)))     +      (B*EXP(-bêta*(BK$15-$H37)))    +   (_C*EXP(-gamma*(BK$15-$H37 )))      )","v":0},{"$f":"  $G37/[0]!Poids      *      (     (A*EXP(-alpha*(BL$15-$H37)))     +      (B*EXP(-bêta*(BL$15-$H37)))    +   (_C*EXP(-gamma*(BL$15-$H37 )))      )","v":0},{"$f":"  $G37/[0]!Poids      *      (     (A*EXP(-alpha*(BM$15-$H37)))     +      (B*EXP(-bêta*(BM$15-$H37)))    +   (_C*EXP(-gamma*(BM$15-$H37 )))      )","v":0},{"$f":"  $G37/[0]!Poids      *      (     (A*EXP(-alpha*(BN$15-$H37)))     +      (B*EXP(-bêta*(BN$15-$H37)))    +   (_C*EXP(-gamma*(BN$15-$H37 )))      )","v":0},{"$f":"  $G37/[0]!Poids      *      (     (A*EXP(-alpha*(BO$15-$H37)))     +      (B*EXP(-bêta*(BO$15-$H37)))    +   (_C*EXP(-gamma*(BO$15-$H37 )))      )","v":0},{"$f":"  $G37/[0]!Poids      *      (     (A*EXP(-alpha*(BP$15-$H37)))     +      (B*EXP(-bêta*(BP$15-$H37)))    +   (_C*EXP(-gamma*(BP$15-$H37 )))      )","v":0},{"$f":"  $G37/[0]!Poids      *      (     (A*EXP(-alpha*(BQ$15-$H37)))     +      (B*EXP(-bêta*(BQ$15-$H37)))    +   (_C*EXP(-gamma*(BQ$15-$H37 )))      )","v":0},{"$f":"  $G37/[0]!Poids      *      (     (A*EXP(-alpha*(BR$15-$H37)))     +      (B*EXP(-bêta*(BR$15-$H37)))    +   (_C*EXP(-gamma*(BR$15-$H37 )))      )","v":0}]
[null,null,null,null,null,null,{"$f":"AF$10","v":0},110,null,null,null,null,null,null,null,null,null,null,null,null,null,null,null,null,null,null,null,null,null,null,null,{"$f":"  $G38/[0]!Poids      *      (     (A*EXP(-alpha*(AF$15-$H38)))     +      (B*EXP(-bêta*(AF$15-$H38)))    +   (_C*EXP(-gamma*(AF$15-$H38 )))      )","v":0},{"$f":"  $G38/[0]!Poids      *      (     (A*EXP(-alpha*(AG$15-$H38)))     +      (B*EXP(-bêta*(AG$15-$H38)))    +   (_C*EXP(-gamma*(AG$15-$H38 )))      )","v":0},{"$f":"  $G38/[0]!Poids      *      (     (A*EXP(-alpha*(AH$15-$H38)))     +      (B*EXP(-bêta*(AH$15-$H38)))    +   (_C*EXP(-gamma*(AH$15-$H38 )))      )","v":0},{"$f":"  $G38/[0]!Poids      *      (     (A*EXP(-alpha*(AI$15-$H38)))     +      (B*EXP(-bêta*(AI$15-$H38)))    +   (_C*EXP(-gamma*(AI$15-$H38 )))      )","v":0},{"$f":"  $G38/[0]!Poids      *      (     (A*EXP(-alpha*(AJ$15-$H38)))     +      (B*EXP(-bêta*(AJ$15-$H38)))    +   (_C*EXP(-gamma*(AJ$15-$H38 )))      )","v":0},{"$f":"  $G38/[0]!Poids      *      (     (A*EXP(-alpha*(AK$15-$H38)))     +      (B*EXP(-bêta*(AK$15-$H38)))    +   (_C*EXP(-gamma*(AK$15-$H38 )))      )","v":0},{"$f":"  $G38/[0]!Poids      *      (     (A*EXP(-alpha*(AL$15-$H38)))     +      (B*EXP(-bêta*(AL$15-$H38)))    +   (_C*EXP(-gamma*(AL$15-$H38 )))      )","v":0},{"$f":"  $G38/[0]!Poids      *      (     (A*EXP(-alpha*(AM$15-$H38)))     +      (B*EXP(-bêta*(AM$15-$H38)))    +   (_C*EXP(-gamma*(AM$15-$H38 )))      )","v":0},{"$f":"  $G38/[0]!Poids      *      (     (A*EXP(-alpha*(AN$15-$H38)))     +      (B*EXP(-bêta*(AN$15-$H38)))    +   (_C*EXP(-gamma*(AN$15-$H38 )))      )","v":0},{"$f":"  $G38/[0]!Poids      *      (     (A*EXP(-alpha*(AO$15-$H38)))     +      (B*EXP(-bêta*(AO$15-$H38)))    +   (_C*EXP(-gamma*(AO$15-$H38 )))      )","v":0},{"$f":"  $G38/[0]!Poids      *      (     (A*EXP(-alpha*(AP$15-$H38)))     +      (B*EXP(-bêta*(AP$15-$H38)))    +   (_C*EXP(-gamma*(AP$15-$H38 )))      )","v":0},{"$f":"  $G38/[0]!Poids      *      (     (A*EXP(-alpha*(AQ$15-$H38)))     +      (B*EXP(-bêta*(AQ$15-$H38)))    +   (_C*EXP(-gamma*(AQ$15-$H38 )))      )","v":0},{"$f":"  $G38/[0]!Poids      *      (     (A*EXP(-alpha*(AR$15-$H38)))     +      (B*EXP(-bêta*(AR$15-$H38)))    +   (_C*EXP(-gamma*(AR$15-$H38 )))      )","v":0},{"$f":"  $G38/[0]!Poids      *      (     (A*EXP(-alpha*(AS$15-$H38)))     +      (B*EXP(-bêta*(AS$15-$H38)))    +   (_C*EXP(-gamma*(AS$15-$H38 )))      )","v":0},{"$f":"  $G38/[0]!Poids      *      (     (A*EXP(-alpha*(AT$15-$H38)))     +      (B*EXP(-bêta*(AT$15-$H38)))    +   (_C*EXP(-gamma*(AT$15-$H38 )))      )","v":0},{"$f":"  $G38/[0]!Poids      *      (     (A*EXP(-alpha*(AU$15-$H38)))     +      (B*EXP(-bêta*(AU$15-$H38)))    +   (_C*EXP(-gamma*(AU$15-$H38 )))      )","v":0},{"$f":"  $G38/[0]!Poids      *      (     (A*EXP(-alpha*(AV$15-$H38)))     +      (B*EXP(-bêta*(AV$15-$H38)))    +   (_C*EXP(-gamma*(AV$15-$H38 )))      )","v":0},{"$f":"  $G38/[0]!Poids      *      (     (A*EXP(-alpha*(AW$15-$H38)))     +      (B*EXP(-bêta*(AW$15-$H38)))    +   (_C*EXP(-gamma*(AW$15-$H38 )))      )","v":0},{"$f":"  $G38/[0]!Poids      *      (     (A*EXP(-alpha*(AX$15-$H38)))     +      (B*EXP(-bêta*(AX$15-$H38)))    +   (_C*EXP(-gamma*(AX$15-$H38 )))      )","v":0},{"$f":"  $G38/[0]!Poids      *      (     (A*EXP(-alpha*(AY$15-$H38)))     +      (B*EXP(-bêta*(AY$15-$H38)))    +   (_C*EXP(-gamma*(AY$15-$H38 )))      )","v":0},{"$f":"  $G38/[0]!Poids      *      (     (A*EXP(-alpha*(AZ$15-$H38)))     +      (B*EXP(-bêta*(AZ$15-$H38)))    +   (_C*EXP(-gamma*(AZ$15-$H38 )))      )","v":0},{"$f":"  $G38/[0]!Poids      *      (     (A*EXP(-alpha*(BA$15-$H38)))     +      (B*EXP(-bêta*(BA$15-$H38)))    +   (_C*EXP(-gamma*(BA$15-$H38 )))      )","v":0},{"$f":"  $G38/[0]!Poids      *      (     (A*EXP(-alpha*(BB$15-$H38)))     +      (B*EXP(-bêta*(BB$15-$H38)))    +   (_C*EXP(-gamma*(BB$15-$H38 )))      )","v":0},{"$f":"  $G38/[0]!Poids      *      (     (A*EXP(-alpha*(BC$15-$H38)))     +      (B*EXP(-bêta*(BC$15-$H38)))    +   (_C*EXP(-gamma*(BC$15-$H38 )))      )","v":0},{"$f":"  $G38/[0]!Poids      *      (     (A*EXP(-alpha*(BD$15-$H38)))     +      (B*EXP(-bêta*(BD$15-$H38)))    +   (_C*EXP(-gamma*(BD$15-$H38 )))      )","v":0},{"$f":"  $G38/[0]!Poids      *      (     (A*EXP(-alpha*(BE$15-$H38)))     +      (B*EXP(-bêta*(BE$15-$H38)))    +   (_C*EXP(-gamma*(BE$15-$H38 )))      )","v":0},{"$f":"  $G38/[0]!Poids      *      (     (A*EXP(-alpha*(BF$15-$H38)))     +      (B*EXP(-bêta*(BF$15-$H38)))    +   (_C*EXP(-gamma*(BF$15-$H38 )))      )","v":0},{"$f":"  $G38/[0]!Poids      *      (     (A*EXP(-alpha*(BG$15-$H38)))     +      (B*EXP(-bêta*(BG$15-$H38)))    +   (_C*EXP(-gamma*(BG$15-$H38 )))      )","v":0},{"$f":"  $G38/[0]!Poids      *      (     (A*EXP(-alpha*(BH$15-$H38)))     +      (B*EXP(-bêta*(BH$15-$H38)))    +   (_C*EXP(-gamma*(BH$15-$H38 )))      )","v":0},{"$f":"  $G38/[0]!Poids      *      (     (A*EXP(-alpha*(BI$15-$H38)))     +      (B*EXP(-bêta*(BI$15-$H38)))    +   (_C*EXP(-gamma*(BI$15-$H38 )))      )","v":0},{"$f":"  $G38/[0]!Poids      *      (     (A*EXP(-alpha*(BJ$15-$H38)))     +      (B*EXP(-bêta*(BJ$15-$H38)))    +   (_C*EXP(-gamma*(BJ$15-$H38 )))      )","v":0},{"$f":"  $G38/[0]!Poids      *      (     (A*EXP(-alpha*(BK$15-$H38)))     +      (B*EXP(-bêta*(BK$15-$H38)))    +   (_C*EXP(-gamma*(BK$15-$H38 )))      )","v":0},{"$f":"  $G38/[0]!Poids      *      (     (A*EXP(-alpha*(BL$15-$H38)))     +      (B*EXP(-bêta*(BL$15-$H38)))    +   (_C*EXP(-gamma*(BL$15-$H38 )))      )","v":0},{"$f":"  $G38/[0]!Poids      *      (     (A*EXP(-alpha*(BM$15-$H38)))     +      (B*EXP(-bêta*(BM$15-$H38)))    +   (_C*EXP(-gamma*(BM$15-$H38 )))      )","v":0},{"$f":"  $G38/[0]!Poids      *      (     (A*EXP(-alpha*(BN$15-$H38)))     +      (B*EXP(-bêta*(BN$15-$H38)))    +   (_C*EXP(-gamma*(BN$15-$H38 )))      )","v":0},{"$f":"  $G38/[0]!Poids      *      (     (A*EXP(-alpha*(BO$15-$H38)))     +      (B*EXP(-bêta*(BO$15-$H38)))    +   (_C*EXP(-gamma*(BO$15-$H38 )))      )","v":0},{"$f":"  $G38/[0]!Poids      *      (     (A*EXP(-alpha*(BP$15-$H38)))     +      (B*EXP(-bêta*(BP$15-$H38)))    +   (_C*EXP(-gamma*(BP$15-$H38 )))      )","v":0},{"$f":"  $G38/[0]!Poids      *      (     (A*EXP(-alpha*(BQ$15-$H38)))     +      (B*EXP(-bêta*(BQ$15-$H38)))    +   (_C*EXP(-gamma*(BQ$15-$H38 )))      )","v":0},{"$f":"  $G38/[0]!Poids      *      (     (A*EXP(-alpha*(BR$15-$H38)))     +      (B*EXP(-bêta*(BR$15-$H38)))    +   (_C*EXP(-gamma*(BR$15-$H38 )))      )","v":0}]
[null,null,null,null,null,null,{"$f":"AG$10","v":0},115,null,null,null,null,null,null,null,null,null,null,null,null,null,null,null,null,null,null,null,null,null,null,null,null,{"$f":"  $G39/[0]!Poids      *      (     (A*EXP(-alpha*(AG$15-$H39)))     +      (B*EXP(-bêta*(AG$15-$H39)))    +   (_C*EXP(-gamma*(AG$15-$H39 )))      )","v":0},{"$f":"  $G39/[0]!Poids      *      (     (A*EXP(-alpha*(AH$15-$H39)))     +      (B*EXP(-bêta*(AH$15-$H39)))    +   (_C*EXP(-gamma*(AH$15-$H39 )))      )","v":0},{"$f":"  $G39/[0]!Poids      *      (     (A*EXP(-alpha*(AI$15-$H39)))     +      (B*EXP(-bêta*(AI$15-$H39)))    +   (_C*EXP(-gamma*(AI$15-$H39 )))      )","v":0},{"$f":"  $G39/[0]!Poids      *      (     (A*EXP(-alpha*(AJ$15-$H39)))     +      (B*EXP(-bêta*(AJ$15-$H39)))    +   (_C*EXP(-gamma*(AJ$15-$H39 )))      )","v":0},{"$f":"  $G39/[0]!Poids      *      (     (A*EXP(-alpha*(AK$15-$H39)))     +      (B*EXP(-bêta*(AK$15-$H39)))    +   (_C*EXP(-gamma*(AK$15-$H39 )))      )","v":0},{"$f":"  $G39/[0]!Poids      *      (     (A*EXP(-alpha*(AL$15-$H39)))     +      (B*EXP(-bêta*(AL$15-$H39)))    +   (_C*EXP(-gamma*(AL$15-$H39 )))      )","v":0},{"$f":"  $G39/[0]!Poids      *      (     (A*EXP(-alpha*(AM$15-$H39)))     +      (B*EXP(-bêta*(AM$15-$H39)))    +   (_C*EXP(-gamma*(AM$15-$H39 )))      )","v":0},{"$f":"  $G39/[0]!Poids      *      (     (A*EXP(-alpha*(AN$15-$H39)))     +      (B*EXP(-bêta*(AN$15-$H39)))    +   (_C*EXP(-gamma*(AN$15-$H39 )))      )","v":0},{"$f":"  $G39/[0]!Poids      *      (     (A*EXP(-alpha*(AO$15-$H39)))     +      (B*EXP(-bêta*(AO$15-$H39)))    +   (_C*EXP(-gamma*(AO$15-$H39 )))      )","v":0},{"$f":"  $G39/[0]!Poids      *      (     (A*EXP(-alpha*(AP$15-$H39)))     +      (B*EXP(-bêta*(AP$15-$H39)))    +   (_C*EXP(-gamma*(AP$15-$H39 )))      )","v":0},{"$f":"  $G39/[0]!Poids      *      (     (A*EXP(-alpha*(AQ$15-$H39)))     +      (B*EXP(-bêta*(AQ$15-$H39)))    +   (_C*EXP(-gamma*(AQ$15-$H39 )))      )","v":0},{"$f":"  $G39/[0]!Poids      *      (     (A*EXP(-alpha*(AR$15-$H39)))     +      (B*EXP(-bêta*(AR$15-$H39)))    +   (_C*EXP(-gamma*(AR$15-$H39 )))      )","v":0},{"$f":"  $G39/[0]!Poids      *      (     (A*EXP(-alpha*(AS$15-$H39)))     +      (B*EXP(-bêta*(AS$15-$H39)))    +   (_C*EXP(-gamma*(AS$15-$H39 )))      )","v":0},{"$f":"  $G39/[0]!Poids      *      (     (A*EXP(-alpha*(AT$15-$H39)))     +      (B*EXP(-bêta*(AT$15-$H39)))    +   (_C*EXP(-gamma*(AT$15-$H39 )))      )","v":0},{"$f":"  $G39/[0]!Poids      *      (     (A*EXP(-alpha*(AU$15-$H39)))     +      (B*EXP(-bêta*(AU$15-$H39)))    +   (_C*EXP(-gamma*(AU$15-$H39 )))      )","v":0},{"$f":"  $G39/[0]!Poids      *      (     (A*EXP(-alpha*(AV$15-$H39)))     +      (B*EXP(-bêta*(AV$15-$H39)))    +   (_C*EXP(-gamma*(AV$15-$H39 )))      )","v":0},{"$f":"  $G39/[0]!Poids      *      (     (A*EXP(-alpha*(AW$15-$H39)))     +      (B*EXP(-bêta*(AW$15-$H39)))    +   (_C*EXP(-gamma*(AW$15-$H39 )))      )","v":0},{"$f":"  $G39/[0]!Poids      *      (     (A*EXP(-alpha*(AX$15-$H39)))     +      (B*EXP(-bêta*(AX$15-$H39)))    +   (_C*EXP(-gamma*(AX$15-$H39 )))      )","v":0},{"$f":"  $G39/[0]!Poids      *      (     (A*EXP(-alpha*(AY$15-$H39)))     +      (B*EXP(-bêta*(AY$15-$H39)))    +   (_C*EXP(-gamma*(AY$15-$H39 )))      )","v":0},{"$f":"  $G39/[0]!Poids      *      (     (A*EXP(-alpha*(AZ$15-$H39)))     +      (B*EXP(-bêta*(AZ$15-$H39)))    +   (_C*EXP(-gamma*(AZ$15-$H39 )))      )","v":0},{"$f":"  $G39/[0]!Poids      *      (     (A*EXP(-alpha*(BA$15-$H39)))     +      (B*EXP(-bêta*(BA$15-$H39)))    +   (_C*EXP(-gamma*(BA$15-$H39 )))      )","v":0},{"$f":"  $G39/[0]!Poids      *      (     (A*EXP(-alpha*(BB$15-$H39)))     +      (B*EXP(-bêta*(BB$15-$H39)))    +   (_C*EXP(-gamma*(BB$15-$H39 )))      )","v":0},{"$f":"  $G39/[0]!Poids      *      (     (A*EXP(-alpha*(BC$15-$H39)))     +      (B*EXP(-bêta*(BC$15-$H39)))    +   (_C*EXP(-gamma*(BC$15-$H39 )))      )","v":0},{"$f":"  $G39/[0]!Poids      *      (     (A*EXP(-alpha*(BD$15-$H39)))     +      (B*EXP(-bêta*(BD$15-$H39)))    +   (_C*EXP(-gamma*(BD$15-$H39 )))      )","v":0},{"$f":"  $G39/[0]!Poids      *      (     (A*EXP(-alpha*(BE$15-$H39)))     +      (B*EXP(-bêta*(BE$15-$H39)))    +   (_C*EXP(-gamma*(BE$15-$H39 )))      )","v":0},{"$f":"  $G39/[0]!Poids      *      (     (A*EXP(-alpha*(BF$15-$H39)))     +      (B*EXP(-bêta*(BF$15-$H39)))    +   (_C*EXP(-gamma*(BF$15-$H39 )))      )","v":0},{"$f":"  $G39/[0]!Poids      *      (     (A*EXP(-alpha*(BG$15-$H39)))     +      (B*EXP(-bêta*(BG$15-$H39)))    +   (_C*EXP(-gamma*(BG$15-$H39 )))      )","v":0},{"$f":"  $G39/[0]!Poids      *      (     (A*EXP(-alpha*(BH$15-$H39)))     +      (B*EXP(-bêta*(BH$15-$H39)))    +   (_C*EXP(-gamma*(BH$15-$H39 )))      )","v":0},{"$f":"  $G39/[0]!Poids      *      (     (A*EXP(-alpha*(BI$15-$H39)))     +      (B*EXP(-bêta*(BI$15-$H39)))    +   (_C*EXP(-gamma*(BI$15-$H39 )))      )","v":0},{"$f":"  $G39/[0]!Poids      *      (     (A*EXP(-alpha*(BJ$15-$H39)))     +      (B*EXP(-bêta*(BJ$15-$H39)))    +   (_C*EXP(-gamma*(BJ$15-$H39 )))      )","v":0},{"$f":"  $G39/[0]!Poids      *      (     (A*EXP(-alpha*(BK$15-$H39)))     +      (B*EXP(-bêta*(BK$15-$H39)))    +   (_C*EXP(-gamma*(BK$15-$H39 )))      )","v":0},{"$f":"  $G39/[0]!Poids      *      (     (A*EXP(-alpha*(BL$15-$H39)))     +      (B*EXP(-bêta*(BL$15-$H39)))    +   (_C*EXP(-gamma*(BL$15-$H39 )))      )","v":0},{"$f":"  $G39/[0]!Poids      *      (     (A*EXP(-alpha*(BM$15-$H39)))     +      (B*EXP(-bêta*(BM$15-$H39)))    +   (_C*EXP(-gamma*(BM$15-$H39 )))      )","v":0},{"$f":"  $G39/[0]!Poids      *      (     (A*EXP(-alpha*(BN$15-$H39)))     +      (B*EXP(-bêta*(BN$15-$H39)))    +   (_C*EXP(-gamma*(BN$15-$H39 )))      )","v":0},{"$f":"  $G39/[0]!Poids      *      (     (A*EXP(-alpha*(BO$15-$H39)))     +      (B*EXP(-bêta*(BO$15-$H39)))    +   (_C*EXP(-gamma*(BO$15-$H39 )))      )","v":0},{"$f":"  $G39/[0]!Poids      *      (     (A*EXP(-alpha*(BP$15-$H39)))     +      (B*EXP(-bêta*(BP$15-$H39)))    +   (_C*EXP(-gamma*(BP$15-$H39 )))      )","v":0},{"$f":"  $G39/[0]!Poids      *      (     (A*EXP(-alpha*(BQ$15-$H39)))     +      (B*EXP(-bêta*(BQ$15-$H39)))    +   (_C*EXP(-gamma*(BQ$15-$H39 )))      )","v":0},{"$f":"  $G39/[0]!Poids      *      (     (A*EXP(-alpha*(BR$15-$H39)))     +      (B*EXP(-bêta*(BR$15-$H39)))    +   (_C*EXP(-gamma*(BR$15-$H39 )))      )","v":0}]
[null,null,null,null,null,null,{"$f":"AH$10","v":0},120,null,null,null,null,null,null,null,null,null,null,null,null,null,null,null,null,null,null,null,null,null,null,null,null,null,{"$f":"  $G40/[0]!Poids      *      (     (A*EXP(-alpha*(AH$15-$H40)))     +      (B*EXP(-bêta*(AH$15-$H40)))    +   (_C*EXP(-gamma*(AH$15-$H40 )))      )","v":0},{"$f":"  $G40/[0]!Poids      *      (     (A*EXP(-alpha*(AI$15-$H40)))     +      (B*EXP(-bêta*(AI$15-$H40)))    +   (_C*EXP(-gamma*(AI$15-$H40 )))      )","v":0},{"$f":"  $G40/[0]!Poids      *      (     (A*EXP(-alpha*(AJ$15-$H40)))     +      (B*EXP(-bêta*(AJ$15-$H40)))    +   (_C*EXP(-gamma*(AJ$15-$H40 )))      )","v":0},{"$f":"  $G40/[0]!Poids      *      (     (A*EXP(-alpha*(AK$15-$H40)))     +      (B*EXP(-bêta*(AK$15-$H40)))    +   (_C*EXP(-gamma*(AK$15-$H40 )))      )","v":0},{"$f":"  $G40/[0]!Poids      *      (     (A*EXP(-alpha*(AL$15-$H40)))     +      (B*EXP(-bêta*(AL$15-$H40)))    +   (_C*EXP(-gamma*(AL$15-$H40 )))      )","v":0},{"$f":"  $G40/[0]!Poids      *      (     (A*EXP(-alpha*(AM$15-$H40)))     +      (B*EXP(-bêta*(AM$15-$H40)))    +   (_C*EXP(-gamma*(AM$15-$H40 )))      )","v":0},{"$f":"  $G40/[0]!Poids      *      (     (A*EXP(-alpha*(AN$15-$H40)))     +      (B*EXP(-bêta*(AN$15-$H40)))    +   (_C*EXP(-gamma*(AN$15-$H40 )))      )","v":0},{"$f":"  $G40/[0]!Poids      *      (     (A*EXP(-alpha*(AO$15-$H40)))     +      (B*EXP(-bêta*(AO$15-$H40)))    +   (_C*EXP(-gamma*(AO$15-$H40 )))      )","v":0},{"$f":"  $G40/[0]!Poids      *      (     (A*EXP(-alpha*(AP$15-$H40)))     +      (B*EXP(-bêta*(AP$15-$H40)))    +   (_C*EXP(-gamma*(AP$15-$H40 )))      )","v":0},{"$f":"  $G40/[0]!Poids      *      (     (A*EXP(-alpha*(AQ$15-$H40)))     +      (B*EXP(-bêta*(AQ$15-$H40)))    +   (_C*EXP(-gamma*(AQ$15-$H40 )))      )","v":0},{"$f":"  $G40/[0]!Poids      *      (     (A*EXP(-alpha*(AR$15-$H40)))     +      (B*EXP(-bêta*(AR$15-$H40)))    +   (_C*EXP(-gamma*(AR$15-$H40 )))      )","v":0},{"$f":"  $G40/[0]!Poids      *      (     (A*EXP(-alpha*(AS$15-$H40)))     +      (B*EXP(-bêta*(AS$15-$H40)))    +   (_C*EXP(-gamma*(AS$15-$H40 )))      )","v":0},{"$f":"  $G40/[0]!Poids      *      (     (A*EXP(-alpha*(AT$15-$H40)))     +      (B*EXP(-bêta*(AT$15-$H40)))    +   (_C*EXP(-gamma*(AT$15-$H40 )))      )","v":0},{"$f":"  $G40/[0]!Poids      *      (     (A*EXP(-alpha*(AU$15-$H40)))     +      (B*EXP(-bêta*(AU$15-$H40)))    +   (_C*EXP(-gamma*(AU$15-$H40 )))      )","v":0},{"$f":"  $G40/[0]!Poids      *      (     (A*EXP(-alpha*(AV$15-$H40)))     +      (B*EXP(-bêta*(AV$15-$H40)))    +   (_C*EXP(-gamma*(AV$15-$H40 )))      )","v":0},{"$f":"  $G40/[0]!Poids      *      (     (A*EXP(-alpha*(AW$15-$H40)))     +      (B*EXP(-bêta*(AW$15-$H40)))    +   (_C*EXP(-gamma*(AW$15-$H40 )))      )","v":0},{"$f":"  $G40/[0]!Poids      *      (     (A*EXP(-alpha*(AX$15-$H40)))     +      (B*EXP(-bêta*(AX$15-$H40)))    +   (_C*EXP(-gamma*(AX$15-$H40 )))      )","v":0},{"$f":"  $G40/[0]!Poids      *      (     (A*EXP(-alpha*(AY$15-$H40)))     +      (B*EXP(-bêta*(AY$15-$H40)))    +   (_C*EXP(-gamma*(AY$15-$H40 )))      )","v":0},{"$f":"  $G40/[0]!Poids      *      (     (A*EXP(-alpha*(AZ$15-$H40)))     +      (B*EXP(-bêta*(AZ$15-$H40)))    +   (_C*EXP(-gamma*(AZ$15-$H40 )))      )","v":0},{"$f":"  $G40/[0]!Poids      *      (     (A*EXP(-alpha*(BA$15-$H40)))     +      (B*EXP(-bêta*(BA$15-$H40)))    +   (_C*EXP(-gamma*(BA$15-$H40 )))      )","v":0},{"$f":"  $G40/[0]!Poids      *      (     (A*EXP(-alpha*(BB$15-$H40)))     +      (B*EXP(-bêta*(BB$15-$H40)))    +   (_C*EXP(-gamma*(BB$15-$H40 )))      )","v":0},{"$f":"  $G40/[0]!Poids      *      (     (A*EXP(-alpha*(BC$15-$H40)))     +      (B*EXP(-bêta*(BC$15-$H40)))    +   (_C*EXP(-gamma*(BC$15-$H40 )))      )","v":0},{"$f":"  $G40/[0]!Poids      *      (     (A*EXP(-alpha*(BD$15-$H40)))     +      (B*EXP(-bêta*(BD$15-$H40)))    +   (_C*EXP(-gamma*(BD$15-$H40 )))      )","v":0},{"$f":"  $G40/[0]!Poids      *      (     (A*EXP(-alpha*(BE$15-$H40)))     +      (B*EXP(-bêta*(BE$15-$H40)))    +   (_C*EXP(-gamma*(BE$15-$H40 )))      )","v":0},{"$f":"  $G40/[0]!Poids      *      (     (A*EXP(-alpha*(BF$15-$H40)))     +      (B*EXP(-bêta*(BF$15-$H40)))    +   (_C*EXP(-gamma*(BF$15-$H40 )))      )","v":0},{"$f":"  $G40/[0]!Poids      *      (     (A*EXP(-alpha*(BG$15-$H40)))     +      (B*EXP(-bêta*(BG$15-$H40)))    +   (_C*EXP(-gamma*(BG$15-$H40 )))      )","v":0},{"$f":"  $G40/[0]!Poids      *      (     (A*EXP(-alpha*(BH$15-$H40)))     +      (B*EXP(-bêta*(BH$15-$H40)))    +   (_C*EXP(-gamma*(BH$15-$H40 )))      )","v":0},{"$f":"  $G40/[0]!Poids      *      (     (A*EXP(-alpha*(BI$15-$H40)))     +      (B*EXP(-bêta*(BI$15-$H40)))    +   (_C*EXP(-gamma*(BI$15-$H40 )))      )","v":0},{"$f":"  $G40/[0]!Poids      *      (     (A*EXP(-alpha*(BJ$15-$H40)))     +      (B*EXP(-bêta*(BJ$15-$H40)))    +   (_C*EXP(-gamma*(BJ$15-$H40 )))      )","v":0},{"$f":"  $G40/[0]!Poids      *      (     (A*EXP(-alpha*(BK$15-$H40)))     +      (B*EXP(-bêta*(BK$15-$H40)))    +   (_C*EXP(-gamma*(BK$15-$H40 )))      )","v":0},{"$f":"  $G40/[0]!Poids      *      (     (A*EXP(-alpha*(BL$15-$H40)))     +      (B*EXP(-bêta*(BL$15-$H40)))    +   (_C*EXP(-gamma*(BL$15-$H40 )))      )","v":0},{"$f":"  $G40/[0]!Poids      *      (     (A*EXP(-alpha*(BM$15-$H40)))     +      (B*EXP(-bêta*(BM$15-$H40)))    +   (_C*EXP(-gamma*(BM$15-$H40 )))      )","v":0},{"$f":"  $G40/[0]!Poids      *      (     (A*EXP(-alpha*(BN$15-$H40)))     +      (B*EXP(-bêta*(BN$15-$H40)))    +   (_C*EXP(-gamma*(BN$15-$H40 )))      )","v":0},{"$f":"  $G40/[0]!Poids      *      (     (A*EXP(-alpha*(BO$15-$H40)))     +      (B*EXP(-bêta*(BO$15-$H40)))    +   (_C*EXP(-gamma*(BO$15-$H40 )))      )","v":0},{"$f":"  $G40/[0]!Poids      *      (     (A*EXP(-alpha*(BP$15-$H40)))     +      (B*EXP(-bêta*(BP$15-$H40)))    +   (_C*EXP(-gamma*(BP$15-$H40 )))      )","v":0},{"$f":"  $G40/[0]!Poids      *      (     (A*EXP(-alpha*(BQ$15-$H40)))     +      (B*EXP(-bêta*(BQ$15-$H40)))    +   (_C*EXP(-gamma*(BQ$15-$H40 )))      )","v":0},{"$f":"  $G40/[0]!Poids      *      (     (A*EXP(-alpha*(BR$15-$H40)))     +      (B*EXP(-bêta*(BR$15-$H40)))    +   (_C*EXP(-gamma*(BR$15-$H40 )))      )","v":0}]
[null,null,null,null,null,null,{"$f":"AI$10","v":0},125,null,null,null,null,null,null,null,null,null,null,null,null,null,null,null,null,null,null,null,null,null,null,null,null,null,null,{"$f":"  $G41/[0]!Poids      *      (     (A*EXP(-alpha*(AI$15-$H41)))     +      (B*EXP(-bêta*(AI$15-$H41)))    +   (_C*EXP(-gamma*(AI$15-$H41 )))      )","v":0},{"$f":"  $G41/[0]!Poids      *      (     (A*EXP(-alpha*(AJ$15-$H41)))     +      (B*EXP(-bêta*(AJ$15-$H41)))    +   (_C*EXP(-gamma*(AJ$15-$H41 )))      )","v":0},{"$f":"  $G41/[0]!Poids      *      (     (A*EXP(-alpha*(AK$15-$H41)))     +      (B*EXP(-bêta*(AK$15-$H41)))    +   (_C*EXP(-gamma*(AK$15-$H41 )))      )","v":0},{"$f":"  $G41/[0]!Poids      *      (     (A*EXP(-alpha*(AL$15-$H41)))     +      (B*EXP(-bêta*(AL$15-$H41)))    +   (_C*EXP(-gamma*(AL$15-$H41 )))      )","v":0},{"$f":"  $G41/[0]!Poids      *      (     (A*EXP(-alpha*(AM$15-$H41)))     +      (B*EXP(-bêta*(AM$15-$H41)))    +   (_C*EXP(-gamma*(AM$15-$H41 )))      )","v":0},{"$f":"  $G41/[0]!Poids      *      (     (A*EXP(-alpha*(AN$15-$H41)))     +      (B*EXP(-bêta*(AN$15-$H41)))    +   (_C*EXP(-gamma*(AN$15-$H41 )))      )","v":0},{"$f":"  $G41/[0]!Poids      *      (     (A*EXP(-alpha*(AO$15-$H41)))     +      (B*EXP(-bêta*(AO$15-$H41)))    +   (_C*EXP(-gamma*(AO$15-$H41 )))      )","v":0},{"$f":"  $G41/[0]!Poids      *      (     (A*EXP(-alpha*(AP$15-$H41)))     +      (B*EXP(-bêta*(AP$15-$H41)))    +   (_C*EXP(-gamma*(AP$15-$H41 )))      )","v":0},{"$f":"  $G41/[0]!Poids      *      (     (A*EXP(-alpha*(AQ$15-$H41)))     +      (B*EXP(-bêta*(AQ$15-$H41)))    +   (_C*EXP(-gamma*(AQ$15-$H41 )))      )","v":0},{"$f":"  $G41/[0]!Poids      *      (     (A*EXP(-alpha*(AR$15-$H41)))     +      (B*EXP(-bêta*(AR$15-$H41)))    +   (_C*EXP(-gamma*(AR$15-$H41 )))      )","v":0},{"$f":"  $G41/[0]!Poids      *      (     (A*EXP(-alpha*(AS$15-$H41)))     +      (B*EXP(-bêta*(AS$15-$H41)))    +   (_C*EXP(-gamma*(AS$15-$H41 )))      )","v":0},{"$f":"  $G41/[0]!Poids      *      (     (A*EXP(-alpha*(AT$15-$H41)))     +      (B*EXP(-bêta*(AT$15-$H41)))    +   (_C*EXP(-gamma*(AT$15-$H41 )))      )","v":0},{"$f":"  $G41/[0]!Poids      *      (     (A*EXP(-alpha*(AU$15-$H41)))     +      (B*EXP(-bêta*(AU$15-$H41)))    +   (_C*EXP(-gamma*(AU$15-$H41 )))      )","v":0},{"$f":"  $G41/[0]!Poids      *      (     (A*EXP(-alpha*(AV$15-$H41)))     +      (B*EXP(-bêta*(AV$15-$H41)))    +   (_C*EXP(-gamma*(AV$15-$H41 )))      )","v":0},{"$f":"  $G41/[0]!Poids      *      (     (A*EXP(-alpha*(AW$15-$H41)))     +      (B*EXP(-bêta*(AW$15-$H41)))    +   (_C*EXP(-gamma*(AW$15-$H41 )))      )","v":0},{"$f":"  $G41/[0]!Poids      *      (     (A*EXP(-alpha*(AX$15-$H41)))     +      (B*EXP(-bêta*(AX$15-$H41)))    +   (_C*EXP(-gamma*(AX$15-$H41 )))      )","v":0},{"$f":"  $G41/[0]!Poids      *      (     (A*EXP(-alpha*(AY$15-$H41)))     +      (B*EXP(-bêta*(AY$15-$H41)))    +   (_C*EXP(-gamma*(AY$15-$H41 )))      )","v":0},{"$f":"  $G41/[0]!Poids      *      (     (A*EXP(-alpha*(AZ$15-$H41)))     +      (B*EXP(-bêta*(AZ$15-$H41)))    +   (_C*EXP(-gamma*(AZ$15-$H41 )))      )","v":0},{"$f":"  $G41/[0]!Poids      *      (     (A*EXP(-alpha*(BA$15-$H41)))     +      (B*EXP(-bêta*(BA$15-$H41)))    +   (_C*EXP(-gamma*(BA$15-$H41 )))      )","v":0},{"$f":"  $G41/[0]!Poids      *      (     (A*EXP(-alpha*(BB$15-$H41)))     +      (B*EXP(-bêta*(BB$15-$H41)))    +   (_C*EXP(-gamma*(BB$15-$H41 )))      )","v":0},{"$f":"  $G41/[0]!Poids      *      (     (A*EXP(-alpha*(BC$15-$H41)))     +      (B*EXP(-bêta*(BC$15-$H41)))    +   (_C*EXP(-gamma*(BC$15-$H41 )))      )","v":0},{"$f":"  $G41/[0]!Poids      *      (     (A*EXP(-alpha*(BD$15-$H41)))     +      (B*EXP(-bêta*(BD$15-$H41)))    +   (_C*EXP(-gamma*(BD$15-$H41 )))      )","v":0},{"$f":"  $G41/[0]!Poids      *      (     (A*EXP(-alpha*(BE$15-$H41)))     +      (B*EXP(-bêta*(BE$15-$H41)))    +   (_C*EXP(-gamma*(BE$15-$H41 )))      )","v":0},{"$f":"  $G41/[0]!Poids      *      (     (A*EXP(-alpha*(BF$15-$H41)))     +      (B*EXP(-bêta*(BF$15-$H41)))    +   (_C*EXP(-gamma*(BF$15-$H41 )))      )","v":0},{"$f":"  $G41/[0]!Poids      *      (     (A*EXP(-alpha*(BG$15-$H41)))     +      (B*EXP(-bêta*(BG$15-$H41)))    +   (_C*EXP(-gamma*(BG$15-$H41 )))      )","v":0},{"$f":"  $G41/[0]!Poids      *      (     (A*EXP(-alpha*(BH$15-$H41)))     +      (B*EXP(-bêta*(BH$15-$H41)))    +   (_C*EXP(-gamma*(BH$15-$H41 )))      )","v":0},{"$f":"  $G41/[0]!Poids      *      (     (A*EXP(-alpha*(BI$15-$H41)))     +      (B*EXP(-bêta*(BI$15-$H41)))    +   (_C*EXP(-gamma*(BI$15-$H41 )))      )","v":0},{"$f":"  $G41/[0]!Poids      *      (     (A*EXP(-alpha*(BJ$15-$H41)))     +      (B*EXP(-bêta*(BJ$15-$H41)))    +   (_C*EXP(-gamma*(BJ$15-$H41 )))      )","v":0},{"$f":"  $G41/[0]!Poids      *      (     (A*EXP(-alpha*(BK$15-$H41)))     +      (B*EXP(-bêta*(BK$15-$H41)))    +   (_C*EXP(-gamma*(BK$15-$H41 )))      )","v":0},{"$f":"  $G41/[0]!Poids      *      (     (A*EXP(-alpha*(BL$15-$H41)))     +      (B*EXP(-bêta*(BL$15-$H41)))    +   (_C*EXP(-gamma*(BL$15-$H41 )))      )","v":0},{"$f":"  $G41/[0]!Poids      *      (     (A*EXP(-alpha*(BM$15-$H41)))     +      (B*EXP(-bêta*(BM$15-$H41)))    +   (_C*EXP(-gamma*(BM$15-$H41 )))      )","v":0},{"$f":"  $G41/[0]!Poids      *      (     (A*EXP(-alpha*(BN$15-$H41)))     +      (B*EXP(-bêta*(BN$15-$H41)))    +   (_C*EXP(-gamma*(BN$15-$H41 )))      )","v":0},{"$f":"  $G41/[0]!Poids      *      (     (A*EXP(-alpha*(BO$15-$H41)))     +      (B*EXP(-bêta*(BO$15-$H41)))    +   (_C*EXP(-gamma*(BO$15-$H41 )))      )","v":0},{"$f":"  $G41/[0]!Poids      *      (     (A*EXP(-alpha*(BP$15-$H41)))     +      (B*EXP(-bêta*(BP$15-$H41)))    +   (_C*EXP(-gamma*(BP$15-$H41 )))      )","v":0},{"$f":"  $G41/[0]!Poids      *      (     (A*EXP(-alpha*(BQ$15-$H41)))     +      (B*EXP(-bêta*(BQ$15-$H41)))    +   (_C*EXP(-gamma*(BQ$15-$H41 )))      )","v":0},{"$f":"  $G41/[0]!Poids      *      (     (A*EXP(-alpha*(BR$15-$H41)))     +      (B*EXP(-bêta*(BR$15-$H41)))    +   (_C*EXP(-gamma*(BR$15-$H41 )))      )","v":0}]
[null,null,null,null,null,null,{"$f":"AJ$10","v":0},130,null,null,null,null,null,null,null,null,null,null,null,null,null,null,null,null,null,null,null,null,null,null,null,null,null,null,null,{"$f":"  $G42/[0]!Poids      *      (     (A*EXP(-alpha*(AJ$15-$H42)))     +      (B*EXP(-bêta*(AJ$15-$H42)))    +   (_C*EXP(-gamma*(AJ$15-$H42 )))      )","v":0},{"$f":"  $G42/[0]!Poids      *      (     (A*EXP(-alpha*(AK$15-$H42)))     +      (B*EXP(-bêta*(AK$15-$H42)))    +   (_C*EXP(-gamma*(AK$15-$H42 )))      )","v":0},{"$f":"  $G42/[0]!Poids      *      (     (A*EXP(-alpha*(AL$15-$H42)))     +      (B*EXP(-bêta*(AL$15-$H42)))    +   (_C*EXP(-gamma*(AL$15-$H42 )))      )","v":0},{"$f":"  $G42/[0]!Poids      *      (     (A*EXP(-alpha*(AM$15-$H42)))     +      (B*EXP(-bêta*(AM$15-$H42)))    +   (_C*EXP(-gamma*(AM$15-$H42 )))      )","v":0},{"$f":"  $G42/[0]!Poids      *      (     (A*EXP(-alpha*(AN$15-$H42)))     +      (B*EXP(-bêta*(AN$15-$H42)))    +   (_C*EXP(-gamma*(AN$15-$H42 )))      )","v":0},{"$f":"  $G42/[0]!Poids      *      (     (A*EXP(-alpha*(AO$15-$H42)))     +      (B*EXP(-bêta*(AO$15-$H42)))    +   (_C*EXP(-gamma*(AO$15-$H42 )))      )","v":0},{"$f":"  $G42/[0]!Poids      *      (     (A*EXP(-alpha*(AP$15-$H42)))     +      (B*EXP(-bêta*(AP$15-$H42)))    +   (_C*EXP(-gamma*(AP$15-$H42 )))      )","v":0},{"$f":"  $G42/[0]!Poids      *      (     (A*EXP(-alpha*(AQ$15-$H42)))     +      (B*EXP(-bêta*(AQ$15-$H42)))    +   (_C*EXP(-gamma*(AQ$15-$H42 )))      )","v":0},{"$f":"  $G42/[0]!Poids      *      (     (A*EXP(-alpha*(AR$15-$H42)))     +      (B*EXP(-bêta*(AR$15-$H42)))    +   (_C*EXP(-gamma*(AR$15-$H42 )))      )","v":0},{"$f":"  $G42/[0]!Poids      *      (     (A*EXP(-alpha*(AS$15-$H42)))     +      (B*EXP(-bêta*(AS$15-$H42)))    +   (_C*EXP(-gamma*(AS$15-$H42 )))      )","v":0},{"$f":"  $G42/[0]!Poids      *      (     (A*EXP(-alpha*(AT$15-$H42)))     +      (B*EXP(-bêta*(AT$15-$H42)))    +   (_C*EXP(-gamma*(AT$15-$H42 )))      )","v":0},{"$f":"  $G42/[0]!Poids      *      (     (A*EXP(-alpha*(AU$15-$H42)))     +      (B*EXP(-bêta*(AU$15-$H42)))    +   (_C*EXP(-gamma*(AU$15-$H42 )))      )","v":0},{"$f":"  $G42/[0]!Poids      *      (     (A*EXP(-alpha*(AV$15-$H42)))     +      (B*EXP(-bêta*(AV$15-$H42)))    +   (_C*EXP(-gamma*(AV$15-$H42 )))      )","v":0},{"$f":"  $G42/[0]!Poids      *      (     (A*EXP(-alpha*(AW$15-$H42)))     +      (B*EXP(-bêta*(AW$15-$H42)))    +   (_C*EXP(-gamma*(AW$15-$H42 )))      )","v":0},{"$f":"  $G42/[0]!Poids      *      (     (A*EXP(-alpha*(AX$15-$H42)))     +      (B*EXP(-bêta*(AX$15-$H42)))    +   (_C*EXP(-gamma*(AX$15-$H42 )))      )","v":0},{"$f":"  $G42/[0]!Poids      *      (     (A*EXP(-alpha*(AY$15-$H42)))     +      (B*EXP(-bêta*(AY$15-$H42)))    +   (_C*EXP(-gamma*(AY$15-$H42 )))      )","v":0},{"$f":"  $G42/[0]!Poids      *      (     (A*EXP(-alpha*(AZ$15-$H42)))     +      (B*EXP(-bêta*(AZ$15-$H42)))    +   (_C*EXP(-gamma*(AZ$15-$H42 )))      )","v":0},{"$f":"  $G42/[0]!Poids      *      (     (A*EXP(-alpha*(BA$15-$H42)))     +      (B*EXP(-bêta*(BA$15-$H42)))    +   (_C*EXP(-gamma*(BA$15-$H42 )))      )","v":0},{"$f":"  $G42/[0]!Poids      *      (     (A*EXP(-alpha*(BB$15-$H42)))     +      (B*EXP(-bêta*(BB$15-$H42)))    +   (_C*EXP(-gamma*(BB$15-$H42 )))      )","v":0},{"$f":"  $G42/[0]!Poids      *      (     (A*EXP(-alpha*(BC$15-$H42)))     +      (B*EXP(-bêta*(BC$15-$H42)))    +   (_C*EXP(-gamma*(BC$15-$H42 )))      )","v":0},{"$f":"  $G42/[0]!Poids      *      (     (A*EXP(-alpha*(BD$15-$H42)))     +      (B*EXP(-bêta*(BD$15-$H42)))    +   (_C*EXP(-gamma*(BD$15-$H42 )))      )","v":0},{"$f":"  $G42/[0]!Poids      *      (     (A*EXP(-alpha*(BE$15-$H42)))     +      (B*EXP(-bêta*(BE$15-$H42)))    +   (_C*EXP(-gamma*(BE$15-$H42 )))      )","v":0},{"$f":"  $G42/[0]!Poids      *      (     (A*EXP(-alpha*(BF$15-$H42)))     +      (B*EXP(-bêta*(BF$15-$H42)))    +   (_C*EXP(-gamma*(BF$15-$H42 )))      )","v":0},{"$f":"  $G42/[0]!Poids      *      (     (A*EXP(-alpha*(BG$15-$H42)))     +      (B*EXP(-bêta*(BG$15-$H42)))    +   (_C*EXP(-gamma*(BG$15-$H42 )))      )","v":0},{"$f":"  $G42/[0]!Poids      *      (     (A*EXP(-alpha*(BH$15-$H42)))     +      (B*EXP(-bêta*(BH$15-$H42)))    +   (_C*EXP(-gamma*(BH$15-$H42 )))      )","v":0},{"$f":"  $G42/[0]!Poids      *      (     (A*EXP(-alpha*(BI$15-$H42)))     +      (B*EXP(-bêta*(BI$15-$H42)))    +   (_C*EXP(-gamma*(BI$15-$H42 )))      )","v":0},{"$f":"  $G42/[0]!Poids      *      (     (A*EXP(-alpha*(BJ$15-$H42)))     +      (B*EXP(-bêta*(BJ$15-$H42)))    +   (_C*EXP(-gamma*(BJ$15-$H42 )))      )","v":0},{"$f":"  $G42/[0]!Poids      *      (     (A*EXP(-alpha*(BK$15-$H42)))     +      (B*EXP(-bêta*(BK$15-$H42)))    +   (_C*EXP(-gamma*(BK$15-$H42 )))      )","v":0},{"$f":"  $G42/[0]!Poids      *      (     (A*EXP(-alpha*(BL$15-$H42)))     +      (B*EXP(-bêta*(BL$15-$H42)))    +   (_C*EXP(-gamma*(BL$15-$H42 )))      )","v":0},{"$f":"  $G42/[0]!Poids      *      (     (A*EXP(-alpha*(BM$15-$H42)))     +      (B*EXP(-bêta*(BM$15-$H42)))    +   (_C*EXP(-gamma*(BM$15-$H42 )))      )","v":0},{"$f":"  $G42/[0]!Poids      *      (     (A*EXP(-alpha*(BN$15-$H42)))     +      (B*EXP(-bêta*(BN$15-$H42)))    +   (_C*EXP(-gamma*(BN$15-$H42 )))      )","v":0},{"$f":"  $G42/[0]!Poids      *      (     (A*EXP(-alpha*(BO$15-$H42)))     +      (B*EXP(-bêta*(BO$15-$H42)))    +   (_C*EXP(-gamma*(BO$15-$H42 )))      )","v":0},{"$f":"  $G42/[0]!Poids      *      (     (A*EXP(-alpha*(BP$15-$H42)))     +      (B*EXP(-bêta*(BP$15-$H42)))    +   (_C*EXP(-gamma*(BP$15-$H42 )))      )","v":0},{"$f":"  $G42/[0]!Poids      *      (     (A*EXP(-alpha*(BQ$15-$H42)))     +      (B*EXP(-bêta*(BQ$15-$H42)))    +   (_C*EXP(-gamma*(BQ$15-$H42 )))      )","v":0},{"$f":"  $G42/[0]!Poids      *      (     (A*EXP(-alpha*(BR$15-$H42)))     +      (B*EXP(-bêta*(BR$15-$H42)))    +   (_C*EXP(-gamma*(BR$15-$H42 )))      )","v":0}]
[null,null,null,null,null,null,{"$f":"AK$10","v":0},135,null,null,null,null,null,null,null,null,null,null,null,null,null,null,null,null,null,null,null,null,null,null,null,null,null,null,null,null,{"$f":"  $G43/[0]!Poids      *      (     (A*EXP(-alpha*(AK$15-$H43)))     +      (B*EXP(-bêta*(AK$15-$H43)))    +   (_C*EXP(-gamma*(AK$15-$H43 )))      )","v":0},{"$f":"  $G43/[0]!Poids      *      (     (A*EXP(-alpha*(AL$15-$H43)))     +      (B*EXP(-bêta*(AL$15-$H43)))    +   (_C*EXP(-gamma*(AL$15-$H43 )))      )","v":0},{"$f":"  $G43/[0]!Poids      *      (     (A*EXP(-alpha*(AM$15-$H43)))     +      (B*EXP(-bêta*(AM$15-$H43)))    +   (_C*EXP(-gamma*(AM$15-$H43 )))      )","v":0},{"$f":"  $G43/[0]!Poids      *      (     (A*EXP(-alpha*(AN$15-$H43)))     +      (B*EXP(-bêta*(AN$15-$H43)))    +   (_C*EXP(-gamma*(AN$15-$H43 )))      )","v":0},{"$f":"  $G43/[0]!Poids      *      (     (A*EXP(-alpha*(AO$15-$H43)))     +      (B*EXP(-bêta*(AO$15-$H43)))    +   (_C*EXP(-gamma*(AO$15-$H43 )))      )","v":0},{"$f":"  $G43/[0]!Poids      *      (     (A*EXP(-alpha*(AP$15-$H43)))     +      (B*EXP(-bêta*(AP$15-$H43)))    +   (_C*EXP(-gamma*(AP$15-$H43 )))      )","v":0},{"$f":"  $G43/[0]!Poids      *      (     (A*EXP(-alpha*(AQ$15-$H43)))     +      (B*EXP(-bêta*(AQ$15-$H43)))    +   (_C*EXP(-gamma*(AQ$15-$H43 )))      )","v":0},{"$f":"  $G43/[0]!Poids      *      (     (A*EXP(-alpha*(AR$15-$H43)))     +      (B*EXP(-bêta*(AR$15-$H43)))    +   (_C*EXP(-gamma*(AR$15-$H43 )))      )","v":0},{"$f":"  $G43/[0]!Poids      *      (     (A*EXP(-alpha*(AS$15-$H43)))     +      (B*EXP(-bêta*(AS$15-$H43)))    +   (_C*EXP(-gamma*(AS$15-$H43 )))      )","v":0},{"$f":"  $G43/[0]!Poids      *      (     (A*EXP(-alpha*(AT$15-$H43)))     +      (B*EXP(-bêta*(AT$15-$H43)))    +   (_C*EXP(-gamma*(AT$15-$H43 )))      )","v":0},{"$f":"  $G43/[0]!Poids      *      (     (A*EXP(-alpha*(AU$15-$H43)))     +      (B*EXP(-bêta*(AU$15-$H43)))    +   (_C*EXP(-gamma*(AU$15-$H43 )))      )","v":0},{"$f":"  $G43/[0]!Poids      *      (     (A*EXP(-alpha*(AV$15-$H43)))     +      (B*EXP(-bêta*(AV$15-$H43)))    +   (_C*EXP(-gamma*(AV$15-$H43 )))      )","v":0},{"$f":"  $G43/[0]!Poids      *      (     (A*EXP(-alpha*(AW$15-$H43)))     +      (B*EXP(-bêta*(AW$15-$H43)))    +   (_C*EXP(-gamma*(AW$15-$H43 )))      )","v":0},{"$f":"  $G43/[0]!Poids      *      (     (A*EXP(-alpha*(AX$15-$H43)))     +      (B*EXP(-bêta*(AX$15-$H43)))    +   (_C*EXP(-gamma*(AX$15-$H43 )))      )","v":0},{"$f":"  $G43/[0]!Poids      *      (     (A*EXP(-alpha*(AY$15-$H43)))     +      (B*EXP(-bêta*(AY$15-$H43)))    +   (_C*EXP(-gamma*(AY$15-$H43 )))      )","v":0},{"$f":"  $G43/[0]!Poids      *      (     (A*EXP(-alpha*(AZ$15-$H43)))     +      (B*EXP(-bêta*(AZ$15-$H43)))    +   (_C*EXP(-gamma*(AZ$15-$H43 )))      )","v":0},{"$f":"  $G43/[0]!Poids      *      (     (A*EXP(-alpha*(BA$15-$H43)))     +      (B*EXP(-bêta*(BA$15-$H43)))    +   (_C*EXP(-gamma*(BA$15-$H43 )))      )","v":0},{"$f":"  $G43/[0]!Poids      *      (     (A*EXP(-alpha*(BB$15-$H43)))     +      (B*EXP(-bêta*(BB$15-$H43)))    +   (_C*EXP(-gamma*(BB$15-$H43 )))      )","v":0},{"$f":"  $G43/[0]!Poids      *      (     (A*EXP(-alpha*(BC$15-$H43)))     +      (B*EXP(-bêta*(BC$15-$H43)))    +   (_C*EXP(-gamma*(BC$15-$H43 )))      )","v":0},{"$f":"  $G43/[0]!Poids      *      (     (A*EXP(-alpha*(BD$15-$H43)))     +      (B*EXP(-bêta*(BD$15-$H43)))    +   (_C*EXP(-gamma*(BD$15-$H43 )))      )","v":0},{"$f":"  $G43/[0]!Poids      *      (     (A*EXP(-alpha*(BE$15-$H43)))     +      (B*EXP(-bêta*(BE$15-$H43)))    +   (_C*EXP(-gamma*(BE$15-$H43 )))      )","v":0},{"$f":"  $G43/[0]!Poids      *      (     (A*EXP(-alpha*(BF$15-$H43)))     +      (B*EXP(-bêta*(BF$15-$H43)))    +   (_C*EXP(-gamma*(BF$15-$H43 )))      )","v":0},{"$f":"  $G43/[0]!Poids      *      (     (A*EXP(-alpha*(BG$15-$H43)))     +      (B*EXP(-bêta*(BG$15-$H43)))    +   (_C*EXP(-gamma*(BG$15-$H43 )))      )","v":0},{"$f":"  $G43/[0]!Poids      *      (     (A*EXP(-alpha*(BH$15-$H43)))     +      (B*EXP(-bêta*(BH$15-$H43)))    +   (_C*EXP(-gamma*(BH$15-$H43 )))      )","v":0},{"$f":"  $G43/[0]!Poids      *      (     (A*EXP(-alpha*(BI$15-$H43)))     +      (B*EXP(-bêta*(BI$15-$H43)))    +   (_C*EXP(-gamma*(BI$15-$H43 )))      )","v":0},{"$f":"  $G43/[0]!Poids      *      (     (A*EXP(-alpha*(BJ$15-$H43)))     +      (B*EXP(-bêta*(BJ$15-$H43)))    +   (_C*EXP(-gamma*(BJ$15-$H43 )))      )","v":0},{"$f":"  $G43/[0]!Poids      *      (     (A*EXP(-alpha*(BK$15-$H43)))     +      (B*EXP(-bêta*(BK$15-$H43)))    +   (_C*EXP(-gamma*(BK$15-$H43 )))      )","v":0},{"$f":"  $G43/[0]!Poids      *      (     (A*EXP(-alpha*(BL$15-$H43)))     +      (B*EXP(-bêta*(BL$15-$H43)))    +   (_C*EXP(-gamma*(BL$15-$H43 )))      )","v":0},{"$f":"  $G43/[0]!Poids      *      (     (A*EXP(-alpha*(BM$15-$H43)))     +      (B*EXP(-bêta*(BM$15-$H43)))    +   (_C*EXP(-gamma*(BM$15-$H43 )))      )","v":0},{"$f":"  $G43/[0]!Poids      *      (     (A*EXP(-alpha*(BN$15-$H43)))     +      (B*EXP(-bêta*(BN$15-$H43)))    +   (_C*EXP(-gamma*(BN$15-$H43 )))      )","v":0},{"$f":"  $G43/[0]!Poids      *      (     (A*EXP(-alpha*(BO$15-$H43)))     +      (B*EXP(-bêta*(BO$15-$H43)))    +   (_C*EXP(-gamma*(BO$15-$H43 )))      )","v":0},{"$f":"  $G43/[0]!Poids      *      (     (A*EXP(-alpha*(BP$15-$H43)))     +      (B*EXP(-bêta*(BP$15-$H43)))    +   (_C*EXP(-gamma*(BP$15-$H43 )))      )","v":0},{"$f":"  $G43/[0]!Poids      *      (     (A*EXP(-alpha*(BQ$15-$H43)))     +      (B*EXP(-bêta*(BQ$15-$H43)))    +   (_C*EXP(-gamma*(BQ$15-$H43 )))      )","v":0},{"$f":"  $G43/[0]!Poids      *      (     (A*EXP(-alpha*(BR$15-$H43)))     +      (B*EXP(-bêta*(BR$15-$H43)))    +   (_C*EXP(-gamma*(BR$15-$H43 )))      )","v":0}]
[null,null,null,null,null,null,{"$f":"AL$10","v":0},140,null,null,null,null,null,null,null,null,null,null,null,null,null,null,null,null,null,null,null,null,null,null,null,null,null,null,null,null,null,{"$f":"  $G44/[0]!Poids      *      (     (A*EXP(-alpha*(AL$15-$H44)))     +      (B*EXP(-bêta*(AL$15-$H44)))    +   (_C*EXP(-gamma*(AL$15-$H44 )))      )","v":0},{"$f":"  $G44/[0]!Poids      *      (     (A*EXP(-alpha*(AM$15-$H44)))     +      (B*EXP(-bêta*(AM$15-$H44)))    +   (_C*EXP(-gamma*(AM$15-$H44 )))      )","v":0},{"$f":"  $G44/[0]!Poids      *      (     (A*EXP(-alpha*(AN$15-$H44)))     +      (B*EXP(-bêta*(AN$15-$H44)))    +   (_C*EXP(-gamma*(AN$15-$H44 )))      )","v":0},{"$f":"  $G44/[0]!Poids      *      (     (A*EXP(-alpha*(AO$15-$H44)))     +      (B*EXP(-bêta*(AO$15-$H44)))    +   (_C*EXP(-gamma*(AO$15-$H44 )))      )","v":0},{"$f":"  $G44/[0]!Poids      *      (     (A*EXP(-alpha*(AP$15-$H44)))     +      (B*EXP(-bêta*(AP$15-$H44)))    +   (_C*EXP(-gamma*(AP$15-$H44 )))      )","v":0},{"$f":"  $G44/[0]!Poids      *      (     (A*EXP(-alpha*(AQ$15-$H44)))     +      (B*EXP(-bêta*(AQ$15-$H44)))    +   (_C*EXP(-gamma*(AQ$15-$H44 )))      )","v":0},{"$f":"  $G44/[0]!Poids      *      (     (A*EXP(-alpha*(AR$15-$H44)))     +      (B*EXP(-bêta*(AR$15-$H44)))    +   (_C*EXP(-gamma*(AR$15-$H44 )))      )","v":0},{"$f":"  $G44/[0]!Poids      *      (     (A*EXP(-alpha*(AS$15-$H44)))     +      (B*EXP(-bêta*(AS$15-$H44)))    +   (_C*EXP(-gamma*(AS$15-$H44 )))      )","v":0},{"$f":"  $G44/[0]!Poids      *      (     (A*EXP(-alpha*(AT$15-$H44)))     +      (B*EXP(-bêta*(AT$15-$H44)))    +   (_C*EXP(-gamma*(AT$15-$H44 )))      )","v":0},{"$f":"  $G44/[0]!Poids      *      (     (A*EXP(-alpha*(AU$15-$H44)))     +      (B*EXP(-bêta*(AU$15-$H44)))    +   (_C*EXP(-gamma*(AU$15-$H44 )))      )","v":0},{"$f":"  $G44/[0]!Poids      *      (     (A*EXP(-alpha*(AV$15-$H44)))     +      (B*EXP(-bêta*(AV$15-$H44)))    +   (_C*EXP(-gamma*(AV$15-$H44 )))      )","v":0},{"$f":"  $G44/[0]!Poids      *      (     (A*EXP(-alpha*(AW$15-$H44)))     +      (B*EXP(-bêta*(AW$15-$H44)))    +   (_C*EXP(-gamma*(AW$15-$H44 )))      )","v":0},{"$f":"  $G44/[0]!Poids      *      (     (A*EXP(-alpha*(AX$15-$H44)))     +      (B*EXP(-bêta*(AX$15-$H44)))    +   (_C*EXP(-gamma*(AX$15-$H44 )))      )","v":0},{"$f":"  $G44/[0]!Poids      *      (     (A*EXP(-alpha*(AY$15-$H44)))     +      (B*EXP(-bêta*(AY$15-$H44)))    +   (_C*EXP(-gamma*(AY$15-$H44 )))      )","v":0},{"$f":"  $G44/[0]!Poids      *      (     (A*EXP(-alpha*(AZ$15-$H44)))     +      (B*EXP(-bêta*(AZ$15-$H44)))    +   (_C*EXP(-gamma*(AZ$15-$H44 )))      )","v":0},{"$f":"  $G44/[0]!Poids      *      (     (A*EXP(-alpha*(BA$15-$H44)))     +      (B*EXP(-bêta*(BA$15-$H44)))    +   (_C*EXP(-gamma*(BA$15-$H44 )))      )","v":0},{"$f":"  $G44/[0]!Poids      *      (     (A*EXP(-alpha*(BB$15-$H44)))     +      (B*EXP(-bêta*(BB$15-$H44)))    +   (_C*EXP(-gamma*(BB$15-$H44 )))      )","v":0},{"$f":"  $G44/[0]!Poids      *      (     (A*EXP(-alpha*(BC$15-$H44)))     +      (B*EXP(-bêta*(BC$15-$H44)))    +   (_C*EXP(-gamma*(BC$15-$H44 )))      )","v":0},{"$f":"  $G44/[0]!Poids      *      (     (A*EXP(-alpha*(BD$15-$H44)))     +      (B*EXP(-bêta*(BD$15-$H44)))    +   (_C*EXP(-gamma*(BD$15-$H44 )))      )","v":0},{"$f":"  $G44/[0]!Poids      *      (     (A*EXP(-alpha*(BE$15-$H44)))     +      (B*EXP(-bêta*(BE$15-$H44)))    +   (_C*EXP(-gamma*(BE$15-$H44 )))      )","v":0},{"$f":"  $G44/[0]!Poids      *      (     (A*EXP(-alpha*(BF$15-$H44)))     +      (B*EXP(-bêta*(BF$15-$H44)))    +   (_C*EXP(-gamma*(BF$15-$H44 )))      )","v":0},{"$f":"  $G44/[0]!Poids      *      (     (A*EXP(-alpha*(BG$15-$H44)))     +      (B*EXP(-bêta*(BG$15-$H44)))    +   (_C*EXP(-gamma*(BG$15-$H44 )))      )","v":0},{"$f":"  $G44/[0]!Poids      *      (     (A*EXP(-alpha*(BH$15-$H44)))     +      (B*EXP(-bêta*(BH$15-$H44)))    +   (_C*EXP(-gamma*(BH$15-$H44 )))      )","v":0},{"$f":"  $G44/[0]!Poids      *      (     (A*EXP(-alpha*(BI$15-$H44)))     +      (B*EXP(-bêta*(BI$15-$H44)))    +   (_C*EXP(-gamma*(BI$15-$H44 )))      )","v":0},{"$f":"  $G44/[0]!Poids      *      (     (A*EXP(-alpha*(BJ$15-$H44)))     +      (B*EXP(-bêta*(BJ$15-$H44)))    +   (_C*EXP(-gamma*(BJ$15-$H44 )))      )","v":0},{"$f":"  $G44/[0]!Poids      *      (     (A*EXP(-alpha*(BK$15-$H44)))     +      (B*EXP(-bêta*(BK$15-$H44)))    +   (_C*EXP(-gamma*(BK$15-$H44 )))      )","v":0},{"$f":"  $G44/[0]!Poids      *      (     (A*EXP(-alpha*(BL$15-$H44)))     +      (B*EXP(-bêta*(BL$15-$H44)))    +   (_C*EXP(-gamma*(BL$15-$H44 )))      )","v":0},{"$f":"  $G44/[0]!Poids      *      (     (A*EXP(-alpha*(BM$15-$H44)))     +      (B*EXP(-bêta*(BM$15-$H44)))    +   (_C*EXP(-gamma*(BM$15-$H44 )))      )","v":0},{"$f":"  $G44/[0]!Poids      *      (     (A*EXP(-alpha*(BN$15-$H44)))     +      (B*EXP(-bêta*(BN$15-$H44)))    +   (_C*EXP(-gamma*(BN$15-$H44 )))      )","v":0},{"$f":"  $G44/[0]!Poids      *      (     (A*EXP(-alpha*(BO$15-$H44)))     +      (B*EXP(-bêta*(BO$15-$H44)))    +   (_C*EXP(-gamma*(BO$15-$H44 )))      )","v":0},{"$f":"  $G44/[0]!Poids      *      (     (A*EXP(-alpha*(BP$15-$H44)))     +      (B*EXP(-bêta*(BP$15-$H44)))    +   (_C*EXP(-gamma*(BP$15-$H44 )))      )","v":0},{"$f":"  $G44/[0]!Poids      *      (     (A*EXP(-alpha*(BQ$15-$H44)))     +      (B*EXP(-bêta*(BQ$15-$H44)))    +   (_C*EXP(-gamma*(BQ$15-$H44 )))      )","v":0},{"$f":"  $G44/[0]!Poids      *      (     (A*EXP(-alpha*(BR$15-$H44)))     +      (B*EXP(-bêta*(BR$15-$H44)))    +   (_C*EXP(-gamma*(BR$15-$H44 )))      )","v":0}]
[null,null,null,null,null,null,{"$f":"AM$10","v":0},145,null,null,null,null,null,null,null,null,null,null,null,null,null,null,null,null,null,null,null,null,null,null,null,null,null,null,null,null,null,null,{"$f":"  $G45/[0]!Poids      *      (     (A*EXP(-alpha*(AM$15-$H45)))     +      (B*EXP(-bêta*(AM$15-$H45)))    +   (_C*EXP(-gamma*(AM$15-$H45 )))      )","v":0},{"$f":"  $G45/[0]!Poids      *      (     (A*EXP(-alpha*(AN$15-$H45)))     +      (B*EXP(-bêta*(AN$15-$H45)))    +   (_C*EXP(-gamma*(AN$15-$H45 )))      )","v":0},{"$f":"  $G45/[0]!Poids      *      (     (A*EXP(-alpha*(AO$15-$H45)))     +      (B*EXP(-bêta*(AO$15-$H45)))    +   (_C*EXP(-gamma*(AO$15-$H45 )))      )","v":0},{"$f":"  $G45/[0]!Poids      *      (     (A*EXP(-alpha*(AP$15-$H45)))     +      (B*EXP(-bêta*(AP$15-$H45)))    +   (_C*EXP(-gamma*(AP$15-$H45 )))      )","v":0},{"$f":"  $G45/[0]!Poids      *      (     (A*EXP(-alpha*(AQ$15-$H45)))     +      (B*EXP(-bêta*(AQ$15-$H45)))    +   (_C*EXP(-gamma*(AQ$15-$H45 )))      )","v":0},{"$f":"  $G45/[0]!Poids      *      (     (A*EXP(-alpha*(AR$15-$H45)))     +      (B*EXP(-bêta*(AR$15-$H45)))    +   (_C*EXP(-gamma*(AR$15-$H45 )))      )","v":0},{"$f":"  $G45/[0]!Poids      *      (     (A*EXP(-alpha*(AS$15-$H45)))     +      (B*EXP(-bêta*(AS$15-$H45)))    +   (_C*EXP(-gamma*(AS$15-$H45 )))      )","v":0},{"$f":"  $G45/[0]!Poids      *      (     (A*EXP(-alpha*(AT$15-$H45)))     +      (B*EXP(-bêta*(AT$15-$H45)))    +   (_C*EXP(-gamma*(AT$15-$H45 )))      )","v":0},{"$f":"  $G45/[0]!Poids      *      (     (A*EXP(-alpha*(AU$15-$H45)))     +      (B*EXP(-bêta*(AU$15-$H45)))    +   (_C*EXP(-gamma*(AU$15-$H45 )))      )","v":0},{"$f":"  $G45/[0]!Poids      *      (     (A*EXP(-alpha*(AV$15-$H45)))     +      (B*EXP(-bêta*(AV$15-$H45)))    +   (_C*EXP(-gamma*(AV$15-$H45 )))      )","v":0},{"$f":"  $G45/[0]!Poids      *      (     (A*EXP(-alpha*(AW$15-$H45)))     +      (B*EXP(-bêta*(AW$15-$H45)))    +   (_C*EXP(-gamma*(AW$15-$H45 )))      )","v":0},{"$f":"  $G45/[0]!Poids      *      (     (A*EXP(-alpha*(AX$15-$H45)))     +      (B*EXP(-bêta*(AX$15-$H45)))    +   (_C*EXP(-gamma*(AX$15-$H45 )))      )","v":0},{"$f":"  $G45/[0]!Poids      *      (     (A*EXP(-alpha*(AY$15-$H45)))     +      (B*EXP(-bêta*(AY$15-$H45)))    +   (_C*EXP(-gamma*(AY$15-$H45 )))      )","v":0},{"$f":"  $G45/[0]!Poids      *      (     (A*EXP(-alpha*(AZ$15-$H45)))     +      (B*EXP(-bêta*(AZ$15-$H45)))    +   (_C*EXP(-gamma*(AZ$15-$H45 )))      )","v":0},{"$f":"  $G45/[0]!Poids      *      (     (A*EXP(-alpha*(BA$15-$H45)))     +      (B*EXP(-bêta*(BA$15-$H45)))    +   (_C*EXP(-gamma*(BA$15-$H45 )))      )","v":0},{"$f":"  $G45/[0]!Poids      *      (     (A*EXP(-alpha*(BB$15-$H45)))     +      (B*EXP(-bêta*(BB$15-$H45)))    +   (_C*EXP(-gamma*(BB$15-$H45 )))      )","v":0},{"$f":"  $G45/[0]!Poids      *      (     (A*EXP(-alpha*(BC$15-$H45)))     +      (B*EXP(-bêta*(BC$15-$H45)))    +   (_C*EXP(-gamma*(BC$15-$H45 )))      )","v":0},{"$f":"  $G45/[0]!Poids      *      (     (A*EXP(-alpha*(BD$15-$H45)))     +      (B*EXP(-bêta*(BD$15-$H45)))    +   (_C*EXP(-gamma*(BD$15-$H45 )))      )","v":0},{"$f":"  $G45/[0]!Poids      *      (     (A*EXP(-alpha*(BE$15-$H45)))     +      (B*EXP(-bêta*(BE$15-$H45)))    +   (_C*EXP(-gamma*(BE$15-$H45 )))      )","v":0},{"$f":"  $G45/[0]!Poids      *      (     (A*EXP(-alpha*(BF$15-$H45)))     +      (B*EXP(-bêta*(BF$15-$H45)))    +   (_C*EXP(-gamma*(BF$15-$H45 )))      )","v":0},{"$f":"  $G45/[0]!Poids      *      (     (A*EXP(-alpha*(BG$15-$H45)))     +      (B*EXP(-bêta*(BG$15-$H45)))    +   (_C*EXP(-gamma*(BG$15-$H45 )))      )","v":0},{"$f":"  $G45/[0]!Poids      *      (     (A*EXP(-alpha*(BH$15-$H45)))     +      (B*EXP(-bêta*(BH$15-$H45)))    +   (_C*EXP(-gamma*(BH$15-$H45 )))      )","v":0},{"$f":"  $G45/[0]!Poids      *      (     (A*EXP(-alpha*(BI$15-$H45)))     +      (B*EXP(-bêta*(BI$15-$H45)))    +   (_C*EXP(-gamma*(BI$15-$H45 )))      )","v":0},{"$f":"  $G45/[0]!Poids      *      (     (A*EXP(-alpha*(BJ$15-$H45)))     +      (B*EXP(-bêta*(BJ$15-$H45)))    +   (_C*EXP(-gamma*(BJ$15-$H45 )))      )","v":0},{"$f":"  $G45/[0]!Poids      *      (     (A*EXP(-alpha*(BK$15-$H45)))     +      (B*EXP(-bêta*(BK$15-$H45)))    +   (_C*EXP(-gamma*(BK$15-$H45 )))      )","v":0},{"$f":"  $G45/[0]!Poids      *      (     (A*EXP(-alpha*(BL$15-$H45)))     +      (B*EXP(-bêta*(BL$15-$H45)))    +   (_C*EXP(-gamma*(BL$15-$H45 )))      )","v":0},{"$f":"  $G45/[0]!Poids      *      (     (A*EXP(-alpha*(BM$15-$H45)))     +      (B*EXP(-bêta*(BM$15-$H45)))    +   (_C*EXP(-gamma*(BM$15-$H45 )))      )","v":0},{"$f":"  $G45/[0]!Poids      *      (     (A*EXP(-alpha*(BN$15-$H45)))     +      (B*EXP(-bêta*(BN$15-$H45)))    +   (_C*EXP(-gamma*(BN$15-$H45 )))      )","v":0},{"$f":"  $G45/[0]!Poids      *      (     (A*EXP(-alpha*(BO$15-$H45)))     +      (B*EXP(-bêta*(BO$15-$H45)))    +   (_C*EXP(-gamma*(BO$15-$H45 )))      )","v":0},{"$f":"  $G45/[0]!Poids      *      (     (A*EXP(-alpha*(BP$15-$H45)))     +      (B*EXP(-bêta*(BP$15-$H45)))    +   (_C*EXP(-gamma*(BP$15-$H45 )))      )","v":0},{"$f":"  $G45/[0]!Poids      *      (     (A*EXP(-alpha*(BQ$15-$H45)))     +      (B*EXP(-bêta*(BQ$15-$H45)))    +   (_C*EXP(-gamma*(BQ$15-$H45 )))      )","v":0},{"$f":"  $G45/[0]!Poids      *      (     (A*EXP(-alpha*(BR$15-$H45)))     +      (B*EXP(-bêta*(BR$15-$H45)))    +   (_C*EXP(-gamma*(BR$15-$H45 )))      )","v":0}]
[null,null,null,null,null,null,{"$f":"AN$10","v":0},150,null,null,null,null,null,null,null,null,null,null,null,null,null,null,null,null,null,null,null,null,null,null,null,null,null,null,null,null,null,null,null,{"$f":"  $G46/[0]!Poids      *      (     (A*EXP(-alpha*(AN$15-$H46)))     +      (B*EXP(-bêta*(AN$15-$H46)))    +   (_C*EXP(-gamma*(AN$15-$H46 )))      )","v":0},{"$f":"  $G46/[0]!Poids      *      (     (A*EXP(-alpha*(AO$15-$H46)))     +      (B*EXP(-bêta*(AO$15-$H46)))    +   (_C*EXP(-gamma*(AO$15-$H46 )))      )","v":0},{"$f":"  $G46/[0]!Poids      *      (     (A*EXP(-alpha*(AP$15-$H46)))     +      (B*EXP(-bêta*(AP$15-$H46)))    +   (_C*EXP(-gamma*(AP$15-$H46 )))      )","v":0},{"$f":"  $G46/[0]!Poids      *      (     (A*EXP(-alpha*(AQ$15-$H46)))     +      (B*EXP(-bêta*(AQ$15-$H46)))    +   (_C*EXP(-gamma*(AQ$15-$H46 )))      )","v":0},{"$f":"  $G46/[0]!Poids      *      (     (A*EXP(-alpha*(AR$15-$H46)))     +      (B*EXP(-bêta*(AR$15-$H46)))    +   (_C*EXP(-gamma*(AR$15-$H46 )))      )","v":0},{"$f":"  $G46/[0]!Poids      *      (     (A*EXP(-alpha*(AS$15-$H46)))     +      (B*EXP(-bêta*(AS$15-$H46)))    +   (_C*EXP(-gamma*(AS$15-$H46 )))      )","v":0},{"$f":"  $G46/[0]!Poids      *      (     (A*EXP(-alpha*(AT$15-$H46)))     +      (B*EXP(-bêta*(AT$15-$H46)))    +   (_C*EXP(-gamma*(AT$15-$H46 )))      )","v":0},{"$f":"  $G46/[0]!Poids      *      (     (A*EXP(-alpha*(AU$15-$H46)))     +      (B*EXP(-bêta*(AU$15-$H46)))    +   (_C*EXP(-gamma*(AU$15-$H46 )))      )","v":0},{"$f":"  $G46/[0]!Poids      *      (     (A*EXP(-alpha*(AV$15-$H46)))     +      (B*EXP(-bêta*(AV$15-$H46)))    +   (_C*EXP(-gamma*(AV$15-$H46 )))      )","v":0},{"$f":"  $G46/[0]!Poids      *      (     (A*EXP(-alpha*(AW$15-$H46)))     +      (B*EXP(-bêta*(AW$15-$H46)))    +   (_C*EXP(-gamma*(AW$15-$H46 )))      )","v":0},{"$f":"  $G46/[0]!Poids      *      (     (A*EXP(-alpha*(AX$15-$H46)))     +      (B*EXP(-bêta*(AX$15-$H46)))    +   (_C*EXP(-gamma*(AX$15-$H46 )))      )","v":0},{"$f":"  $G46/[0]!Poids      *      (     (A*EXP(-alpha*(AY$15-$H46)))     +      (B*EXP(-bêta*(AY$15-$H46)))    +   (_C*EXP(-gamma*(AY$15-$H46 )))      )","v":0},{"$f":"  $G46/[0]!Poids      *      (     (A*EXP(-alpha*(AZ$15-$H46)))     +      (B*EXP(-bêta*(AZ$15-$H46)))    +   (_C*EXP(-gamma*(AZ$15-$H46 )))      )","v":0},{"$f":"  $G46/[0]!Poids      *      (     (A*EXP(-alpha*(BA$15-$H46)))     +      (B*EXP(-bêta*(BA$15-$H46)))    +   (_C*EXP(-gamma*(BA$15-$H46 )))      )","v":0},{"$f":"  $G46/[0]!Poids      *      (     (A*EXP(-alpha*(BB$15-$H46)))     +      (B*EXP(-bêta*(BB$15-$H46)))    +   (_C*EXP(-gamma*(BB$15-$H46 )))      )","v":0},{"$f":"  $G46/[0]!Poids      *      (     (A*EXP(-alpha*(BC$15-$H46)))     +      (B*EXP(-bêta*(BC$15-$H46)))    +   (_C*EXP(-gamma*(BC$15-$H46 )))      )","v":0},{"$f":"  $G46/[0]!Poids      *      (     (A*EXP(-alpha*(BD$15-$H46)))     +      (B*EXP(-bêta*(BD$15-$H46)))    +   (_C*EXP(-gamma*(BD$15-$H46 )))      )","v":0},{"$f":"  $G46/[0]!Poids      *      (     (A*EXP(-alpha*(BE$15-$H46)))     +      (B*EXP(-bêta*(BE$15-$H46)))    +   (_C*EXP(-gamma*(BE$15-$H46 )))      )","v":0},{"$f":"  $G46/[0]!Poids      *      (     (A*EXP(-alpha*(BF$15-$H46)))     +      (B*EXP(-bêta*(BF$15-$H46)))    +   (_C*EXP(-gamma*(BF$15-$H46 )))      )","v":0},{"$f":"  $G46/[0]!Poids      *      (     (A*EXP(-alpha*(BG$15-$H46)))     +      (B*EXP(-bêta*(BG$15-$H46)))    +   (_C*EXP(-gamma*(BG$15-$H46 )))      )","v":0},{"$f":"  $G46/[0]!Poids      *      (     (A*EXP(-alpha*(BH$15-$H46)))     +      (B*EXP(-bêta*(BH$15-$H46)))    +   (_C*EXP(-gamma*(BH$15-$H46 )))      )","v":0},{"$f":"  $G46/[0]!Poids      *      (     (A*EXP(-alpha*(BI$15-$H46)))     +      (B*EXP(-bêta*(BI$15-$H46)))    +   (_C*EXP(-gamma*(BI$15-$H46 )))      )","v":0},{"$f":"  $G46/[0]!Poids      *      (     (A*EXP(-alpha*(BJ$15-$H46)))     +      (B*EXP(-bêta*(BJ$15-$H46)))    +   (_C*EXP(-gamma*(BJ$15-$H46 )))      )","v":0},{"$f":"  $G46/[0]!Poids      *      (     (A*EXP(-alpha*(BK$15-$H46)))     +      (B*EXP(-bêta*(BK$15-$H46)))    +   (_C*EXP(-gamma*(BK$15-$H46 )))      )","v":0},{"$f":"  $G46/[0]!Poids      *      (     (A*EXP(-alpha*(BL$15-$H46)))     +      (B*EXP(-bêta*(BL$15-$H46)))    +   (_C*EXP(-gamma*(BL$15-$H46 )))      )","v":0},{"$f":"  $G46/[0]!Poids      *      (     (A*EXP(-alpha*(BM$15-$H46)))     +      (B*EXP(-bêta*(BM$15-$H46)))    +   (_C*EXP(-gamma*(BM$15-$H46 )))      )","v":0},{"$f":"  $G46/[0]!Poids      *      (     (A*EXP(-alpha*(BN$15-$H46)))     +      (B*EXP(-bêta*(BN$15-$H46)))    +   (_C*EXP(-gamma*(BN$15-$H46 )))      )","v":0},{"$f":"  $G46/[0]!Poids      *      (     (A*EXP(-alpha*(BO$15-$H46)))     +      (B*EXP(-bêta*(BO$15-$H46)))    +   (_C*EXP(-gamma*(BO$15-$H46 )))      )","v":0},{"$f":"  $G46/[0]!Poids      *      (     (A*EXP(-alpha*(BP$15-$H46)))     +      (B*EXP(-bêta*(BP$15-$H46)))    +   (_C*EXP(-gamma*(BP$15-$H46 )))      )","v":0},{"$f":"  $G46/[0]!Poids      *      (     (A*EXP(-alpha*(BQ$15-$H46)))     +      (B*EXP(-bêta*(BQ$15-$H46)))    +   (_C*EXP(-gamma*(BQ$15-$H46 )))      )","v":0},{"$f":"  $G46/[0]!Poids      *      (     (A*EXP(-alpha*(BR$15-$H46)))     +      (B*EXP(-bêta*(BR$15-$H46)))    +   (_C*EXP(-gamma*(BR$15-$H46 )))      )","v":0}]
[null,null,null,null,null,null,{"$f":"AO$10","v":0},155,null,null,null,null,null,null,null,null,null,null,null,null,null,null,null,null,null,null,null,null,null,null,null,null,null,null,null,null,null,null,null,null,{"$f":"  $G47/[0]!Poids      *      (     (A*EXP(-alpha*(AO$15-$H47)))     +      (B*EXP(-bêta*(AO$15-$H47)))    +   (_C*EXP(-gamma*(AO$15-$H47 )))      )","v":0},{"$f":"  $G47/[0]!Poids      *      (     (A*EXP(-alpha*(AP$15-$H47)))     +      (B*EXP(-bêta*(AP$15-$H47)))    +   (_C*EXP(-gamma*(AP$15-$H47 )))      )","v":0},{"$f":"  $G47/[0]!Poids      *      (     (A*EXP(-alpha*(AQ$15-$H47)))     +      (B*EXP(-bêta*(AQ$15-$H47)))    +   (_C*EXP(-gamma*(AQ$15-$H47 )))      )","v":0},{"$f":"  $G47/[0]!Poids      *      (     (A*EXP(-alpha*(AR$15-$H47)))     +      (B*EXP(-bêta*(AR$15-$H47)))    +   (_C*EXP(-gamma*(AR$15-$H47 )))      )","v":0},{"$f":"  $G47/[0]!Poids      *      (     (A*EXP(-alpha*(AS$15-$H47)))     +      (B*EXP(-bêta*(AS$15-$H47)))    +   (_C*EXP(-gamma*(AS$15-$H47 )))      )","v":0},{"$f":"  $G47/[0]!Poids      *      (     (A*EXP(-alpha*(AT$15-$H47)))     +      (B*EXP(-bêta*(AT$15-$H47)))    +   (_C*EXP(-gamma*(AT$15-$H47 )))      )","v":0},{"$f":"  $G47/[0]!Poids      *      (     (A*EXP(-alpha*(AU$15-$H47)))     +      (B*EXP(-bêta*(AU$15-$H47)))    +   (_C*EXP(-gamma*(AU$15-$H47 )))      )","v":0},{"$f":"  $G47/[0]!Poids      *      (     (A*EXP(-alpha*(AV$15-$H47)))     +      (B*EXP(-bêta*(AV$15-$H47)))    +   (_C*EXP(-gamma*(AV$15-$H47 )))      )","v":0},{"$f":"  $G47/[0]!Poids      *      (     (A*EXP(-alpha*(AW$15-$H47)))     +      (B*EXP(-bêta*(AW$15-$H47)))    +   (_C*EXP(-gamma*(AW$15-$H47 )))      )","v":0},{"$f":"  $G47/[0]!Poids      *      (     (A*EXP(-alpha*(AX$15-$H47)))     +      (B*EXP(-bêta*(AX$15-$H47)))    +   (_C*EXP(-gamma*(AX$15-$H47 )))      )","v":0},{"$f":"  $G47/[0]!Poids      *      (     (A*EXP(-alpha*(AY$15-$H47)))     +      (B*EXP(-bêta*(AY$15-$H47)))    +   (_C*EXP(-gamma*(AY$15-$H47 )))      )","v":0},{"$f":"  $G47/[0]!Poids      *      (     (A*EXP(-alpha*(AZ$15-$H47)))     +      (B*EXP(-bêta*(AZ$15-$H47)))    +   (_C*EXP(-gamma*(AZ$15-$H47 )))      )","v":0},{"$f":"  $G47/[0]!Poids      *      (     (A*EXP(-alpha*(BA$15-$H47)))     +      (B*EXP(-bêta*(BA$15-$H47)))    +   (_C*EXP(-gamma*(BA$15-$H47 )))      )","v":0},{"$f":"  $G47/[0]!Poids      *      (     (A*EXP(-alpha*(BB$15-$H47)))     +      (B*EXP(-bêta*(BB$15-$H47)))    +   (_C*EXP(-gamma*(BB$15-$H47 )))      )","v":0},{"$f":"  $G47/[0]!Poids      *      (     (A*EXP(-alpha*(BC$15-$H47)))     +      (B*EXP(-bêta*(BC$15-$H47)))    +   (_C*EXP(-gamma*(BC$15-$H47 )))      )","v":0},{"$f":"  $G47/[0]!Poids      *      (     (A*EXP(-alpha*(BD$15-$H47)))     +      (B*EXP(-bêta*(BD$15-$H47)))    +   (_C*EXP(-gamma*(BD$15-$H47 )))      )","v":0},{"$f":"  $G47/[0]!Poids      *      (     (A*EXP(-alpha*(BE$15-$H47)))     +      (B*EXP(-bêta*(BE$15-$H47)))    +   (_C*EXP(-gamma*(BE$15-$H47 )))      )","v":0},{"$f":"  $G47/[0]!Poids      *      (     (A*EXP(-alpha*(BF$15-$H47)))     +      (B*EXP(-bêta*(BF$15-$H47)))    +   (_C*EXP(-gamma*(BF$15-$H47 )))      )","v":0},{"$f":"  $G47/[0]!Poids      *      (     (A*EXP(-alpha*(BG$15-$H47)))     +      (B*EXP(-bêta*(BG$15-$H47)))    +   (_C*EXP(-gamma*(BG$15-$H47 )))      )","v":0},{"$f":"  $G47/[0]!Poids      *      (     (A*EXP(-alpha*(BH$15-$H47)))     +      (B*EXP(-bêta*(BH$15-$H47)))    +   (_C*EXP(-gamma*(BH$15-$H47 )))      )","v":0},{"$f":"  $G47/[0]!Poids      *      (     (A*EXP(-alpha*(BI$15-$H47)))     +      (B*EXP(-bêta*(BI$15-$H47)))    +   (_C*EXP(-gamma*(BI$15-$H47 )))      )","v":0},{"$f":"  $G47/[0]!Poids      *      (     (A*EXP(-alpha*(BJ$15-$H47)))     +      (B*EXP(-bêta*(BJ$15-$H47)))    +   (_C*EXP(-gamma*(BJ$15-$H47 )))      )","v":0},{"$f":"  $G47/[0]!Poids      *      (     (A*EXP(-alpha*(BK$15-$H47)))     +      (B*EXP(-bêta*(BK$15-$H47)))    +   (_C*EXP(-gamma*(BK$15-$H47 )))      )","v":0},{"$f":"  $G47/[0]!Poids      *      (     (A*EXP(-alpha*(BL$15-$H47)))     +      (B*EXP(-bêta*(BL$15-$H47)))    +   (_C*EXP(-gamma*(BL$15-$H47 )))      )","v":0},{"$f":"  $G47/[0]!Poids      *      (     (A*EXP(-alpha*(BM$15-$H47)))     +      (B*EXP(-bêta*(BM$15-$H47)))    +   (_C*EXP(-gamma*(BM$15-$H47 )))      )","v":0},{"$f":"  $G47/[0]!Poids      *      (     (A*EXP(-alpha*(BN$15-$H47)))     +      (B*EXP(-bêta*(BN$15-$H47)))    +   (_C*EXP(-gamma*(BN$15-$H47 )))      )","v":0},{"$f":"  $G47/[0]!Poids      *      (     (A*EXP(-alpha*(BO$15-$H47)))     +      (B*EXP(-bêta*(BO$15-$H47)))    +   (_C*EXP(-gamma*(BO$15-$H47 )))      )","v":0},{"$f":"  $G47/[0]!Poids      *      (     (A*EXP(-alpha*(BP$15-$H47)))     +      (B*EXP(-bêta*(BP$15-$H47)))    +   (_C*EXP(-gamma*(BP$15-$H47 )))      )","v":0},{"$f":"  $G47/[0]!Poids      *      (     (A*EXP(-alpha*(BQ$15-$H47)))     +      (B*EXP(-bêta*(BQ$15-$H47)))    +   (_C*EXP(-gamma*(BQ$15-$H47 )))      )","v":0},{"$f":"  $G47/[0]!Poids      *      (     (A*EXP(-alpha*(BR$15-$H47)))     +      (B*EXP(-bêta*(BR$15-$H47)))    +   (_C*EXP(-gamma*(BR$15-$H47 )))      )","v":0}]
[null,null,null,null,null,null,{"$f":"AP$10","v":0},160,null,null,null,null,null,null,null,null,null,null,null,null,null,null,null,null,null,null,null,null,null,null,null,null,null,null,null,null,null,null,null,null,null,{"$f":"  $G48/[0]!Poids      *      (     (A*EXP(-alpha*(AP$15-$H48)))     +      (B*EXP(-bêta*(AP$15-$H48)))    +   (_C*EXP(-gamma*(AP$15-$H48 )))      )","v":0},{"$f":"  $G48/[0]!Poids      *      (     (A*EXP(-alpha*(AQ$15-$H48)))     +      (B*EXP(-bêta*(AQ$15-$H48)))    +   (_C*EXP(-gamma*(AQ$15-$H48 )))      )","v":0},{"$f":"  $G48/[0]!Poids      *      (     (A*EXP(-alpha*(AR$15-$H48)))     +      (B*EXP(-bêta*(AR$15-$H48)))    +   (_C*EXP(-gamma*(AR$15-$H48 )))      )","v":0},{"$f":"  $G48/[0]!Poids      *      (     (A*EXP(-alpha*(AS$15-$H48)))     +      (B*EXP(-bêta*(AS$15-$H48)))    +   (_C*EXP(-gamma*(AS$15-$H48 )))      )","v":0},{"$f":"  $G48/[0]!Poids      *      (     (A*EXP(-alpha*(AT$15-$H48)))     +      (B*EXP(-bêta*(AT$15-$H48)))    +   (_C*EXP(-gamma*(AT$15-$H48 )))      )","v":0},{"$f":"  $G48/[0]!Poids      *      (     (A*EXP(-alpha*(AU$15-$H48)))     +      (B*EXP(-bêta*(AU$15-$H48)))    +   (_C*EXP(-gamma*(AU$15-$H48 )))      )","v":0},{"$f":"  $G48/[0]!Poids      *      (     (A*EXP(-alpha*(AV$15-$H48)))     +      (B*EXP(-bêta*(AV$15-$H48)))    +   (_C*EXP(-gamma*(AV$15-$H48 )))      )","v":0},{"$f":"  $G48/[0]!Poids      *      (     (A*EXP(-alpha*(AW$15-$H48)))     +      (B*EXP(-bêta*(AW$15-$H48)))    +   (_C*EXP(-gamma*(AW$15-$H48 )))      )","v":0},{"$f":"  $G48/[0]!Poids      *      (     (A*EXP(-alpha*(AX$15-$H48)))     +      (B*EXP(-bêta*(AX$15-$H48)))    +   (_C*EXP(-gamma*(AX$15-$H48 )))      )","v":0},{"$f":"  $G48/[0]!Poids      *      (     (A*EXP(-alpha*(AY$15-$H48)))     +      (B*EXP(-bêta*(AY$15-$H48)))    +   (_C*EXP(-gamma*(AY$15-$H48 )))      )","v":0},{"$f":"  $G48/[0]!Poids      *      (     (A*EXP(-alpha*(AZ$15-$H48)))     +      (B*EXP(-bêta*(AZ$15-$H48)))    +   (_C*EXP(-gamma*(AZ$15-$H48 )))      )","v":0},{"$f":"  $G48/[0]!Poids      *      (     (A*EXP(-alpha*(BA$15-$H48)))     +      (B*EXP(-bêta*(BA$15-$H48)))    +   (_C*EXP(-gamma*(BA$15-$H48 )))      )","v":0},{"$f":"  $G48/[0]!Poids      *      (     (A*EXP(-alpha*(BB$15-$H48)))     +      (B*EXP(-bêta*(BB$15-$H48)))    +   (_C*EXP(-gamma*(BB$15-$H48 )))      )","v":0},{"$f":"  $G48/[0]!Poids      *      (     (A*EXP(-alpha*(BC$15-$H48)))     +      (B*EXP(-bêta*(BC$15-$H48)))    +   (_C*EXP(-gamma*(BC$15-$H48 )))      )","v":0},{"$f":"  $G48/[0]!Poids      *      (     (A*EXP(-alpha*(BD$15-$H48)))     +      (B*EXP(-bêta*(BD$15-$H48)))    +   (_C*EXP(-gamma*(BD$15-$H48 )))      )","v":0},{"$f":"  $G48/[0]!Poids      *      (     (A*EXP(-alpha*(BE$15-$H48)))     +      (B*EXP(-bêta*(BE$15-$H48)))    +   (_C*EXP(-gamma*(BE$15-$H48 )))      )","v":0},{"$f":"  $G48/[0]!Poids      *      (     (A*EXP(-alpha*(BF$15-$H48)))     +      (B*EXP(-bêta*(BF$15-$H48)))    +   (_C*EXP(-gamma*(BF$15-$H48 )))      )","v":0},{"$f":"  $G48/[0]!Poids      *      (     (A*EXP(-alpha*(BG$15-$H48)))     +      (B*EXP(-bêta*(BG$15-$H48)))    +   (_C*EXP(-gamma*(BG$15-$H48 )))      )","v":0},{"$f":"  $G48/[0]!Poids      *      (     (A*EXP(-alpha*(BH$15-$H48)))     +      (B*EXP(-bêta*(BH$15-$H48)))    +   (_C*EXP(-gamma*(BH$15-$H48 )))      )","v":0},{"$f":"  $G48/[0]!Poids      *      (     (A*EXP(-alpha*(BI$15-$H48)))     +      (B*EXP(-bêta*(BI$15-$H48)))    +   (_C*EXP(-gamma*(BI$15-$H48 )))      )","v":0},{"$f":"  $G48/[0]!Poids      *      (     (A*EXP(-alpha*(BJ$15-$H48)))     +      (B*EXP(-bêta*(BJ$15-$H48)))    +   (_C*EXP(-gamma*(BJ$15-$H48 )))      )","v":0},{"$f":"  $G48/[0]!Poids      *      (     (A*EXP(-alpha*(BK$15-$H48)))     +      (B*EXP(-bêta*(BK$15-$H48)))    +   (_C*EXP(-gamma*(BK$15-$H48 )))      )","v":0},{"$f":"  $G48/[0]!Poids      *      (     (A*EXP(-alpha*(BL$15-$H48)))     +      (B*EXP(-bêta*(BL$15-$H48)))    +   (_C*EXP(-gamma*(BL$15-$H48 )))      )","v":0},{"$f":"  $G48/[0]!Poids      *      (     (A*EXP(-alpha*(BM$15-$H48)))     +      (B*EXP(-bêta*(BM$15-$H48)))    +   (_C*EXP(-gamma*(BM$15-$H48 )))      )","v":0},{"$f":"  $G48/[0]!Poids      *      (     (A*EXP(-alpha*(BN$15-$H48)))     +      (B*EXP(-bêta*(BN$15-$H48)))    +   (_C*EXP(-gamma*(BN$15-$H48 )))      )","v":0},{"$f":"  $G48/[0]!Poids      *      (     (A*EXP(-alpha*(BO$15-$H48)))     +      (B*EXP(-bêta*(BO$15-$H48)))    +   (_C*EXP(-gamma*(BO$15-$H48 )))      )","v":0},{"$f":"  $G48/[0]!Poids      *      (     (A*EXP(-alpha*(BP$15-$H48)))     +      (B*EXP(-bêta*(BP$15-$H48)))    +   (_C*EXP(-gamma*(BP$15-$H48 )))      )","v":0},{"$f":"  $G48/[0]!Poids      *      (     (A*EXP(-alpha*(BQ$15-$H48)))     +      (B*EXP(-bêta*(BQ$15-$H48)))    +   (_C*EXP(-gamma*(BQ$15-$H48 )))      )","v":0},{"$f":"  $G48/[0]!Poids      *      (     (A*EXP(-alpha*(BR$15-$H48)))     +      (B*EXP(-bêta*(BR$15-$H48)))    +   (_C*EXP(-gamma*(BR$15-$H48 )))      )","v":0}]
[null,null,null,null,null,null,{"$f":"AQ$10","v":0},165,null,null,null,null,null,null,null,null,null,null,null,null,null,null,null,null,null,null,null,null,null,null,null,null,null,null,null,null,null,null,null,null,null,null,{"$f":"  $G49/[0]!Poids      *      (     (A*EXP(-alpha*(AQ$15-$H49)))     +      (B*EXP(-bêta*(AQ$15-$H49)))    +   (_C*EXP(-gamma*(AQ$15-$H49 )))      )","v":0},{"$f":"  $G49/[0]!Poids      *      (     (A*EXP(-alpha*(AR$15-$H49)))     +      (B*EXP(-bêta*(AR$15-$H49)))    +   (_C*EXP(-gamma*(AR$15-$H49 )))      )","v":0},{"$f":"  $G49/[0]!Poids      *      (     (A*EXP(-alpha*(AS$15-$H49)))     +      (B*EXP(-bêta*(AS$15-$H49)))    +   (_C*EXP(-gamma*(AS$15-$H49 )))      )","v":0},{"$f":"  $G49/[0]!Poids      *      (     (A*EXP(-alpha*(AT$15-$H49)))     +      (B*EXP(-bêta*(AT$15-$H49)))    +   (_C*EXP(-gamma*(AT$15-$H49 )))      )","v":0},{"$f":"  $G49/[0]!Poids      *      (     (A*EXP(-alpha*(AU$15-$H49)))     +      (B*EXP(-bêta*(AU$15-$H49)))    +   (_C*EXP(-gamma*(AU$15-$H49 )))      )","v":0},{"$f":"  $G49/[0]!Poids      *      (     (A*EXP(-alpha*(AV$15-$H49)))     +      (B*EXP(-bêta*(AV$15-$H49)))    +   (_C*EXP(-gamma*(AV$15-$H49 )))      )","v":0},{"$f":"  $G49/[0]!Poids      *      (     (A*EXP(-alpha*(AW$15-$H49)))     +      (B*EXP(-bêta*(AW$15-$H49)))    +   (_C*EXP(-gamma*(AW$15-$H49 )))      )","v":0},{"$f":"  $G49/[0]!Poids      *      (     (A*EXP(-alpha*(AX$15-$H49)))     +      (B*EXP(-bêta*(AX$15-$H49)))    +   (_C*EXP(-gamma*(AX$15-$H49 )))      )","v":0},{"$f":"  $G49/[0]!Poids      *      (     (A*EXP(-alpha*(AY$15-$H49)))     +      (B*EXP(-bêta*(AY$15-$H49)))    +   (_C*EXP(-gamma*(AY$15-$H49 )))      )","v":0},{"$f":"  $G49/[0]!Poids      *      (     (A*EXP(-alpha*(AZ$15-$H49)))     +      (B*EXP(-bêta*(AZ$15-$H49)))    +   (_C*EXP(-gamma*(AZ$15-$H49 )))      )","v":0},{"$f":"  $G49/[0]!Poids      *      (     (A*EXP(-alpha*(BA$15-$H49)))     +      (B*EXP(-bêta*(BA$15-$H49)))    +   (_C*EXP(-gamma*(BA$15-$H49 )))      )","v":0},{"$f":"  $G49/[0]!Poids      *      (     (A*EXP(-alpha*(BB$15-$H49)))     +      (B*EXP(-bêta*(BB$15-$H49)))    +   (_C*EXP(-gamma*(BB$15-$H49 )))      )","v":0},{"$f":"  $G49/[0]!Poids      *      (     (A*EXP(-alpha*(BC$15-$H49)))     +      (B*EXP(-bêta*(BC$15-$H49)))    +   (_C*EXP(-gamma*(BC$15-$H49 )))      )","v":0},{"$f":"  $G49/[0]!Poids      *      (     (A*EXP(-alpha*(BD$15-$H49)))     +      (B*EXP(-bêta*(BD$15-$H49)))    +   (_C*EXP(-gamma*(BD$15-$H49 )))      )","v":0},{"$f":"  $G49/[0]!Poids      *      (     (A*EXP(-alpha*(BE$15-$H49)))     +      (B*EXP(-bêta*(BE$15-$H49)))    +   (_C*EXP(-gamma*(BE$15-$H49 )))      )","v":0},{"$f":"  $G49/[0]!Poids      *      (     (A*EXP(-alpha*(BF$15-$H49)))     +      (B*EXP(-bêta*(BF$15-$H49)))    +   (_C*EXP(-gamma*(BF$15-$H49 )))      )","v":0},{"$f":"  $G49/[0]!Poids      *      (     (A*EXP(-alpha*(BG$15-$H49)))     +      (B*EXP(-bêta*(BG$15-$H49)))    +   (_C*EXP(-gamma*(BG$15-$H49 )))      )","v":0},{"$f":"  $G49/[0]!Poids      *      (     (A*EXP(-alpha*(BH$15-$H49)))     +      (B*EXP(-bêta*(BH$15-$H49)))    +   (_C*EXP(-gamma*(BH$15-$H49 )))      )","v":0},{"$f":"  $G49/[0]!Poids      *      (     (A*EXP(-alpha*(BI$15-$H49)))     +      (B*EXP(-bêta*(BI$15-$H49)))    +   (_C*EXP(-gamma*(BI$15-$H49 )))      )","v":0},{"$f":"  $G49/[0]!Poids      *      (     (A*EXP(-alpha*(BJ$15-$H49)))     +      (B*EXP(-bêta*(BJ$15-$H49)))    +   (_C*EXP(-gamma*(BJ$15-$H49 )))      )","v":0},{"$f":"  $G49/[0]!Poids      *      (     (A*EXP(-alpha*(BK$15-$H49)))     +      (B*EXP(-bêta*(BK$15-$H49)))    +   (_C*EXP(-gamma*(BK$15-$H49 )))      )","v":0},{"$f":"  $G49/[0]!Poids      *      (     (A*EXP(-alpha*(BL$15-$H49)))     +      (B*EXP(-bêta*(BL$15-$H49)))    +   (_C*EXP(-gamma*(BL$15-$H49 )))      )","v":0},{"$f":"  $G49/[0]!Poids      *      (     (A*EXP(-alpha*(BM$15-$H49)))     +      (B*EXP(-bêta*(BM$15-$H49)))    +   (_C*EXP(-gamma*(BM$15-$H49 )))      )","v":0},{"$f":"  $G49/[0]!Poids      *      (     (A*EXP(-alpha*(BN$15-$H49)))     +      (B*EXP(-bêta*(BN$15-$H49)))    +   (_C*EXP(-gamma*(BN$15-$H49 )))      )","v":0},{"$f":"  $G49/[0]!Poids      *      (     (A*EXP(-alpha*(BO$15-$H49)))     +      (B*EXP(-bêta*(BO$15-$H49)))    +   (_C*EXP(-gamma*(BO$15-$H49 )))      )","v":0},{"$f":"  $G49/[0]!Poids      *      (     (A*EXP(-alpha*(BP$15-$H49)))     +      (B*EXP(-bêta*(BP$15-$H49)))    +   (_C*EXP(-gamma*(BP$15-$H49 )))      )","v":0},{"$f":"  $G49/[0]!Poids      *      (     (A*EXP(-alpha*(BQ$15-$H49)))     +      (B*EXP(-bêta*(BQ$15-$H49)))    +   (_C*EXP(-gamma*(BQ$15-$H49 )))      )","v":0},{"$f":"  $G49/[0]!Poids      *      (     (A*EXP(-alpha*(BR$15-$H49)))     +      (B*EXP(-bêta*(BR$15-$H49)))    +   (_C*EXP(-gamma*(BR$15-$H49 )))      )","v":0}]
[null,null,null,null,null,null,{"$f":"AR$10","v":0},170,null,null,null,null,null,null,null,null,null,null,null,null,null,null,null,null,null,null,null,null,null,null,null,null,null,null,null,null,null,null,null,null,null,null,null,{"$f":"  $G50/[0]!Poids      *      (     (A*EXP(-alpha*(AR$15-$H50)))     +      (B*EXP(-bêta*(AR$15-$H50)))    +   (_C*EXP(-gamma*(AR$15-$H50 )))      )","v":0},{"$f":"  $G50/[0]!Poids      *      (     (A*EXP(-alpha*(AS$15-$H50)))     +      (B*EXP(-bêta*(AS$15-$H50)))    +   (_C*EXP(-gamma*(AS$15-$H50 )))      )","v":0},{"$f":"  $G50/[0]!Poids      *      (     (A*EXP(-alpha*(AT$15-$H50)))     +      (B*EXP(-bêta*(AT$15-$H50)))    +   (_C*EXP(-gamma*(AT$15-$H50 )))      )","v":0},{"$f":"  $G50/[0]!Poids      *      (     (A*EXP(-alpha*(AU$15-$H50)))     +      (B*EXP(-bêta*(AU$15-$H50)))    +   (_C*EXP(-gamma*(AU$15-$H50 )))      )","v":0},{"$f":"  $G50/[0]!Poids      *      (     (A*EXP(-alpha*(AV$15-$H50)))     +      (B*EXP(-bêta*(AV$15-$H50)))    +   (_C*EXP(-gamma*(AV$15-$H50 )))      )","v":0},{"$f":"  $G50/[0]!Poids      *      (     (A*EXP(-alpha*(AW$15-$H50)))     +      (B*EXP(-bêta*(AW$15-$H50)))    +   (_C*EXP(-gamma*(AW$15-$H50 )))      )","v":0},{"$f":"  $G50/[0]!Poids      *      (     (A*EXP(-alpha*(AX$15-$H50)))     +      (B*EXP(-bêta*(AX$15-$H50)))    +   (_C*EXP(-gamma*(AX$15-$H50 )))      )","v":0},{"$f":"  $G50/[0]!Poids      *      (     (A*EXP(-alpha*(AY$15-$H50)))     +      (B*EXP(-bêta*(AY$15-$H50)))    +   (_C*EXP(-gamma*(AY$15-$H50 )))      )","v":0},{"$f":"  $G50/[0]!Poids      *      (     (A*EXP(-alpha*(AZ$15-$H50)))     +      (B*EXP(-bêta*(AZ$15-$H50)))    +   (_C*EXP(-gamma*(AZ$15-$H50 )))      )","v":0},{"$f":"  $G50/[0]!Poids      *      (     (A*EXP(-alpha*(BA$15-$H50)))     +      (B*EXP(-bêta*(BA$15-$H50)))    +   (_C*EXP(-gamma*(BA$15-$H50 )))      )","v":0},{"$f":"  $G50/[0]!Poids      *      (     (A*EXP(-alpha*(BB$15-$H50)))     +      (B*EXP(-bêta*(BB$15-$H50)))    +   (_C*EXP(-gamma*(BB$15-$H50 )))      )","v":0},{"$f":"  $G50/[0]!Poids      *      (     (A*EXP(-alpha*(BC$15-$H50)))     +      (B*EXP(-bêta*(BC$15-$H50)))    +   (_C*EXP(-gamma*(BC$15-$H50 )))      )","v":0},{"$f":"  $G50/[0]!Poids      *      (     (A*EXP(-alpha*(BD$15-$H50)))     +      (B*EXP(-bêta*(BD$15-$H50)))    +   (_C*EXP(-gamma*(BD$15-$H50 )))      )","v":0},{"$f":"  $G50/[0]!Poids      *      (     (A*EXP(-alpha*(BE$15-$H50)))     +      (B*EXP(-bêta*(BE$15-$H50)))    +   (_C*EXP(-gamma*(BE$15-$H50 )))      )","v":0},{"$f":"  $G50/[0]!Poids      *      (     (A*EXP(-alpha*(BF$15-$H50)))     +      (B*EXP(-bêta*(BF$15-$H50)))    +   (_C*EXP(-gamma*(BF$15-$H50 )))      )","v":0},{"$f":"  $G50/[0]!Poids      *      (     (A*EXP(-alpha*(BG$15-$H50)))     +      (B*EXP(-bêta*(BG$15-$H50)))    +   (_C*EXP(-gamma*(BG$15-$H50 )))      )","v":0},{"$f":"  $G50/[0]!Poids      *      (     (A*EXP(-alpha*(BH$15-$H50)))     +      (B*EXP(-bêta*(BH$15-$H50)))    +   (_C*EXP(-gamma*(BH$15-$H50 )))      )","v":0},{"$f":"  $G50/[0]!Poids      *      (     (A*EXP(-alpha*(BI$15-$H50)))     +      (B*EXP(-bêta*(BI$15-$H50)))    +   (_C*EXP(-gamma*(BI$15-$H50 )))      )","v":0},{"$f":"  $G50/[0]!Poids      *      (     (A*EXP(-alpha*(BJ$15-$H50)))     +      (B*EXP(-bêta*(BJ$15-$H50)))    +   (_C*EXP(-gamma*(BJ$15-$H50 )))      )","v":0},{"$f":"  $G50/[0]!Poids      *      (     (A*EXP(-alpha*(BK$15-$H50)))     +      (B*EXP(-bêta*(BK$15-$H50)))    +   (_C*EXP(-gamma*(BK$15-$H50 )))      )","v":0},{"$f":"  $G50/[0]!Poids      *      (     (A*EXP(-alpha*(BL$15-$H50)))     +      (B*EXP(-bêta*(BL$15-$H50)))    +   (_C*EXP(-gamma*(BL$15-$H50 )))      )","v":0},{"$f":"  $G50/[0]!Poids      *      (     (A*EXP(-alpha*(BM$15-$H50)))     +      (B*EXP(-bêta*(BM$15-$H50)))    +   (_C*EXP(-gamma*(BM$15-$H50 )))      )","v":0},{"$f":"  $G50/[0]!Poids      *      (     (A*EXP(-alpha*(BN$15-$H50)))     +      (B*EXP(-bêta*(BN$15-$H50)))    +   (_C*EXP(-gamma*(BN$15-$H50 )))      )","v":0},{"$f":"  $G50/[0]!Poids      *      (     (A*EXP(-alpha*(BO$15-$H50)))     +      (B*EXP(-bêta*(BO$15-$H50)))    +   (_C*EXP(-gamma*(BO$15-$H50 )))      )","v":0},{"$f":"  $G50/[0]!Poids      *      (     (A*EXP(-alpha*(BP$15-$H50)))     +      (B*EXP(-bêta*(BP$15-$H50)))    +   (_C*EXP(-gamma*(BP$15-$H50 )))      )","v":0},{"$f":"  $G50/[0]!Poids      *      (     (A*EXP(-alpha*(BQ$15-$H50)))     +      (B*EXP(-bêta*(BQ$15-$H50)))    +   (_C*EXP(-gamma*(BQ$15-$H50 )))      )","v":0},{"$f":"  $G50/[0]!Poids      *      (     (A*EXP(-alpha*(BR$15-$H50)))     +      (B*EXP(-bêta*(BR$15-$H50)))    +   (_C*EXP(-gamma*(BR$15-$H50 )))      )","v":0}]
[null,null,null,null,null,null,{"$f":"AS$10","v":0},175,null,null,null,null,null,null,null,null,null,null,null,null,null,null,null,null,null,null,null,null,null,null,null,null,null,null,null,null,null,null,null,null,null,null,null,null,{"$f":"  $G51/[0]!Poids      *      (     (A*EXP(-alpha*(AS$15-$H51)))     +      (B*EXP(-bêta*(AS$15-$H51)))    +   (_C*EXP(-gamma*(AS$15-$H51 )))      )","v":0},{"$f":"  $G51/[0]!Poids      *      (     (A*EXP(-alpha*(AT$15-$H51)))     +      (B*EXP(-bêta*(AT$15-$H51)))    +   (_C*EXP(-gamma*(AT$15-$H51 )))      )","v":0},{"$f":"  $G51/[0]!Poids      *      (     (A*EXP(-alpha*(AU$15-$H51)))     +      (B*EXP(-bêta*(AU$15-$H51)))    +   (_C*EXP(-gamma*(AU$15-$H51 )))      )","v":0},{"$f":"  $G51/[0]!Poids      *      (     (A*EXP(-alpha*(AV$15-$H51)))     +      (B*EXP(-bêta*(AV$15-$H51)))    +   (_C*EXP(-gamma*(AV$15-$H51 )))      )","v":0},{"$f":"  $G51/[0]!Poids      *      (     (A*EXP(-alpha*(AW$15-$H51)))     +      (B*EXP(-bêta*(AW$15-$H51)))    +   (_C*EXP(-gamma*(AW$15-$H51 )))      )","v":0},{"$f":"  $G51/[0]!Poids      *      (     (A*EXP(-alpha*(AX$15-$H51)))     +      (B*EXP(-bêta*(AX$15-$H51)))    +   (_C*EXP(-gamma*(AX$15-$H51 )))      )","v":0},{"$f":"  $G51/[0]!Poids      *      (     (A*EXP(-alpha*(AY$15-$H51)))     +      (B*EXP(-bêta*(AY$15-$H51)))    +   (_C*EXP(-gamma*(AY$15-$H51 )))      )","v":0},{"$f":"  $G51/[0]!Poids      *      (     (A*EXP(-alpha*(AZ$15-$H51)))     +      (B*EXP(-bêta*(AZ$15-$H51)))    +   (_C*EXP(-gamma*(AZ$15-$H51 )))      )","v":0},{"$f":"  $G51/[0]!Poids      *      (     (A*EXP(-alpha*(BA$15-$H51)))     +      (B*EXP(-bêta*(BA$15-$H51)))    +   (_C*EXP(-gamma*(BA$15-$H51 )))      )","v":0},{"$f":"  $G51/[0]!Poids      *      (     (A*EXP(-alpha*(BB$15-$H51)))     +      (B*EXP(-bêta*(BB$15-$H51)))    +   (_C*EXP(-gamma*(BB$15-$H51 )))      )","v":0},{"$f":"  $G51/[0]!Poids      *      (     (A*EXP(-alpha*(BC$15-$H51)))     +      (B*EXP(-bêta*(BC$15-$H51)))    +   (_C*EXP(-gamma*(BC$15-$H51 )))      )","v":0},{"$f":"  $G51/[0]!Poids      *      (     (A*EXP(-alpha*(BD$15-$H51)))     +      (B*EXP(-bêta*(BD$15-$H51)))    +   (_C*EXP(-gamma*(BD$15-$H51 )))      )","v":0},{"$f":"  $G51/[0]!Poids      *      (     (A*EXP(-alpha*(BE$15-$H51)))     +      (B*EXP(-bêta*(BE$15-$H51)))    +   (_C*EXP(-gamma*(BE$15-$H51 )))      )","v":0},{"$f":"  $G51/[0]!Poids      *      (     (A*EXP(-alpha*(BF$15-$H51)))     +      (B*EXP(-bêta*(BF$15-$H51)))    +   (_C*EXP(-gamma*(BF$15-$H51 )))      )","v":0},{"$f":"  $G51/[0]!Poids      *      (     (A*EXP(-alpha*(BG$15-$H51)))     +      (B*EXP(-bêta*(BG$15-$H51)))    +   (_C*EXP(-gamma*(BG$15-$H51 )))      )","v":0},{"$f":"  $G51/[0]!Poids      *      (     (A*EXP(-alpha*(BH$15-$H51)))     +      (B*EXP(-bêta*(BH$15-$H51)))    +   (_C*EXP(-gamma*(BH$15-$H51 )))      )","v":0},{"$f":"  $G51/[0]!Poids      *      (     (A*EXP(-alpha*(BI$15-$H51)))     +      (B*EXP(-bêta*(BI$15-$H51)))    +   (_C*EXP(-gamma*(BI$15-$H51 )))      )","v":0},{"$f":"  $G51/[0]!Poids      *      (     (A*EXP(-alpha*(BJ$15-$H51)))     +      (B*EXP(-bêta*(BJ$15-$H51)))    +   (_C*EXP(-gamma*(BJ$15-$H51 )))      )","v":0},{"$f":"  $G51/[0]!Poids      *      (     (A*EXP(-alpha*(BK$15-$H51)))     +      (B*EXP(-bêta*(BK$15-$H51)))    +   (_C*EXP(-gamma*(BK$15-$H51 )))      )","v":0},{"$f":"  $G51/[0]!Poids      *      (     (A*EXP(-alpha*(BL$15-$H51)))     +      (B*EXP(-bêta*(BL$15-$H51)))    +   (_C*EXP(-gamma*(BL$15-$H51 )))      )","v":0},{"$f":"  $G51/[0]!Poids      *      (     (A*EXP(-alpha*(BM$15-$H51)))     +      (B*EXP(-bêta*(BM$15-$H51)))    +   (_C*EXP(-gamma*(BM$15-$H51 )))      )","v":0},{"$f":"  $G51/[0]!Poids      *      (     (A*EXP(-alpha*(BN$15-$H51)))     +      (B*EXP(-bêta*(BN$15-$H51)))    +   (_C*EXP(-gamma*(BN$15-$H51 )))      )","v":0},{"$f":"  $G51/[0]!Poids      *      (     (A*EXP(-alpha*(BO$15-$H51)))     +      (B*EXP(-bêta*(BO$15-$H51)))    +   (_C*EXP(-gamma*(BO$15-$H51 )))      )","v":0},{"$f":"  $G51/[0]!Poids      *      (     (A*EXP(-alpha*(BP$15-$H51)))     +      (B*EXP(-bêta*(BP$15-$H51)))    +   (_C*EXP(-gamma*(BP$15-$H51 )))      )","v":0},{"$f":"  $G51/[0]!Poids      *      (     (A*EXP(-alpha*(BQ$15-$H51)))     +      (B*EXP(-bêta*(BQ$15-$H51)))    +   (_C*EXP(-gamma*(BQ$15-$H51 )))      )","v":0},{"$f":"  $G51/[0]!Poids      *      (     (A*EXP(-alpha*(BR$15-$H51)))     +      (B*EXP(-bêta*(BR$15-$H51)))    +   (_C*EXP(-gamma*(BR$15-$H51 )))      )","v":0}]
[null,null,null,null,null,null,{"$f":"AT$10","v":0},180,null,null,null,null,null,null,null,null,null,null,null,null,null,null,null,null,null,null,null,null,null,null,null,null,null,null,null,null,null,null,null,null,null,null,null,null,null,{"$f":"  $G52/[0]!Poids      *      (     (A*EXP(-alpha*(AT$15-$H52)))     +      (B*EXP(-bêta*(AT$15-$H52)))    +   (_C*EXP(-gamma*(AT$15-$H52 )))      )","v":0},{"$f":"  $G52/[0]!Poids      *      (     (A*EXP(-alpha*(AU$15-$H52)))     +      (B*EXP(-bêta*(AU$15-$H52)))    +   (_C*EXP(-gamma*(AU$15-$H52 )))      )","v":0},{"$f":"  $G52/[0]!Poids      *      (     (A*EXP(-alpha*(AV$15-$H52)))     +      (B*EXP(-bêta*(AV$15-$H52)))    +   (_C*EXP(-gamma*(AV$15-$H52 )))      )","v":0},{"$f":"  $G52/[0]!Poids      *      (     (A*EXP(-alpha*(AW$15-$H52)))     +      (B*EXP(-bêta*(AW$15-$H52)))    +   (_C*EXP(-gamma*(AW$15-$H52 )))      )","v":0},{"$f":"  $G52/[0]!Poids      *      (     (A*EXP(-alpha*(AX$15-$H52)))     +      (B*EXP(-bêta*(AX$15-$H52)))    +   (_C*EXP(-gamma*(AX$15-$H52 )))      )","v":0},{"$f":"  $G52/[0]!Poids      *      (     (A*EXP(-alpha*(AY$15-$H52)))     +      (B*EXP(-bêta*(AY$15-$H52)))    +   (_C*EXP(-gamma*(AY$15-$H52 )))      )","v":0},{"$f":"  $G52/[0]!Poids      *      (     (A*EXP(-alpha*(AZ$15-$H52)))     +      (B*EXP(-bêta*(AZ$15-$H52)))    +   (_C*EXP(-gamma*(AZ$15-$H52 )))      )","v":0},{"$f":"  $G52/[0]!Poids      *      (     (A*EXP(-alpha*(BA$15-$H52)))     +      (B*EXP(-bêta*(BA$15-$H52)))    +   (_C*EXP(-gamma*(BA$15-$H52 )))      )","v":0},{"$f":"  $G52/[0]!Poids      *      (     (A*EXP(-alpha*(BB$15-$H52)))     +      (B*EXP(-bêta*(BB$15-$H52)))    +   (_C*EXP(-gamma*(BB$15-$H52 )))      )","v":0},{"$f":"  $G52/[0]!Poids      *      (     (A*EXP(-alpha*(BC$15-$H52)))     +      (B*EXP(-bêta*(BC$15-$H52)))    +   (_C*EXP(-gamma*(BC$15-$H52 )))      )","v":0},{"$f":"  $G52/[0]!Poids      *      (     (A*EXP(-alpha*(BD$15-$H52)))     +      (B*EXP(-bêta*(BD$15-$H52)))    +   (_C*EXP(-gamma*(BD$15-$H52 )))      )","v":0},{"$f":"  $G52/[0]!Poids      *      (     (A*EXP(-alpha*(BE$15-$H52)))     +      (B*EXP(-bêta*(BE$15-$H52)))    +   (_C*EXP(-gamma*(BE$15-$H52 )))      )","v":0},{"$f":"  $G52/[0]!Poids      *      (     (A*EXP(-alpha*(BF$15-$H52)))     +      (B*EXP(-bêta*(BF$15-$H52)))    +   (_C*EXP(-gamma*(BF$15-$H52 )))      )","v":0},{"$f":"  $G52/[0]!Poids      *      (     (A*EXP(-alpha*(BG$15-$H52)))     +      (B*EXP(-bêta*(BG$15-$H52)))    +   (_C*EXP(-gamma*(BG$15-$H52 )))      )","v":0},{"$f":"  $G52/[0]!Poids      *      (     (A*EXP(-alpha*(BH$15-$H52)))     +      (B*EXP(-bêta*(BH$15-$H52)))    +   (_C*EXP(-gamma*(BH$15-$H52 )))      )","v":0},{"$f":"  $G52/[0]!Poids      *      (     (A*EXP(-alpha*(BI$15-$H52)))     +      (B*EXP(-bêta*(BI$15-$H52)))    +   (_C*EXP(-gamma*(BI$15-$H52 )))      )","v":0},{"$f":"  $G52/[0]!Poids      *      (     (A*EXP(-alpha*(BJ$15-$H52)))     +      (B*EXP(-bêta*(BJ$15-$H52)))    +   (_C*EXP(-gamma*(BJ$15-$H52 )))      )","v":0},{"$f":"  $G52/[0]!Poids      *      (     (A*EXP(-alpha*(BK$15-$H52)))     +      (B*EXP(-bêta*(BK$15-$H52)))    +   (_C*EXP(-gamma*(BK$15-$H52 )))      )","v":0},{"$f":"  $G52/[0]!Poids      *      (     (A*EXP(-alpha*(BL$15-$H52)))     +      (B*EXP(-bêta*(BL$15-$H52)))    +   (_C*EXP(-gamma*(BL$15-$H52 )))      )","v":0},{"$f":"  $G52/[0]!Poids      *      (     (A*EXP(-alpha*(BM$15-$H52)))     +      (B*EXP(-bêta*(BM$15-$H52)))    +   (_C*EXP(-gamma*(BM$15-$H52 )))      )","v":0},{"$f":"  $G52/[0]!Poids      *      (     (A*EXP(-alpha*(BN$15-$H52)))     +      (B*EXP(-bêta*(BN$15-$H52)))    +   (_C*EXP(-gamma*(BN$15-$H52 )))      )","v":0},{"$f":"  $G52/[0]!Poids      *      (     (A*EXP(-alpha*(BO$15-$H52)))     +      (B*EXP(-bêta*(BO$15-$H52)))    +   (_C*EXP(-gamma*(BO$15-$H52 )))      )","v":0},{"$f":"  $G52/[0]!Poids      *      (     (A*EXP(-alpha*(BP$15-$H52)))     +      (B*EXP(-bêta*(BP$15-$H52)))    +   (_C*EXP(-gamma*(BP$15-$H52 )))      )","v":0},{"$f":"  $G52/[0]!Poids      *      (     (A*EXP(-alpha*(BQ$15-$H52)))     +      (B*EXP(-bêta*(BQ$15-$H52)))    +   (_C*EXP(-gamma*(BQ$15-$H52 )))      )","v":0},{"$f":"  $G52/[0]!Poids      *      (     (A*EXP(-alpha*(BR$15-$H52)))     +      (B*EXP(-bêta*(BR$15-$H52)))    +   (_C*EXP(-gamma*(BR$15-$H52 )))      )","v":0}]
[null,null,null,null,null,null,{"$f":"AU$10","v":0},185,null,null,null,null,null,null,null,null,null,null,null,null,null,null,null,null,null,null,null,null,null,null,null,null,null,null,null,null,null,null,null,null,null,null,null,null,null,null,{"$f":"  $G53/[0]!Poids      *      (     (A*EXP(-alpha*(AU$15-$H53)))     +      (B*EXP(-bêta*(AU$15-$H53)))    +   (_C*EXP(-gamma*(AU$15-$H53 )))      )","v":0},{"$f":"  $G53/[0]!Poids      *      (     (A*EXP(-alpha*(AV$15-$H53)))     +      (B*EXP(-bêta*(AV$15-$H53)))    +   (_C*EXP(-gamma*(AV$15-$H53 )))      )","v":0},{"$f":"  $G53/[0]!Poids      *      (     (A*EXP(-alpha*(AW$15-$H53)))     +      (B*EXP(-bêta*(AW$15-$H53)))    +   (_C*EXP(-gamma*(AW$15-$H53 )))      )","v":0},{"$f":"  $G53/[0]!Poids      *      (     (A*EXP(-alpha*(AX$15-$H53)))     +      (B*EXP(-bêta*(AX$15-$H53)))    +   (_C*EXP(-gamma*(AX$15-$H53 )))      )","v":0},{"$f":"  $G53/[0]!Poids      *      (     (A*EXP(-alpha*(AY$15-$H53)))     +      (B*EXP(-bêta*(AY$15-$H53)))    +   (_C*EXP(-gamma*(AY$15-$H53 )))      )","v":0},{"$f":"  $G53/[0]!Poids      *      (     (A*EXP(-alpha*(AZ$15-$H53)))     +      (B*EXP(-bêta*(AZ$15-$H53)))    +   (_C*EXP(-gamma*(AZ$15-$H53 )))      )","v":0},{"$f":"  $G53/[0]!Poids      *      (     (A*EXP(-alpha*(BA$15-$H53)))     +      (B*EXP(-bêta*(BA$15-$H53)))    +   (_C*EXP(-gamma*(BA$15-$H53 )))      )","v":0},{"$f":"  $G53/[0]!Poids      *      (     (A*EXP(-alpha*(BB$15-$H53)))     +      (B*EXP(-bêta*(BB$15-$H53)))    +   (_C*EXP(-gamma*(BB$15-$H53 )))      )","v":0},{"$f":"  $G53/[0]!Poids      *      (     (A*EXP(-alpha*(BC$15-$H53)))     +      (B*EXP(-bêta*(BC$15-$H53)))    +   (_C*EXP(-gamma*(BC$15-$H53 )))      )","v":0},{"$f":"  $G53/[0]!Poids      *      (     (A*EXP(-alpha*(BD$15-$H53)))     +      (B*EXP(-bêta*(BD$15-$H53)))    +   (_C*EXP(-gamma*(BD$15-$H53 )))      )","v":0},{"$f":"  $G53/[0]!Poids      *      (     (A*EXP(-alpha*(BE$15-$H53)))     +      (B*EXP(-bêta*(BE$15-$H53)))    +   (_C*EXP(-gamma*(BE$15-$H53 )))      )","v":0},{"$f":"  $G53/[0]!Poids      *      (     (A*EXP(-alpha*(BF$15-$H53)))     +      (B*EXP(-bêta*(BF$15-$H53)))    +   (_C*EXP(-gamma*(BF$15-$H53 )))      )","v":0},{"$f":"  $G53/[0]!Poids      *      (     (A*EXP(-alpha*(BG$15-$H53)))     +      (B*EXP(-bêta*(BG$15-$H53)))    +   (_C*EXP(-gamma*(BG$15-$H53 )))      )","v":0},{"$f":"  $G53/[0]!Poids      *      (     (A*EXP(-alpha*(BH$15-$H53)))     +      (B*EXP(-bêta*(BH$15-$H53)))    +   (_C*EXP(-gamma*(BH$15-$H53 )))      )","v":0},{"$f":"  $G53/[0]!Poids      *      (     (A*EXP(-alpha*(BI$15-$H53)))     +      (B*EXP(-bêta*(BI$15-$H53)))    +   (_C*EXP(-gamma*(BI$15-$H53 )))      )","v":0},{"$f":"  $G53/[0]!Poids      *      (     (A*EXP(-alpha*(BJ$15-$H53)))     +      (B*EXP(-bêta*(BJ$15-$H53)))    +   (_C*EXP(-gamma*(BJ$15-$H53 )))      )","v":0},{"$f":"  $G53/[0]!Poids      *      (     (A*EXP(-alpha*(BK$15-$H53)))     +      (B*EXP(-bêta*(BK$15-$H53)))    +   (_C*EXP(-gamma*(BK$15-$H53 )))      )","v":0},{"$f":"  $G53/[0]!Poids      *      (     (A*EXP(-alpha*(BL$15-$H53)))     +      (B*EXP(-bêta*(BL$15-$H53)))    +   (_C*EXP(-gamma*(BL$15-$H53 )))      )","v":0},{"$f":"  $G53/[0]!Poids      *      (     (A*EXP(-alpha*(BM$15-$H53)))     +      (B*EXP(-bêta*(BM$15-$H53)))    +   (_C*EXP(-gamma*(BM$15-$H53 )))      )","v":0},{"$f":"  $G53/[0]!Poids      *      (     (A*EXP(-alpha*(BN$15-$H53)))     +      (B*EXP(-bêta*(BN$15-$H53)))    +   (_C*EXP(-gamma*(BN$15-$H53 )))      )","v":0},{"$f":"  $G53/[0]!Poids      *      (     (A*EXP(-alpha*(BO$15-$H53)))     +      (B*EXP(-bêta*(BO$15-$H53)))    +   (_C*EXP(-gamma*(BO$15-$H53 )))      )","v":0},{"$f":"  $G53/[0]!Poids      *      (     (A*EXP(-alpha*(BP$15-$H53)))     +      (B*EXP(-bêta*(BP$15-$H53)))    +   (_C*EXP(-gamma*(BP$15-$H53 )))      )","v":0},{"$f":"  $G53/[0]!Poids      *      (     (A*EXP(-alpha*(BQ$15-$H53)))     +      (B*EXP(-bêta*(BQ$15-$H53)))    +   (_C*EXP(-gamma*(BQ$15-$H53 )))      )","v":0},{"$f":"  $G53/[0]!Poids      *      (     (A*EXP(-alpha*(BR$15-$H53)))     +      (B*EXP(-bêta*(BR$15-$H53)))    +   (_C*EXP(-gamma*(BR$15-$H53 )))      )","v":0}]
[null,null,null,null,null,null,{"$f":"AV$10","v":0},190,null,null,null,null,null,null,null,null,null,null,null,null,null,null,null,null,null,null,null,null,null,null,null,null,null,null,null,null,null,null,null,null,null,null,null,null,null,null,null,{"$f":"  $G54/[0]!Poids      *      (     (A*EXP(-alpha*(AV$15-$H54)))     +      (B*EXP(-bêta*(AV$15-$H54)))    +   (_C*EXP(-gamma*(AV$15-$H54 )))      )","v":0},{"$f":"  $G54/[0]!Poids      *      (     (A*EXP(-alpha*(AW$15-$H54)))     +      (B*EXP(-bêta*(AW$15-$H54)))    +   (_C*EXP(-gamma*(AW$15-$H54 )))      )","v":0},{"$f":"  $G54/[0]!Poids      *      (     (A*EXP(-alpha*(AX$15-$H54)))     +      (B*EXP(-bêta*(AX$15-$H54)))    +   (_C*EXP(-gamma*(AX$15-$H54 )))      )","v":0},{"$f":"  $G54/[0]!Poids      *      (     (A*EXP(-alpha*(AY$15-$H54)))     +      (B*EXP(-bêta*(AY$15-$H54)))    +   (_C*EXP(-gamma*(AY$15-$H54 )))      )","v":0},{"$f":"  $G54/[0]!Poids      *      (     (A*EXP(-alpha*(AZ$15-$H54)))     +      (B*EXP(-bêta*(AZ$15-$H54)))    +   (_C*EXP(-gamma*(AZ$15-$H54 )))      )","v":0},{"$f":"  $G54/[0]!Poids      *      (     (A*EXP(-alpha*(BA$15-$H54)))     +      (B*EXP(-bêta*(BA$15-$H54)))    +   (_C*EXP(-gamma*(BA$15-$H54 )))      )","v":0},{"$f":"  $G54/[0]!Poids      *      (     (A*EXP(-alpha*(BB$15-$H54)))     +      (B*EXP(-bêta*(BB$15-$H54)))    +   (_C*EXP(-gamma*(BB$15-$H54 )))      )","v":0},{"$f":"  $G54/[0]!Poids      *      (     (A*EXP(-alpha*(BC$15-$H54)))     +      (B*EXP(-bêta*(BC$15-$H54)))    +   (_C*EXP(-gamma*(BC$15-$H54 )))      )","v":0},{"$f":"  $G54/[0]!Poids      *      (     (A*EXP(-alpha*(BD$15-$H54)))     +      (B*EXP(-bêta*(BD$15-$H54)))    +   (_C*EXP(-gamma*(BD$15-$H54 )))      )","v":0},{"$f":"  $G54/[0]!Poids      *      (     (A*EXP(-alpha*(BE$15-$H54)))     +      (B*EXP(-bêta*(BE$15-$H54)))    +   (_C*EXP(-gamma*(BE$15-$H54 )))      )","v":0},{"$f":"  $G54/[0]!Poids      *      (     (A*EXP(-alpha*(BF$15-$H54)))     +      (B*EXP(-bêta*(BF$15-$H54)))    +   (_C*EXP(-gamma*(BF$15-$H54 )))      )","v":0},{"$f":"  $G54/[0]!Poids      *      (     (A*EXP(-alpha*(BG$15-$H54)))     +      (B*EXP(-bêta*(BG$15-$H54)))    +   (_C*EXP(-gamma*(BG$15-$H54 )))      )","v":0},{"$f":"  $G54/[0]!Poids      *      (     (A*EXP(-alpha*(BH$15-$H54)))     +      (B*EXP(-bêta*(BH$15-$H54)))    +   (_C*EXP(-gamma*(BH$15-$H54 )))      )","v":0},{"$f":"  $G54/[0]!Poids      *      (     (A*EXP(-alpha*(BI$15-$H54)))     +      (B*EXP(-bêta*(BI$15-$H54)))    +   (_C*EXP(-gamma*(BI$15-$H54 )))      )","v":0},{"$f":"  $G54/[0]!Poids      *      (     (A*EXP(-alpha*(BJ$15-$H54)))     +      (B*EXP(-bêta*(BJ$15-$H54)))    +   (_C*EXP(-gamma*(BJ$15-$H54 )))      )","v":0},{"$f":"  $G54/[0]!Poids      *      (     (A*EXP(-alpha*(BK$15-$H54)))     +      (B*EXP(-bêta*(BK$15-$H54)))    +   (_C*EXP(-gamma*(BK$15-$H54 )))      )","v":0},{"$f":"  $G54/[0]!Poids      *      (     (A*EXP(-alpha*(BL$15-$H54)))     +      (B*EXP(-bêta*(BL$15-$H54)))    +   (_C*EXP(-gamma*(BL$15-$H54 )))      )","v":0},{"$f":"  $G54/[0]!Poids      *      (     (A*EXP(-alpha*(BM$15-$H54)))     +      (B*EXP(-bêta*(BM$15-$H54)))    +   (_C*EXP(-gamma*(BM$15-$H54 )))      )","v":0},{"$f":"  $G54/[0]!Poids      *      (     (A*EXP(-alpha*(BN$15-$H54)))     +      (B*EXP(-bêta*(BN$15-$H54)))    +   (_C*EXP(-gamma*(BN$15-$H54 )))      )","v":0},{"$f":"  $G54/[0]!Poids      *      (     (A*EXP(-alpha*(BO$15-$H54)))     +      (B*EXP(-bêta*(BO$15-$H54)))    +   (_C*EXP(-gamma*(BO$15-$H54 )))      )","v":0},{"$f":"  $G54/[0]!Poids      *      (     (A*EXP(-alpha*(BP$15-$H54)))     +      (B*EXP(-bêta*(BP$15-$H54)))    +   (_C*EXP(-gamma*(BP$15-$H54 )))      )","v":0},{"$f":"  $G54/[0]!Poids      *      (     (A*EXP(-alpha*(BQ$15-$H54)))     +      (B*EXP(-bêta*(BQ$15-$H54)))    +   (_C*EXP(-gamma*(BQ$15-$H54 )))      )","v":0},{"$f":"  $G54/[0]!Poids      *      (     (A*EXP(-alpha*(BR$15-$H54)))     +      (B*EXP(-bêta*(BR$15-$H54)))    +   (_C*EXP(-gamma*(BR$15-$H54 )))      )","v":0}]
[null,null,null,null,null,null,{"$f":"AW$10","v":0},195,null,null,null,null,null,null,null,null,null,null,null,null,null,null,null,null,null,null,null,null,null,null,null,null,null,null,null,null,null,null,null,null,null,null,null,null,null,null,null,null,{"$f":"  $G55/[0]!Poids      *      (     (A*EXP(-alpha*(AW$15-$H55)))     +      (B*EXP(-bêta*(AW$15-$H55)))    +   (_C*EXP(-gamma*(AW$15-$H55 )))      )","v":0},{"$f":"  $G55/[0]!Poids      *      (     (A*EXP(-alpha*(AX$15-$H55)))     +      (B*EXP(-bêta*(AX$15-$H55)))    +   (_C*EXP(-gamma*(AX$15-$H55 )))      )","v":0},{"$f":"  $G55/[0]!Poids      *      (     (A*EXP(-alpha*(AY$15-$H55)))     +      (B*EXP(-bêta*(AY$15-$H55)))    +   (_C*EXP(-gamma*(AY$15-$H55 )))      )","v":0},{"$f":"  $G55/[0]!Poids      *      (     (A*EXP(-alpha*(AZ$15-$H55)))     +      (B*EXP(-bêta*(AZ$15-$H55)))    +   (_C*EXP(-gamma*(AZ$15-$H55 )))      )","v":0},{"$f":"  $G55/[0]!Poids      *      (     (A*EXP(-alpha*(BA$15-$H55)))     +      (B*EXP(-bêta*(BA$15-$H55)))    +   (_C*EXP(-gamma*(BA$15-$H55 )))      )","v":0},{"$f":"  $G55/[0]!Poids      *      (     (A*EXP(-alpha*(BB$15-$H55)))     +      (B*EXP(-bêta*(BB$15-$H55)))    +   (_C*EXP(-gamma*(BB$15-$H55 )))      )","v":0},{"$f":"  $G55/[0]!Poids      *      (     (A*EXP(-alpha*(BC$15-$H55)))     +      (B*EXP(-bêta*(BC$15-$H55)))    +   (_C*EXP(-gamma*(BC$15-$H55 )))      )","v":0},{"$f":"  $G55/[0]!Poids      *      (     (A*EXP(-alpha*(BD$15-$H55)))     +      (B*EXP(-bêta*(BD$15-$H55)))    +   (_C*EXP(-gamma*(BD$15-$H55 )))      )","v":0},{"$f":"  $G55/[0]!Poids      *      (     (A*EXP(-alpha*(BE$15-$H55)))     +      (B*EXP(-bêta*(BE$15-$H55)))    +   (_C*EXP(-gamma*(BE$15-$H55 )))      )","v":0},{"$f":"  $G55/[0]!Poids      *      (     (A*EXP(-alpha*(BF$15-$H55)))     +      (B*EXP(-bêta*(BF$15-$H55)))    +   (_C*EXP(-gamma*(BF$15-$H55 )))      )","v":0},{"$f":"  $G55/[0]!Poids      *      (     (A*EXP(-alpha*(BG$15-$H55)))     +      (B*EXP(-bêta*(BG$15-$H55)))    +   (_C*EXP(-gamma*(BG$15-$H55 )))      )","v":0},{"$f":"  $G55/[0]!Poids      *      (     (A*EXP(-alpha*(BH$15-$H55)))     +      (B*EXP(-bêta*(BH$15-$H55)))    +   (_C*EXP(-gamma*(BH$15-$H55 )))      )","v":0},{"$f":"  $G55/[0]!Poids      *      (     (A*EXP(-alpha*(BI$15-$H55)))     +      (B*EXP(-bêta*(BI$15-$H55)))    +   (_C*EXP(-gamma*(BI$15-$H55 )))      )","v":0},{"$f":"  $G55/[0]!Poids      *      (     (A*EXP(-alpha*(BJ$15-$H55)))     +      (B*EXP(-bêta*(BJ$15-$H55)))    +   (_C*EXP(-gamma*(BJ$15-$H55 )))      )","v":0},{"$f":"  $G55/[0]!Poids      *      (     (A*EXP(-alpha*(BK$15-$H55)))     +      (B*EXP(-bêta*(BK$15-$H55)))    +   (_C*EXP(-gamma*(BK$15-$H55 )))      )","v":0},{"$f":"  $G55/[0]!Poids      *      (     (A*EXP(-alpha*(BL$15-$H55)))     +      (B*EXP(-bêta*(BL$15-$H55)))    +   (_C*EXP(-gamma*(BL$15-$H55 )))      )","v":0},{"$f":"  $G55/[0]!Poids      *      (     (A*EXP(-alpha*(BM$15-$H55)))     +      (B*EXP(-bêta*(BM$15-$H55)))    +   (_C*EXP(-gamma*(BM$15-$H55 )))      )","v":0},{"$f":"  $G55/[0]!Poids      *      (     (A*EXP(-alpha*(BN$15-$H55)))     +      (B*EXP(-bêta*(BN$15-$H55)))    +   (_C*EXP(-gamma*(BN$15-$H55 )))      )","v":0},{"$f":"  $G55/[0]!Poids      *      (     (A*EXP(-alpha*(BO$15-$H55)))     +      (B*EXP(-bêta*(BO$15-$H55)))    +   (_C*EXP(-gamma*(BO$15-$H55 )))      )","v":0},{"$f":"  $G55/[0]!Poids      *      (     (A*EXP(-alpha*(BP$15-$H55)))     +      (B*EXP(-bêta*(BP$15-$H55)))    +   (_C*EXP(-gamma*(BP$15-$H55 )))      )","v":0},{"$f":"  $G55/[0]!Poids      *      (     (A*EXP(-alpha*(BQ$15-$H55)))     +      (B*EXP(-bêta*(BQ$15-$H55)))    +   (_C*EXP(-gamma*(BQ$15-$H55 )))      )","v":0},{"$f":"  $G55/[0]!Poids      *      (     (A*EXP(-alpha*(BR$15-$H55)))     +      (B*EXP(-bêta*(BR$15-$H55)))    +   (_C*EXP(-gamma*(BR$15-$H55 )))      )","v":0}]
[null,null,null,null,null,null,{"$f":"AX$10","v":0},200,null,null,null,null,null,null,null,null,null,null,null,null,null,null,null,null,null,null,null,null,null,null,null,null,null,null,null,null,null,null,null,null,null,null,null,null,null,null,null,null,null,{"$f":"  $G56/[0]!Poids      *      (     (A*EXP(-alpha*(AX$15-$H56)))     +      (B*EXP(-bêta*(AX$15-$H56)))    +   (_C*EXP(-gamma*(AX$15-$H56 )))      )","v":0},{"$f":"  $G56/[0]!Poids      *      (     (A*EXP(-alpha*(AY$15-$H56)))     +      (B*EXP(-bêta*(AY$15-$H56)))    +   (_C*EXP(-gamma*(AY$15-$H56 )))      )","v":0},{"$f":"  $G56/[0]!Poids      *      (     (A*EXP(-alpha*(AZ$15-$H56)))     +      (B*EXP(-bêta*(AZ$15-$H56)))    +   (_C*EXP(-gamma*(AZ$15-$H56 )))      )","v":0},{"$f":"  $G56/[0]!Poids      *      (     (A*EXP(-alpha*(BA$15-$H56)))     +      (B*EXP(-bêta*(BA$15-$H56)))    +   (_C*EXP(-gamma*(BA$15-$H56 )))      )","v":0},{"$f":"  $G56/[0]!Poids      *      (     (A*EXP(-alpha*(BB$15-$H56)))     +      (B*EXP(-bêta*(BB$15-$H56)))    +   (_C*EXP(-gamma*(BB$15-$H56 )))      )","v":0},{"$f":"  $G56/[0]!Poids      *      (     (A*EXP(-alpha*(BC$15-$H56)))     +      (B*EXP(-bêta*(BC$15-$H56)))    +   (_C*EXP(-gamma*(BC$15-$H56 )))      )","v":0},{"$f":"  $G56/[0]!Poids      *      (     (A*EXP(-alpha*(BD$15-$H56)))     +      (B*EXP(-bêta*(BD$15-$H56)))    +   (_C*EXP(-gamma*(BD$15-$H56 )))      )","v":0},{"$f":"  $G56/[0]!Poids      *      (     (A*EXP(-alpha*(BE$15-$H56)))     +      (B*EXP(-bêta*(BE$15-$H56)))    +   (_C*EXP(-gamma*(BE$15-$H56 )))      )","v":0},{"$f":"  $G56/[0]!Poids      *      (     (A*EXP(-alpha*(BF$15-$H56)))     +      (B*EXP(-bêta*(BF$15-$H56)))    +   (_C*EXP(-gamma*(BF$15-$H56 )))      )","v":0},{"$f":"  $G56/[0]!Poids      *      (     (A*EXP(-alpha*(BG$15-$H56)))     +      (B*EXP(-bêta*(BG$15-$H56)))    +   (_C*EXP(-gamma*(BG$15-$H56 )))      )","v":0},{"$f":"  $G56/[0]!Poids      *      (     (A*EXP(-alpha*(BH$15-$H56)))     +      (B*EXP(-bêta*(BH$15-$H56)))    +   (_C*EXP(-gamma*(BH$15-$H56 )))      )","v":0},{"$f":"  $G56/[0]!Poids      *      (     (A*EXP(-alpha*(BI$15-$H56)))     +      (B*EXP(-bêta*(BI$15-$H56)))    +   (_C*EXP(-gamma*(BI$15-$H56 )))      )","v":0},{"$f":"  $G56/[0]!Poids      *      (     (A*EXP(-alpha*(BJ$15-$H56)))     +      (B*EXP(-bêta*(BJ$15-$H56)))    +   (_C*EXP(-gamma*(BJ$15-$H56 )))      )","v":0},{"$f":"  $G56/[0]!Poids      *      (     (A*EXP(-alpha*(BK$15-$H56)))     +      (B*EXP(-bêta*(BK$15-$H56)))    +   (_C*EXP(-gamma*(BK$15-$H56 )))      )","v":0},{"$f":"  $G56/[0]!Poids      *      (     (A*EXP(-alpha*(BL$15-$H56)))     +      (B*EXP(-bêta*(BL$15-$H56)))    +   (_C*EXP(-gamma*(BL$15-$H56 )))      )","v":0},{"$f":"  $G56/[0]!Poids      *      (     (A*EXP(-alpha*(BM$15-$H56)))     +      (B*EXP(-bêta*(BM$15-$H56)))    +   (_C*EXP(-gamma*(BM$15-$H56 )))      )","v":0},{"$f":"  $G56/[0]!Poids      *      (     (A*EXP(-alpha*(BN$15-$H56)))     +      (B*EXP(-bêta*(BN$15-$H56)))    +   (_C*EXP(-gamma*(BN$15-$H56 )))      )","v":0},{"$f":"  $G56/[0]!Poids      *      (     (A*EXP(-alpha*(BO$15-$H56)))     +      (B*EXP(-bêta*(BO$15-$H56)))    +   (_C*EXP(-gamma*(BO$15-$H56 )))      )","v":0},{"$f":"  $G56/[0]!Poids      *      (     (A*EXP(-alpha*(BP$15-$H56)))     +      (B*EXP(-bêta*(BP$15-$H56)))    +   (_C*EXP(-gamma*(BP$15-$H56 )))      )","v":0},{"$f":"  $G56/[0]!Poids      *      (     (A*EXP(-alpha*(BQ$15-$H56)))     +      (B*EXP(-bêta*(BQ$15-$H56)))    +   (_C*EXP(-gamma*(BQ$15-$H56 )))      )","v":0},{"$f":"  $G56/[0]!Poids      *      (     (A*EXP(-alpha*(BR$15-$H56)))     +      (B*EXP(-bêta*(BR$15-$H56)))    +   (_C*EXP(-gamma*(BR$15-$H56 )))      )","v":0}]
[null,null,null,null,null,null,{"$f":"AY$10","v":0},205,null,null,null,null,null,null,null,null,null,null,null,null,null,null,null,null,null,null,null,null,null,null,null,null,null,null,null,null,null,null,null,null,null,null,null,null,null,null,null,null,null,null,{"$f":"  $G57/[0]!Poids      *      (     (A*EXP(-alpha*(AY$15-$H57)))     +      (B*EXP(-bêta*(AY$15-$H57)))    +   (_C*EXP(-gamma*(AY$15-$H57 )))      )","v":0},{"$f":"  $G57/[0]!Poids      *      (     (A*EXP(-alpha*(AZ$15-$H57)))     +      (B*EXP(-bêta*(AZ$15-$H57)))    +   (_C*EXP(-gamma*(AZ$15-$H57 )))      )","v":0},{"$f":"  $G57/[0]!Poids      *      (     (A*EXP(-alpha*(BA$15-$H57)))     +      (B*EXP(-bêta*(BA$15-$H57)))    +   (_C*EXP(-gamma*(BA$15-$H57 )))      )","v":0},{"$f":"  $G57/[0]!Poids      *      (     (A*EXP(-alpha*(BB$15-$H57)))     +      (B*EXP(-bêta*(BB$15-$H57)))    +   (_C*EXP(-gamma*(BB$15-$H57 )))      )","v":0},{"$f":"  $G57/[0]!Poids      *      (     (A*EXP(-alpha*(BC$15-$H57)))     +      (B*EXP(-bêta*(BC$15-$H57)))    +   (_C*EXP(-gamma*(BC$15-$H57 )))      )","v":0},{"$f":"  $G57/[0]!Poids      *      (     (A*EXP(-alpha*(BD$15-$H57)))     +      (B*EXP(-bêta*(BD$15-$H57)))    +   (_C*EXP(-gamma*(BD$15-$H57 )))      )","v":0},{"$f":"  $G57/[0]!Poids      *      (     (A*EXP(-alpha*(BE$15-$H57)))     +      (B*EXP(-bêta*(BE$15-$H57)))    +   (_C*EXP(-gamma*(BE$15-$H57 )))      )","v":0},{"$f":"  $G57/[0]!Poids      *      (     (A*EXP(-alpha*(BF$15-$H57)))     +      (B*EXP(-bêta*(BF$15-$H57)))    +   (_C*EXP(-gamma*(BF$15-$H57 )))      )","v":0},{"$f":"  $G57/[0]!Poids      *      (     (A*EXP(-alpha*(BG$15-$H57)))     +      (B*EXP(-bêta*(BG$15-$H57)))    +   (_C*EXP(-gamma*(BG$15-$H57 )))      )","v":0},{"$f":"  $G57/[0]!Poids      *      (     (A*EXP(-alpha*(BH$15-$H57)))     +      (B*EXP(-bêta*(BH$15-$H57)))    +   (_C*EXP(-gamma*(BH$15-$H57 )))      )","v":0},{"$f":"  $G57/[0]!Poids      *      (     (A*EXP(-alpha*(BI$15-$H57)))     +      (B*EXP(-bêta*(BI$15-$H57)))    +   (_C*EXP(-gamma*(BI$15-$H57 )))      )","v":0},{"$f":"  $G57/[0]!Poids      *      (     (A*EXP(-alpha*(BJ$15-$H57)))     +      (B*EXP(-bêta*(BJ$15-$H57)))    +   (_C*EXP(-gamma*(BJ$15-$H57 )))      )","v":0},{"$f":"  $G57/[0]!Poids      *      (     (A*EXP(-alpha*(BK$15-$H57)))     +      (B*EXP(-bêta*(BK$15-$H57)))    +   (_C*EXP(-gamma*(BK$15-$H57 )))      )","v":0},{"$f":"  $G57/[0]!Poids      *      (     (A*EXP(-alpha*(BL$15-$H57)))     +      (B*EXP(-bêta*(BL$15-$H57)))    +   (_C*EXP(-gamma*(BL$15-$H57 )))      )","v":0},{"$f":"  $G57/[0]!Poids      *      (     (A*EXP(-alpha*(BM$15-$H57)))     +      (B*EXP(-bêta*(BM$15-$H57)))    +   (_C*EXP(-gamma*(BM$15-$H57 )))      )","v":0},{"$f":"  $G57/[0]!Poids      *      (     (A*EXP(-alpha*(BN$15-$H57)))     +      (B*EXP(-bêta*(BN$15-$H57)))    +   (_C*EXP(-gamma*(BN$15-$H57 )))      )","v":0},{"$f":"  $G57/[0]!Poids      *      (     (A*EXP(-alpha*(BO$15-$H57)))     +      (B*EXP(-bêta*(BO$15-$H57)))    +   (_C*EXP(-gamma*(BO$15-$H57 )))      )","v":0},{"$f":"  $G57/[0]!Poids      *      (     (A*EXP(-alpha*(BP$15-$H57)))     +      (B*EXP(-bêta*(BP$15-$H57)))    +   (_C*EXP(-gamma*(BP$15-$H57 )))      )","v":0},{"$f":"  $G57/[0]!Poids      *      (     (A*EXP(-alpha*(BQ$15-$H57)))     +      (B*EXP(-bêta*(BQ$15-$H57)))    +   (_C*EXP(-gamma*(BQ$15-$H57 )))      )","v":0},{"$f":"  $G57/[0]!Poids      *      (     (A*EXP(-alpha*(BR$15-$H57)))     +      (B*EXP(-bêta*(BR$15-$H57)))    +   (_C*EXP(-gamma*(BR$15-$H57 )))      )","v":0}]
[null,null,null,null,null,null,{"$f":"AZ$10","v":0},210,null,null,null,null,null,null,null,null,null,null,null,null,null,null,null,null,null,null,null,null,null,null,null,null,null,null,null,null,null,null,null,null,null,null,null,null,null,null,null,null,null,null,null,{"$f":"  $G58/[0]!Poids      *      (     (A*EXP(-alpha*(AZ$15-$H58)))     +      (B*EXP(-bêta*(AZ$15-$H58)))    +   (_C*EXP(-gamma*(AZ$15-$H58 )))      )","v":0},{"$f":"  $G58/[0]!Poids      *      (     (A*EXP(-alpha*(BA$15-$H58)))     +      (B*EXP(-bêta*(BA$15-$H58)))    +   (_C*EXP(-gamma*(BA$15-$H58 )))      )","v":0},{"$f":"  $G58/[0]!Poids      *      (     (A*EXP(-alpha*(BB$15-$H58)))     +      (B*EXP(-bêta*(BB$15-$H58)))    +   (_C*EXP(-gamma*(BB$15-$H58 )))      )","v":0},{"$f":"  $G58/[0]!Poids      *      (     (A*EXP(-alpha*(BC$15-$H58)))     +      (B*EXP(-bêta*(BC$15-$H58)))    +   (_C*EXP(-gamma*(BC$15-$H58 )))      )","v":0},{"$f":"  $G58/[0]!Poids      *      (     (A*EXP(-alpha*(BD$15-$H58)))     +      (B*EXP(-bêta*(BD$15-$H58)))    +   (_C*EXP(-gamma*(BD$15-$H58 )))      )","v":0},{"$f":"  $G58/[0]!Poids      *      (     (A*EXP(-alpha*(BE$15-$H58)))     +      (B*EXP(-bêta*(BE$15-$H58)))    +   (_C*EXP(-gamma*(BE$15-$H58 )))      )","v":0},{"$f":"  $G58/[0]!Poids      *      (     (A*EXP(-alpha*(BF$15-$H58)))     +      (B*EXP(-bêta*(BF$15-$H58)))    +   (_C*EXP(-gamma*(BF$15-$H58 )))      )","v":0},{"$f":"  $G58/[0]!Poids      *      (     (A*EXP(-alpha*(BG$15-$H58)))     +      (B*EXP(-bêta*(BG$15-$H58)))    +   (_C*EXP(-gamma*(BG$15-$H58 )))      )","v":0},{"$f":"  $G58/[0]!Poids      *      (     (A*EXP(-alpha*(BH$15-$H58)))     +      (B*EXP(-bêta*(BH$15-$H58)))    +   (_C*EXP(-gamma*(BH$15-$H58 )))      )","v":0},{"$f":"  $G58/[0]!Poids      *      (     (A*EXP(-alpha*(BI$15-$H58)))     +      (B*EXP(-bêta*(BI$15-$H58)))    +   (_C*EXP(-gamma*(BI$15-$H58 )))      )","v":0},{"$f":"  $G58/[0]!Poids      *      (     (A*EXP(-alpha*(BJ$15-$H58)))     +      (B*EXP(-bêta*(BJ$15-$H58)))    +   (_C*EXP(-gamma*(BJ$15-$H58 )))      )","v":0},{"$f":"  $G58/[0]!Poids      *      (     (A*EXP(-alpha*(BK$15-$H58)))     +      (B*EXP(-bêta*(BK$15-$H58)))    +   (_C*EXP(-gamma*(BK$15-$H58 )))      )","v":0},{"$f":"  $G58/[0]!Poids      *      (     (A*EXP(-alpha*(BL$15-$H58)))     +      (B*EXP(-bêta*(BL$15-$H58)))    +   (_C*EXP(-gamma*(BL$15-$H58 )))      )","v":0},{"$f":"  $G58/[0]!Poids      *      (     (A*EXP(-alpha*(BM$15-$H58)))     +      (B*EXP(-bêta*(BM$15-$H58)))    +   (_C*EXP(-gamma*(BM$15-$H58 )))      )","v":0},{"$f":"  $G58/[0]!Poids      *      (     (A*EXP(-alpha*(BN$15-$H58)))     +      (B*EXP(-bêta*(BN$15-$H58)))    +   (_C*EXP(-gamma*(BN$15-$H58 )))      )","v":0},{"$f":"  $G58/[0]!Poids      *      (     (A*EXP(-alpha*(BO$15-$H58)))     +      (B*EXP(-bêta*(BO$15-$H58)))    +   (_C*EXP(-gamma*(BO$15-$H58 )))      )","v":0},{"$f":"  $G58/[0]!Poids      *      (     (A*EXP(-alpha*(BP$15-$H58)))     +      (B*EXP(-bêta*(BP$15-$H58)))    +   (_C*EXP(-gamma*(BP$15-$H58 )))      )","v":0},{"$f":"  $G58/[0]!Poids      *      (     (A*EXP(-alpha*(BQ$15-$H58)))     +      (B*EXP(-bêta*(BQ$15-$H58)))    +   (_C*EXP(-gamma*(BQ$15-$H58 )))      )","v":0},{"$f":"  $G58/[0]!Poids      *      (     (A*EXP(-alpha*(BR$15-$H58)))     +      (B*EXP(-bêta*(BR$15-$H58)))    +   (_C*EXP(-gamma*(BR$15-$H58 )))      )","v":0}]
[null,null,null,null,null,null,{"$f":"BA$10","v":0},215,null,null,null,null,null,null,null,null,null,null,null,null,null,null,null,null,null,null,null,null,null,null,null,null,null,null,null,null,null,null,null,null,null,null,null,null,null,null,null,null,null,null,null,null,{"$f":"  $G59/[0]!Poids      *      (     (A*EXP(-alpha*(BA$15-$H59)))     +      (B*EXP(-bêta*(BA$15-$H59)))    +   (_C*EXP(-gamma*(BA$15-$H59 )))      )","v":0},{"$f":"  $G59/[0]!Poids      *      (     (A*EXP(-alpha*(BB$15-$H59)))     +      (B*EXP(-bêta*(BB$15-$H59)))    +   (_C*EXP(-gamma*(BB$15-$H59 )))      )","v":0},{"$f":"  $G59/[0]!Poids      *      (     (A*EXP(-alpha*(BC$15-$H59)))     +      (B*EXP(-bêta*(BC$15-$H59)))    +   (_C*EXP(-gamma*(BC$15-$H59 )))      )","v":0},{"$f":"  $G59/[0]!Poids      *      (     (A*EXP(-alpha*(BD$15-$H59)))     +      (B*EXP(-bêta*(BD$15-$H59)))    +   (_C*EXP(-gamma*(BD$15-$H59 )))      )","v":0},{"$f":"  $G59/[0]!Poids      *      (     (A*EXP(-alpha*(BE$15-$H59)))     +      (B*EXP(-bêta*(BE$15-$H59)))    +   (_C*EXP(-gamma*(BE$15-$H59 )))      )","v":0},{"$f":"  $G59/[0]!Poids      *      (     (A*EXP(-alpha*(BF$15-$H59)))     +      (B*EXP(-bêta*(BF$15-$H59)))    +   (_C*EXP(-gamma*(BF$15-$H59 )))      )","v":0},{"$f":"  $G59/[0]!Poids      *      (     (A*EXP(-alpha*(BG$15-$H59)))     +      (B*EXP(-bêta*(BG$15-$H59)))    +   (_C*EXP(-gamma*(BG$15-$H59 )))      )","v":0},{"$f":"  $G59/[0]!Poids      *      (     (A*EXP(-alpha*(BH$15-$H59)))     +      (B*EXP(-bêta*(BH$15-$H59)))    +   (_C*EXP(-gamma*(BH$15-$H59 )))      )","v":0},{"$f":"  $G59/[0]!Poids      *      (     (A*EXP(-alpha*(BI$15-$H59)))     +      (B*EXP(-bêta*(BI$15-$H59)))    +   (_C*EXP(-gamma*(BI$15-$H59 )))      )","v":0},{"$f":"  $G59/[0]!Poids      *      (     (A*EXP(-alpha*(BJ$15-$H59)))     +      (B*EXP(-bêta*(BJ$15-$H59)))    +   (_C*EXP(-gamma*(BJ$15-$H59 )))      )","v":0},{"$f":"  $G59/[0]!Poids      *      (     (A*EXP(-alpha*(BK$15-$H59)))     +      (B*EXP(-bêta*(BK$15-$H59)))    +   (_C*EXP(-gamma*(BK$15-$H59 )))      )","v":0},{"$f":"  $G59/[0]!Poids      *      (     (A*EXP(-alpha*(BL$15-$H59)))     +      (B*EXP(-bêta*(BL$15-$H59)))    +   (_C*EXP(-gamma*(BL$15-$H59 )))      )","v":0},{"$f":"  $G59/[0]!Poids      *      (     (A*EXP(-alpha*(BM$15-$H59)))     +      (B*EXP(-bêta*(BM$15-$H59)))    +   (_C*EXP(-gamma*(BM$15-$H59 )))      )","v":0},{"$f":"  $G59/[0]!Poids      *      (     (A*EXP(-alpha*(BN$15-$H59)))     +      (B*EXP(-bêta*(BN$15-$H59)))    +   (_C*EXP(-gamma*(BN$15-$H59 )))      )","v":0},{"$f":"  $G59/[0]!Poids      *      (     (A*EXP(-alpha*(BO$15-$H59)))     +      (B*EXP(-bêta*(BO$15-$H59)))    +   (_C*EXP(-gamma*(BO$15-$H59 )))      )","v":0},{"$f":"  $G59/[0]!Poids      *      (     (A*EXP(-alpha*(BP$15-$H59)))     +      (B*EXP(-bêta*(BP$15-$H59)))    +   (_C*EXP(-gamma*(BP$15-$H59 )))      )","v":0},{"$f":"  $G59/[0]!Poids      *      (     (A*EXP(-alpha*(BQ$15-$H59)))     +      (B*EXP(-bêta*(BQ$15-$H59)))    +   (_C*EXP(-gamma*(BQ$15-$H59 )))      )","v":0},{"$f":"  $G59/[0]!Poids      *      (     (A*EXP(-alpha*(BR$15-$H59)))     +      (B*EXP(-bêta*(BR$15-$H59)))    +   (_C*EXP(-gamma*(BR$15-$H59 )))      )","v":0}]
[null,null,null,null,null,null,{"$f":"BB$10","v":0},220,null,null,null,null,null,null,null,null,null,null,null,null,null,null,null,null,null,null,null,null,null,null,null,null,null,null,null,null,null,null,null,null,null,null,null,null,null,null,null,null,null,null,null,null,null,{"$f":"  $G60/[0]!Poids      *      (     (A*EXP(-alpha*(BB$15-$H60)))     +      (B*EXP(-bêta*(BB$15-$H60)))    +   (_C*EXP(-gamma*(BB$15-$H60 )))      )","v":0},{"$f":"  $G60/[0]!Poids      *      (     (A*EXP(-alpha*(BC$15-$H60)))     +      (B*EXP(-bêta*(BC$15-$H60)))    +   (_C*EXP(-gamma*(BC$15-$H60 )))      )","v":0},{"$f":"  $G60/[0]!Poids      *      (     (A*EXP(-alpha*(BD$15-$H60)))     +      (B*EXP(-bêta*(BD$15-$H60)))    +   (_C*EXP(-gamma*(BD$15-$H60 )))      )","v":0},{"$f":"  $G60/[0]!Poids      *      (     (A*EXP(-alpha*(BE$15-$H60)))     +      (B*EXP(-bêta*(BE$15-$H60)))    +   (_C*EXP(-gamma*(BE$15-$H60 )))      )","v":0},{"$f":"  $G60/[0]!Poids      *      (     (A*EXP(-alpha*(BF$15-$H60)))     +      (B*EXP(-bêta*(BF$15-$H60)))    +   (_C*EXP(-gamma*(BF$15-$H60 )))      )","v":0},{"$f":"  $G60/[0]!Poids      *      (     (A*EXP(-alpha*(BG$15-$H60)))     +      (B*EXP(-bêta*(BG$15-$H60)))    +   (_C*EXP(-gamma*(BG$15-$H60 )))      )","v":0},{"$f":"  $G60/[0]!Poids      *      (     (A*EXP(-alpha*(BH$15-$H60)))     +      (B*EXP(-bêta*(BH$15-$H60)))    +   (_C*EXP(-gamma*(BH$15-$H60 )))      )","v":0},{"$f":"  $G60/[0]!Poids      *      (     (A*EXP(-alpha*(BI$15-$H60)))     +      (B*EXP(-bêta*(BI$15-$H60)))    +   (_C*EXP(-gamma*(BI$15-$H60 )))      )","v":0},{"$f":"  $G60/[0]!Poids      *      (     (A*EXP(-alpha*(BJ$15-$H60)))     +      (B*EXP(-bêta*(BJ$15-$H60)))    +   (_C*EXP(-gamma*(BJ$15-$H60 )))      )","v":0},{"$f":"  $G60/[0]!Poids      *      (     (A*EXP(-alpha*(BK$15-$H60)))     +      (B*EXP(-bêta*(BK$15-$H60)))    +   (_C*EXP(-gamma*(BK$15-$H60 )))      )","v":0},{"$f":"  $G60/[0]!Poids      *      (     (A*EXP(-alpha*(BL$15-$H60)))     +      (B*EXP(-bêta*(BL$15-$H60)))    +   (_C*EXP(-gamma*(BL$15-$H60 )))      )","v":0},{"$f":"  $G60/[0]!Poids      *      (     (A*EXP(-alpha*(BM$15-$H60)))     +      (B*EXP(-bêta*(BM$15-$H60)))    +   (_C*EXP(-gamma*(BM$15-$H60 )))      )","v":0},{"$f":"  $G60/[0]!Poids      *      (     (A*EXP(-alpha*(BN$15-$H60)))     +      (B*EXP(-bêta*(BN$15-$H60)))    +   (_C*EXP(-gamma*(BN$15-$H60 )))      )","v":0},{"$f":"  $G60/[0]!Poids      *      (     (A*EXP(-alpha*(BO$15-$H60)))     +      (B*EXP(-bêta*(BO$15-$H60)))    +   (_C*EXP(-gamma*(BO$15-$H60 )))      )","v":0},{"$f":"  $G60/[0]!Poids      *      (     (A*EXP(-alpha*(BP$15-$H60)))     +      (B*EXP(-bêta*(BP$15-$H60)))    +   (_C*EXP(-gamma*(BP$15-$H60 )))      )","v":0},{"$f":"  $G60/[0]!Poids      *      (     (A*EXP(-alpha*(BQ$15-$H60)))     +      (B*EXP(-bêta*(BQ$15-$H60)))    +   (_C*EXP(-gamma*(BQ$15-$H60 )))      )","v":0},{"$f":"  $G60/[0]!Poids      *      (     (A*EXP(-alpha*(BR$15-$H60)))     +      (B*EXP(-bêta*(BR$15-$H60)))    +   (_C*EXP(-gamma*(BR$15-$H60 )))      )","v":0}]
[null,null,null,null,null,null,{"$f":"BC$10","v":0},225,null,null,null,null,null,null,null,null,null,null,null,null,null,null,null,null,null,null,null,null,null,null,null,null,null,null,null,null,null,null,null,null,null,null,null,null,null,null,null,null,null,null,null,null,null,null,{"$f":"  $G61/[0]!Poids      *      (     (A*EXP(-alpha*(BC$15-$H61)))     +      (B*EXP(-bêta*(BC$15-$H61)))    +   (_C*EXP(-gamma*(BC$15-$H61 )))      )","v":0},{"$f":"  $G61/[0]!Poids      *      (     (A*EXP(-alpha*(BD$15-$H61)))     +      (B*EXP(-bêta*(BD$15-$H61)))    +   (_C*EXP(-gamma*(BD$15-$H61 )))      )","v":0},{"$f":"  $G61/[0]!Poids      *      (     (A*EXP(-alpha*(BE$15-$H61)))     +      (B*EXP(-bêta*(BE$15-$H61)))    +   (_C*EXP(-gamma*(BE$15-$H61 )))      )","v":0},{"$f":"  $G61/[0]!Poids      *      (     (A*EXP(-alpha*(BF$15-$H61)))     +      (B*EXP(-bêta*(BF$15-$H61)))    +   (_C*EXP(-gamma*(BF$15-$H61 )))      )","v":0},{"$f":"  $G61/[0]!Poids      *      (     (A*EXP(-alpha*(BG$15-$H61)))     +      (B*EXP(-bêta*(BG$15-$H61)))    +   (_C*EXP(-gamma*(BG$15-$H61 )))      )","v":0},{"$f":"  $G61/[0]!Poids      *      (     (A*EXP(-alpha*(BH$15-$H61)))     +      (B*EXP(-bêta*(BH$15-$H61)))    +   (_C*EXP(-gamma*(BH$15-$H61 )))      )","v":0},{"$f":"  $G61/[0]!Poids      *      (     (A*EXP(-alpha*(BI$15-$H61)))     +      (B*EXP(-bêta*(BI$15-$H61)))    +   (_C*EXP(-gamma*(BI$15-$H61 )))      )","v":0},{"$f":"  $G61/[0]!Poids      *      (     (A*EXP(-alpha*(BJ$15-$H61)))     +      (B*EXP(-bêta*(BJ$15-$H61)))    +   (_C*EXP(-gamma*(BJ$15-$H61 )))      )","v":0},{"$f":"  $G61/[0]!Poids      *      (     (A*EXP(-alpha*(BK$15-$H61)))     +      (B*EXP(-bêta*(BK$15-$H61)))    +   (_C*EXP(-gamma*(BK$15-$H61 )))      )","v":0},{"$f":"  $G61/[0]!Poids      *      (     (A*EXP(-alpha*(BL$15-$H61)))     +      (B*EXP(-bêta*(BL$15-$H61)))    +   (_C*EXP(-gamma*(BL$15-$H61 )))      )","v":0},{"$f":"  $G61/[0]!Poids      *      (     (A*EXP(-alpha*(BM$15-$H61)))     +      (B*EXP(-bêta*(BM$15-$H61)))    +   (_C*EXP(-gamma*(BM$15-$H61 )))      )","v":0},{"$f":"  $G61/[0]!Poids      *      (     (A*EXP(-alpha*(BN$15-$H61)))     +      (B*EXP(-bêta*(BN$15-$H61)))    +   (_C*EXP(-gamma*(BN$15-$H61 )))      )","v":0},{"$f":"  $G61/[0]!Poids      *      (     (A*EXP(-alpha*(BO$15-$H61)))     +      (B*EXP(-bêta*(BO$15-$H61)))    +   (_C*EXP(-gamma*(BO$15-$H61 )))      )","v":0},{"$f":"  $G61/[0]!Poids      *      (     (A*EXP(-alpha*(BP$15-$H61)))     +      (B*EXP(-bêta*(BP$15-$H61)))    +   (_C*EXP(-gamma*(BP$15-$H61 )))      )","v":0},{"$f":"  $G61/[0]!Poids      *      (     (A*EXP(-alpha*(BQ$15-$H61)))     +      (B*EXP(-bêta*(BQ$15-$H61)))    +   (_C*EXP(-gamma*(BQ$15-$H61 )))      )","v":0},{"$f":"  $G61/[0]!Poids      *      (     (A*EXP(-alpha*(BR$15-$H61)))     +      (B*EXP(-bêta*(BR$15-$H61)))    +   (_C*EXP(-gamma*(BR$15-$H61 )))      )","v":0}]
[null,null,null,null,null,null,{"$f":"BD$10","v":0},230,null,null,null,null,null,null,null,null,null,null,null,null,null,null,null,null,null,null,null,null,null,null,null,null,null,null,null,null,null,null,null,null,null,null,null,null,null,null,null,null,null,null,null,null,null,null,null,{"$f":"  $G62/[0]!Poids      *      (     (A*EXP(-alpha*(BD$15-$H62)))     +      (B*EXP(-bêta*(BD$15-$H62)))    +   (_C*EXP(-gamma*(BD$15-$H62 )))      )","v":0},{"$f":"  $G62/[0]!Poids      *      (     (A*EXP(-alpha*(BE$15-$H62)))     +      (B*EXP(-bêta*(BE$15-$H62)))    +   (_C*EXP(-gamma*(BE$15-$H62 )))      )","v":0},{"$f":"  $G62/[0]!Poids      *      (     (A*EXP(-alpha*(BF$15-$H62)))     +      (B*EXP(-bêta*(BF$15-$H62)))    +   (_C*EXP(-gamma*(BF$15-$H62 )))      )","v":0},{"$f":"  $G62/[0]!Poids      *      (     (A*EXP(-alpha*(BG$15-$H62)))     +      (B*EXP(-bêta*(BG$15-$H62)))    +   (_C*EXP(-gamma*(BG$15-$H62 )))      )","v":0},{"$f":"  $G62/[0]!Poids      *      (     (A*EXP(-alpha*(BH$15-$H62)))     +      (B*EXP(-bêta*(BH$15-$H62)))    +   (_C*EXP(-gamma*(BH$15-$H62 )))      )","v":0},{"$f":"  $G62/[0]!Poids      *      (     (A*EXP(-alpha*(BI$15-$H62)))     +      (B*EXP(-bêta*(BI$15-$H62)))    +   (_C*EXP(-gamma*(BI$15-$H62 )))      )","v":0},{"$f":"  $G62/[0]!Poids      *      (     (A*EXP(-alpha*(BJ$15-$H62)))     +      (B*EXP(-bêta*(BJ$15-$H62)))    +   (_C*EXP(-gamma*(BJ$15-$H62 )))      )","v":0},{"$f":"  $G62/[0]!Poids      *      (     (A*EXP(-alpha*(BK$15-$H62)))     +      (B*EXP(-bêta*(BK$15-$H62)))    +   (_C*EXP(-gamma*(BK$15-$H62 )))      )","v":0},{"$f":"  $G62/[0]!Poids      *      (     (A*EXP(-alpha*(BL$15-$H62)))     +      (B*EXP(-bêta*(BL$15-$H62)))    +   (_C*EXP(-gamma*(BL$15-$H62 )))      )","v":0},{"$f":"  $G62/[0]!Poids      *      (     (A*EXP(-alpha*(BM$15-$H62)))     +      (B*EXP(-bêta*(BM$15-$H62)))    +   (_C*EXP(-gamma*(BM$15-$H62 )))      )","v":0},{"$f":"  $G62/[0]!Poids      *      (     (A*EXP(-alpha*(BN$15-$H62)))     +      (B*EXP(-bêta*(BN$15-$H62)))    +   (_C*EXP(-gamma*(BN$15-$H62 )))      )","v":0},{"$f":"  $G62/[0]!Poids      *      (     (A*EXP(-alpha*(BO$15-$H62)))     +      (B*EXP(-bêta*(BO$15-$H62)))    +   (_C*EXP(-gamma*(BO$15-$H62 )))      )","v":0},{"$f":"  $G62/[0]!Poids      *      (     (A*EXP(-alpha*(BP$15-$H62)))     +      (B*EXP(-bêta*(BP$15-$H62)))    +   (_C*EXP(-gamma*(BP$15-$H62 )))      )","v":0},{"$f":"  $G62/[0]!Poids      *      (     (A*EXP(-alpha*(BQ$15-$H62)))     +      (B*EXP(-bêta*(BQ$15-$H62)))    +   (_C*EXP(-gamma*(BQ$15-$H62 )))      )","v":0},{"$f":"  $G62/[0]!Poids      *      (     (A*EXP(-alpha*(BR$15-$H62)))     +      (B*EXP(-bêta*(BR$15-$H62)))    +   (_C*EXP(-gamma*(BR$15-$H62 )))      )","v":0}]
[null,null,null,null,null,null,{"$f":"BE$10","v":0},235,null,null,null,null,null,null,null,null,null,null,null,null,null,null,null,null,null,null,null,null,null,null,null,null,null,null,null,null,null,null,null,null,null,null,null,null,null,null,null,null,null,null,null,null,null,null,null,null,{"$f":"  $G63/[0]!Poids      *      (     (A*EXP(-alpha*(BE$15-$H63)))     +      (B*EXP(-bêta*(BE$15-$H63)))    +   (_C*EXP(-gamma*(BE$15-$H63 )))      )","v":0},{"$f":"  $G63/[0]!Poids      *      (     (A*EXP(-alpha*(BF$15-$H63)))     +      (B*EXP(-bêta*(BF$15-$H63)))    +   (_C*EXP(-gamma*(BF$15-$H63 )))      )","v":0},{"$f":"  $G63/[0]!Poids      *      (     (A*EXP(-alpha*(BG$15-$H63)))     +      (B*EXP(-bêta*(BG$15-$H63)))    +   (_C*EXP(-gamma*(BG$15-$H63 )))      )","v":0},{"$f":"  $G63/[0]!Poids      *      (     (A*EXP(-alpha*(BH$15-$H63)))     +      (B*EXP(-bêta*(BH$15-$H63)))    +   (_C*EXP(-gamma*(BH$15-$H63 )))      )","v":0},{"$f":"  $G63/[0]!Poids      *      (     (A*EXP(-alpha*(BI$15-$H63)))     +      (B*EXP(-bêta*(BI$15-$H63)))    +   (_C*EXP(-gamma*(BI$15-$H63 )))      )","v":0},{"$f":"  $G63/[0]!Poids      *      (     (A*EXP(-alpha*(BJ$15-$H63)))     +      (B*EXP(-bêta*(BJ$15-$H63)))    +   (_C*EXP(-gamma*(BJ$15-$H63 )))      )","v":0},{"$f":"  $G63/[0]!Poids      *      (     (A*EXP(-alpha*(BK$15-$H63)))     +      (B*EXP(-bêta*(BK$15-$H63)))    +   (_C*EXP(-gamma*(BK$15-$H63 )))      )","v":0},{"$f":"  $G63/[0]!Poids      *      (     (A*EXP(-alpha*(BL$15-$H63)))     +      (B*EXP(-bêta*(BL$15-$H63)))    +   (_C*EXP(-gamma*(BL$15-$H63 )))      )","v":0},{"$f":"  $G63/[0]!Poids      *      (     (A*EXP(-alpha*(BM$15-$H63)))     +      (B*EXP(-bêta*(BM$15-$H63)))    +   (_C*EXP(-gamma*(BM$15-$H63 )))      )","v":0},{"$f":"  $G63/[0]!Poids      *      (     (A*EXP(-alpha*(BN$15-$H63)))     +      (B*EXP(-bêta*(BN$15-$H63)))    +   (_C*EXP(-gamma*(BN$15-$H63 )))      )","v":0},{"$f":"  $G63/[0]!Poids      *      (     (A*EXP(-alpha*(BO$15-$H63)))     +      (B*EXP(-bêta*(BO$15-$H63)))    +   (_C*EXP(-gamma*(BO$15-$H63 )))      )","v":0},{"$f":"  $G63/[0]!Poids      *      (     (A*EXP(-alpha*(BP$15-$H63)))     +      (B*EXP(-bêta*(BP$15-$H63)))    +   (_C*EXP(-gamma*(BP$15-$H63 )))      )","v":0},{"$f":"  $G63/[0]!Poids      *      (     (A*EXP(-alpha*(BQ$15-$H63)))     +      (B*EXP(-bêta*(BQ$15-$H63)))    +   (_C*EXP(-gamma*(BQ$15-$H63 )))      )","v":0},{"$f":"  $G63/[0]!Poids      *      (     (A*EXP(-alpha*(BR$15-$H63)))     +      (B*EXP(-bêta*(BR$15-$H63)))    +   (_C*EXP(-gamma*(BR$15-$H63 )))      )","v":0}]
[null,null,null,null,null,null,{"$f":"BF$10","v":0},240,null,null,null,null,null,null,null,null,null,null,null,null,null,null,null,null,null,null,null,null,null,null,null,null,null,null,null,null,null,null,null,null,null,null,null,null,null,null,null,null,null,null,null,null,null,null,null,null,null,{"$f":"  $G64/[0]!Poids      *      (     (A*EXP(-alpha*(BF$15-$H64)))     +      (B*EXP(-bêta*(BF$15-$H64)))    +   (_C*EXP(-gamma*(BF$15-$H64 )))      )","v":0},{"$f":"  $G64/[0]!Poids      *      (     (A*EXP(-alpha*(BG$15-$H64)))     +      (B*EXP(-bêta*(BG$15-$H64)))    +   (_C*EXP(-gamma*(BG$15-$H64 )))      )","v":0},{"$f":"  $G64/[0]!Poids      *      (     (A*EXP(-alpha*(BH$15-$H64)))     +      (B*EXP(-bêta*(BH$15-$H64)))    +   (_C*EXP(-gamma*(BH$15-$H64 )))      )","v":0},{"$f":"  $G64/[0]!Poids      *      (     (A*EXP(-alpha*(BI$15-$H64)))     +      (B*EXP(-bêta*(BI$15-$H64)))    +   (_C*EXP(-gamma*(BI$15-$H64 )))      )","v":0},{"$f":"  $G64/[0]!Poids      *      (     (A*EXP(-alpha*(BJ$15-$H64)))     +      (B*EXP(-bêta*(BJ$15-$H64)))    +   (_C*EXP(-gamma*(BJ$15-$H64 )))      )","v":0},{"$f":"  $G64/[0]!Poids      *      (     (A*EXP(-alpha*(BK$15-$H64)))     +      (B*EXP(-bêta*(BK$15-$H64)))    +   (_C*EXP(-gamma*(BK$15-$H64 )))      )","v":0},{"$f":"  $G64/[0]!Poids      *      (     (A*EXP(-alpha*(BL$15-$H64)))     +      (B*EXP(-bêta*(BL$15-$H64)))    +   (_C*EXP(-gamma*(BL$15-$H64 )))      )","v":0},{"$f":"  $G64/[0]!Poids      *      (     (A*EXP(-alpha*(BM$15-$H64)))     +      (B*EXP(-bêta*(BM$15-$H64)))    +   (_C*EXP(-gamma*(BM$15-$H64 )))      )","v":0},{"$f":"  $G64/[0]!Poids      *      (     (A*EXP(-alpha*(BN$15-$H64)))     +      (B*EXP(-bêta*(BN$15-$H64)))    +   (_C*EXP(-gamma*(BN$15-$H64 )))      )","v":0},{"$f":"  $G64/[0]!Poids      *      (     (A*EXP(-alpha*(BO$15-$H64)))     +      (B*EXP(-bêta*(BO$15-$H64)))    +   (_C*EXP(-gamma*(BO$15-$H64 )))      )","v":0},{"$f":"  $G64/[0]!Poids      *      (     (A*EXP(-alpha*(BP$15-$H64)))     +      (B*EXP(-bêta*(BP$15-$H64)))    +   (_C*EXP(-gamma*(BP$15-$H64 )))      )","v":0},{"$f":"  $G64/[0]!Poids      *      (     (A*EXP(-alpha*(BQ$15-$H64)))     +      (B*EXP(-bêta*(BQ$15-$H64)))    +   (_C*EXP(-gamma*(BQ$15-$H64 )))      )","v":0},{"$f":"  $G64/[0]!Poids      *      (     (A*EXP(-alpha*(BR$15-$H64)))     +      (B*EXP(-bêta*(BR$15-$H64)))    +   (_C*EXP(-gamma*(BR$15-$H64 )))      )","v":0}]
[null,null,null,null,null,null,{"$f":"BG$10","v":0},245,null,null,null,null,null,null,null,null,null,null,null,null,null,null,null,null,null,null,null,null,null,null,null,null,null,null,null,null,null,null,null,null,null,null,null,null,null,null,null,null,null,null,null,null,null,null,null,null,null,null,{"$f":"  $G65/[0]!Poids      *      (     (A*EXP(-alpha*(BG$15-$H65)))     +      (B*EXP(-bêta*(BG$15-$H65)))    +   (_C*EXP(-gamma*(BG$15-$H65 )))      )","v":0},{"$f":"  $G65/[0]!Poids      *      (     (A*EXP(-alpha*(BH$15-$H65)))     +      (B*EXP(-bêta*(BH$15-$H65)))    +   (_C*EXP(-gamma*(BH$15-$H65 )))      )","v":0},{"$f":"  $G65/[0]!Poids      *      (     (A*EXP(-alpha*(BI$15-$H65)))     +      (B*EXP(-bêta*(BI$15-$H65)))    +   (_C*EXP(-gamma*(BI$15-$H65 )))      )","v":0},{"$f":"  $G65/[0]!Poids      *      (     (A*EXP(-alpha*(BJ$15-$H65)))     +      (B*EXP(-bêta*(BJ$15-$H65)))    +   (_C*EXP(-gamma*(BJ$15-$H65 )))      )","v":0},{"$f":"  $G65/[0]!Poids      *      (     (A*EXP(-alpha*(BK$15-$H65)))     +      (B*EXP(-bêta*(BK$15-$H65)))    +   (_C*EXP(-gamma*(BK$15-$H65 )))      )","v":0},{"$f":"  $G65/[0]!Poids      *      (     (A*EXP(-alpha*(BL$15-$H65)))     +      (B*EXP(-bêta*(BL$15-$H65)))    +   (_C*EXP(-gamma*(BL$15-$H65 )))      )","v":0},{"$f":"  $G65/[0]!Poids      *      (     (A*EXP(-alpha*(BM$15-$H65)))     +      (B*EXP(-bêta*(BM$15-$H65)))    +   (_C*EXP(-gamma*(BM$15-$H65 )))      )","v":0},{"$f":"  $G65/[0]!Poids      *      (     (A*EXP(-alpha*(BN$15-$H65)))     +      (B*EXP(-bêta*(BN$15-$H65)))    +   (_C*EXP(-gamma*(BN$15-$H65 )))      )","v":0},{"$f":"  $G65/[0]!Poids      *      (     (A*EXP(-alpha*(BO$15-$H65)))     +      (B*EXP(-bêta*(BO$15-$H65)))    +   (_C*EXP(-gamma*(BO$15-$H65 )))      )","v":0},{"$f":"  $G65/[0]!Poids      *      (     (A*EXP(-alpha*(BP$15-$H65)))     +      (B*EXP(-bêta*(BP$15-$H65)))    +   (_C*EXP(-gamma*(BP$15-$H65 )))      )","v":0},{"$f":"  $G65/[0]!Poids      *      (     (A*EXP(-alpha*(BQ$15-$H65)))     +      (B*EXP(-bêta*(BQ$15-$H65)))    +   (_C*EXP(-gamma*(BQ$15-$H65 )))      )","v":0},{"$f":"  $G65/[0]!Poids      *      (     (A*EXP(-alpha*(BR$15-$H65)))     +      (B*EXP(-bêta*(BR$15-$H65)))    +   (_C*EXP(-gamma*(BR$15-$H65 )))      )","v":0}]
[null,null,null,null,null,null,{"$f":"BH$10","v":0},250,null,null,null,null,null,null,null,null,null,null,null,null,null,null,null,null,null,null,null,null,null,null,null,null,null,null,null,null,null,null,null,null,null,null,null,null,null,null,null,null,null,null,null,null,null,null,null,null,null,null,null,{"$f":"  $G66/[0]!Poids      *      (     (A*EXP(-alpha*(BH$15-$H66)))     +      (B*EXP(-bêta*(BH$15-$H66)))    +   (_C*EXP(-gamma*(BH$15-$H66 )))      )","v":0},{"$f":"  $G66/[0]!Poids      *      (     (A*EXP(-alpha*(BI$15-$H66)))     +      (B*EXP(-bêta*(BI$15-$H66)))    +   (_C*EXP(-gamma*(BI$15-$H66 )))      )","v":0},{"$f":"  $G66/[0]!Poids      *      (     (A*EXP(-alpha*(BJ$15-$H66)))     +      (B*EXP(-bêta*(BJ$15-$H66)))    +   (_C*EXP(-gamma*(BJ$15-$H66 )))      )","v":0},{"$f":"  $G66/[0]!Poids      *      (     (A*EXP(-alpha*(BK$15-$H66)))     +      (B*EXP(-bêta*(BK$15-$H66)))    +   (_C*EXP(-gamma*(BK$15-$H66 )))      )","v":0},{"$f":"  $G66/[0]!Poids      *      (     (A*EXP(-alpha*(BL$15-$H66)))     +      (B*EXP(-bêta*(BL$15-$H66)))    +   (_C*EXP(-gamma*(BL$15-$H66 )))      )","v":0},{"$f":"  $G66/[0]!Poids      *      (     (A*EXP(-alpha*(BM$15-$H66)))     +      (B*EXP(-bêta*(BM$15-$H66)))    +   (_C*EXP(-gamma*(BM$15-$H66 )))      )","v":0},{"$f":"  $G66/[0]!Poids      *      (     (A*EXP(-alpha*(BN$15-$H66)))     +      (B*EXP(-bêta*(BN$15-$H66)))    +   (_C*EXP(-gamma*(BN$15-$H66 )))      )","v":0},{"$f":"  $G66/[0]!Poids      *      (     (A*EXP(-alpha*(BO$15-$H66)))     +      (B*EXP(-bêta*(BO$15-$H66)))    +   (_C*EXP(-gamma*(BO$15-$H66 )))      )","v":0},{"$f":"  $G66/[0]!Poids      *      (     (A*EXP(-alpha*(BP$15-$H66)))     +      (B*EXP(-bêta*(BP$15-$H66)))    +   (_C*EXP(-gamma*(BP$15-$H66 )))      )","v":0},{"$f":"  $G66/[0]!Poids      *      (     (A*EXP(-alpha*(BQ$15-$H66)))     +      (B*EXP(-bêta*(BQ$15-$H66)))    +   (_C*EXP(-gamma*(BQ$15-$H66 )))      )","v":0},{"$f":"  $G66/[0]!Poids      *      (     (A*EXP(-alpha*(BR$15-$H66)))     +      (B*EXP(-bêta*(BR$15-$H66)))    +   (_C*EXP(-gamma*(BR$15-$H66 )))      )","v":0}]
[null,null,null,null,null,null,{"$f":"BI$10","v":0},255,null,null,null,null,null,null,null,null,null,null,null,null,null,null,null,null,null,null,null,null,null,null,null,null,null,null,null,null,null,null,null,null,null,null,null,null,null,null,null,null,null,null,null,null,null,null,null,null,null,null,null,null,{"$f":"  $G67/[0]!Poids      *      (     (A*EXP(-alpha*(BI$15-$H67)))     +      (B*EXP(-bêta*(BI$15-$H67)))    +   (_C*EXP(-gamma*(BI$15-$H67 )))      )","v":0},{"$f":"  $G67/[0]!Poids      *      (     (A*EXP(-alpha*(BJ$15-$H67)))     +      (B*EXP(-bêta*(BJ$15-$H67)))    +   (_C*EXP(-gamma*(BJ$15-$H67 )))      )","v":0},{"$f":"  $G67/[0]!Poids      *      (     (A*EXP(-alpha*(BK$15-$H67)))     +      (B*EXP(-bêta*(BK$15-$H67)))    +   (_C*EXP(-gamma*(BK$15-$H67 )))      )","v":0},{"$f":"  $G67/[0]!Poids      *      (     (A*EXP(-alpha*(BL$15-$H67)))     +      (B*EXP(-bêta*(BL$15-$H67)))    +   (_C*EXP(-gamma*(BL$15-$H67 )))      )","v":0},{"$f":"  $G67/[0]!Poids      *      (     (A*EXP(-alpha*(BM$15-$H67)))     +      (B*EXP(-bêta*(BM$15-$H67)))    +   (_C*EXP(-gamma*(BM$15-$H67 )))      )","v":0},{"$f":"  $G67/[0]!Poids      *      (     (A*EXP(-alpha*(BN$15-$H67)))     +      (B*EXP(-bêta*(BN$15-$H67)))    +   (_C*EXP(-gamma*(BN$15-$H67 )))      )","v":0},{"$f":"  $G67/[0]!Poids      *      (     (A*EXP(-alpha*(BO$15-$H67)))     +      (B*EXP(-bêta*(BO$15-$H67)))    +   (_C*EXP(-gamma*(BO$15-$H67 )))      )","v":0},{"$f":"  $G67/[0]!Poids      *      (     (A*EXP(-alpha*(BP$15-$H67)))     +      (B*EXP(-bêta*(BP$15-$H67)))    +   (_C*EXP(-gamma*(BP$15-$H67 )))      )","v":0},{"$f":"  $G67/[0]!Poids      *      (     (A*EXP(-alpha*(BQ$15-$H67)))     +      (B*EXP(-bêta*(BQ$15-$H67)))    +   (_C*EXP(-gamma*(BQ$15-$H67 )))      )","v":0},{"$f":"  $G67/[0]!Poids      *      (     (A*EXP(-alpha*(BR$15-$H67)))     +      (B*EXP(-bêta*(BR$15-$H67)))    +   (_C*EXP(-gamma*(BR$15-$H67 )))      )","v":0}]
[null,null,null,null,null,null,{"$f":"BJ$10","v":0},260,null,null,null,null,null,null,null,null,null,null,null,null,null,null,null,null,null,null,null,null,null,null,null,null,null,null,null,null,null,null,null,null,null,null,null,null,null,null,null,null,null,null,null,null,null,null,null,null,null,null,null,null,null,{"$f":"  $G68/[0]!Poids      *      (     (A*EXP(-alpha*(BJ$15-$H68)))     +      (B*EXP(-bêta*(BJ$15-$H68)))    +   (_C*EXP(-gamma*(BJ$15-$H68 )))      )","v":0},{"$f":"  $G68/[0]!Poids      *      (     (A*EXP(-alpha*(BK$15-$H68)))     +      (B*EXP(-bêta*(BK$15-$H68)))    +   (_C*EXP(-gamma*(BK$15-$H68 )))      )","v":0},{"$f":"  $G68/[0]!Poids      *      (     (A*EXP(-alpha*(BL$15-$H68)))     +      (B*EXP(-bêta*(BL$15-$H68)))    +   (_C*EXP(-gamma*(BL$15-$H68 )))      )","v":0},{"$f":"  $G68/[0]!Poids      *      (     (A*EXP(-alpha*(BM$15-$H68)))     +      (B*EXP(-bêta*(BM$15-$H68)))    +   (_C*EXP(-gamma*(BM$15-$H68 )))      )","v":0},{"$f":"  $G68/[0]!Poids      *      (     (A*EXP(-alpha*(BN$15-$H68)))     +      (B*EXP(-bêta*(BN$15-$H68)))    +   (_C*EXP(-gamma*(BN$15-$H68 )))      )","v":0},{"$f":"  $G68/[0]!Poids      *      (     (A*EXP(-alpha*(BO$15-$H68)))     +      (B*EXP(-bêta*(BO$15-$H68)))    +   (_C*EXP(-gamma*(BO$15-$H68 )))      )","v":0},{"$f":"  $G68/[0]!Poids      *      (     (A*EXP(-alpha*(BP$15-$H68)))     +      (B*EXP(-bêta*(BP$15-$H68)))    +   (_C*EXP(-gamma*(BP$15-$H68 )))      )","v":0},{"$f":"  $G68/[0]!Poids      *      (     (A*EXP(-alpha*(BQ$15-$H68)))     +      (B*EXP(-bêta*(BQ$15-$H68)))    +   (_C*EXP(-gamma*(BQ$15-$H68 )))      )","v":0},{"$f":"  $G68/[0]!Poids      *      (     (A*EXP(-alpha*(BR$15-$H68)))     +      (B*EXP(-bêta*(BR$15-$H68)))    +   (_C*EXP(-gamma*(BR$15-$H68 )))      )","v":0}]
[null,null,null,null,null,null,{"$f":"BK$10","v":0},265,null,null,null,null,null,null,null,null,null,null,null,null,null,null,null,null,null,null,null,null,null,null,null,null,null,null,null,null,null,null,null,null,null,null,null,null,null,null,null,null,null,null,null,null,null,null,null,null,null,null,null,null,null,null,{"$f":"  $G69/[0]!Poids      *      (     (A*EXP(-alpha*(BK$15-$H69)))     +      (B*EXP(-bêta*(BK$15-$H69)))    +   (_C*EXP(-gamma*(BK$15-$H69 )))      )","v":0},{"$f":"  $G69/[0]!Poids      *      (     (A*EXP(-alpha*(BL$15-$H69)))     +      (B*EXP(-bêta*(BL$15-$H69)))    +   (_C*EXP(-gamma*(BL$15-$H69 )))      )","v":0},{"$f":"  $G69/[0]!Poids      *      (     (A*EXP(-alpha*(BM$15-$H69)))     +      (B*EXP(-bêta*(BM$15-$H69)))    +   (_C*EXP(-gamma*(BM$15-$H69 )))      )","v":0},{"$f":"  $G69/[0]!Poids      *      (     (A*EXP(-alpha*(BN$15-$H69)))     +      (B*EXP(-bêta*(BN$15-$H69)))    +   (_C*EXP(-gamma*(BN$15-$H69 )))      )","v":0},{"$f":"  $G69/[0]!Poids      *      (     (A*EXP(-alpha*(BO$15-$H69)))     +      (B*EXP(-bêta*(BO$15-$H69)))    +   (_C*EXP(-gamma*(BO$15-$H69 )))      )","v":0},{"$f":"  $G69/[0]!Poids      *      (     (A*EXP(-alpha*(BP$15-$H69)))     +      (B*EXP(-bêta*(BP$15-$H69)))    +   (_C*EXP(-gamma*(BP$15-$H69 )))      )","v":0},{"$f":"  $G69/[0]!Poids      *      (     (A*EXP(-alpha*(BQ$15-$H69)))     +      (B*EXP(-bêta*(BQ$15-$H69)))    +   (_C*EXP(-gamma*(BQ$15-$H69 )))      )","v":0},{"$f":"  $G69/[0]!Poids      *      (     (A*EXP(-alpha*(BR$15-$H69)))     +      (B*EXP(-bêta*(BR$15-$H69)))    +   (_C*EXP(-gamma*(BR$15-$H69 )))      )","v":0}]
[null,null,null,null,null,null,{"$f":"BL$10","v":0},270,null,null,null,null,null,null,null,null,null,null,null,null,null,null,null,null,null,null,null,null,null,null,null,null,null,null,null,null,null,null,null,null,null,null,null,null,null,null,null,null,null,null,null,null,null,null,null,null,null,null,null,null,null,null,null,{"$f":"  $G70/[0]!Poids      *      (     (A*EXP(-alpha*(BL$15-$H70)))     +      (B*EXP(-bêta*(BL$15-$H70)))    +   (_C*EXP(-gamma*(BL$15-$H70 )))      )","v":0},{"$f":"  $G70/[0]!Poids      *      (     (A*EXP(-alpha*(BM$15-$H70)))     +      (B*EXP(-bêta*(BM$15-$H70)))    +   (_C*EXP(-gamma*(BM$15-$H70 )))      )","v":0},{"$f":"  $G70/[0]!Poids      *      (     (A*EXP(-alpha*(BN$15-$H70)))     +      (B*EXP(-bêta*(BN$15-$H70)))    +   (_C*EXP(-gamma*(BN$15-$H70 )))      )","v":0},{"$f":"  $G70/[0]!Poids      *      (     (A*EXP(-alpha*(BO$15-$H70)))     +      (B*EXP(-bêta*(BO$15-$H70)))    +   (_C*EXP(-gamma*(BO$15-$H70 )))      )","v":0},{"$f":"  $G70/[0]!Poids      *      (     (A*EXP(-alpha*(BP$15-$H70)))     +      (B*EXP(-bêta*(BP$15-$H70)))    +   (_C*EXP(-gamma*(BP$15-$H70 )))      )","v":0},{"$f":"  $G70/[0]!Poids      *      (     (A*EXP(-alpha*(BQ$15-$H70)))     +      (B*EXP(-bêta*(BQ$15-$H70)))    +   (_C*EXP(-gamma*(BQ$15-$H70 )))      )","v":0},{"$f":"  $G70/[0]!Poids      *      (     (A*EXP(-alpha*(BR$15-$H70)))     +      (B*EXP(-bêta*(BR$15-$H70)))    +   (_C*EXP(-gamma*(BR$15-$H70 )))      )","v":0}]
[null,null,null,null,null,null,{"$f":"BM$10","v":0},275,null,null,null,null,null,null,null,null,null,null,null,null,null,null,null,null,null,null,null,null,null,null,null,null,null,null,null,null,null,null,null,null,null,null,null,null,null,null,null,null,null,null,null,null,null,null,null,null,null,null,null,null,null,null,null,null,{"$f":"  $G71/[0]!Poids      *      (     (A*EXP(-alpha*(BM$15-$H71)))     +      (B*EXP(-bêta*(BM$15-$H71)))    +   (_C*EXP(-gamma*(BM$15-$H71 )))      )","v":0},{"$f":"  $G71/[0]!Poids      *      (     (A*EXP(-alpha*(BN$15-$H71)))     +      (B*EXP(-bêta*(BN$15-$H71)))    +   (_C*EXP(-gamma*(BN$15-$H71 )))      )","v":0},{"$f":"  $G71/[0]!Poids      *      (     (A*EXP(-alpha*(BO$15-$H71)))     +      (B*EXP(-bêta*(BO$15-$H71)))    +   (_C*EXP(-gamma*(BO$15-$H71 )))      )","v":0},{"$f":"  $G71/[0]!Poids      *      (     (A*EXP(-alpha*(BP$15-$H71)))     +      (B*EXP(-bêta*(BP$15-$H71)))    +   (_C*EXP(-gamma*(BP$15-$H71 )))      )","v":0},{"$f":"  $G71/[0]!Poids      *      (     (A*EXP(-alpha*(BQ$15-$H71)))     +      (B*EXP(-bêta*(BQ$15-$H71)))    +   (_C*EXP(-gamma*(BQ$15-$H71 )))      )","v":0},{"$f":"  $G71/[0]!Poids      *      (     (A*EXP(-alpha*(BR$15-$H71)))     +      (B*EXP(-bêta*(BR$15-$H71)))    +   (_C*EXP(-gamma*(BR$15-$H71 )))      )","v":0}]
[null,null,null,null,null,null,{"$f":"BN$10","v":0},280,null,null,null,null,null,null,null,null,null,null,null,null,null,null,null,null,null,null,null,null,null,null,null,null,null,null,null,null,null,null,null,null,null,null,null,null,null,null,null,null,null,null,null,null,null,null,null,null,null,null,null,null,null,null,null,null,null,{"$f":"  $G72/[0]!Poids      *      (     (A*EXP(-alpha*(BN$15-$H72)))     +      (B*EXP(-bêta*(BN$15-$H72)))    +   (_C*EXP(-gamma*(BN$15-$H72 )))      )","v":0},{"$f":"  $G72/[0]!Poids      *      (     (A*EXP(-alpha*(BO$15-$H72)))     +      (B*EXP(-bêta*(BO$15-$H72)))    +   (_C*EXP(-gamma*(BO$15-$H72 )))      )","v":0},{"$f":"  $G72/[0]!Poids      *      (     (A*EXP(-alpha*(BP$15-$H72)))     +      (B*EXP(-bêta*(BP$15-$H72)))    +   (_C*EXP(-gamma*(BP$15-$H72 )))      )","v":0},{"$f":"  $G72/[0]!Poids      *      (     (A*EXP(-alpha*(BQ$15-$H72)))     +      (B*EXP(-bêta*(BQ$15-$H72)))    +   (_C*EXP(-gamma*(BQ$15-$H72 )))      )","v":0},{"$f":"  $G72/[0]!Poids      *      (     (A*EXP(-alpha*(BR$15-$H72)))     +      (B*EXP(-bêta*(BR$15-$H72)))    +   (_C*EXP(-gamma*(BR$15-$H72 )))      )","v":0}]
[null,null,null,null,null,null,{"$f":"BO$10","v":0},285,null,null,null,null,null,null,null,null,null,null,null,null,null,null,null,null,null,null,null,null,null,null,null,null,null,null,null,null,null,null,null,null,null,null,null,null,null,null,null,null,null,null,null,null,null,null,null,null,null,null,null,null,null,null,null,null,null,null,{"$f":"  $G73/[0]!Poids      *      (     (A*EXP(-alpha*(BO$15-$H73)))     +      (B*EXP(-bêta*(BO$15-$H73)))    +   (_C*EXP(-gamma*(BO$15-$H73 )))      )","v":0},{"$f":"  $G73/[0]!Poids      *      (     (A*EXP(-alpha*(BP$15-$H73)))     +      (B*EXP(-bêta*(BP$15-$H73)))    +   (_C*EXP(-gamma*(BP$15-$H73 )))      )","v":0},{"$f":"  $G73/[0]!Poids      *      (     (A*EXP(-alpha*(BQ$15-$H73)))     +      (B*EXP(-bêta*(BQ$15-$H73)))    +   (_C*EXP(-gamma*(BQ$15-$H73 )))      )","v":0},{"$f":"  $G73/[0]!Poids      *      (     (A*EXP(-alpha*(BR$15-$H73)))     +      (B*EXP(-bêta*(BR$15-$H73)))    +   (_C*EXP(-gamma*(BR$15-$H73 )))      )","v":0}]
[null,null,null,null,null,null,{"$f":"BP$10","v":0},290,null,null,null,null,null,null,null,null,null,null,null,null,null,null,null,null,null,null,null,null,null,null,null,null,null,null,null,null,null,null,null,null,null,null,null,null,null,null,null,null,null,null,null,null,null,null,null,null,null,null,null,null,null,null,null,null,null,null,null,{"$f":"  $G74/[0]!Poids      *      (     (A*EXP(-alpha*(BP$15-$H74)))     +      (B*EXP(-bêta*(BP$15-$H74)))    +   (_C*EXP(-gamma*(BP$15-$H74 )))      )","v":0},{"$f":"  $G74/[0]!Poids      *      (     (A*EXP(-alpha*(BQ$15-$H74)))     +      (B*EXP(-bêta*(BQ$15-$H74)))    +   (_C*EXP(-gamma*(BQ$15-$H74 )))      )","v":0},{"$f":"  $G74/[0]!Poids      *      (     (A*EXP(-alpha*(BR$15-$H74)))     +      (B*EXP(-bêta*(BR$15-$H74)))    +   (_C*EXP(-gamma*(BR$15-$H74 )))      )","v":0}]
[null,null,null,null,null,null,{"$f":"BQ$10","v":0},295,null,null,null,null,null,null,null,null,null,null,null,null,null,null,null,null,null,null,null,null,null,null,null,null,null,null,null,null,null,null,null,null,null,null,null,null,null,null,null,null,null,null,null,null,null,null,null,null,null,null,null,null,null,null,null,null,null,null,null,null,{"$f":"  $G75/[0]!Poids      *      (     (A*EXP(-alpha*(BQ$15-$H75)))     +      (B*EXP(-bêta*(BQ$15-$H75)))    +   (_C*EXP(-gamma*(BQ$15-$H75 )))      )","v":0},{"$f":"  $G75/[0]!Poids      *      (     (A*EXP(-alpha*(BR$15-$H75)))     +      (B*EXP(-bêta*(BR$15-$H75)))    +   (_C*EXP(-gamma*(BR$15-$H75 )))      )","v":0}]
[null,null,null,null,null,null,{"$f":"BR$10","v":0},300,null,null,null,null,null,null,null,null,null,null,null,null,null,null,null,null,null,null,null,null,null,null,null,null,null,null,null,null,null,null,null,null,null,null,null,null,null,null,null,null,null,null,null,null,null,null,null,null,null,null,null,null,null,null,null,null,null,null,null,null,null,{"$f":"  $G76/[0]!Poids      *      (     (A*EXP(-alpha*(BR$15-$H76)))     +      (B*EXP(-bêta*(BR$15-$H76)))    +   (_C*EXP(-gamma*(BR$15-$H76 )))      )","v":0}]
[]
[null,null,null,null,null,null,null,"time",null,{"$f":"J15","v":0},{"$f":"K15","v":5},10,15,20,25,30,35,40,45,50,55,60,65,70,75,80,85,90,95,100,105,110,115,120,125,130,135,140,145,150,155,160,165,170,175,180,185,190,195,200,205,210,215,220,225,230,235,240,245,250,255,260,265,270,275,280,285,290,295,300]
[null,null,null,null,null,null,null,"C (t)",null,{"$f":"SUM(J16:J75)","v":0},0,0,0,0,0,0,0,0,0,0,0,0,0,0,0,0,0,0,0,0,0,0,0,0,0,0,0,0,0,{"$f":"SUM(AN16:AN75)","v":0},{"$f":"SUM(AO16:AO75)","v":0},0,0,0,0,0,0,0,0,0,0,0,0,0,0,0,0,0,0,0,0,0,0,0,0,0,0,0,{"$f":"SUM(BQ16:BQ75)","v":0},{"$f":"SUM(BR16:BR77)","v":0}]

{"sheet":"KAMP","index":8,"n_rows":79,"n_cols":70,"rows_kept":79,"cut":false,"hidden":true,"merged":[[30,1,30,4],[5,6,5,8],[6,6,6,8],[7,6,7,8]]}
[]
[]
[]
[null," C(t) = q/OFA!Poids      *    [     (A*EXP(-alpha*(E$9-$F2))      +      B*EXP(-bêta*(E$9-$F2))      +     C*EXP(-gamma*(E$9-$F2 ))     ] "]
[]
[null,null,null,null,null,null,"Bolus",null,null,{"$f":"KPTiva!I31","v":0},{"$f":"KPTiva!J31","v":0},{"$f":"KPTiva!K31","v":0},{"$f":"KPTiva!L31","v":0},{"$f":"KPTiva!M31","v":0},{"$f":"KPTiva!N31","v":0},{"$f":"KPTiva!O31","v":0},{"$f":"KPTiva!P31","v":0},{"$f":"KPTiva!Q31","v":0},{"$f":"KPTiva!R31","v":0},{"$f":"KPTiva!S31","v":0},{"$f":"KPTiva!T31","v":0},{"$f":"KPTiva!U31","v":0},{"$f":"KPTiva!V31","v":0},{"$f":"KPTiva!W31","v":0},{"$f":"KPTiva!X31","v":0},{"$f":"KPTiva!Y31","v":0},{"$f":"KPTiva!Z31","v":0},{"$f":"KPTiva!AA31","v":0},{"$f":"KPTiva!AB31","v":0},{"$f":"KPTiva!AC31","v":0},{"$f":"KPTiva!AD31","v":0},{"$f":"KPTiva!AE31","v":0},{"$f":"KPTiva!AF31","v":0},{"$f":"KPTiva!AG31","v":0},{"$f":"KPTiva!AH31","v":0},{"$f":"KPTiva!AI31","v":0},{"$f":"KPTiva!AJ31","v":0},{"$f":"KPTiva!AK31","v":0},{"$f":"KPTiva!AL31","v":0},{"$f":"KPTiva!AM31","v":0},{"$f":"KPTiva!AN31","v":0},{"$f":"KPTiva!AO31","v":0},{"$f":"KPTiva!AP31","v":0},{"$f":"KPTiva!AQ31","v":0},{"$f":"KPTiva!AR31","v":0},{"$f":"KPTiva!AS31","v":0},{"$f":"KPTiva!AT31","v":0},{"$f":"KPTiva!AU31","v":0},{"$f":"KPTiva!AV31","v":0},{"$f":"KPTiva!AW31","v":0},{"$f":"KPTiva!AX31","v":0},{"$f":"KPTiva!AY31","v":0},{"$f":"KPTiva!AZ31","v":0},{"$f":"KPTiva!BA31","v":0},{"$f":"KPTiva!BB31","v":0},{"$f":"KPTiva!BC31","v":0},{"$f":"KPTiva!BD31","v":0},{"$f":"KPTiva!BE31","v":0},{"$f":"KPTiva!BF31","v":0},{"$f":"KPTiva!BG31","v":0},{"$f":"KPTiva!BH31","v":0},{"$f":"KPTiva!BI31","v":0},{"$f":"KPTiva!BJ31","v":0},{"$f":"KPTiva!BK31","v":0},{"$f":"KPTiva!BL31","v":0},{"$f":"KPTiva!BM31","v":0},{"$f":"KPTiva!BN31","v":0},{"$f":"KPTiva!BO31","v":0},{"$f":"KPTiva!BP31","v":0},{"$f":"KPTiva!BQ31","v":0}]
[null,null,null,null,null,null,"mg/kg/h",null,null,{"$f":"KPTiva!I33*Poids/12","v":0},{"$f":"KPTiva!J33*Poids/12","v":0},{"$f":"KPTiva!K33*Poids/12","v":0},{"$f":"KPTiva!L33*Poids/12","v":0},{"$f":"KPTiva!M33*Poids/12","v":0},{"$f":"KPTiva!N33*Poids/12","v":0},{"$f":"KPTiva!O33*Poids/12","v":0},{"$f":"KPTiva!P33*Poids/12","v":0},{"$f":"KPTiva!Q33*Poids/12","v":0},{"$f":"KPTiva!R33*Poids/12","v":0},{"$f":"KPTiva!S33*Poids/12","v":0},{"$f":"KPTiva!T33*Poids/12","v":0},{"$f":"KPTiva!U33*Poids/12","v":0},{"$f":"KPTiva!V33*Poids/12","v":0},{"$f":"KPTiva!W33*Poids/12","v":0},{"$f":"KPTiva!X33*Poids/12","v":0},{"$f":"KPTiva!Y33*Poids/12","v":0},{"$f":"KPTiva!Z33*Poids/12","v":0},{"$f":"KPTiva!AA33*Poids/12","v":0},{"$f":"KPTiva!AB33*Poids/12","v":0},{"$f":"KPTiva!AC33*Poids/12","v":0},{"$f":"KPTiva!AD33*Poids/12","v":0},{"$f":"KPTiva!AE33*Poids/12","v":0},{"$f":"KPTiva!AF33*Poids/12","v":0},{"$f":"KPTiva!AG33*Poids/12","v":0},{"$f":"KPTiva!AH33*Poids/12","v":0},{"$f":"KPTiva!AI33*Poids/12","v":0},{"$f":"KPTiva!AJ33*Poids/12","v":0},{"$f":"KPTiva!AK33*Poids/12","v":0},{"$f":"KPTiva!AL33*Poids/12","v":0},{"$f":"KPTiva!AM33*Poids/12","v":0},{"$f":"KPTiva!AN33*Poids/12","v":0},{"$f":"KPTiva!AO33*Poids/12","v":0},{"$f":"KPTiva!AP33*Poids/12","v":0},{"$f":"KPTiva!AQ33*Poids/12","v":0},{"$f":"KPTiva!AR33*Poids/12","v":0},{"$f":"KPTiva!AS33*Poids/12","v":0},{"$f":"KPTiva!AT33*Poids/12","v":0},{"$f":"KPTiva!AU33*Poids/12","v":0},{"$f":"KPTiva!AV33*Poids/12","v":0},{"$f":"KPTiva!AW33*Poids/12","v":0},{"$f":"KPTiva!AX33*Poids/12","v":0},{"$f":"KPTiva!AY33*Poids/12","v":0},{"$f":"KPTiva!AZ33*Poids/12","v":0},{"$f":"KPTiva!BA33*Poids/12","v":0},{"$f":"KPTiva!BB33*Poids/12","v":0},{"$f":"KPTiva!BC33*Poids/12","v":0},{"$f":"KPTiva!BD33*Poids/12","v":0},{"$f":"KPTiva!BE33*Poids/12","v":0},{"$f":"KPTiva!BF33*Poids/12","v":0},{"$f":"KPTiva!BG33*Poids/12","v":0},{"$f":"KPTiva!BH33*Poids/12","v":0},{"$f":"KPTiva!BI33*Poids/12","v":0},{"$f":"KPTiva!BJ33*Poids/12","v":0},{"$f":"KPTiva!BK33*Poids/12","v":0},{"$f":"KPTiva!BL33*Poids/12","v":0},{"$f":"KPTiva!BM33*Poids/12","v":0},{"$f":"KPTiva!BN33*Poids/12","v":0},{"$f":"KPTiva!BO33*Poids/12","v":0},{"$f":"KPTiva!BP33*Poids/12","v":0},{"$f":"KPTiva!BQ33*Poids/12","v":0}]
[null,null,null,null,null,null,"µg/kg/min",null,null,{"$f":"(KPTiva!I34*Poids)/200","v":0},{"$f":"(KPTiva!J34*Poids)/200","v":0},{"$f":"(KPTiva!K34*Poids)/200","v":0},{"$f":"(KPTiva!L34*Poids)/200","v":0},{"$f":"(KPTiva!M34*Poids)/200","v":0},{"$f":"(KPTiva!N34*Poids)/200","v":0},{"$f":"(KPTiva!O34*Poids)/200","v":0},{"$f":"(KPTiva!P34*Poids)/200","v":0},{"$f":"(KPTiva!Q34*Poids)/200","v":0},{"$f":"(KPTiva!R34*Poids)/200","v":0},{"$f":"(KPTiva!S34*Poids)/200","v":0},{"$f":"(KPTiva!T34*Poids)/200","v":0},{"$f":"(KPTiva!U34*Poids)/200","v":0},{"$f":"(KPTiva!V34*Poids)/200","v":0},{"$f":"(KPTiva!W34*Poids)/200","v":0},{"$f":"(KPTiva!X34*Poids)/200","v":0},{"$f":"(KPTiva!Y34*Poids)/200","v":0},{"$f":"(KPTiva!Z34*Poids)/200","v":0},{"$f":"(KPTiva!AA34*Poids)/200","v":0},{"$f":"(KPTiva!AB34*Poids)/200","v":0},{"$f":"(KPTiva!AC34*Poids)/200","v":0},{"$f":"(KPTiva!AD34*Poids)/200","v":0},{"$f":"(KPTiva!AE34*Poids)/200","v":0},{"$f":"(KPTiva!AF34*Poids)/200","v":0},{"$f":"(KPTiva!AG34*Poids)/200","v":0},{"$f":"(KPTiva!AH34*Poids)/200","v":0},{"$f":"(KPTiva!AI34*Poids)/200","v":0},{"$f":"(KPTiva!AJ34*Poids)/200","v":0},{"$f":"(KPTiva!AK34*Poids)/200","v":0},{"$f":"(KPTiva!AL34*Poids)/200","v":0},{"$f":"(KPTiva!AM34*Poids)/200","v":0},{"$f":"(KPTiva!AN34*Poids)/200","v":0},{"$f":"(KPTiva!AO34*Poids)/200","v":0},{"$f":"(KPTiva!AP34*Poids)/200","v":0},{"$f":"(KPTiva!AQ34*Poids)/200","v":0},{"$f":"(KPTiva!AR34*Poids)/200","v":0},{"$f":"(KPTiva!AS34*Poids)/200","v":0},{"$f":"(KPTiva!AT34*Poids)/200","v":0},{"$f":"(KPTiva!AU34*Poids)/200","v":0},{"$f":"(KPTiva!AV34*Poids)/200","v":0},{"$f":"(KPTiva!AW34*Poids)/200","v":0},{"$f":"(KPTiva!AX34*Poids)/200","v":0},{"$f":"(KPTiva!AY34*Poids)/200","v":0},{"$f":"(KPTiva!AZ34*Poids)/200","v":0},{"$f":"(KPTiva!BA34*Poids)/200","v":0},{"$f":"(KPTiva!BB34*Poids)/200","v":0},{"$f":"(KPTiva!BC34*Poids)/200","v":0},{"$f":"(KPTiva!BD34*Poids)/200","v":0},{"$f":"(KPTiva!BE34*Poids)/200","v":0},{"$f":"(KPTiva!BF34*Poids)/200","v":0},{"$f":"(KPTiva!BG34*Poids)/200","v":0},{"$f":"(KPTiva!BH34*Poids)/200","v":0},{"$f":"(KPTiva!BI34*Poids)/200","v":0},{"$f":"(KPTiva!BJ34*Poids)/200","v":0},{"$f":"(KPTiva!BK34*Poids)/200","v":0},{"$f":"(KPTiva!BL34*Poids)/200","v":0},{"$f":"(KPTiva!BM34*Poids)/200","v":0},{"$f":"(KPTiva!BN34*Poids)/200","v":0},{"$f":"(KPTiva!BO34*Poids)/200","v":0},{"$f":"(KPTiva!BP34*Poids)/200","v":0},{"$f":"(KPTiva!BQ34*Poids)/200","v":0}]
[]
[null,null,null,null,null,null,"total mg",null,"zéro",{"$f":"SUM(J6:J8)","v":0},{"$f":"SUM(K6:K8)","v":0},0,0,0,0,0,0,0,0,0,0,0,0,0,0,0,0,0,0,0,0,0,0,0,0,0,0,0,0,0,0,0,0,0,0,0,0,0,0,0,0,0,0,0,0,0,0,0,0,0,0,0,0,0,0,0,0,0,{"$f":"SUM(BQ6:BQ8)","v":0},0]
[]
[]
[]
[null,null,null,null,null,null,"q (t)",null,null,{"$f":"J$10","v":0},0,0,0,0,0,0,0,0,0,0,0,0,0,0,0,0,0,0,0,0,0,0,0,0,0,0,0,0,0,0,0,0,0,0,0,0,0,0,0,0,0,0,0,0,0,0,0,0,0,0,0,0,0,0,0,0,0,0,0,{"$f":"BR$10","v":0}]
[null,null,null,null,null,null,null,null,null,0,5,10,15,20,25,30,35,40,45,50,55,60,65,70,75,80,85,90,95,100,105,110,115,120,125,130,135,140,145,150,155,160,165,170,175,180,185,190,195,200,205,210,215,220,225,230,235,240,245,250,255,260,265,270,275,280,285,290,295,300]
[null,null,null,null,null,null,{"$f":"J$10","v":0},0,null,{"$f":"  $G16/[0]!Poids      *      (     (A*EXP(-alpha*(J$15-$H16)))     +      (B*EXP(-bêta*(J$15-$H16)))    +   (_C*EXP(-gamma*(J$15-$H16 )))      )","v":0},{"$f":"  $G16/[0]!Poids      *      (     (A*EXP(-alpha*(K$15-$H16)))     +      (B*EXP(-bêta*(K$15-$H16)))    +   (_C*EXP(-gamma*(K$15-$H16 )))      )","v":0},{"$f":"  $G16/[0]!Poids      *      (     (A*EXP(-alpha*(L$15-$H16)))     +      (B*EXP(-bêta*(L$15-$H16)))    +   (_C*EXP(-gamma*(L$15-$H16 )))      )","v":0},{"$f":"  $G16/[0]!Poids      *      (     (A*EXP(-alpha*(M$15-$H16)))     +      (B*EXP(-bêta*(M$15-$H16)))    +   (_C*EXP(-gamma*(M$15-$H16 )))      )","v":0},{"$f":"  $G16/[0]!Poids      *      (     (A*EXP(-alpha*(N$15-$H16)))     +      (B*EXP(-bêta*(N$15-$H16)))    +   (_C*EXP(-gamma*(N$15-$H16 )))      )","v":0},{"$f":"  $G16/[0]!Poids      *      (     (A*EXP(-alpha*(O$15-$H16)))     +      (B*EXP(-bêta*(O$15-$H16)))    +   (_C*EXP(-gamma*(O$15-$H16 )))      )","v":0},{"$f":"  $G16/[0]!Poids      *      (     (A*EXP(-alpha*(P$15-$H16)))     +      (B*EXP(-bêta*(P$15-$H16)))    +   (_C*EXP(-gamma*(P$15-$H16 )))      )","v":0},{"$f":"  $G16/[0]!Poids      *      (     (A*EXP(-alpha*(Q$15-$H16)))     +      (B*EXP(-bêta*(Q$15-$H16)))    +   (_C*EXP(-gamma*(Q$15-$H16 )))      )","v":0},{"$f":"  $G16/[0]!Poids      *      (     (A*EXP(-alpha*(R$15-$H16)))     +      (B*EXP(-bêta*(R$15-$H16)))    +   (_C*EXP(-gamma*(R$15-$H16 )))      )","v":0},{"$f":"  $G16/[0]!Poids      *      (     (A*EXP(-alpha*(S$15-$H16)))     +      (B*EXP(-bêta*(S$15-$H16)))    +   (_C*EXP(-gamma*(S$15-$H16 )))      )","v":0},{"$f":"  $G16/[0]!Poids      *      (     (A*EXP(-alpha*(T$15-$H16)))     +      (B*EXP(-bêta*(T$15-$H16)))    +   (_C*EXP(-gamma*(T$15-$H16 )))      )","v":0},{"$f":"  $G16/[0]!Poids      *      (     (A*EXP(-alpha*(U$15-$H16)))     +      (B*EXP(-bêta*(U$15-$H16)))    +   (_C*EXP(-gamma*(U$15-$H16 )))      )","v":0},{"$f":"  $G16/[0]!Poids      *      (     (A*EXP(-alpha*(V$15-$H16)))     +      (B*EXP(-bêta*(V$15-$H16)))    +   (_C*EXP(-gamma*(V$15-$H16 )))      )","v":0},{"$f":"  $G16/[0]!Poids      *      (     (A*EXP(-alpha*(W$15-$H16)))     +      (B*EXP(-bêta*(W$15-$H16)))    +   (_C*EXP(-gamma*(W$15-$H16 )))      )","v":0},{"$f":"  $G16/[0]!Poids      *      (     (A*EXP(-alpha*(X$15-$H16)))     +      (B*EXP(-bêta*(X$15-$H16)))    +   (_C*EXP(-gamma*(X$15-$H16 )))      )","v":0},{"$f":"  $G16/[0]!Poids      *      (     (A*EXP(-alpha*(Y$15-$H16)))     +      (B*EXP(-bêta*(Y$15-$H16)))    +   (_C*EXP(-gamma*(Y$15-$H16 )))      )","v":0},{"$f":"  $G16/[0]!Poids      *      (     (A*EXP(-alpha*(Z$15-$H16)))     +      (B*EXP(-bêta*(Z$15-$H16)))    +   (_C*EXP(-gamma*(Z$15-$H16 )))      )","v":0},{"$f":"  $G16/[0]!Poids      *      (     (A*EXP(-alpha*(AA$15-$H16)))     +      (B*EXP(-bêta*(AA$15-$H16)))    +   (_C*EXP(-gamma*(AA$15-$H16 )))      )","v":0},{"$f":"  $G16/[0]!Poids      *      (     (A*EXP(-alpha*(AB$15-$H16)))     +      (B*EXP(-bêta*(AB$15-$H16)))    +   (_C*EXP(-gamma*(AB$15-$H16 )))      )","v":0},{"$f":"  $G16/[0]!Poids      *      (     (A*EXP(-alpha*(AC$15-$H16)))     +      (B*EXP(-bêta*(AC$15-$H16)))    +   (_C*EXP(-gamma*(AC$15-$H16 )))      )","v":0},{"$f":"  $G16/[0]!Poids      *      (     (A*EXP(-alpha*(AD$15-$H16)))     +      (B*EXP(-bêta*(AD$15-$H16)))    +   (_C*EXP(-gamma*(AD$15-$H16 )))      )","v":0},{"$f":"  $G16/[0]!Poids      *      (     (A*EXP(-alpha*(AE$15-$H16)))     +      (B*EXP(-bêta*(AE$15-$H16)))    +   (_C*EXP(-gamma*(AE$15-$H16 )))      )","v":0},{"$f":"  $G16/[0]!Poids      *      (     (A*EXP(-alpha*(AF$15-$H16)))     +      (B*EXP(-bêta*(AF$15-$H16)))    +   (_C*EXP(-gamma*(AF$15-$H16 )))      )","v":0},{"$f":"  $G16/[0]!Poids      *      (     (A*EXP(-alpha*(AG$15-$H16)))     +      (B*EXP(-bêta*(AG$15-$H16)))    +   (_C*EXP(-gamma*(AG$15-$H16 )))      )","v":0},{"$f":"  $G16/[0]!Poids      *      (     (A*EXP(-alpha*(AH$15-$H16)))     +      (B*EXP(-bêta*(AH$15-$H16)))    +   (_C*EXP(-gamma*(AH$15-$H16 )))      )","v":0},{"$f":"  $G16/[0]!Poids      *      (     (A*EXP(-alpha*(AI$15-$H16)))     +      (B*EXP(-bêta*(AI$15-$H16)))    +   (_C*EXP(-gamma*(AI$15-$H16 )))      )","v":0},{"$f":"  $G16/[0]!Poids      *      (     (A*EXP(-alpha*(AJ$15-$H16)))     +      (B*EXP(-bêta*(AJ$15-$H16)))    +   (_C*EXP(-gamma*(AJ$15-$H16 )))      )","v":0},{"$f":"  $G16/[0]!Poids      *      (     (A*EXP(-alpha*(AK$15-$H16)))     +      (B*EXP(-bêta*(AK$15-$H16)))    +   (_C*EXP(-gamma*(AK$15-$H16 )))      )","v":0},{"$f":"  $G16/[0]!Poids      *      (     (A*EXP(-alpha*(AL$15-$H16)))     +      (B*EXP(-bêta*(AL$15-$H16)))    +   (_C*EXP(-gamma*(AL$15-$H16 )))      )","v":0},{"$f":"  $G16/[0]!Poids      *      (     (A*EXP(-alpha*(AM$15-$H16)))     +      (B*EXP(-bêta*(AM$15-$H16)))    +   (_C*EXP(-gamma*(AM$15-$H16 )))      )","v":0},{"$f":"  $G16/[0]!Poids      *      (     (A*EXP(-alpha*(AN$15-$H16)))     +      (B*EXP(-bêta*(AN$15-$H16)))    +   (_C*EXP(-gamma*(AN$15-$H16 )))      )","v":0},{"$f":"  $G16/[0]!Poids      *      (     (A*EXP(-alpha*(AO$15-$H16)))     +      (B*EXP(-bêta*(AO$15-$H16)))    +   (_C*EXP(-gamma*(AO$15-$H16 )))      )","v":0},{"$f":"  $G16/[0]!Poids      *      (     (A*EXP(-alpha*(AP$15-$H16)))     +      (B*EXP(-bêta*(AP$15-$H16)))    +   (_C*EXP(-gamma*(AP$15-$H16 )))      )","v":0},{"$f":"  $G16/[0]!Poids      *      (     (A*EXP(-alpha*(AQ$15-$H16)))     +      (B*EXP(-bêta*(AQ$15-$H16)))    +   (_C*EXP(-gamma*(AQ$15-$H16 )))      )","v":0},{"$f":"  $G16/[0]!Poids      *      (     (A*EXP(-alpha*(AR$15-$H16)))     +      (B*EXP(-bêta*(AR$15-$H16)))    +   (_C*EXP(-gamma*(AR$15-$H16 )))      )","v":0},{"$f":"  $G16/[0]!Poids      *      (     (A*EXP(-alpha*(AS$15-$H16)))     +      (B*EXP(-bêta*(AS$15-$H16)))    +   (_C*EXP(-gamma*(AS$15-$H16 )))      )","v":0},{"$f":"  $G16/[0]!Poids      *      (     (A*EXP(-alpha*(AT$15-$H16)))     +      (B*EXP(-bêta*(AT$15-$H16)))    +   (_C*EXP(-gamma*(AT$15-$H16 )))      )","v":0},{"$f":"  $G16/[0]!Poids      *      (     (A*EXP(-alpha*(AU$15-$H16)))     +      (B*EXP(-bêta*(AU$15-$H16)))    +   (_C*EXP(-gamma*(AU$15-$H16 )))      )","v":0},{"$f":"  $G16/[0]!Poids      *      (     (A*EXP(-alpha*(AV$15-$H16)))     +      (B*EXP(-bêta*(AV$15-$H16)))    +   (_C*EXP(-gamma*(AV$15-$H16 )))      )","v":0},{"$f":"  $G16/[0]!Poids      *      (     (A*EXP(-alpha*(AW$15-$H16)))     +      (B*EXP(-bêta*(AW$15-$H16)))    +   (_C*EXP(-gamma*(AW$15-$H16 )))      )","v":0},{"$f":"  $G16/[0]!Poids      *      (     (A*EXP(-alpha*(AX$15-$H16)))     +      (B*EXP(-bêta*(AX$15-$H16)))    +   (_C*EXP(-gamma*(AX$15-$H16 )))      )","v":0},{"$f":"  $G16/[0]!Poids      *      (     (A*EXP(-alpha*(AY$15-$H16)))     +      (B*EXP(-bêta*(AY$15-$H16)))    +   (_C*EXP(-gamma*(AY$15-$H16 )))      )","v":0},{"$f":"  $G16/[0]!Poids      *      (     (A*EXP(-alpha*(AZ$15-$H16)))     +      (B*EXP(-bêta*(AZ$15-$H16)))    +   (_C*EXP(-gamma*(AZ$15-$H16 )))      )","v":0},{"$f":"  $G16/[0]!Poids      *      (     (A*EXP(-alpha*(BA$15-$H16)))     +      (B*EXP(-bêta*(BA$15-$H16)))    +   (_C*EXP(-gamma*(BA$15-$H16 )))      )","v":0},{"$f":"  $G16/[0]!Poids      *      (     (A*EXP(-alpha*(BB$15-$H16)))     +      (B*EXP(-bêta*(BB$15-$H16)))    +   (_C*EXP(-gamma*(BB$15-$H16 )))      )","v":0},{"$f":"  $G16/[0]!Poids      *      (     (A*EXP(-alpha*(BC$15-$H16)))     +      (B*EXP(-bêta*(BC$15-$H16)))    +   (_C*EXP(-gamma*(BC$15-$H16 )))      )","v":0},{"$f":"  $G16/[0]!Poids      *      (     (A*EXP(-alpha*(BD$15-$H16)))     +      (B*EXP(-bêta*(BD$15-$H16)))    +   (_C*EXP(-gamma*(BD$15-$H16 )))      )","v":0},{"$f":"  $G16/[0]!Poids      *      (     (A*EXP(-alpha*(BE$15-$H16)))     +      (B*EXP(-bêta*(BE$15-$H16)))    +   (_C*EXP(-gamma*(BE$15-$H16 )))      )","v":0},{"$f":"  $G16/[0]!Poids      *      (     (A*EXP(-alpha*(BF$15-$H16)))     +      (B*EXP(-bêta*(BF$15-$H16)))    +   (_C*EXP(-gamma*(BF$15-$H16 )))      )","v":0},{"$f":"  $G16/[0]!Poids      *      (     (A*EXP(-alpha*(BG$15-$H16)))     +      (B*EXP(-bêta*(BG$15-$H16)))    +   (_C*EXP(-gamma*(BG$15-$H16 )))      )","v":0},{"$f":"  $G16/[0]!Poids      *      (     (A*EXP(-alpha*(BH$15-$H16)))     +      (B*EXP(-bêta*(BH$15-$H16)))    +   (_C*EXP(-gamma*(BH$15-$H16 )))      )","v":0},{"$f":"  $G16/[0]!Poids      *      (     (A*EXP(-alpha*(BI$15-$H16)))     +      (B*EXP(-bêta*(BI$15-$H16)))    +   (_C*EXP(-gamma*(BI$15-$H16 )))      )","v":0},{"$f":"  $G16/[0]!Poids      *      (     (A*EXP(-alpha*(BJ$15-$H16)))     +      (B*EXP(-bêta*(BJ$15-$H16)))    +   (_C*EXP(-gamma*(BJ$15-$H16 )))      )","v":0},{"$f":"  $G16/[0]!Poids      *      (     (A*EXP(-alpha*(BK$15-$H16)))     +      (B*EXP(-bêta*(BK$15-$H16)))    +   (_C*EXP(-gamma*(BK$15-$H16 )))      )","v":0},{"$f":"  $G16/[0]!Poids      *      (     (A*EXP(-alpha*(BL$15-$H16)))     +      (B*EXP(-bêta*(BL$15-$H16)))    +   (_C*EXP(-gamma*(BL$15-$H16 )))      )","v":0},{"$f":"  $G16/[0]!Poids      *      (     (A*EXP(-alpha*(BM$15-$H16)))     +      (B*EXP(-bêta*(BM$15-$H16)))    +   (_C*EXP(-gamma*(BM$15-$H16 )))      )","v":0},{"$f":"  $G16/[0]!Poids      *      (     (A*EXP(-alpha*(BN$15-$H16)))     +      (B*EXP(-bêta*(BN$15-$H16)))    +   (_C*EXP(-gamma*(BN$15-$H16 )))      )","v":0},{"$f":"  $G16/[0]!Poids      *      (     (A*EXP(-alpha*(BO$15-$H16)))     +      (B*EXP(-bêta*(BO$15-$H16)))    +   (_C*EXP(-gamma*(BO$15-$H16 )))      )","v":0},{"$f":"  $G16/[0]!Poids      *      (     (A*EXP(-alpha*(BP$15-$H16)))     +      (B*EXP(-bêta*(BP$15-$H16)))    +   (_C*EXP(-gamma*(BP$15-$H16 )))      )","v":0},{"$f":"  $G16/[0]!Poids      *      (     (A*EXP(-alpha*(BQ$15-$H16)))     +      (B*EXP(-bêta*(BQ$15-$H16)))    +   (_C*EXP(-gamma*(BQ$15-$H16 )))      )","v":0},{"$f":"  $G16/[0]!Poids      *      (     (A*EXP(-alpha*(BR$15-$H16)))     +      (B*EXP(-bêta*(BR$15-$H16)))    +   (_C*EXP(-gamma*(BR$15-$H16 )))      )","v":0}]
[null,"A équation",1332,"A/dose",{"$f":"C17/D28","v":2664},null,{"$f":"K$10","v":0},5,null,null,{"$f":"  $G17/[0]!Poids      *      (     (A*EXP(-alpha*(K$15-$H17)))     +      (B*EXP(-bêta*(K$15-$H17)))    +   (_C*EXP(-gamma*(K$15-$H17 )))      )","v":0},{"$f":"  $G17/[0]!Poids      *      (     (A*EXP(-alpha*(L$15-$H17)))     +      (B*EXP(-bêta*(L$15-$H17)))    +   (_C*EXP(-gamma*(L$15-$H17 )))      )","v":0},{"$f":"  $G17/[0]!Poids      *      (     (A*EXP(-alpha*(M$15-$H17)))     +      (B*EXP(-bêta*(M$15-$H17)))    +   (_C*EXP(-gamma*(M$15-$H17 )))      )","v":0},{"$f":"  $G17/[0]!Poids      *      (     (A*EXP(-alpha*(N$15-$H17)))     +      (B*EXP(-bêta*(N$15-$H17)))    +   (_C*EXP(-gamma*(N$15-$H17 )))      )","v":0},{"$f":"  $G17/[0]!Poids      *      (     (A*EXP(-alpha*(O$15-$H17)))     +      (B*EXP(-bêta*(O$15-$H17)))    +   (_C*EXP(-gamma*(O$15-$H17 )))      )","v":0},{"$f":"  $G17/[0]!Poids      *      (     (A*EXP(-alpha*(P$15-$H17)))     +      (B*EXP(-bêta*(P$15-$H17)))    +   (_C*EXP(-gamma*(P$15-$H17 )))      )","v":0},{"$f":"  $G17/[0]!Poids      *      (     (A*EXP(-alpha*(Q$15-$H17)))     +      (B*EXP(-bêta*(Q$15-$H17)))    +   (_C*EXP(-gamma*(Q$15-$H17 )))      )","v":0},{"$f":"  $G17/[0]!Poids      *      (     (A*EXP(-alpha*(R$15-$H17)))     +      (B*EXP(-bêta*(R$15-$H17)))    +   (_C*EXP(-gamma*(R$15-$H17 )))      )","v":0},{"$f":"  $G17/[0]!Poids      *      (     (A*EXP(-alpha*(S$15-$H17)))     +      (B*EXP(-bêta*(S$15-$H17)))    +   (_C*EXP(-gamma*(S$15-$H17 )))      )","v":0},{"$f":"  $G17/[0]!Poids      *      (     (A*EXP(-alpha*(T$15-$H17)))     +      (B*EXP(-bêta*(T$15-$H17)))    +   (_C*EXP(-gamma*(T$15-$H17 )))      )","v":0},{"$f":"  $G17/[0]!Poids      *      (     (A*EXP(-alpha*(U$15-$H17)))     +      (B*EXP(-bêta*(U$15-$H17)))    +   (_C*EXP(-gamma*(U$15-$H17 )))      )","v":0},{"$f":"  $G17/[0]!Poids      *      (     (A*EXP(-alpha*(V$15-$H17)))     +      (B*EXP(-bêta*(V$15-$H17)))    +   (_C*EXP(-gamma*(V$15-$H17 )))      )","v":0},{"$f":"  $G17/[0]!Poids      *      (     (A*EXP(-alpha*(W$15-$H17)))     +      (B*EXP(-bêta*(W$15-$H17)))    +   (_C*EXP(-gamma*(W$15-$H17 )))      )","v":0},{"$f":"  $G17/[0]!Poids      *      (     (A*EXP(-alpha*(X$15-$H17)))     +      (B*EXP(-bêta*(X$15-$H17)))    +   (_C*EXP(-gamma*(X$15-$H17 )))      )","v":0},{"$f":"  $G17/[0]!Poids      *      (     (A*EXP(-alpha*(Y$15-$H17)))     +      (B*EXP(-bêta*(Y$15-$H17)))    +   (_C*EXP(-gamma*(Y$15-$H17 )))      )","v":0},{"$f":"  $G17/[0]!Poids      *      (     (A*EXP(-alpha*(Z$15-$H17)))     +      (B*EXP(-bêta*(Z$15-$H17)))    +   (_C*EXP(-gamma*(Z$15-$H17 )))      )","v":0},{"$f":"  $G17/[0]!Poids      *      (     (A*EXP(-alpha*(AA$15-$H17)))     +      (B*EXP(-bêta*(AA$15-$H17)))    +   (_C*EXP(-gamma*(AA$15-$H17 )))      )","v":0},{"$f":"  $G17/[0]!Poids      *      (     (A*EXP(-alpha*(AB$15-$H17)))     +      (B*EXP(-bêta*(AB$15-$H17)))    +   (_C*EXP(-gamma*(AB$15-$H17 )))      )","v":0},{"$f":"  $G17/[0]!Poids      *      (     (A*EXP(-alpha*(AC$15-$H17)))     +      (B*EXP(-bêta*(AC$15-$H17)))    +   (_C*EXP(-gamma*(AC$15-$H17 )))      )","v":0},{"$f":"  $G17/[0]!Poids      *      (     (A*EXP(-alpha*(AD$15-$H17)))     +      (B*EXP(-bêta*(AD$15-$H17)))    +   (_C*EXP(-gamma*(AD$15-$H17 )))      )","v":0},{"$f":"  $G17/[0]!Poids      *      (     (A*EXP(-alpha*(AE$15-$H17)))     +      (B*EXP(-bêta*(AE$15-$H17)))    +   (_C*EXP(-gamma*(AE$15-$H17 )))      )","v":0},{"$f":"  $G17/[0]!Poids      *      (     (A*EXP(-alpha*(AF$15-$H17)))     +      (B*EXP(-bêta*(AF$15-$H17)))    +   (_C*EXP(-gamma*(AF$15-$H17 )))      )","v":0},{"$f":"  $G17/[0]!Poids      *      (     (A*EXP(-alpha*(AG$15-$H17)))     +      (B*EXP(-bêta*(AG$15-$H17)))    +   (_C*EXP(-gamma*(AG$15-$H17 )))      )","v":0},{"$f":"  $G17/[0]!Poids      *      (     (A*EXP(-alpha*(AH$15-$H17)))     +      (B*EXP(-bêta*(AH$15-$H17)))    +   (_C*EXP(-gamma*(AH$15-$H17 )))      )","v":0},{"$f":"  $G17/[0]!Poids      *      (     (A*EXP(-alpha*(AI$15-$H17)))     +      (B*EXP(-bêta*(AI$15-$H17)))    +   (_C*EXP(-gamma*(AI$15-$H17 )))      )","v":0},{"$f":"  $G17/[0]!Poids      *      (     (A*EXP(-alpha*(AJ$15-$H17)))     +      (B*EXP(-bêta*(AJ$15-$H17)))    +   (_C*EXP(-gamma*(AJ$15-$H17 )))      )","v":0},{"$f":"  $G17/[0]!Poids      *      (     (A*EXP(-alpha*(AK$15-$H17)))     +      (B*EXP(-bêta*(AK$15-$H17)))    +   (_C*EXP(-gamma*(AK$15-$H17 )))      )","v":0},{"$f":"  $G17/[0]!Poids      *      (     (A*EXP(-alpha*(AL$15-$H17)))     +      (B*EXP(-bêta*(AL$15-$H17)))    +   (_C*EXP(-gamma*(AL$15-$H17 )))      )","v":0},{"$f":"  $G17/[0]!Poids      *      (     (A*EXP(-alpha*(AM$15-$H17)))     +      (B*EXP(-bêta*(AM$15-$H17)))    +   (_C*EXP(-gamma*(AM$15-$H17 )))      )","v":0},{"$f":"  $G17/[0]!Poids      *      (     (A*EXP(-alpha*(AN$15-$H17)))     +      (B*EXP(-bêta*(AN$15-$H17)))    +   (_C*EXP(-gamma*(AN$15-$H17 )))      )","v":0},{"$f":"  $G17/[0]!Poids      *      (     (A*EXP(-alpha*(AO$15-$H17)))     +      (B*EXP(-bêta*(AO$15-$H17)))    +   (_C*EXP(-gamma*(AO$15-$H17 )))      )","v":0},{"$f":"  $G17/[0]!Poids      *      (     (A*EXP(-alpha*(AP$15-$H17)))     +      (B*EXP(-bêta*(AP$15-$H17)))    +   (_C*EXP(-gamma*(AP$15-$H17 )))      )","v":0},{"$f":"  $G17/[0]!Poids      *      (     (A*EXP(-alpha*(AQ$15-$H17)))     +      (B*EXP(-bêta*(AQ$15-$H17)))    +   (_C*EXP(-gamma*(AQ$15-$H17 )))      )","v":0},{"$f":"  $G17/[0]!Poids      *      (     (A*EXP(-alpha*(AR$15-$H17)))     +      (B*EXP(-bêta*(AR$15-$H17)))    +   (_C*EXP(-gamma*(AR$15-$H17 )))      )","v":0},{"$f":"  $G17/[0]!Poids      *      (     (A*EXP(-alpha*(AS$15-$H17)))     +      (B*EXP(-bêta*(AS$15-$H17)))    +   (_C*EXP(-gamma*(AS$15-$H17 )))      )","v":0},{"$f":"  $G17/[0]!Poids      *      (     (A*EXP(-alpha*(AT$15-$H17)))     +      (B*EXP(-bêta*(AT$15-$H17)))    +   (_C*EXP(-gamma*(AT$15-$H17 )))      )","v":0},{"$f":"  $G17/[0]!Poids      *      (     (A*EXP(-alpha*(AU$15-$H17)))     +      (B*EXP(-bêta*(AU$15-$H17)))    +   (_C*EXP(-gamma*(AU$15-$H17 )))      )","v":0},{"$f":"  $G17/[0]!Poids      *      (     (A*EXP(-alpha*(AV$15-$H17)))     +      (B*EXP(-bêta*(AV$15-$H17)))    +   (_C*EXP(-gamma*(AV$15-$H17 )))      )","v":0},{"$f":"  $G17/[0]!Poids      *      (     (A*EXP(-alpha*(AW$15-$H17)))     +      (B*EXP(-bêta*(AW$15-$H17)))    +   (_C*EXP(-gamma*(AW$15-$H17 )))      )","v":0},{"$f":"  $G17/[0]!Poids      *      (     (A*EXP(-alpha*(AX$15-$H17)))     +      (B*EXP(-bêta*(AX$15-$H17)))    +   (_C*EXP(-gamma*(AX$15-$H17 )))      )","v":0},{"$f":"  $G17/[0]!Poids      *      (     (A*EXP(-alpha*(AY$15-$H17)))     +      (B*EXP(-bêta*(AY$15-$H17)))    +   (_C*EXP(-gamma*(AY$15-$H17 )))      )","v":0},{"$f":"  $G17/[0]!Poids      *      (     (A*EXP(-alpha*(AZ$15-$H17)))     +      (B*EXP(-bêta*(AZ$15-$H17)))    +   (_C*EXP(-gamma*(AZ$15-$H17 )))      )","v":0},{"$f":"  $G17/[0]!Poids      *      (     (A*EXP(-alpha*(BA$15-$H17)))     +      (B*EXP(-bêta*(BA$15-$H17)))    +   (_C*EXP(-gamma*(BA$15-$H17 )))      )","v":0},{"$f":"  $G17/[0]!Poids      *      (     (A*EXP(-alpha*(BB$15-$H17)))     +      (B*EXP(-bêta*(BB$15-$H17)))    +   (_C*EXP(-gamma*(BB$15-$H17 )))      )","v":0},{"$f":"  $G17/[0]!Poids      *      (     (A*EXP(-alpha*(BC$15-$H17)))     +      (B*EXP(-bêta*(BC$15-$H17)))    +   (_C*EXP(-gamma*(BC$15-$H17 )))      )","v":0},{"$f":"  $G17/[0]!Poids      *      (     (A*EXP(-alpha*(BD$15-$H17)))     +      (B*EXP(-bêta*(BD$15-$H17)))    +   (_C*EXP(-gamma*(BD$15-$H17 )))      )","v":0},{"$f":"  $G17/[0]!Poids      *      (     (A*EXP(-alpha*(BE$15-$H17)))     +      (B*EXP(-bêta*(BE$15-$H17)))    +   (_C*EXP(-gamma*(BE$15-$H17 )))      )","v":0},{"$f":"  $G17/[0]!Poids      *      (     (A*EXP(-alpha*(BF$15-$H17)))     +      (B*EXP(-bêta*(BF$15-$H17)))    +   (_C*EXP(-gamma*(BF$15-$H17 )))      )","v":0},{"$f":"  $G17/[0]!Poids      *      (     (A*EXP(-alpha*(BG$15-$H17)))     +      (B*EXP(-bêta*(BG$15-$H17)))    +   (_C*EXP(-gamma*(BG$15-$H17 )))      )","v":0},{"$f":"  $G17/[0]!Poids      *      (     (A*EXP(-alpha*(BH$15-$H17)))     +      (B*EXP(-bêta*(BH$15-$H17)))    +   (_C*EXP(-gamma*(BH$15-$H17 )))      )","v":0},{"$f":"  $G17/[0]!Poids      *      (     (A*EXP(-alpha*(BI$15-$H17)))     +      (B*EXP(-bêta*(BI$15-$H17)))    +   (_C*EXP(-gamma*(BI$15-$H17 )))      )","v":0},{"$f":"  $G17/[0]!Poids      *      (     (A*EXP(-alpha*(BJ$15-$H17)))     +      (B*EXP(-bêta*(BJ$15-$H17)))    +   (_C*EXP(-gamma*(BJ$15-$H17 )))      )","v":0},{"$f":"  $G17/[0]!Poids      *      (     (A*EXP(-alpha*(BK$15-$H17)))     +      (B*EXP(-bêta*(BK$15-$H17)))    +   (_C*EXP(-gamma*(BK$15-$H17 )))      )","v":0},{"$f":"  $G17/[0]!Poids      *      (     (A*EXP(-alpha*(BL$15-$H17)))     +      (B*EXP(-bêta*(BL$15-$H17)))    +   (_C*EXP(-gamma*(BL$15-$H17 )))      )","v":0},{"$f":"  $G17/[0]!Poids      *      (     (A*EXP(-alpha*(BM$15-$H17)))     +      (B*EXP(-bêta*(BM$15-$H17)))    +   (_C*EXP(-gamma*(BM$15-$H17 )))      )","v":0},{"$f":"  $G17/[0]!Poids      *      (     (A*EXP(-alpha*(BN$15-$H17)))     +      (B*EXP(-bêta*(BN$15-$H17)))    +   (_C*EXP(-gamma*(BN$15-$H17 )))      )","v":0},{"$f":"  $G17/[0]!Poids      *      (     (A*EXP(-alpha*(BO$15-$H17)))     +      (B*EXP(-bêta*(BO$15-$H17)))    +   (_C*EXP(-gamma*(BO$15-$H17 )))      )","v":0},{"$f":"  $G17/[0]!Poids      *      (     (A*EXP(-alpha*(BP$15-$H17)))     +      (B*EXP(-bêta*(BP$15-$H17)))    +   (_C*EXP(-gamma*(BP$15-$H17 )))      )","v":0},{"$f":"  $G17/[0]!Poids      *      (     (A*EXP(-alpha*(BQ$15-$H17)))     +      (B*EXP(-bêta*(BQ$15-$H17)))    +   (_C*EXP(-gamma*(BQ$15-$H17 )))      )","v":0},{"$f":"  $G17/[0]!Poids      *      (     (A*EXP(-alpha*(BR$15-$H17)))     +      (B*EXP(-bêta*(BR$15-$H17)))    +   (_C*EXP(-gamma*(BR$15-$H17 )))      )","v":0}]
[null,"B équation",155,"B/dose",{"$f":"C18/D28","v":310},null,{"$f":"L$10","v":0},10,null,null,null,{"$f":"  $G18/[0]!Poids      *      (     (A*EXP(-alpha*(L$15-$H18)))     +      (B*EXP(-bêta*(L$15-$H18)))    +   (_C*EXP(-gamma*(L$15-$H18 )))      )","v":0},{"$f":"  $G18/[0]!Poids      *      (     (A*EXP(-alpha*(M$15-$H18)))     +      (B*EXP(-bêta*(M$15-$H18)))    +   (_C*EXP(-gamma*(M$15-$H18 )))      )","v":0},{"$f":"  $G18/[0]!Poids      *      (     (A*EXP(-alpha*(N$15-$H18)))     +      (B*EXP(-bêta*(N$15-$H18)))    +   (_C*EXP(-gamma*(N$15-$H18 )))      )","v":0},{"$f":"  $G18/[0]!Poids      *      (     (A*EXP(-alpha*(O$15-$H18)))     +      (B*EXP(-bêta*(O$15-$H18)))    +   (_C*EXP(-gamma*(O$15-$H18 )))      )","v":0},{"$f":"  $G18/[0]!Poids      *      (     (A*EXP(-alpha*(P$15-$H18)))     +      (B*EXP(-bêta*(P$15-$H18)))    +   (_C*EXP(-gamma*(P$15-$H18 )))      )","v":0},{"$f":"  $G18/[0]!Poids      *      (     (A*EXP(-alpha*(Q$15-$H18)))     +      (B*EXP(-bêta*(Q$15-$H18)))    +   (_C*EXP(-gamma*(Q$15-$H18 )))      )","v":0},{"$f":"  $G18/[0]!Poids      *      (     (A*EXP(-alpha*(R$15-$H18)))     +      (B*EXP(-bêta*(R$15-$H18)))    +   (_C*EXP(-gamma*(R$15-$H18 )))      )","v":0},{"$f":"  $G18/[0]!Poids      *      (     (A*EXP(-alpha*(S$15-$H18)))     +      (B*EXP(-bêta*(S$15-$H18)))    +   (_C*EXP(-gamma*(S$15-$H18 )))      )","v":0},{"$f":"  $G18/[0]!Poids      *      (     (A*EXP(-alpha*(T$15-$H18)))     +      (B*EXP(-bêta*(T$15-$H18)))    +   (_C*EXP(-gamma*(T$15-$H18 )))      )","v":0},{"$f":"  $G18/[0]!Poids      *      (     (A*EXP(-alpha*(U$15-$H18)))     +      (B*EXP(-bêta*(U$15-$H18)))    +   (_C*EXP(-gamma*(U$15-$H18 )))      )","v":0},{"$f":"  $G18/[0]!Poids      *      (     (A*EXP(-alpha*(V$15-$H18)))     +      (B*EXP(-bêta*(V$15-$H18)))    +   (_C*EXP(-gamma*(V$15-$H18 )))      )","v":0},{"$f":"  $G18/[0]!Poids      *      (     (A*EXP(-alpha*(W$15-$H18)))     +      (B*EXP(-bêta*(W$15-$H18)))    +   (_C*EXP(-gamma*(W$15-$H18 )))      )","v":0},{"$f":"  $G18/[0]!Poids      *      (     (A*EXP(-alpha*(X$15-$H18)))     +      (B*EXP(-bêta*(X$15-$H18)))    +   (_C*EXP(-gamma*(X$15-$H18 )))      )","v":0},{"$f":"  $G18/[0]!Poids      *      (     (A*EXP(-alpha*(Y$15-$H18)))     +      (B*EXP(-bêta*(Y$15-$H18)))    +   (_C*EXP(-gamma*(Y$15-$H18 )))      )","v":0},{"$f":"  $G18/[0]!Poids      *      (     (A*EXP(-alpha*(Z$15-$H18)))     +      (B*EXP(-bêta*(Z$15-$H18)))    +   (_C*EXP(-gamma*(Z$15-$H18 )))      )","v":0},{"$f":"  $G18/[0]!Poids      *      (     (A*EXP(-alpha*(AA$15-$H18)))     +      (B*EXP(-bêta*(AA$15-$H18)))    +   (_C*EXP(-gamma*(AA$15-$H18 )))      )","v":0},{"$f":"  $G18/[0]!Poids      *      (     (A*EXP(-alpha*(AB$15-$H18)))     +      (B*EXP(-bêta*(AB$15-$H18)))    +   (_C*EXP(-gamma*(AB$15-$H18 )))      )","v":0},{"$f":"  $G18/[0]!Poids      *      (     (A*EXP(-alpha*(AC$15-$H18)))     +      (B*EXP(-bêta*(AC$15-$H18)))    +   (_C*EXP(-gamma*(AC$15-$H18 )))      )","v":0},{"$f":"  $G18/[0]!Poids      *      (     (A*EXP(-alpha*(AD$15-$H18)))     +      (B*EXP(-bêta*(AD$15-$H18)))    +   (_C*EXP(-gamma*(AD$15-$H18 )))      )","v":0},{"$f":"  $G18/[0]!Poids      *      (     (A*EXP(-alpha*(AE$15-$H18)))     +      (B*EXP(-bêta*(AE$15-$H18)))    +   (_C*EXP(-gamma*(AE$15-$H18 )))      )","v":0},{"$f":"  $G18/[0]!Poids      *      (     (A*EXP(-alpha*(AF$15-$H18)))     +      (B*EXP(-bêta*(AF$15-$H18)))    +   (_C*EXP(-gamma*(AF$15-$H18 )))      )","v":0},{"$f":"  $G18/[0]!Poids      *      (     (A*EXP(-alpha*(AG$15-$H18)))     +      (B*EXP(-bêta*(AG$15-$H18)))    +   (_C*EXP(-gamma*(AG$15-$H18 )))      )","v":0},{"$f":"  $G18/[0]!Poids      *      (     (A*EXP(-alpha*(AH$15-$H18)))     +      (B*EXP(-bêta*(AH$15-$H18)))    +   (_C*EXP(-gamma*(AH$15-$H18 )))      )","v":0},{"$f":"  $G18/[0]!Poids      *      (     (A*EXP(-alpha*(AI$15-$H18)))     +      (B*EXP(-bêta*(AI$15-$H18)))    +   (_C*EXP(-gamma*(AI$15-$H18 )))      )","v":0},{"$f":"  $G18/[0]!Poids      *      (     (A*EXP(-alpha*(AJ$15-$H18)))     +      (B*EXP(-bêta*(AJ$15-$H18)))    +   (_C*EXP(-gamma*(AJ$15-$H18 )))      )","v":0},{"$f":"  $G18/[0]!Poids      *      (     (A*EXP(-alpha*(AK$15-$H18)))     +      (B*EXP(-bêta*(AK$15-$H18)))    +   (_C*EXP(-gamma*(AK$15-$H18 )))      )","v":0},{"$f":"  $G18/[0]!Poids      *      (     (A*EXP(-alpha*(AL$15-$H18)))     +      (B*EXP(-bêta*(AL$15-$H18)))    +   (_C*EXP(-gamma*(AL$15-$H18 )))      )","v":0},{"$f":"  $G18/[0]!Poids      *      (     (A*EXP(-alpha*(AM$15-$H18)))     +      (B*EXP(-bêta*(AM$15-$H18)))    +   (_C*EXP(-gamma*(AM$15-$H18 )))      )","v":0},{"$f":"  $G18/[0]!Poids      *      (     (A*EXP(-alpha*(AN$15-$H18)))     +      (B*EXP(-bêta*(AN$15-$H18)))    +   (_C*EXP(-gamma*(AN$15-$H18 )))      )","v":0},{"$f":"  $G18/[0]!Poids      *      (     (A*EXP(-alpha*(AO$15-$H18)))     +      (B*EXP(-bêta*(AO$15-$H18)))    +   (_C*EXP(-gamma*(AO$15-$H18 )))      )","v":0},{"$f":"  $G18/[0]!Poids      *      (     (A*EXP(-alpha*(AP$15-$H18)))     +      (B*EXP(-bêta*(AP$15-$H18)))    +   (_C*EXP(-gamma*(AP$15-$H18 )))      )","v":0},{"$f":"  $G18/[0]!Poids      *      (     (A*EXP(-alpha*(AQ$15-$H18)))     +      (B*EXP(-bêta*(AQ$15-$H18)))    +   (_C*EXP(-gamma*(AQ$15-$H18 )))      )","v":0},{"$f":"  $G18/[0]!Poids      *      (     (A*EXP(-alpha*(AR$15-$H18)))     +      (B*EXP(-bêta*(AR$15-$H18)))    +   (_C*EXP(-gamma*(AR$15-$H18 )))      )","v":0},{"$f":"  $G18/[0]!Poids      *      (     (A*EXP(-alpha*(AS$15-$H18)))     +      (B*EXP(-bêta*(AS$15-$H18)))    +   (_C*EXP(-gamma*(AS$15-$H18 )))      )","v":0},{"$f":"  $G18/[0]!Poids      *      (     (A*EXP(-alpha*(AT$15-$H18)))     +      (B*EXP(-bêta*(AT$15-$H18)))    +   (_C*EXP(-gamma*(AT$15-$H18 )))      )","v":0},{"$f":"  $G18/[0]!Poids      *      (     (A*EXP(-alpha*(AU$15-$H18)))     +      (B*EXP(-bêta*(AU$15-$H18)))    +   (_C*EXP(-gamma*(AU$15-$H18 )))      )","v":0},{"$f":"  $G18/[0]!Poids      *      (     (A*EXP(-alpha*(AV$15-$H18)))     +      (B*EXP(-bêta*(AV$15-$H18)))    +   (_C*EXP(-gamma*(AV$15-$H18 )))      )","v":0},{"$f":"  $G18/[0]!Poids      *      (     (A*EXP(-alpha*(AW$15-$H18)))     +      (B*EXP(-bêta*(AW$15-$H18)))    +   (_C*EXP(-gamma*(AW$15-$H18 )))      )","v":0},{"$f":"  $G18/[0]!Poids      *      (     (A*EXP(-alpha*(AX$15-$H18)))     +      (B*EXP(-bêta*(AX$15-$H18)))    +   (_C*EXP(-gamma*(AX$15-$H18 )))      )","v":0},{"$f":"  $G18/[0]!Poids      *      (     (A*EXP(-alpha*(AY$15-$H18)))     +      (B*EXP(-bêta*(AY$15-$H18)))    +   (_C*EXP(-gamma*(AY$15-$H18 )))      )","v":0},{"$f":"  $G18/[0]!Poids      *      (     (A*EXP(-alpha*(AZ$15-$H18)))     +      (B*EXP(-bêta*(AZ$15-$H18)))    +   (_C*EXP(-gamma*(AZ$15-$H18 )))      )","v":0},{"$f":"  $G18/[0]!Poids      *      (     (A*EXP(-alpha*(BA$15-$H18)))     +      (B*EXP(-bêta*(BA$15-$H18)))    +   (_C*EXP(-gamma*(BA$15-$H18 )))      )","v":0},{"$f":"  $G18/[0]!Poids      *      (     (A*EXP(-alpha*(BB$15-$H18)))     +      (B*EXP(-bêta*(BB$15-$H18)))    +   (_C*EXP(-gamma*(BB$15-$H18 )))      )","v":0},{"$f":"  $G18/[0]!Poids      *      (     (A*EXP(-alpha*(BC$15-$H18)))     +      (B*EXP(-bêta*(BC$15-$H18)))    +   (_C*EXP(-gamma*(BC$15-$H18 )))      )","v":0},{"$f":"  $G18/[0]!Poids      *      (     (A*EXP(-alpha*(BD$15-$H18)))     +      (B*EXP(-bêta*(BD$15-$H18)))    +   (_C*EXP(-gamma*(BD$15-$H18 )))      )","v":0},{"$f":"  $G18/[0]!Poids      *      (     (A*EXP(-alpha*(BE$15-$H18)))     +      (B*EXP(-bêta*(BE$15-$H18)))    +   (_C*EXP(-gamma*(BE$15-$H18 )))      )","v":0},{"$f":"  $G18/[0]!Poids      *      (     (A*EXP(-alpha*(BF$15-$H18)))     +      (B*EXP(-bêta*(BF$15-$H18)))    +   (_C*EXP(-gamma*(BF$15-$H18 )))      )","v":0},{"$f":"  $G18/[0]!Poids      *      (     (A*EXP(-alpha*(BG$15-$H18)))     +      (B*EXP(-bêta*(BG$15-$H18)))    +   (_C*EXP(-gamma*(BG$15-$H18 )))      )","v":0},{"$f":"  $G18/[0]!Poids      *      (     (A*EXP(-alpha*(BH$15-$H18)))     +      (B*EXP(-bêta*(BH$15-$H18)))    +   (_C*EXP(-gamma*(BH$15-$H18 )))      )","v":0},{"$f":"  $G18/[0]!Poids      *      (     (A*EXP(-alpha*(BI$15-$H18)))     +      (B*EXP(-bêta*(BI$15-$H18)))    +   (_C*EXP(-gamma*(BI$15-$H18 )))      )","v":0},{"$f":"  $G18/[0]!Poids      *      (     (A*EXP(-alpha*(BJ$15-$H18)))     +      (B*EXP(-bêta*(BJ$15-$H18)))    +   (_C*EXP(-gamma*(BJ$15-$H18 )))      )","v":0},{"$f":"  $G18/[0]!Poids      *      (     (A*EXP(-alpha*(BK$15-$H18)))     +      (B*EXP(-bêta*(BK$15-$H18)))    +   (_C*EXP(-gamma*(BK$15-$H18 )))      )","v":0},{"$f":"  $G18/[0]!Poids      *      (     (A*EXP(-alpha*(BL$15-$H18)))     +      (B*EXP(-bêta*(BL$15-$H18)))    +   (_C*EXP(-gamma*(BL$15-$H18 )))      )","v":0},{"$f":"  $G18/[0]!Poids      *      (     (A*EXP(-alpha*(BM$15-$H18)))     +      (B*EXP(-bêta*(BM$15-$H18)))    +   (_C*EXP(-gamma*(BM$15-$H18 )))      )","v":0},{"$f":"  $G18/[0]!Poids      *      (     (A*EXP(-alpha*(BN$15-$H18)))     +      (B*EXP(-bêta*(BN$15-$H18)))    +   (_C*EXP(-gamma*(BN$15-$H18 )))      )","v":0},{"$f":"  $G18/[0]!Poids      *      (     (A*EXP(-alpha*(BO$15-$H18)))     +      (B*EXP(-bêta*(BO$15-$H18)))    +   (_C*EXP(-gamma*(BO$15-$H18 )))      )","v":0},{"$f":"  $G18/[0]!Poids      *      (     (A*EXP(-alpha*(BP$15-$H18)))     +      (B*EXP(-bêta*(BP$15-$H18)))    +   (_C*EXP(-gamma*(BP$15-$H18 )))      )","v":0},{"$f":"  $G18/[0]!Poids      *      (     (A*EXP(-alpha*(BQ$15-$H18)))     +      (B*EXP(-bêta*(BQ$15-$H18)))    +   (_C*EXP(-gamma*(BQ$15-$H18 )))      )","v":0},{"$f":"  $G18/[0]!Poids      *      (     (A*EXP(-alpha*(BR$15-$H18)))     +      (B*EXP(-bêta*(BR$15-$H18)))    +   (_C*EXP(-gamma*(BR$15-$H18 )))      )","v":0}]
[null,"C équation",69,"C/dose",{"$f":"C19/D28","v":138},null,{"$f":"M$10","v":0},15,null,null,null,null,{"$f":"  $G19/[0]!Poids      *      (     (A*EXP(-alpha*(M$15-$H19)))     +      (B*EXP(-bêta*(M$15-$H19)))    +   (_C*EXP(-gamma*(M$15-$H19 )))      )","v":0},{"$f":"  $G19/[0]!Poids      *      (     (A*EXP(-alpha*(N$15-$H19)))     +      (B*EXP(-bêta*(N$15-$H19)))    +   (_C*EXP(-gamma*(N$15-$H19 )))      )","v":0},{"$f":"  $G19/[0]!Poids      *      (     (A*EXP(-alpha*(O$15-$H19)))     +      (B*EXP(-bêta*(O$15-$H19)))    +   (_C*EXP(-gamma*(O$15-$H19 )))      )","v":0},{"$f":"  $G19/[0]!Poids      *      (     (A*EXP(-alpha*(P$15-$H19)))     +      (B*EXP(-bêta*(P$15-$H19)))    +   (_C*EXP(-gamma*(P$15-$H19 )))      )","v":0},{"$f":"  $G19/[0]!Poids      *      (     (A*EXP(-alpha*(Q$15-$H19)))     +      (B*EXP(-bêta*(Q$15-$H19)))    +   (_C*EXP(-gamma*(Q$15-$H19 )))      )","v":0},{"$f":"  $G19/[0]!Poids      *      (     (A*EXP(-alpha*(R$15-$H19)))     +      (B*EXP(-bêta*(R$15-$H19)))    +   (_C*EXP(-gamma*(R$15-$H19 )))      )","v":0},{"$f":"  $G19/[0]!Poids      *      (     (A*EXP(-alpha*(S$15-$H19)))     +      (B*EXP(-bêta*(S$15-$H19)))    +   (_C*EXP(-gamma*(S$15-$H19 )))      )","v":0},{"$f":"  $G19/[0]!Poids      *      (     (A*EXP(-alpha*(T$15-$H19)))     +      (B*EXP(-bêta*(T$15-$H19)))    +   (_C*EXP(-gamma*(T$15-$H19 )))      )","v":0},{"$f":"  $G19/[0]!Poids      *      (     (A*EXP(-alpha*(U$15-$H19)))     +      (B*EXP(-bêta*(U$15-$H19)))    +   (_C*EXP(-gamma*(U$15-$H19 )))      )","v":0},{"$f":"  $G19/[0]!Poids      *      (     (A*EXP(-alpha*(V$15-$H19)))     +      (B*EXP(-bêta*(V$15-$H19)))    +   (_C*EXP(-gamma*(V$15-$H19 )))      )","v":0},{"$f":"  $G19/[0]!Poids      *      (     (A*EXP(-alpha*(W$15-$H19)))     +      (B*EXP(-bêta*(W$15-$H19)))    +   (_C*EXP(-gamma*(W$15-$H19 )))      )","v":0},{"$f":"  $G19/[0]!Poids      *      (     (A*EXP(-alpha*(X$15-$H19)))     +      (B*EXP(-bêta*(X$15-$H19)))    +   (_C*EXP(-gamma*(X$15-$H19 )))      )","v":0},{"$f":"  $G19/[0]!Poids      *      (     (A*EXP(-alpha*(Y$15-$H19)))     +      (B*EXP(-bêta*(Y$15-$H19)))    +   (_C*EXP(-gamma*(Y$15-$H19 )))      )","v":0},{"$f":"  $G19/[0]!Poids      *      (     (A*EXP(-alpha*(Z$15-$H19)))     +      (B*EXP(-bêta*(Z$15-$H19)))    +   (_C*EXP(-gamma*(Z$15-$H19 )))      )","v":0},{"$f":"  $G19/[0]!Poids      *      (     (A*EXP(-alpha*(AA$15-$H19)))     +      (B*EXP(-bêta*(AA$15-$H19)))    +   (_C*EXP(-gamma*(AA$15-$H19 )))      )","v":0},{"$f":"  $G19/[0]!Poids      *      (     (A*EXP(-alpha*(AB$15-$H19)))     +      (B*EXP(-bêta*(AB$15-$H19)))    +   (_C*EXP(-gamma*(AB$15-$H19 )))      )","v":0},{"$f":"  $G19/[0]!Poids      *      (     (A*EXP(-alpha*(AC$15-$H19)))     +      (B*EXP(-bêta*(AC$15-$H19)))    +   (_C*EXP(-gamma*(AC$15-$H19 )))      )","v":0},{"$f":"  $G19/[0]!Poids      *      (     (A*EXP(-alpha*(AD$15-$H19)))     +      (B*EXP(-bêta*(AD$15-$H19)))    +   (_C*EXP(-gamma*(AD$15-$H19 )))      )","v":0},{"$f":"  $G19/[0]!Poids      *      (     (A*EXP(-alpha*(AE$15-$H19)))     +      (B*EXP(-bêta*(AE$15-$H19)))    +   (_C*EXP(-gamma*(AE$15-$H19 )))      )","v":0},{"$f":"  $G19/[0]!Poids      *      (     (A*EXP(-alpha*(AF$15-$H19)))     +      (B*EXP(-bêta*(AF$15-$H19)))    +   (_C*EXP(-gamma*(AF$15-$H19 )))      )","v":0},{"$f":"  $G19/[0]!Poids      *      (     (A*EXP(-alpha*(AG$15-$H19)))     +      (B*EXP(-bêta*(AG$15-$H19)))    +   (_C*EXP(-gamma*(AG$15-$H19 )))      )","v":0},{"$f":"  $G19/[0]!Poids      *      (     (A*EXP(-alpha*(AH$15-$H19)))     +      (B*EXP(-bêta*(AH$15-$H19)))    +   (_C*EXP(-gamma*(AH$15-$H19 )))      )","v":0},{"$f":"  $G19/[0]!Poids      *      (     (A*EXP(-alpha*(AI$15-$H19)))     +      (B*EXP(-bêta*(AI$15-$H19)))    +   (_C*EXP(-gamma*(AI$15-$H19 )))      )","v":0},{"$f":"  $G19/[0]!Poids      *      (     (A*EXP(-alpha*(AJ$15-$H19)))     +      (B*EXP(-bêta*(AJ$15-$H19)))    +   (_C*EXP(-gamma*(AJ$15-$H19 )))      )","v":0},{"$f":"  $G19/[0]!Poids      *      (     (A*EXP(-alpha*(AK$15-$H19)))     +      (B*EXP(-bêta*(AK$15-$H19)))    +   (_C*EXP(-gamma*(AK$15-$H19 )))      )","v":0},{"$f":"  $G19/[0]!Poids      *      (     (A*EXP(-alpha*(AL$15-$H19)))     +      (B*EXP(-bêta*(AL$15-$H19)))    +   (_C*EXP(-gamma*(AL$15-$H19 )))      )","v":0},{"$f":"  $G19/[0]!Poids      *      (     (A*EXP(-alpha*(AM$15-$H19)))     +      (B*EXP(-bêta*(AM$15-$H19)))    +   (_C*EXP(-gamma*(AM$15-$H19 )))      )","v":0},{"$f":"  $G19/[0]!Poids      *      (     (A*EXP(-alpha*(AN$15-$H19)))     +      (B*EXP(-bêta*(AN$15-$H19)))    +   (_C*EXP(-gamma*(AN$15-$H19 )))      )","v":0},{"$f":"  $G19/[0]!Poids      *      (     (A*EXP(-alpha*(AO$15-$H19)))     +      (B*EXP(-bêta*(AO$15-$H19)))    +   (_C*EXP(-gamma*(AO$15-$H19 )))      )","v":0},{"$f":"  $G19/[0]!Poids      *      (     (A*EXP(-alpha*(AP$15-$H19)))     +      (B*EXP(-bêta*(AP$15-$H19)))    +   (_C*EXP(-gamma*(AP$15-$H19 )))      )","v":0},{"$f":"  $G19/[0]!Poids      *      (     (A*EXP(-alpha*(AQ$15-$H19)))     +      (B*EXP(-bêta*(AQ$15-$H19)))    +   (_C*EXP(-gamma*(AQ$15-$H19 )))      )","v":0},{"$f":"  $G19/[0]!Poids      *      (     (A*EXP(-alpha*(AR$15-$H19)))     +      (B*EXP(-bêta*(AR$15-$H19)))    +   (_C*EXP(-gamma*(AR$15-$H19 )))      )","v":0},{"$f":"  $G19/[0]!Poids      *      (     (A*EXP(-alpha*(AS$15-$H19)))     +      (B*EXP(-bêta*(AS$15-$H19)))    +   (_C*EXP(-gamma*(AS$15-$H19 )))      )","v":0},{"$f":"  $G19/[0]!Poids      *      (     (A*EXP(-alpha*(AT$15-$H19)))     +      (B*EXP(-bêta*(AT$15-$H19)))    +   (_C*EXP(-gamma*(AT$15-$H19 )))      )","v":0},{"$f":"  $G19/[0]!Poids      *      (     (A*EXP(-alpha*(AU$15-$H19)))     +      (B*EXP(-bêta*(AU$15-$H19)))    +   (_C*EXP(-gamma*(AU$15-$H19 )))      )","v":0},{"$f":"  $G19/[0]!Poids      *      (     (A*EXP(-alpha*(AV$15-$H19)))     +      (B*EXP(-bêta*(AV$15-$H19)))    +   (_C*EXP(-gamma*(AV$15-$H19 )))      )","v":0},{"$f":"  $G19/[0]!Poids      *      (     (A*EXP(-alpha*(AW$15-$H19)))     +      (B*EXP(-bêta*(AW$15-$H19)))    +   (_C*EXP(-gamma*(AW$15-$H19 )))      )","v":0},{"$f":"  $G19/[0]!Poids      *      (     (A*EXP(-alpha*(AX$15-$H19)))     +      (B*EXP(-bêta*(AX$15-$H19)))    +   (_C*EXP(-gamma*(AX$15-$H19 )))      )","v":0},{"$f":"  $G19/[0]!Poids      *      (     (A*EXP(-alpha*(AY$15-$H19)))     +      (B*EXP(-bêta*(AY$15-$H19)))    +   (_C*EXP(-gamma*(AY$15-$H19 )))      )","v":0},{"$f":"  $G19/[0]!Poids      *      (     (A*EXP(-alpha*(AZ$15-$H19)))     +      (B*EXP(-bêta*(AZ$15-$H19)))    +   (_C*EXP(-gamma*(AZ$15-$H19 )))      )","v":0},{"$f":"  $G19/[0]!Poids      *      (     (A*EXP(-alpha*(BA$15-$H19)))     +      (B*EXP(-bêta*(BA$15-$H19)))    +   (_C*EXP(-gamma*(BA$15-$H19 )))      )","v":0},{"$f":"  $G19/[0]!Poids      *      (     (A*EXP(-alpha*(BB$15-$H19)))     +      (B*EXP(-bêta*(BB$15-$H19)))    +   (_C*EXP(-gamma*(BB$15-$H19 )))      )","v":0},{"$f":"  $G19/[0]!Poids      *      (     (A*EXP(-alpha*(BC$15-$H19)))     +      (B*EXP(-bêta*(BC$15-$H19)))    +   (_C*EXP(-gamma*(BC$15-$H19 )))      )","v":0},{"$f":"  $G19/[0]!Poids      *      (     (A*EXP(-alpha*(BD$15-$H19)))     +      (B*EXP(-bêta*(BD$15-$H19)))    +   (_C*EXP(-gamma*(BD$15-$H19 )))      )","v":0},{"$f":"  $G19/[0]!Poids      *      (     (A*EXP(-alpha*(BE$15-$H19)))     +      (B*EXP(-bêta*(BE$15-$H19)))    +   (_C*EXP(-gamma*(BE$15-$H19 )))      )","v":0},{"$f":"  $G19/[0]!Poids      *      (     (A*EXP(-alpha*(BF$15-$H19)))     +      (B*EXP(-bêta*(BF$15-$H19)))    +   (_C*EXP(-gamma*(BF$15-$H19 )))      )","v":0},{"$f":"  $G19/[0]!Poids      *      (     (A*EXP(-alpha*(BG$15-$H19)))     +      (B*EXP(-bêta*(BG$15-$H19)))    +   (_C*EXP(-gamma*(BG$15-$H19 )))      )","v":0},{"$f":"  $G19/[0]!Poids      *      (     (A*EXP(-alpha*(BH$15-$H19)))     +      (B*EXP(-bêta*(BH$15-$H19)))    +   (_C*EXP(-gamma*(BH$15-$H19 )))      )","v":0},{"$f":"  $G19/[0]!Poids      *      (     (A*EXP(-alpha*(BI$15-$H19)))     +      (B*EXP(-bêta*(BI$15-$H19)))    +   (_C*EXP(-gamma*(BI$15-$H19 )))      )","v":0},{"$f":"  $G19/[0]!Poids      *      (     (A*EXP(-alpha*(BJ$15-$H19)))     +      (B*EXP(-bêta*(BJ$15-$H19)))    +   (_C*EXP(-gamma*(BJ$15-$H19 )))      )","v":0},{"$f":"  $G19/[0]!Poids      *      (     (A*EXP(-alpha*(BK$15-$H19)))     +      (B*EXP(-bêta*(BK$15-$H19)))    +   (_C*EXP(-gamma*(BK$15-$H19 )))      )","v":0},{"$f":"  $G19/[0]!Poids      *      (     (A*EXP(-alpha*(BL$15-$H19)))     +      (B*EXP(-bêta*(BL$15-$H19)))    +   (_C*EXP(-gamma*(BL$15-$H19 )))      )","v":0},{"$f":"  $G19/[0]!Poids      *      (     (A*EXP(-alpha*(BM$15-$H19)))     +      (B*EXP(-bêta*(BM$15-$H19)))    +   (_C*EXP(-gamma*(BM$15-$H19 )))      )","v":0},{"$f":"  $G19/[0]!Poids      *      (     (A*EXP(-alpha*(BN$15-$H19)))     +      (B*EXP(-bêta*(BN$15-$H19)))    +   (_C*EXP(-gamma*(BN$15-$H19 )))      )","v":0},{"$f":"  $G19/[0]!Poids      *      (     (A*EXP(-alpha*(BO$15-$H19)))     +      (B*EXP(-bêta*(BO$15-$H19)))    +   (_C*EXP(-gamma*(BO$15-$H19 )))      )","v":0},{"$f":"  $G19/[0]!Poids      *      (     (A*EXP(-alpha*(BP$15-$H19)))     +      (B*EXP(-bêta*(BP$15-$H19)))    +   (_C*EXP(-gamma*(BP$15-$H19 )))      )","v":0},{"$f":"  $G19/[0]!Poids      *      (     (A*EXP(-alpha*(BQ$15-$H19)))     +      (B*EXP(-bêta*(BQ$15-$H19)))    +   (_C*EXP(-gamma*(BQ$15-$H19 )))      )","v":0},{"$f":"  $G19/[0]!Poids      *      (     (A*EXP(-alpha*(BR$15-$H19)))     +      (B*EXP(-bêta*(BR$15-$H19)))    +   (_C*EXP(-gamma*(BR$15-$H19 )))      )","v":0}]
[null,null,null,null,null,null,{"$f":"N$10","v":0},20,null,null,null,null,null,{"$f":"  $G20/[0]!Poids      *      (     (A*EXP(-alpha*(N$15-$H20)))     +      (B*EXP(-bêta*(N$15-$H20)))    +   (_C*EXP(-gamma*(N$15-$H20 )))      )","v":0},{"$f":"  $G20/[0]!Poids      *      (     (A*EXP(-alpha*(O$15-$H20)))     +      (B*EXP(-bêta*(O$15-$H20)))    +   (_C*EXP(-gamma*(O$15-$H20 )))      )","v":0},{"$f":"  $G20/[0]!Poids      *      (     (A*EXP(-alpha*(P$15-$H20)))     +      (B*EXP(-bêta*(P$15-$H20)))    +   (_C*EXP(-gamma*(P$15-$H20 )))      )","v":0},{"$f":"  $G20/[0]!Poids      *      (     (A*EXP(-alpha*(Q$15-$H20)))     +      (B*EXP(-bêta*(Q$15-$H20)))    +   (_C*EXP(-gamma*(Q$15-$H20 )))      )","v":0},{"$f":"  $G20/[0]!Poids      *      (     (A*EXP(-alpha*(R$15-$H20)))     +      (B*EXP(-bêta*(R$15-$H20)))    +   (_C*EXP(-gamma*(R$15-$H20 )))      )","v":0},{"$f":"  $G20/[0]!Poids      *      (     (A*EXP(-alpha*(S$15-$H20)))     +      (B*EXP(-bêta*(S$15-$H20)))    +   (_C*EXP(-gamma*(S$15-$H20 )))      )","v":0},{"$f":"  $G20/[0]!Poids      *      (     (A*EXP(-alpha*(T$15-$H20)))     +      (B*EXP(-bêta*(T$15-$H20)))    +   (_C*EXP(-gamma*(T$15-$H20 )))      )","v":0},{"$f":"  $G20/[0]!Poids      *      (     (A*EXP(-alpha*(U$15-$H20)))     +      (B*EXP(-bêta*(U$15-$H20)))    +   (_C*EXP(-gamma*(U$15-$H20 )))      )","v":0},{"$f":"  $G20/[0]!Poids      *      (     (A*EXP(-alpha*(V$15-$H20)))     +      (B*EXP(-bêta*(V$15-$H20)))    +   (_C*EXP(-gamma*(V$15-$H20 )))      )","v":0},{"$f":"  $G20/[0]!Poids      *      (     (A*EXP(-alpha*(W$15-$H20)))     +      (B*EXP(-bêta*(W$15-$H20)))    +   (_C*EXP(-gamma*(W$15-$H20 )))      )","v":0},{"$f":"  $G20/[0]!Poids      *      (     (A*EXP(-alpha*(X$15-$H20)))     +      (B*EXP(-bêta*(X$15-$H20)))    +   (_C*EXP(-gamma*(X$15-$H20 )))      )","v":0},{"$f":"  $G20/[0]!Poids      *      (     (A*EXP(-alpha*(Y$15-$H20)))     +      (B*EXP(-bêta*(Y$15-$H20)))    +   (_C*EXP(-gamma*(Y$15-$H20 )))      )","v":0},{"$f":"  $G20/[0]!Poids      *      (     (A*EXP(-alpha*(Z$15-$H20)))     +      (B*EXP(-bêta*(Z$15-$H20)))    +   (_C*EXP(-gamma*(Z$15-$H20 )))      )","v":0},{"$f":"  $G20/[0]!Poids      *      (     (A*EXP(-alpha*(AA$15-$H20)))     +      (B*EXP(-bêta*(AA$15-$H20)))    +   (_C*EXP(-gamma*(AA$15-$H20 )))      )","v":0},{"$f":"  $G20/[0]!Poids      *      (     (A*EXP(-alpha*(AB$15-$H20)))     +      (B*EXP(-bêta*(AB$15-$H20)))    +   (_C*EXP(-gamma*(AB$15-$H20 )))      )","v":0},{"$f":"  $G20/[0]!Poids      *      (     (A*EXP(-alpha*(AC$15-$H20)))     +      (B*EXP(-bêta*(AC$15-$H20)))    +   (_C*EXP(-gamma*(AC$15-$H20 )))      )","v":0},{"$f":"  $G20/[0]!Poids      *      (     (A*EXP(-alpha*(AD$15-$H20)))     +      (B*EXP(-bêta*(AD$15-$H20)))    +   (_C*EXP(-gamma*(AD$15-$H20 )))      )","v":0},{"$f":"  $G20/[0]!Poids      *      (     (A*EXP(-alpha*(AE$15-$H20)))     +      (B*EXP(-bêta*(AE$15-$H20)))    +   (_C*EXP(-gamma*(AE$15-$H20 )))      )","v":0},{"$f":"  $G20/[0]!Poids      *      (     (A*EXP(-alpha*(AF$15-$H20)))     +      (B*EXP(-bêta*(AF$15-$H20)))    +   (_C*EXP(-gamma*(AF$15-$H20 )))      )","v":0},{"$f":"  $G20/[0]!Poids      *      (     (A*EXP(-alpha*(AG$15-$H20)))     +      (B*EXP(-bêta*(AG$15-$H20)))    +   (_C*EXP(-gamma*(AG$15-$H20 )))      )","v":0},{"$f":"  $G20/[0]!Poids      *      (     (A*EXP(-alpha*(AH$15-$H20)))     +      (B*EXP(-bêta*(AH$15-$H20)))    +   (_C*EXP(-gamma*(AH$15-$H20 )))      )","v":0},{"$f":"  $G20/[0]!Poids      *      (     (A*EXP(-alpha*(AI$15-$H20)))     +      (B*EXP(-bêta*(AI$15-$H20)))    +   (_C*EXP(-gamma*(AI$15-$H20 )))      )","v":0},{"$f":"  $G20/[0]!Poids      *      (     (A*EXP(-alpha*(AJ$15-$H20)))     +      (B*EXP(-bêta*(AJ$15-$H20)))    +   (_C*EXP(-gamma*(AJ$15-$H20 )))      )","v":0},{"$f":"  $G20/[0]!Poids      *      (     (A*EXP(-alpha*(AK$15-$H20)))     +      (B*EXP(-bêta*(AK$15-$H20)))    +   (_C*EXP(-gamma*(AK$15-$H20 )))      )","v":0},{"$f":"  $G20/[0]!Poids      *      (     (A*EXP(-alpha*(AL$15-$H20)))     +      (B*EXP(-bêta*(AL$15-$H20)))    +   (_C*EXP(-gamma*(AL$15-$H20 )))      )","v":0},{"$f":"  $G20/[0]!Poids      *      (     (A*EXP(-alpha*(AM$15-$H20)))     +      (B*EXP(-bêta*(AM$15-$H20)))    +   (_C*EXP(-gamma*(AM$15-$H20 )))      )","v":0},{"$f":"  $G20/[0]!Poids      *      (     (A*EXP(-alpha*(AN$15-$H20)))     +      (B*EXP(-bêta*(AN$15-$H20)))    +   (_C*EXP(-gamma*(AN$15-$H20 )))      )","v":0},{"$f":"  $G20/[0]!Poids      *      (     (A*EXP(-alpha*(AO$15-$H20)))     +      (B*EXP(-bêta*(AO$15-$H20)))    +   (_C*EXP(-gamma*(AO$15-$H20 )))      )","v":0},{"$f":"  $G20/[0]!Poids      *      (     (A*EXP(-alpha*(AP$15-$H20)))     +      (B*EXP(-bêta*(AP$15-$H20)))    +   (_C*EXP(-gamma*(AP$15-$H20 )))      )","v":0},{"$f":"  $G20/[0]!Poids      *      (     (A*EXP(-alpha*(AQ$15-$H20)))     +      (B*EXP(-bêta*(AQ$15-$H20)))    +   (_C*EXP(-gamma*(AQ$15-$H20 )))      )","v":0},{"$f":"  $G20/[0]!Poids      *      (     (A*EXP(-alpha*(AR$15-$H20)))     +      (B*EXP(-bêta*(AR$15-$H20)))    +   (_C*EXP(-gamma*(AR$15-$H20 )))      )","v":0},{"$f":"  $G20/[0]!Poids      *      (     (A*EXP(-alpha*(AS$15-$H20)))     +      (B*EXP(-bêta*(AS$15-$H20)))    +   (_C*EXP(-gamma*(AS$15-$H20 )))      )","v":0},{"$f":"  $G20/[0]!Poids      *      (     (A*EXP(-alpha*(AT$15-$H20)))     +      (B*EXP(-bêta*(AT$15-$H20)))    +   (_C*EXP(-gamma*(AT$15-$H20 )))      )","v":0},{"$f":"  $G20/[0]!Poids      *      (     (A*EXP(-alpha*(AU$15-$H20)))     +      (B*EXP(-bêta*(AU$15-$H20)))    +   (_C*EXP(-gamma*(AU$15-$H20 )))      )","v":0},{"$f":"  $G20/[0]!Poids      *      (     (A*EXP(-alpha*(AV$15-$H20)))     +      (B*EXP(-bêta*(AV$15-$H20)))    +   (_C*EXP(-gamma*(AV$15-$H20 )))      )","v":0},{"$f":"  $G20/[0]!Poids      *      (     (A*EXP(-alpha*(AW$15-$H20)))     +      (B*EXP(-bêta*(AW$15-$H20)))    +   (_C*EXP(-gamma*(AW$15-$H20 )))      )","v":0},{"$f":"  $G20/[0]!Poids      *      (     (A*EXP(-alpha*(AX$15-$H20)))     +      (B*EXP(-bêta*(AX$15-$H20)))    +   (_C*EXP(-gamma*(AX$15-$H20 )))      )","v":0},{"$f":"  $G20/[0]!Poids      *      (     (A*EXP(-alpha*(AY$15-$H20)))     +      (B*EXP(-bêta*(AY$15-$H20)))    +   (_C*EXP(-gamma*(AY$15-$H20 )))      )","v":0},{"$f":"  $G20/[0]!Poids      *      (     (A*EXP(-alpha*(AZ$15-$H20)))     +      (B*EXP(-bêta*(AZ$15-$H20)))    +   (_C*EXP(-gamma*(AZ$15-$H20 )))      )","v":0},{"$f":"  $G20/[0]!Poids      *      (     (A*EXP(-alpha*(BA$15-$H20)))     +      (B*EXP(-bêta*(BA$15-$H20)))    +   (_C*EXP(-gamma*(BA$15-$H20 )))      )","v":0},{"$f":"  $G20/[0]!Poids      *      (     (A*EXP(-alpha*(BB$15-$H20)))     +      (B*EXP(-bêta*(BB$15-$H20)))    +   (_C*EXP(-gamma*(BB$15-$H20 )))      )","v":0},{"$f":"  $G20/[0]!Poids      *      (     (A*EXP(-alpha*(BC$15-$H20)))     +      (B*EXP(-bêta*(BC$15-$H20)))    +   (_C*EXP(-gamma*(BC$15-$H20 )))      )","v":0},{"$f":"  $G20/[0]!Poids      *      (     (A*EXP(-alpha*(BD$15-$H20)))     +      (B*EXP(-bêta*(BD$15-$H20)))    +   (_C*EXP(-gamma*(BD$15-$H20 )))      )","v":0},{"$f":"  $G20/[0]!Poids      *      (     (A*EXP(-alpha*(BE$15-$H20)))     +      (B*EXP(-bêta*(BE$15-$H20)))    +   (_C*EXP(-gamma*(BE$15-$H20 )))      )","v":0},{"$f":"  $G20/[0]!Poids      *      (     (A*EXP(-alpha*(BF$15-$H20)))     +      (B*EXP(-bêta*(BF$15-$H20)))    +   (_C*EXP(-gamma*(BF$15-$H20 )))      )","v":0},{"$f":"  $G20/[0]!Poids      *      (     (A*EXP(-alpha*(BG$15-$H20)))     +      (B*EXP(-bêta*(BG$15-$H20)))    +   (_C*EXP(-gamma*(BG$15-$H20 )))      )","v":0},{"$f":"  $G20/[0]!Poids      *      (     (A*EXP(-alpha*(BH$15-$H20)))     +      (B*EXP(-bêta*(BH$15-$H20)))    +   (_C*EXP(-gamma*(BH$15-$H20 )))      )","v":0},{"$f":"  $G20/[0]!Poids      *      (     (A*EXP(-alpha*(BI$15-$H20)))     +      (B*EXP(-bêta*(BI$15-$H20)))    +   (_C*EXP(-gamma*(BI$15-$H20 )))      )","v":0},{"$f":"  $G20/[0]!Poids      *      (     (A*EXP(-alpha*(BJ$15-$H20)))     +      (B*EXP(-bêta*(BJ$15-$H20)))    +   (_C*EXP(-gamma*(BJ$15-$H20 )))      )","v":0},{"$f":"  $G20/[0]!Poids      *      (     (A*EXP(-alpha*(BK$15-$H20)))     +      (B*EXP(-bêta*(BK$15-$H20)))    +   (_C*EXP(-gamma*(BK$15-$H20 )))      )","v":0},{"$f":"  $G20/[0]!Poids      *      (     (A*EXP(-alpha*(BL$15-$H20)))     +      (B*EXP(-bêta*(BL$15-$H20)))    +   (_C*EXP(-gamma*(BL$15-$H20 )))      )","v":0},{"$f":"  $G20/[0]!Poids      *      (     (A*EXP(-alpha*(BM$15-$H20)))     +      (B*EXP(-bêta*(BM$15-$H20)))    +   (_C*EXP(-gamma*(BM$15-$H20 )))      )","v":0},{"$f":"  $G20/[0]!Poids      *      (     (A*EXP(-alpha*(BN$15-$H20)))     +      (B*EXP(-bêta*(BN$15-$H20)))    +   (_C*EXP(-gamma*(BN$15-$H20 )))      )","v":0},{"$f":"  $G20/[0]!Poids      *      (     (A*EXP(-alpha*(BO$15-$H20)))     +      (B*EXP(-bêta*(BO$15-$H20)))    +   (_C*EXP(-gamma*(BO$15-$H20 )))      )","v":0},{"$f":"  $G20/[0]!Poids      *      (     (A*EXP(-alpha*(BP$15-$H20)))     +      (B*EXP(-bêta*(BP$15-$H20)))    +   (_C*EXP(-gamma*(BP$15-$H20 )))      )","v":0},{"$f":"  $G20/[0]!Poids      *      (     (A*EXP(-alpha*(BQ$15-$H20)))     +      (B*EXP(-bêta*(BQ$15-$H20)))    +   (_C*EXP(-gamma*(BQ$15-$H20 )))      )","v":0},{"$f":"  $G20/[0]!Poids      *      (     (A*EXP(-alpha*(BR$15-$H20)))     +      (B*EXP(-bêta*(BR$15-$H20)))    +   (_C*EXP(-gamma*(BR$15-$H20 )))      )","v":0}]
[null,"alpha",0.24658319371989834,null,{"$f":"C21","v":0.24658319371989834},null,{"$f":"O$10","v":0},25,null,null,null,null,null,null,{"$f":"  $G21/[0]!Poids      *      (     (A*EXP(-alpha*(O$15-$H21)))     +      (B*EXP(-bêta*(O$15-$H21)))    +   (_C*EXP(-gamma*(O$15-$H21 )))      )","v":0},{"$f":"  $G21/[0]!Poids      *      (     (A*EXP(-alpha*(P$15-$H21)))     +      (B*EXP(-bêta*(P$15-$H21)))    +   (_C*EXP(-gamma*(P$15-$H21 )))      )","v":0},{"$f":"  $G21/[0]!Poids      *      (     (A*EXP(-alpha*(Q$15-$H21)))     +      (B*EXP(-bêta*(Q$15-$H21)))    +   (_C*EXP(-gamma*(Q$15-$H21 )))      )","v":0},{"$f":"  $G21/[0]!Poids      *      (     (A*EXP(-alpha*(R$15-$H21)))     +      (B*EXP(-bêta*(R$15-$H21)))    +   (_C*EXP(-gamma*(R$15-$H21 )))      )","v":0},{"$f":"  $G21/[0]!Poids      *      (     (A*EXP(-alpha*(S$15-$H21)))     +      (B*EXP(-bêta*(S$15-$H21)))    +   (_C*EXP(-gamma*(S$15-$H21 )))      )","v":0},{"$f":"  $G21/[0]!Poids      *      (     (A*EXP(-alpha*(T$15-$H21)))     +      (B*EXP(-bêta*(T$15-$H21)))    +   (_C*EXP(-gamma*(T$15-$H21 )))      )","v":0},{"$f":"  $G21/[0]!Poids      *      (     (A*EXP(-alpha*(U$15-$H21)))     +      (B*EXP(-bêta*(U$15-$H21)))    +   (_C*EXP(-gamma*(U$15-$H21 )))      )","v":0},{"$f":"  $G21/[0]!Poids      *      (     (A*EXP(-alpha*(V$15-$H21)))     +      (B*EXP(-bêta*(V$15-$H21)))    +   (_C*EXP(-gamma*(V$15-$H21 )))      )","v":0},{"$f":"  $G21/[0]!Poids      *      (     (A*EXP(-alpha*(W$15-$H21)))     +      (B*EXP(-bêta*(W$15-$H21)))    +   (_C*EXP(-gamma*(W$15-$H21 )))      )","v":0},{"$f":"  $G21/[0]!Poids      *      (     (A*EXP(-alpha*(X$15-$H21)))     +      (B*EXP(-bêta*(X$15-$H21)))    +   (_C*EXP(-gamma*(X$15-$H21 )))      )","v":0},{"$f":"  $G21/[0]!Poids      *      (     (A*EXP(-alpha*(Y$15-$H21)))     +      (B*EXP(-bêta*(Y$15-$H21)))    +   (_C*EXP(-gamma*(Y$15-$H21 )))      )","v":0},{"$f":"  $G21/[0]!Poids      *      (     (A*EXP(-alpha*(Z$15-$H21)))     +      (B*EXP(-bêta*(Z$15-$H21)))    +   (_C*EXP(-gamma*(Z$15-$H21 )))      )","v":0},{"$f":"  $G21/[0]!Poids      *      (     (A*EXP(-alpha*(AA$15-$H21)))     +      (B*EXP(-bêta*(AA$15-$H21)))    +   (_C*EXP(-gamma*(AA$15-$H21 )))      )","v":0},{"$f":"  $G21/[0]!Poids      *      (     (A*EXP(-alpha*(AB$15-$H21)))     +      (B*EXP(-bêta*(AB$15-$H21)))    +   (_C*EXP(-gamma*(AB$15-$H21 )))      )","v":0},{"$f":"  $G21/[0]!Poids      *      (     (A*EXP(-alpha*(AC$15-$H21)))     +      (B*EXP(-bêta*(AC$15-$H21)))    +   (_C*EXP(-gamma*(AC$15-$H21 )))      )","v":0},{"$f":"  $G21/[0]!Poids      *      (     (A*EXP(-alpha*(AD$15-$H21)))     +      (B*EXP(-bêta*(AD$15-$H21)))    +   (_C*EXP(-gamma*(AD$15-$H21 )))      )","v":0},{"$f":"  $G21/[0]!Poids      *      (     (A*EXP(-alpha*(AE$15-$H21)))     +      (B*EXP(-bêta*(AE$15-$H21)))    +   (_C*EXP(-gamma*(AE$15-$H21 )))      )","v":0},{"$f":"  $G21/[0]!Poids      *      (     (A*EXP(-alpha*(AF$15-$H21)))     +      (B*EXP(-bêta*(AF$15-$H21)))    +   (_C*EXP(-gamma*(AF$15-$H21 )))      )","v":0},{"$f":"  $G21/[0]!Poids      *      (     (A*EXP(-alpha*(AG$15-$H21)))     +      (B*EXP(-bêta*(AG$15-$H21)))    +   (_C*EXP(-gamma*(AG$15-$H21 )))      )","v":0},{"$f":"  $G21/[0]!Poids      *      (     (A*EXP(-alpha*(AH$15-$H21)))     +      (B*EXP(-bêta*(AH$15-$H21)))    +   (_C*EXP(-gamma*(AH$15-$H21 )))      )","v":0},{"$f":"  $G21/[0]!Poids      *      (     (A*EXP(-alpha*(AI$15-$H21)))     +      (B*EXP(-bêta*(AI$15-$H21)))    +   (_C*EXP(-gamma*(AI$15-$H21 )))      )","v":0},{"$f":"  $G21/[0]!Poids      *      (     (A*EXP(-alpha*(AJ$15-$H21)))     +      (B*EXP(-bêta*(AJ$15-$H21)))    +   (_C*EXP(-gamma*(AJ$15-$H21 )))      )","v":0},{"$f":"  $G21/[0]!Poids      *      (     (A*EXP(-alpha*(AK$15-$H21)))     +      (B*EXP(-bêta*(AK$15-$H21)))    +   (_C*EXP(-gamma*(AK$15-$H21 )))      )","v":0},{"$f":"  $G21/[0]!Poids      *      (     (A*EXP(-alpha*(AL$15-$H21)))     +      (B*EXP(-bêta*(AL$15-$H21)))    +   (_C*EXP(-gamma*(AL$15-$H21 )))      )","v":0},{"$f":"  $G21/[0]!Poids      *      (     (A*EXP(-alpha*(AM$15-$H21)))     +      (B*EXP(-bêta*(AM$15-$H21)))    +   (_C*EXP(-gamma*(AM$15-$H21 )))      )","v":0},{"$f":"  $G21/[0]!Poids      *      (     (A*EXP(-alpha*(AN$15-$H21)))     +      (B*EXP(-bêta*(AN$15-$H21)))    +   (_C*EXP(-gamma*(AN$15-$H21 )))      )","v":0},{"$f":"  $G21/[0]!Poids      *      (     (A*EXP(-alpha*(AO$15-$H21)))     +      (B*EXP(-bêta*(AO$15-$H21)))    +   (_C*EXP(-gamma*(AO$15-$H21 )))      )","v":0},{"$f":"  $G21/[0]!Poids      *      (     (A*EXP(-alpha*(AP$15-$H21)))     +      (B*EXP(-bêta*(AP$15-$H21)))    +   (_C*EXP(-gamma*(AP$15-$H21 )))      )","v":0},{"$f":"  $G21/[0]!Poids      *      (     (A*EXP(-alpha*(AQ$15-$H21)))     +      (B*EXP(-bêta*(AQ$15-$H21)))    +   (_C*EXP(-gamma*(AQ$15-$H21 )))      )","v":0},{"$f":"  $G21/[0]!Poids      *      (     (A*EXP(-alpha*(AR$15-$H21)))     +      (B*EXP(-bêta*(AR$15-$H21)))    +   (_C*EXP(-gamma*(AR$15-$H21 )))      )","v":0},{"$f":"  $G21/[0]!Poids      *      (     (A*EXP(-alpha*(AS$15-$H21)))     +      (B*EXP(-bêta*(AS$15-$H21)))    +   (_C*EXP(-gamma*(AS$15-$H21 )))      )","v":0},{"$f":"  $G21/[0]!Poids      *      (     (A*EXP(-alpha*(AT$15-$H21)))     +      (B*EXP(-bêta*(AT$15-$H21)))    +   (_C*EXP(-gamma*(AT$15-$H21 )))      )","v":0},{"$f":"  $G21/[0]!Poids      *      (     (A*EXP(-alpha*(AU$15-$H21)))     +      (B*EXP(-bêta*(AU$15-$H21)))    +   (_C*EXP(-gamma*(AU$15-$H21 )))      )","v":0},{"$f":"  $G21/[0]!Poids      *      (     (A*EXP(-alpha*(AV$15-$H21)))     +      (B*EXP(-bêta*(AV$15-$H21)))    +   (_C*EXP(-gamma*(AV$15-$H21 )))      )","v":0},{"$f":"  $G21/[0]!Poids      *      (     (A*EXP(-alpha*(AW$15-$H21)))     +      (B*EXP(-bêta*(AW$15-$H21)))    +   (_C*EXP(-gamma*(AW$15-$H21 )))      )","v":0},{"$f":"  $G21/[0]!Poids      *      (     (A*EXP(-alpha*(AX$15-$H21)))     +      (B*EXP(-bêta*(AX$15-$H21)))    +   (_C*EXP(-gamma*(AX$15-$H21 )))      )","v":0},{"$f":"  $G21/[0]!Poids      *      (     (A*EXP(-alpha*(AY$15-$H21)))     +      (B*EXP(-bêta*(AY$15-$H21)))    +   (_C*EXP(-gamma*(AY$15-$H21 )))      )","v":0},{"$f":"  $G21/[0]!Poids      *      (     (A*EXP(-alpha*(AZ$15-$H21)))     +      (B*EXP(-bêta*(AZ$15-$H21)))    +   (_C*EXP(-gamma*(AZ$15-$H21 )))      )","v":0},{"$f":"  $G21/[0]!Poids      *      (     (A*EXP(-alpha*(BA$15-$H21)))     +      (B*EXP(-bêta*(BA$15-$H21)))    +   (_C*EXP(-gamma*(BA$15-$H21 )))      )","v":0},{"$f":"  $G21/[0]!Poids      *      (     (A*EXP(-alpha*(BB$15-$H21)))     +      (B*EXP(-bêta*(BB$15-$H21)))    +   (_C*EXP(-gamma*(BB$15-$H21 )))      )","v":0},{"$f":"  $G21/[0]!Poids      *      (     (A*EXP(-alpha*(BC$15-$H21)))     +      (B*EXP(-bêta*(BC$15-$H21)))    +   (_C*EXP(-gamma*(BC$15-$H21 )))      )","v":0},{"$f":"  $G21/[0]!Poids      *      (     (A*EXP(-alpha*(BD$15-$H21)))     +      (B*EXP(-bêta*(BD$15-$H21)))    +   (_C*EXP(-gamma*(BD$15-$H21 )))      )","v":0},{"$f":"  $G21/[0]!Poids      *      (     (A*EXP(-alpha*(BE$15-$H21)))     +      (B*EXP(-bêta*(BE$15-$H21)))    +   (_C*EXP(-gamma*(BE$15-$H21 )))      )","v":0},{"$f":"  $G21/[0]!Poids      *      (     (A*EXP(-alpha*(BF$15-$H21)))     +      (B*EXP(-bêta*(BF$15-$H21)))    +   (_C*EXP(-gamma*(BF$15-$H21 )))      )","v":0},{"$f":"  $G21/[0]!Poids      *      (     (A*EXP(-alpha*(BG$15-$H21)))     +      (B*EXP(-bêta*(BG$15-$H21)))    +   (_C*EXP(-gamma*(BG$15-$H21 )))      )","v":0},{"$f":"  $G21/[0]!Poids      *      (     (A*EXP(-alpha*(BH$15-$H21)))     +      (B*EXP(-bêta*(BH$15-$H21)))    +   (_C*EXP(-gamma*(BH$15-$H21 )))      )","v":0},{"$f":"  $G21/[0]!Poids      *      (     (A*EXP(-alpha*(BI$15-$H21)))     +      (B*EXP(-bêta*(BI$15-$H21)))    +   (_C*EXP(-gamma*(BI$15-$H21 )))      )","v":0},{"$f":"  $G21/[0]!Poids      *      (     (A*EXP(-alpha*(BJ$15-$H21)))     +      (B*EXP(-bêta*(BJ$15-$H21)))    +   (_C*EXP(-gamma*(BJ$15-$H21 )))      )","v":0},{"$f":"  $G21/[0]!Poids      *      (     (A*EXP(-alpha*(BK$15-$H21)))     +      (B*EXP(-bêta*(BK$15-$H21)))    +   (_C*EXP(-gamma*(BK$15-$H21 )))      )","v":0},{"$f":"  $G21/[0]!Poids      *      (     (A*EXP(-alpha*(BL$15-$H21)))     +      (B*EXP(-bêta*(BL$15-$H21)))    +   (_C*EXP(-gamma*(BL$15-$H21 )))      )","v":0},{"$f":"  $G21/[0]!Poids      *      (     (A*EXP(-alpha*(BM$15-$H21)))     +      (B*EXP(-bêta*(BM$15-$H21)))    +   (_C*EXP(-gamma*(BM$15-$H21 )))      )","v":0},{"$f":"  $G21/[0]!Poids      *      (     (A*EXP(-alpha*(BN$15-$H21)))     +      (B*EXP(-bêta*(BN$15-$H21)))    +   (_C*EXP(-gamma*(BN$15-$H21 )))      )","v":0},{"$f":"  $G21/[0]!Poids      *      (     (A*EXP(-alpha*(BO$15-$H21)))     +      (B*EXP(-bêta*(BO$15-$H21)))    +   (_C*EXP(-gamma*(BO$15-$H21 )))      )","v":0},{"$f":"  $G21/[0]!Poids      *      (     (A*EXP(-alpha*(BP$15-$H21)))     +      (B*EXP(-bêta*(BP$15-$H21)))    +   (_C*EXP(-gamma*(BP$15-$H21 )))      )","v":0},{"$f":"  $G21/[0]!Poids      *      (     (A*EXP(-alpha*(BQ$15-$H21)))     +      (B*EXP(-bêta*(BQ$15-$H21)))    +   (_C*EXP(-gamma*(BQ$15-$H21 )))      )","v":0},{"$f":"  $G21/[0]!Poids      *      (     (A*EXP(-alpha*(BR$15-$H21)))     +      (B*EXP(-bêta*(BR$15-$H21)))    +   (_C*EXP(-gamma*(BR$15-$H21 )))      )","v":0}]
[null,"bêta",3.8452445823020827E-2,null,{"$f":"C22","v":3.8452445823020827E-2},null,{"$f":"P$10","v":0},30,null,null,null,null,null,null,null,{"$f":"  $G22/[0]!Poids      *      (     (A*EXP(-alpha*(P$15-$H22)))     +      (B*EXP(-bêta*(P$15-$H22)))    +   (_C*EXP(-gamma*(P$15-$H22 )))      )","v":0},{"$f":"  $G22/[0]!Poids      *      (     (A*EXP(-alpha*(Q$15-$H22)))     +      (B*EXP(-bêta*(Q$15-$H22)))    +   (_C*EXP(-gamma*(Q$15-$H22 )))      )","v":0},{"$f":"  $G22/[0]!Poids      *      (     (A*EXP(-alpha*(R$15-$H22)))     +      (B*EXP(-bêta*(R$15-$H22)))    +   (_C*EXP(-gamma*(R$15-$H22 )))      )","v":0},{"$f":"  $G22/[0]!Poids      *      (     (A*EXP(-alpha*(S$15-$H22)))     +      (B*EXP(-bêta*(S$15-$H22)))    +   (_C*EXP(-gamma*(S$15-$H22 )))      )","v":0},{"$f":"  $G22/[0]!Poids      *      (     (A*EXP(-alpha*(T$15-$H22)))     +      (B*EXP(-bêta*(T$15-$H22)))    +   (_C*EXP(-gamma*(T$15-$H22 )))      )","v":0},{"$f":"  $G22/[0]!Poids      *      (     (A*EXP(-alpha*(U$15-$H22)))     +      (B*EXP(-bêta*(U$15-$H22)))    +   (_C*EXP(-gamma*(U$15-$H22 )))      )","v":0},{"$f":"  $G22/[0]!Poids      *      (     (A*EXP(-alpha*(V$15-$H22)))     +      (B*EXP(-bêta*(V$15-$H22)))    +   (_C*EXP(-gamma*(V$15-$H22 )))      )","v":0},{"$f":"  $G22/[0]!Poids      *      (     (A*EXP(-alpha*(W$15-$H22)))     +      (B*EXP(-bêta*(W$15-$H22)))    +   (_C*EXP(-gamma*(W$15-$H22 )))      )","v":0},{"$f":"  $G22/[0]!Poids      *      (     (A*EXP(-alpha*(X$15-$H22)))     +      (B*EXP(-bêta*(X$15-$H22)))    +   (_C*EXP(-gamma*(X$15-$H22 )))      )","v":0},{"$f":"  $G22/[0]!Poids      *      (     (A*EXP(-alpha*(Y$15-$H22)))     +      (B*EXP(-bêta*(Y$15-$H22)))    +   (_C*EXP(-gamma*(Y$15-$H22 )))      )","v":0},{"$f":"  $G22/[0]!Poids      *      (     (A*EXP(-alpha*(Z$15-$H22)))     +      (B*EXP(-bêta*(Z$15-$H22)))    +   (_C*EXP(-gamma*(Z$15-$H22 )))      )","v":0},{"$f":"  $G22/[0]!Poids      *      (     (A*EXP(-alpha*(AA$15-$H22)))     +      (B*EXP(-bêta*(AA$15-$H22)))    +   (_C*EXP(-gamma*(AA$15-$H22 )))      )","v":0},{"$f":"  $G22/[0]!Poids      *      (     (A*EXP(-alpha*(AB$15-$H22)))     +      (B*EXP(-bêta*(AB$15-$H22)))    +   (_C*EXP(-gamma*(AB$15-$H22 )))      )","v":0},{"$f":"  $G22/[0]!Poids      *      (     (A*EXP(-alpha*(AC$15-$H22)))     +      (B*EXP(-bêta*(AC$15-$H22)))    +   (_C*EXP(-gamma*(AC$15-$H22 )))      )","v":0},{"$f":"  $G22/[0]!Poids      *      (     (A*EXP(-alpha*(AD$15-$H22)))     +      (B*EXP(-bêta*(AD$15-$H22)))    +   (_C*EXP(-gamma*(AD$15-$H22 )))      )","v":0},{"$f":"  $G22/[0]!Poids      *      (     (A*EXP(-alpha*(AE$15-$H22)))     +      (B*EXP(-bêta*(AE$15-$H22)))    +   (_C*EXP(-gamma*(AE$15-$H22 )))      )","v":0},{"$f":"  $G22/[0]!Poids      *      (     (A*EXP(-alpha*(AF$15-$H22)))     +      (B*EXP(-bêta*(AF$15-$H22)))    +   (_C*EXP(-gamma*(AF$15-$H22 )))      )","v":0},{"$f":"  $G22/[0]!Poids      *      (     (A*EXP(-alpha*(AG$15-$H22)))     +      (B*EXP(-bêta*(AG$15-$H22)))    +   (_C*EXP(-gamma*(AG$15-$H22 )))      )","v":0},{"$f":"  $G22/[0]!Poids      *      (     (A*EXP(-alpha*(AH$15-$H22)))     +      (B*EXP(-bêta*(AH$15-$H22)))    +   (_C*EXP(-gamma*(AH$15-$H22 )))      )","v":0},{"$f":"  $G22/[0]!Poids      *      (     (A*EXP(-alpha*(AI$15-$H22)))     +      (B*EXP(-bêta*(AI$15-$H22)))    +   (_C*EXP(-gamma*(AI$15-$H22 )))      )","v":0},{"$f":"  $G22/[0]!Poids      *      (     (A*EXP(-alpha*(AJ$15-$H22)))     +      (B*EXP(-bêta*(AJ$15-$H22)))    +   (_C*EXP(-gamma*(AJ$15-$H22 )))      )","v":0},{"$f":"  $G22/[0]!Poids      *      (     (A*EXP(-alpha*(AK$15-$H22)))     +      (B*EXP(-bêta*(AK$15-$H22)))    +   (_C*EXP(-gamma*(AK$15-$H22 )))      )","v":0},{"$f":"  $G22/[0]!Poids      *      (     (A*EXP(-alpha*(AL$15-$H22)))     +      (B*EXP(-bêta*(AL$15-$H22)))    +   (_C*EXP(-gamma*(AL$15-$H22 )))      )","v":0},{"$f":"  $G22/[0]!Poids      *      (     (A*EXP(-alpha*(AM$15-$H22)))     +      (B*EXP(-bêta*(AM$15-$H22)))    +   (_C*EXP(-gamma*(AM$15-$H22 )))      )","v":0},{"$f":"  $G22/[0]!Poids      *      (     (A*EXP(-alpha*(AN$15-$H22)))     +      (B*EXP(-bêta*(AN$15-$H22)))    +   (_C*EXP(-gamma*(AN$15-$H22 )))      )","v":0},{"$f":"  $G22/[0]!Poids      *      (     (A*EXP(-alpha*(AO$15-$H22)))     +      (B*EXP(-bêta*(AO$15-$H22)))    +   (_C*EXP(-gamma*(AO$15-$H22 )))      )","v":0},{"$f":"  $G22/[0]!Poids      *      (     (A*EXP(-alpha*(AP$15-$H22)))     +      (B*EXP(-bêta*(AP$15-$H22)))    +   (_C*EXP(-gamma*(AP$15-$H22 )))      )","v":0},{"$f":"  $G22/[0]!Poids      *      (     (A*EXP(-alpha*(AQ$15-$H22)))     +      (B*EXP(-bêta*(AQ$15-$H22)))    +   (_C*EXP(-gamma*(AQ$15-$H22 )))      )","v":0},{"$f":"  $G22/[0]!Poids      *      (     (A*EXP(-alpha*(AR$15-$H22)))     +      (B*EXP(-bêta*(AR$15-$H22)))    +   (_C*EXP(-gamma*(AR$15-$H22 )))      )","v":0},{"$f":"  $G22/[0]!Poids      *      (     (A*EXP(-alpha*(AS$15-$H22)))     +      (B*EXP(-bêta*(AS$15-$H22)))    +   (_C*EXP(-gamma*(AS$15-$H22 )))      )","v":0},{"$f":"  $G22/[0]!Poids      *      (     (A*EXP(-alpha*(AT$15-$H22)))     +      (B*EXP(-bêta*(AT$15-$H22)))    +   (_C*EXP(-gamma*(AT$15-$H22 )))      )","v":0},{"$f":"  $G22/[0]!Poids      *      (     (A*EXP(-alpha*(AU$15-$H22)))     +      (B*EXP(-bêta*(AU$15-$H22)))    +   (_C*EXP(-gamma*(AU$15-$H22 )))      )","v":0},{"$f":"  $G22/[0]!Poids      *      (     (A*EXP(-alpha*(AV$15-$H22)))     +      (B*EXP(-bêta*(AV$15-$H22)))    +   (_C*EXP(-gamma*(AV$15-$H22 )))      )","v":0},{"$f":"  $G22/[0]!Poids      *      (     (A*EXP(-alpha*(AW$15-$H22)))     +      (B*EXP(-bêta*(AW$15-$H22)))    +   (_C*EXP(-gamma*(AW$15-$H22 )))      )","v":0},{"$f":"  $G22/[0]!Poids      *      (     (A*EXP(-alpha*(AX$15-$H22)))     +      (B*EXP(-bêta*(AX$15-$H22)))    +   (_C*EXP(-gamma*(AX$15-$H22 )))      )","v":0},{"$f":"  $G22/[0]!Poids      *      (     (A*EXP(-alpha*(AY$15-$H22)))     +      (B*EXP(-bêta*(AY$15-$H22)))    +   (_C*EXP(-gamma*(AY$15-$H22 )))      )","v":0},{"$f":"  $G22/[0]!Poids      *      (     (A*EXP(-alpha*(AZ$15-$H22)))     +      (B*EXP(-bêta*(AZ$15-$H22)))    +   (_C*EXP(-gamma*(AZ$15-$H22 )))      )","v":0},{"$f":"  $G22/[0]!Poids      *      (     (A*EXP(-alpha*(BA$15-$H22)))     +      (B*EXP(-bêta*(BA$15-$H22)))    +   (_C*EXP(-gamma*(BA$15-$H22 )))      )","v":0},{"$f":"  $G22/[0]!Poids      *      (     (A*EXP(-alpha*(BB$15-$H22)))     +      (B*EXP(-bêta*(BB$15-$H22)))    +   (_C*EXP(-gamma*(BB$15-$H22 )))      )","v":0},{"$f":"  $G22/[0]!Poids      *      (     (A*EXP(-alpha*(BC$15-$H22)))     +      (B*EXP(-bêta*(BC$15-$H22)))    +   (_C*EXP(-gamma*(BC$15-$H22 )))      )","v":0},{"$f":"  $G22/[0]!Poids      *      (     (A*EXP(-alpha*(BD$15-$H22)))     +      (B*EXP(-bêta*(BD$15-$H22)))    +   (_C*EXP(-gamma*(BD$15-$H22 )))      )","v":0},{"$f":"  $G22/[0]!Poids      *      (     (A*EXP(-alpha*(BE$15-$H22)))     +      (B*EXP(-bêta*(BE$15-$H22)))    +   (_C*EXP(-gamma*(BE$15-$H22 )))      )","v":0},{"$f":"  $G22/[0]!Poids      *      (     (A*EXP(-alpha*(BF$15-$H22)))     +      (B*EXP(-bêta*(BF$15-$H22)))    +   (_C*EXP(-gamma*(BF$15-$H22 )))      )","v":0},{"$f":"  $G22/[0]!Poids      *      (     (A*EXP(-alpha*(BG$15-$H22)))     +      (B*EXP(-bêta*(BG$15-$H22)))    +   (_C*EXP(-gamma*(BG$15-$H22 )))      )","v":0},{"$f":"  $G22/[0]!Poids      *      (     (A*EXP(-alpha*(BH$15-$H22)))     +      (B*EXP(-bêta*(BH$15-$H22)))    +   (_C*EXP(-gamma*(BH$15-$H22 )))      )","v":0},{"$f":"  $G22/[0]!Poids      *      (     (A*EXP(-alpha*(BI$15-$H22)))     +      (B*EXP(-bêta*(BI$15-$H22)))    +   (_C*EXP(-gamma*(BI$15-$H22 )))      )","v":0},{"$f":"  $G22/[0]!Poids      *      (     (A*EXP(-alpha*(BJ$15-$H22)))     +      (B*EXP(-bêta*(BJ$15-$H22)))    +   (_C*EXP(-gamma*(BJ$15-$H22 )))      )","v":0},{"$f":"  $G22/[0]!Poids      *      (     (A*EXP(-alpha*(BK$15-$H22)))     +      (B*EXP(-bêta*(BK$15-$H22)))    +   (_C*EXP(-gamma*(BK$15-$H22 )))      )","v":0},{"$f":"  $G22/[0]!Poids      *      (     (A*EXP(-alpha*(BL$15-$H22)))     +      (B*EXP(-bêta*(BL$15-$H22)))    +   (_C*EXP(-gamma*(BL$15-$H22 )))      )","v":0},{"$f":"  $G22/[0]!Poids      *      (     (A*EXP(-alpha*(BM$15-$H22)))     +      (B*EXP(-bêta*(BM$15-$H22)))    +   (_C*EXP(-gamma*(BM$15-$H22 )))      )","v":0},{"$f":"  $G22/[0]!Poids      *      (     (A*EXP(-alpha*(BN$15-$H22)))     +      (B*EXP(-bêta*(BN$15-$H22)))    +   (_C*EXP(-gamma*(BN$15-$H22 )))      )","v":0},{"$f":"  $G22/[0]!Poids      *      (     (A*EXP(-alpha*(BO$15-$H22)))     +      (B*EXP(-bêta*(BO$15-$H22)))    +   (_C*EXP(-gamma*(BO$15-$H22 )))      )","v":0},{"$f":"  $G22/[0]!Poids      *      (     (A*EXP(-alpha*(BP$15-$H22)))     +      (B*EXP(-bêta*(BP$15-$H22)))    +   (_C*EXP(-gamma*(BP$15-$H22 )))      )","v":0},{"$f":"  $G22/[0]!Poids      *      (     (A*EXP(-alpha*(BQ$15-$H22)))     +      (B*EXP(-bêta*(BQ$15-$H22)))    +   (_C*EXP(-gamma*(BQ$15-$H22 )))      )","v":0},{"$f":"  $G22/[0]!Poids      *      (     (A*EXP(-alpha*(BR$15-$H22)))     +      (B*EXP(-bêta*(BR$15-$H22)))    +   (_C*EXP(-gamma*(BR$15-$H22 )))      )","v":0}]
[null,"gamma",4.0936361105756098E-3,null,4.0936361105756098E-3,null,{"$f":"Q$10","v":0},35,null,null,null,null,null,null,null,null,{"$f":"  $G23/[0]!Poids      *      (     (A*EXP(-alpha*(Q$15-$H23)))     +      (B*EXP(-bêta*(Q$15-$H23)))    +   (_C*EXP(-gamma*(Q$15-$H23 )))      )","v":0},{"$f":"  $G23/[0]!Poids      *      (     (A*EXP(-alpha*(R$15-$H23)))     +      (B*EXP(-bêta*(R$15-$H23)))    +   (_C*EXP(-gamma*(R$15-$H23 )))      )","v":0},{"$f":"  $G23/[0]!Poids      *      (     (A*EXP(-alpha*(S$15-$H23)))     +      (B*EXP(-bêta*(S$15-$H23)))    +   (_C*EXP(-gamma*(S$15-$H23 )))      )","v":0},{"$f":"  $G23/[0]!Poids      *      (     (A*EXP(-alpha*(T$15-$H23)))     +      (B*EXP(-bêta*(T$15-$H23)))    +   (_C*EXP(-gamma*(T$15-$H23 )))      )","v":0},{"$f":"  $G23/[0]!Poids      *      (     (A*EXP(-alpha*(U$15-$H23)))     +      (B*EXP(-bêta*(U$15-$H23)))    +   (_C*EXP(-gamma*(U$15-$H23 )))      )","v":0},{"$f":"  $G23/[0]!Poids      *      (     (A*EXP(-alpha*(V$15-$H23)))     +      (B*EXP(-bêta*(V$15-$H23)))    +   (_C*EXP(-gamma*(V$15-$H23 )))      )","v":0},{"$f":"  $G23/[0]!Poids      *      (     (A*EXP(-alpha*(W$15-$H23)))     +      (B*EXP(-bêta*(W$15-$H23)))    +   (_C*EXP(-gamma*(W$15-$H23 )))      )","v":0},{"$f":"  $G23/[0]!Poids      *      (     (A*EXP(-alpha*(X$15-$H23)))     +      (B*EXP(-bêta*(X$15-$H23)))    +   (_C*EXP(-gamma*(X$15-$H23 )))      )","v":0},{"$f":"  $G23/[0]!Poids      *      (     (A*EXP(-alpha*(Y$15-$H23)))     +      (B*EXP(-bêta*(Y$15-$H23)))    +   (_C*EXP(-gamma*(Y$15-$H23 )))      )","v":0},{"$f":"  $G23/[0]!Poids      *      (     (A*EXP(-alpha*(Z$15-$H23)))     +      (B*EXP(-bêta*(Z$15-$H23)))    +   (_C*EXP(-gamma*(Z$15-$H23 )))      )","v":0},{"$f":"  $G23/[0]!Poids      *      (     (A*EXP(-alpha*(AA$15-$H23)))     +      (B*EXP(-bêta*(AA$15-$H23)))    +   (_C*EXP(-gamma*(AA$15-$H23 )))      )","v":0},{"$f":"  $G23/[0]!Poids      *      (     (A*EXP(-alpha*(AB$15-$H23)))     +      (B*EXP(-bêta*(AB$15-$H23)))    +   (_C*EXP(-gamma*(AB$15-$H23 )))      )","v":0},{"$f":"  $G23/[0]!Poids      *      (     (A*EXP(-alpha*(AC$15-$H23)))     +      (B*EXP(-bêta*(AC$15-$H23)))    +   (_C*EXP(-gamma*(AC$15-$H23 )))      )","v":0},{"$f":"  $G23/[0]!Poids      *      (     (A*EXP(-alpha*(AD$15-$H23)))     +      (B*EXP(-bêta*(AD$15-$H23)))    +   (_C*EXP(-gamma*(AD$15-$H23 )))      )","v":0},{"$f":"  $G23/[0]!Poids      *      (     (A*EXP(-alpha*(AE$15-$H23)))     +      (B*EXP(-bêta*(AE$15-$H23)))    +   (_C*EXP(-gamma*(AE$15-$H23 )))      )","v":0},{"$f":"  $G23/[0]!Poids      *      (     (A*EXP(-alpha*(AF$15-$H23)))     +      (B*EXP(-bêta*(AF$15-$H23)))    +   (_C*EXP(-gamma*(AF$15-$H23 )))      )","v":0},{"$f":"  $G23/[0]!Poids      *      (     (A*EXP(-alpha*(AG$15-$H23)))     +      (B*EXP(-bêta*(AG$15-$H23)))    +   (_C*EXP(-gamma*(AG$15-$H23 )))      )","v":0},{"$f":"  $G23/[0]!Poids      *      (     (A*EXP(-alpha*(AH$15-$H23)))     +      (B*EXP(-bêta*(AH$15-$H23)))    +   (_C*EXP(-gamma*(AH$15-$H23 )))      )","v":0},{"$f":"  $G23/[0]!Poids      *      (     (A*EXP(-alpha*(AI$15-$H23)))     +      (B*EXP(-bêta*(AI$15-$H23)))    +   (_C*EXP(-gamma*(AI$15-$H23 )))      )","v":0},{"$f":"  $G23/[0]!Poids      *      (     (A*EXP(-alpha*(AJ$15-$H23)))     +      (B*EXP(-bêta*(AJ$15-$H23)))    +   (_C*EXP(-gamma*(AJ$15-$H23 )))      )","v":0},{"$f":"  $G23/[0]!Poids      *      (     (A*EXP(-alpha*(AK$15-$H23)))     +      (B*EXP(-bêta*(AK$15-$H23)))    +   (_C*EXP(-gamma*(AK$15-$H23 )))      )","v":0},{"$f":"  $G23/[0]!Poids      *      (     (A*EXP(-alpha*(AL$15-$H23)))     +      (B*EXP(-bêta*(AL$15-$H23)))    +   (_C*EXP(-gamma*(AL$15-$H23 )))      )","v":0},{"$f":"  $G23/[0]!Poids      *      (     (A*EXP(-alpha*(AM$15-$H23)))     +      (B*EXP(-bêta*(AM$15-$H23)))    +   (_C*EXP(-gamma*(AM$15-$H23 )))      )","v":0},{"$f":"  $G23/[0]!Poids      *      (     (A*EXP(-alpha*(AN$15-$H23)))     +      (B*EXP(-bêta*(AN$15-$H23)))    +   (_C*EXP(-gamma*(AN$15-$H23 )))      )","v":0},{"$f":"  $G23/[0]!Poids      *      (     (A*EXP(-alpha*(AO$15-$H23)))     +      (B*EXP(-bêta*(AO$15-$H23)))    +   (_C*EXP(-gamma*(AO$15-$H23 )))      )","v":0},{"$f":"  $G23/[0]!Poids      *      (     (A*EXP(-alpha*(AP$15-$H23)))     +      (B*EXP(-bêta*(AP$15-$H23)))    +   (_C*EXP(-gamma*(AP$15-$H23 )))      )","v":0},{"$f":"  $G23/[0]!Poids      *      (     (A*EXP(-alpha*(AQ$15-$H23)))     +      (B*EXP(-bêta*(AQ$15-$H23)))    +   (_C*EXP(-gamma*(AQ$15-$H23 )))      )","v":0},{"$f":"  $G23/[0]!Poids      *      (     (A*EXP(-alpha*(AR$15-$H23)))     +      (B*EXP(-bêta*(AR$15-$H23)))    +   (_C*EXP(-gamma*(AR$15-$H23 )))      )","v":0},{"$f":"  $G23/[0]!Poids      *      (     (A*EXP(-alpha*(AS$15-$H23)))     +      (B*EXP(-bêta*(AS$15-$H23)))    +   (_C*EXP(-gamma*(AS$15-$H23 )))      )","v":0},{"$f":"  $G23/[0]!Poids      *      (     (A*EXP(-alpha*(AT$15-$H23)))     +      (B*EXP(-bêta*(AT$15-$H23)))    +   (_C*EXP(-gamma*(AT$15-$H23 )))      )","v":0},{"$f":"  $G23/[0]!Poids      *      (     (A*EXP(-alpha*(AU$15-$H23)))     +      (B*EXP(-bêta*(AU$15-$H23)))    +   (_C*EXP(-gamma*(AU$15-$H23 )))      )","v":0},{"$f":"  $G23/[0]!Poids      *      (     (A*EXP(-alpha*(AV$15-$H23)))     +      (B*EXP(-bêta*(AV$15-$H23)))    +   (_C*EXP(-gamma*(AV$15-$H23 )))      )","v":0},{"$f":"  $G23/[0]!Poids      *      (     (A*EXP(-alpha*(AW$15-$H23)))     +      (B*EXP(-bêta*(AW$15-$H23)))    +   (_C*EXP(-gamma*(AW$15-$H23 )))      )","v":0},{"$f":"  $G23/[0]!Poids      *      (     (A*EXP(-alpha*(AX$15-$H23)))     +      (B*EXP(-bêta*(AX$15-$H23)))    +   (_C*EXP(-gamma*(AX$15-$H23 )))      )","v":0},{"$f":"  $G23/[0]!Poids      *      (     (A*EXP(-alpha*(AY$15-$H23)))     +      (B*EXP(-bêta*(AY$15-$H23)))    +   (_C*EXP(-gamma*(AY$15-$H23 )))      )","v":0},{"$f":"  $G23/[0]!Poids      *      (     (A*EXP(-alpha*(AZ$15-$H23)))     +      (B*EXP(-bêta*(AZ$15-$H23)))    +   (_C*EXP(-gamma*(AZ$15-$H23 )))      )","v":0},{"$f":"  $G23/[0]!Poids      *      (     (A*EXP(-alpha*(BA$15-$H23)))     +      (B*EXP(-bêta*(BA$15-$H23)))    +   (_C*EXP(-gamma*(BA$15-$H23 )))      )","v":0},{"$f":"  $G23/[0]!Poids      *      (     (A*EXP(-alpha*(BB$15-$H23)))     +      (B*EXP(-bêta*(BB$15-$H23)))    +   (_C*EXP(-gamma*(BB$15-$H23 )))      )","v":0},{"$f":"  $G23/[0]!Poids      *      (     (A*EXP(-alpha*(BC$15-$H23)))     +      (B*EXP(-bêta*(BC$15-$H23)))    +   (_C*EXP(-gamma*(BC$15-$H23 )))      )","v":0},{"$f":"  $G23/[0]!Poids      *      (     (A*EXP(-alpha*(BD$15-$H23)))     +      (B*EXP(-bêta*(BD$15-$H23)))    +   (_C*EXP(-gamma*(BD$15-$H23 )))      )","v":0},{"$f":"  $G23/[0]!Poids      *      (     (A*EXP(-alpha*(BE$15-$H23)))     +      (B*EXP(-bêta*(BE$15-$H23)))    +   (_C*EXP(-gamma*(BE$15-$H23 )))      )","v":0},{"$f":"  $G23/[0]!Poids      *      (     (A*EXP(-alpha*(BF$15-$H23)))     +      (B*EXP(-bêta*(BF$15-$H23)))    +   (_C*EXP(-gamma*(BF$15-$H23 )))      )","v":0},{"$f":"  $G23/[0]!Poids      *      (     (A*EXP(-alpha*(BG$15-$H23)))     +      (B*EXP(-bêta*(BG$15-$H23)))    +   (_C*EXP(-gamma*(BG$15-$H23 )))      )","v":0},{"$f":"  $G23/[0]!Poids      *      (     (A*EXP(-alpha*(BH$15-$H23)))     +      (B*EXP(-bêta*(BH$15-$H23)))    +   (_C*EXP(-gamma*(BH$15-$H23 )))      )","v":0},{"$f":"  $G23/[0]!Poids      *      (     (A*EXP(-alpha*(BI$15-$H23)))     +      (B*EXP(-bêta*(BI$15-$H23)))    +   (_C*EXP(-gamma*(BI$15-$H23 )))      )","v":0},{"$f":"  $G23/[0]!Poids      *      (     (A*EXP(-alpha*(BJ$15-$H23)))     +      (B*EXP(-bêta*(BJ$15-$H23)))    +   (_C*EXP(-gamma*(BJ$15-$H23 )))      )","v":0},{"$f":"  $G23/[0]!Poids      *      (     (A*EXP(-alpha*(BK$15-$H23)))     +      (B*EXP(-bêta*(BK$15-$H23)))    +   (_C*EXP(-gamma*(BK$15-$H23 )))      )","v":0},{"$f":"  $G23/[0]!Poids      *      (     (A*EXP(-alpha*(BL$15-$H23)))     +      (B*EXP(-bêta*(BL$15-$H23)))    +   (_C*EXP(-gamma*(BL$15-$H23 )))      )","v":0},{"$f":"  $G23/[0]!Poids      *      (     (A*EXP(-alpha*(BM$15-$H23)))     +      (B*EXP(-bêta*(BM$15-$H23)))    +   (_C*EXP(-gamma*(BM$15-$H23 )))      )","v":0},{"$f":"  $G23/[0]!Poids      *      (     (A*EXP(-alpha*(BN$15-$H23)))     +      (B*EXP(-bêta*(BN$15-$H23)))    +   (_C*EXP(-gamma*(BN$15-$H23 )))      )","v":0},{"$f":"  $G23/[0]!Poids      *      (     (A*EXP(-alpha*(BO$15-$H23)))     +      (B*EXP(-bêta*(BO$15-$H23)))    +   (_C*EXP(-gamma*(BO$15-$H23 )))      )","v":0},{"$f":"  $G23/[0]!Poids      *      (     (A*EXP(-alpha*(BP$15-$H23)))     +      (B*EXP(-bêta*(BP$15-$H23)))    +   (_C*EXP(-gamma*(BP$15-$H23 )))      )","v":0},{"$f":"  $G23/[0]!Poids      *      (     (A*EXP(-alpha*(BQ$15-$H23)))     +      (B*EXP(-bêta*(BQ$15-$H23)))    +   (_C*EXP(-gamma*(BQ$15-$H23 )))      )","v":0},{"$f":"  $G23/[0]!Poids      *      (     (A*EXP(-alpha*(BR$15-$H23)))     +      (B*EXP(-bêta*(BR$15-$H23)))    +   (_C*EXP(-gamma*(BR$15-$H23 )))      )","v":0}]
[null,null,null,null,null,null,{"$f":"R$10","v":0},40,null,null,null,null,null,null,null,null,null,{"$f":"  $G24/[0]!Poids      *      (     (A*EXP(-alpha*(R$15-$H24)))     +      (B*EXP(-bêta*(R$15-$H24)))    +   (_C*EXP(-gamma*(R$15-$H24 )))      )","v":0},{"$f":"  $G24/[0]!Poids      *      (     (A*EXP(-alpha*(S$15-$H24)))     +      (B*EXP(-bêta*(S$15-$H24)))    +   (_C*EXP(-gamma*(S$15-$H24 )))      )","v":0},{"$f":"  $G24/[0]!Poids      *      (     (A*EXP(-alpha*(T$15-$H24)))     +      (B*EXP(-bêta*(T$15-$H24)))    +   (_C*EXP(-gamma*(T$15-$H24 )))      )","v":0},{"$f":"  $G24/[0]!Poids      *      (     (A*EXP(-alpha*(U$15-$H24)))     +      (B*EXP(-bêta*(U$15-$H24)))    +   (_C*EXP(-gamma*(U$15-$H24 )))      )","v":0},{"$f":"  $G24/[0]!Poids      *      (     (A*EXP(-alpha*(V$15-$H24)))     +      (B*EXP(-bêta*(V$15-$H24)))    +   (_C*EXP(-gamma*(V$15-$H24 )))      )","v":0},{"$f":"  $G24/[0]!Poids      *      (     (A*EXP(-alpha*(W$15-$H24)))     +      (B*EXP(-bêta*(W$15-$H24)))    +   (_C*EXP(-gamma*(W$15-$H24 )))      )","v":0},{"$f":"  $G24/[0]!Poids      *      (     (A*EXP(-alpha*(X$15-$H24)))     +      (B*EXP(-bêta*(X$15-$H24)))    +   (_C*EXP(-gamma*(X$15-$H24 )))      )","v":0},{"$f":"  $G24/[0]!Poids      *      (     (A*EXP(-alpha*(Y$15-$H24)))     +      (B*EXP(-bêta*(Y$15-$H24)))    +   (_C*EXP(-gamma*(Y$15-$H24 )))      )","v":0},{"$f":"  $G24/[0]!Poids      *      (     (A*EXP(-alpha*(Z$15-$H24)))     +      (B*EXP(-bêta*(Z$15-$H24)))    +   (_C*EXP(-gamma*(Z$15-$H24 )))      )","v":0},{"$f":"  $G24/[0]!Poids      *      (     (A*EXP(-alpha*(AA$15-$H24)))     +      (B*EXP(-bêta*(AA$15-$H24)))    +   (_C*EXP(-gamma*(AA$15-$H24 )))      )","v":0},{"$f":"  $G24/[0]!Poids      *      (     (A*EXP(-alpha*(AB$15-$H24)))     +      (B*EXP(-bêta*(AB$15-$H24)))    +   (_C*EXP(-gamma*(AB$15-$H24 )))      )","v":0},{"$f":"  $G24/[0]!Poids      *      (     (A*EXP(-alpha*(AC$15-$H24)))     +      (B*EXP(-bêta*(AC$15-$H24)))    +   (_C*EXP(-gamma*(AC$15-$H24 )))      )","v":0},{"$f":"  $G24/[0]!Poids      *      (     (A*EXP(-alpha*(AD$15-$H24)))     +      (B*EXP(-bêta*(AD$15-$H24)))    +   (_C*EXP(-gamma*(AD$15-$H24 )))      )","v":0},{"$f":"  $G24/[0]!Poids      *      (     (A*EXP(-alpha*(AE$15-$H24)))     +      (B*EXP(-bêta*(AE$15-$H24)))    +   (_C*EXP(-gamma*(AE$15-$H24 )))      )","v":0},{"$f":"  $G24/[0]!Poids      *      (     (A*EXP(-alpha*(AF$15-$H24)))     +      (B*EXP(-bêta*(AF$15-$H24)))    +   (_C*EXP(-gamma*(AF$15-$H24 )))      )","v":0},{"$f":"  $G24/[0]!Poids      *      (     (A*EXP(-alpha*(AG$15-$H24)))     +      (B*EXP(-bêta*(AG$15-$H24)))    +   (_C*EXP(-gamma*(AG$15-$H24 )))      )","v":0},{"$f":"  $G24/[0]!Poids      *      (     (A*EXP(-alpha*(AH$15-$H24)))     +      (B*EXP(-bêta*(AH$15-$H24)))    +   (_C*EXP(-gamma*(AH$15-$H24 )))      )","v":0},{"$f":"  $G24/[0]!Poids      *      (     (A*EXP(-alpha*(AI$15-$H24)))     +      (B*EXP(-bêta*(AI$15-$H24)))    +   (_C*EXP(-gamma*(AI$15-$H24 )))      )","v":0},{"$f":"  $G24/[0]!Poids      *      (     (A*EXP(-alpha*(AJ$15-$H24)))     +      (B*EXP(-bêta*(AJ$15-$H24)))    +   (_C*EXP(-gamma*(AJ$15-$H24 )))      )","v":0},{"$f":"  $G24/[0]!Poids      *      (     (A*EXP(-alpha*(AK$15-$H24)))     +      (B*EXP(-bêta*(AK$15-$H24)))    +   (_C*EXP(-gamma*(AK$15-$H24 )))      )","v":0},{"$f":"  $G24/[0]!Poids      *      (     (A*EXP(-alpha*(AL$15-$H24)))     +      (B*EXP(-bêta*(AL$15-$H24)))    +   (_C*EXP(-gamma*(AL$15-$H24 )))      )","v":0},{"$f":"  $G24/[0]!Poids      *      (     (A*EXP(-alpha*(AM$15-$H24)))     +      (B*EXP(-bêta*(AM$15-$H24)))    +   (_C*EXP(-gamma*(AM$15-$H24 )))      )","v":0},{"$f":"  $G24/[0]!Poids      *      (     (A*EXP(-alpha*(AN$15-$H24)))     +      (B*EXP(-bêta*(AN$15-$H24)))    +   (_C*EXP(-gamma*(AN$15-$H24 )))      )","v":0},{"$f":"  $G24/[0]!Poids      *      (     (A*EXP(-alpha*(AO$15-$H24)))     +      (B*EXP(-bêta*(AO$15-$H24)))    +   (_C*EXP(-gamma*(AO$15-$H24 )))      )","v":0},{"$f":"  $G24/[0]!Poids      *      (     (A*EXP(-alpha*(AP$15-$H24)))     +      (B*EXP(-bêta*(AP$15-$H24)))    +   (_C*EXP(-gamma*(AP$15-$H24 )))      )","v":0},{"$f":"  $G24/[0]!Poids      *      (     (A*EXP(-alpha*(AQ$15-$H24)))     +      (B*EXP(-bêta*(AQ$15-$H24)))    +   (_C*EXP(-gamma*(AQ$15-$H24 )))      )","v":0},{"$f":"  $G24/[0]!Poids      *      (     (A*EXP(-alpha*(AR$15-$H24)))     +      (B*EXP(-bêta*(AR$15-$H24)))    +   (_C*EXP(-gamma*(AR$15-$H24 )))      )","v":0},{"$f":"  $G24/[0]!Poids      *      (     (A*EXP(-alpha*(AS$15-$H24)))     +      (B*EXP(-bêta*(AS$15-$H24)))    +   (_C*EXP(-gamma*(AS$15-$H24 )))      )","v":0},{"$f":"  $G24/[0]!Poids      *      (     (A*EXP(-alpha*(AT$15-$H24)))     +      (B*EXP(-bêta*(AT$15-$H24)))    +   (_C*EXP(-gamma*(AT$15-$H24 )))      )","v":0},{"$f":"  $G24/[0]!Poids      *      (     (A*EXP(-alpha*(AU$15-$H24)))     +      (B*EXP(-bêta*(AU$15-$H24)))    +   (_C*EXP(-gamma*(AU$15-$H24 )))      )","v":0},{"$f":"  $G24/[0]!Poids      *      (     (A*EXP(-alpha*(AV$15-$H24)))     +      (B*EXP(-bêta*(AV$15-$H24)))    +   (_C*EXP(-gamma*(AV$15-$H24 )))      )","v":0},{"$f":"  $G24/[0]!Poids      *      (     (A*EXP(-alpha*(AW$15-$H24)))     +      (B*EXP(-bêta*(AW$15-$H24)))    +   (_C*EXP(-gamma*(AW$15-$H24 )))      )","v":0},{"$f":"  $G24/[0]!Poids      *      (     (A*EXP(-alpha*(AX$15-$H24)))     +      (B*EXP(-bêta*(AX$15-$H24)))    +   (_C*EXP(-gamma*(AX$15-$H24 )))      )","v":0},{"$f":"  $G24/[0]!Poids      *      (     (A*EXP(-alpha*(AY$15-$H24)))     +      (B*EXP(-bêta*(AY$15-$H24)))    +   (_C*EXP(-gamma*(AY$15-$H24 )))      )","v":0},{"$f":"  $G24/[0]!Poids      *      (     (A*EXP(-alpha*(AZ$15-$H24)))     +      (B*EXP(-bêta*(AZ$15-$H24)))    +   (_C*EXP(-gamma*(AZ$15-$H24 )))      )","v":0},{"$f":"  $G24/[0]!Poids      *      (     (A*EXP(-alpha*(BA$15-$H24)))     +      (B*EXP(-bêta*(BA$15-$H24)))    +   (_C*EXP(-gamma*(BA$15-$H24 )))      )","v":0},{"$f":"  $G24/[0]!Poids      *      (     (A*EXP(-alpha*(BB$15-$H24)))     +      (B*EXP(-bêta*(BB$15-$H24)))    +   (_C*EXP(-gamma*(BB$15-$H24 )))      )","v":0},{"$f":"  $G24/[0]!Poids      *      (     (A*EXP(-alpha*(BC$15-$H24)))     +      (B*EXP(-bêta*(BC$15-$H24)))    +   (_C*EXP(-gamma*(BC$15-$H24 )))      )","v":0},{"$f":"  $G24/[0]!Poids      *      (     (A*EXP(-alpha*(BD$15-$H24)))     +      (B*EXP(-bêta*(BD$15-$H24)))    +   (_C*EXP(-gamma*(BD$15-$H24 )))      )","v":0},{"$f":"  $G24/[0]!Poids      *      (     (A*EXP(-alpha*(BE$15-$H24)))     +      (B*EXP(-bêta*(BE$15-$H24)))    +   (_C*EXP(-gamma*(BE$15-$H24 )))      )","v":0},{"$f":"  $G24/[0]!Poids      *      (     (A*EXP(-alpha*(BF$15-$H24)))     +      (B*EXP(-bêta*(BF$15-$H24)))    +   (_C*EXP(-gamma*(BF$15-$H24 )))      )","v":0},{"$f":"  $G24/[0]!Poids      *      (     (A*EXP(-alpha*(BG$15-$H24)))     +      (B*EXP(-bêta*(BG$15-$H24)))    +   (_C*EXP(-gamma*(BG$15-$H24 )))      )","v":0},{"$f":"  $G24/[0]!Poids      *      (     (A*EXP(-alpha*(BH$15-$H24)))     +      (B*EXP(-bêta*(BH$15-$H24)))    +   (_C*EXP(-gamma*(BH$15-$H24 )))      )","v":0},{"$f":"  $G24/[0]!Poids      *      (     (A*EXP(-alpha*(BI$15-$H24)))     +      (B*EXP(-bêta*(BI$15-$H24)))    +   (_C*EXP(-gamma*(BI$15-$H24 )))      )","v":0},{"$f":"  $G24/[0]!Poids      *      (     (A*EXP(-alpha*(BJ$15-$H24)))     +      (B*EXP(-bêta*(BJ$15-$H24)))    +   (_C*EXP(-gamma*(BJ$15-$H24 )))      )","v":0},{"$f":"  $G24/[0]!Poids      *      (     (A*EXP(-alpha*(BK$15-$H24)))     +      (B*EXP(-bêta*(BK$15-$H24)))    +   (_C*EXP(-gamma*(BK$15-$H24 )))      )","v":0},{"$f":"  $G24/[0]!Poids      *      (     (A*EXP(-alpha*(BL$15-$H24)))     +      (B*EXP(-bêta*(BL$15-$H24)))    +   (_C*EXP(-gamma*(BL$15-$H24 )))      )","v":0},{"$f":"  $G24/[0]!Poids      *      (     (A*EXP(-alpha*(BM$15-$H24)))     +      (B*EXP(-bêta*(BM$15-$H24)))    +   (_C*EXP(-gamma*(BM$15-$H24 )))      )","v":0},{"$f":"  $G24/[0]!Poids      *      (     (A*EXP(-alpha*(BN$15-$H24)))     +      (B*EXP(-bêta*(BN$15-$H24)))    +   (_C*EXP(-gamma*(BN$15-$H24 )))      )","v":0},{"$f":"  $G24/[0]!Poids      *      (     (A*EXP(-alpha*(BO$15-$H24)))     +      (B*EXP(-bêta*(BO$15-$H24)))    +   (_C*EXP(-gamma*(BO$15-$H24 )))      )","v":0},{"$f":"  $G24/[0]!Poids      *      (     (A*EXP(-alpha*(BP$15-$H24)))     +      (B*EXP(-bêta*(BP$15-$H24)))    +   (_C*EXP(-gamma*(BP$15-$H24 )))      )","v":0},{"$f":"  $G24/[0]!Poids      *      (     (A*EXP(-alpha*(BQ$15-$H24)))     +      (B*EXP(-bêta*(BQ$15-$H24)))    +   (_C*EXP(-gamma*(BQ$15-$H24 )))      )","v":0},{"$f":"  $G24/[0]!Poids      *      (     (A*EXP(-alpha*(BR$15-$H24)))     +      (B*EXP(-bêta*(BR$15-$H24)))    +   (_C*EXP(-gamma*(BR$15-$H24 )))      )","v":0}]
[null,"Le modèle se base sur 70 kg",null,null,"POIDS",null,{"$f":"S$10","v":0},45,null,null,null,null,null,null,null,null,null,null,{"$f":"  $G25/[0]!Poids      *      (     (A*EXP(-alpha*(S$15-$H25)))     +      (B*EXP(-bêta*(S$15-$H25)))    +   (_C*EXP(-gamma*(S$15-$H25 )))      )","v":0},{"$f":"  $G25/[0]!Poids      *      (     (A*EXP(-alpha*(T$15-$H25)))     +      (B*EXP(-bêta*(T$15-$H25)))    +   (_C*EXP(-gamma*(T$15-$H25 )))      )","v":0},{"$f":"  $G25/[0]!Poids      *      (     (A*EXP(-alpha*(U$15-$H25)))     +      (B*EXP(-bêta*(U$15-$H25)))    +   (_C*EXP(-gamma*(U$15-$H25 )))      )","v":0},{"$f":"  $G25/[0]!Poids      *      (     (A*EXP(-alpha*(V$15-$H25)))     +      (B*EXP(-bêta*(V$15-$H25)))    +   (_C*EXP(-gamma*(V$15-$H25 )))      )","v":0},{"$f":"  $G25/[0]!Poids      *      (     (A*EXP(-alpha*(W$15-$H25)))     +      (B*EXP(-bêta*(W$15-$H25)))    +   (_C*EXP(-gamma*(W$15-$H25 )))      )","v":0},{"$f":"  $G25/[0]!Poids      *      (     (A*EXP(-alpha*(X$15-$H25)))     +      (B*EXP(-bêta*(X$15-$H25)))    +   (_C*EXP(-gamma*(X$15-$H25 )))      )","v":0},{"$f":"  $G25/[0]!Poids      *      (     (A*EXP(-alpha*(Y$15-$H25)))     +      (B*EXP(-bêta*(Y$15-$H25)))    +   (_C*EXP(-gamma*(Y$15-$H25 )))      )","v":0},{"$f":"  $G25/[0]!Poids      *      (     (A*EXP(-alpha*(Z$15-$H25)))     +      (B*EXP(-bêta*(Z$15-$H25)))    +   (_C*EXP(-gamma*(Z$15-$H25 )))      )","v":0},{"$f":"  $G25/[0]!Poids      *      (     (A*EXP(-alpha*(AA$15-$H25)))     +      (B*EXP(-bêta*(AA$15-$H25)))    +   (_C*EXP(-gamma*(AA$15-$H25 )))      )","v":0},{"$f":"  $G25/[0]!Poids      *      (     (A*EXP(-alpha*(AB$15-$H25)))     +      (B*EXP(-bêta*(AB$15-$H25)))    +   (_C*EXP(-gamma*(AB$15-$H25 )))      )","v":0},{"$f":"  $G25/[0]!Poids      *      (     (A*EXP(-alpha*(AC$15-$H25)))     +      (B*EXP(-bêta*(AC$15-$H25)))    +   (_C*EXP(-gamma*(AC$15-$H25 )))      )","v":0},{"$f":"  $G25/[0]!Poids      *      (     (A*EXP(-alpha*(AD$15-$H25)))     +      (B*EXP(-bêta*(AD$15-$H25)))    +   (_C*EXP(-gamma*(AD$15-$H25 )))      )","v":0},{"$f":"  $G25/[0]!Poids      *      (     (A*EXP(-alpha*(AE$15-$H25)))     +      (B*EXP(-bêta*(AE$15-$H25)))    +   (_C*EXP(-gamma*(AE$15-$H25 )))      )","v":0},{"$f":"  $G25/[0]!Poids      *      (     (A*EXP(-alpha*(AF$15-$H25)))     +      (B*EXP(-bêta*(AF$15-$H25)))    +   (_C*EXP(-gamma*(AF$15-$H25 )))      )","v":0},{"$f":"  $G25/[0]!Poids      *      (     (A*EXP(-alpha*(AG$15-$H25)))     +      (B*EXP(-bêta*(AG$15-$H25)))    +   (_C*EXP(-gamma*(AG$15-$H25 )))      )","v":0},{"$f":"  $G25/[0]!Poids      *      (     (A*EXP(-alpha*(AH$15-$H25)))     +      (B*EXP(-bêta*(AH$15-$H25)))    +   (_C*EXP(-gamma*(AH$15-$H25 )))      )","v":0},{"$f":"  $G25/[0]!Poids      *      (     (A*EXP(-alpha*(AI$15-$H25)))     +      (B*EXP(-bêta*(AI$15-$H25)))    +   (_C*EXP(-gamma*(AI$15-$H25 )))      )","v":0},{"$f":"  $G25/[0]!Poids      *      (     (A*EXP(-alpha*(AJ$15-$H25)))     +      (B*EXP(-bêta*(AJ$15-$H25)))    +   (_C*EXP(-gamma*(AJ$15-$H25 )))      )","v":0},{"$f":"  $G25/[0]!Poids      *      (     (A*EXP(-alpha*(AK$15-$H25)))     +      (B*EXP(-bêta*(AK$15-$H25)))    +   (_C*EXP(-gamma*(AK$15-$H25 )))      )","v":0},{"$f":"  $G25/[0]!Poids      *      (     (A*EXP(-alpha*(AL$15-$H25)))     +      (B*EXP(-bêta*(AL$15-$H25)))    +   (_C*EXP(-gamma*(AL$15-$H25 )))      )","v":0},{"$f":"  $G25/[0]!Poids      *      (     (A*EXP(-alpha*(AM$15-$H25)))     +      (B*EXP(-bêta*(AM$15-$H25)))    +   (_C*EXP(-gamma*(AM$15-$H25 )))      )","v":0},{"$f":"  $G25/[0]!Poids      *      (     (A*EXP(-alpha*(AN$15-$H25)))     +      (B*EXP(-bêta*(AN$15-$H25)))    +   (_C*EXP(-gamma*(AN$15-$H25 )))      )","v":0},{"$f":"  $G25/[0]!Poids      *      (     (A*EXP(-alpha*(AO$15-$H25)))     +      (B*EXP(-bêta*(AO$15-$H25)))    +   (_C*EXP(-gamma*(AO$15-$H25 )))      )","v":0},{"$f":"  $G25/[0]!Poids      *      (     (A*EXP(-alpha*(AP$15-$H25)))     +      (B*EXP(-bêta*(AP$15-$H25)))    +   (_C*EXP(-gamma*(AP$15-$H25 )))      )","v":0},{"$f":"  $G25/[0]!Poids      *      (     (A*EXP(-alpha*(AQ$15-$H25)))     +      (B*EXP(-bêta*(AQ$15-$H25)))    +   (_C*EXP(-gamma*(AQ$15-$H25 )))      )","v":0},{"$f":"  $G25/[0]!Poids      *      (     (A*EXP(-alpha*(AR$15-$H25)))     +      (B*EXP(-bêta*(AR$15-$H25)))    +   (_C*EXP(-gamma*(AR$15-$H25 )))      )","v":0},{"$f":"  $G25/[0]!Poids      *      (     (A*EXP(-alpha*(AS$15-$H25)))     +      (B*EXP(-bêta*(AS$15-$H25)))    +   (_C*EXP(-gamma*(AS$15-$H25 )))      )","v":0},{"$f":"  $G25/[0]!Poids      *      (     (A*EXP(-alpha*(AT$15-$H25)))     +      (B*EXP(-bêta*(AT$15-$H25)))    +   (_C*EXP(-gamma*(AT$15-$H25 )))      )","v":0},{"$f":"  $G25/[0]!Poids      *      (     (A*EXP(-alpha*(AU$15-$H25)))     +      (B*EXP(-bêta*(AU$15-$H25)))    +   (_C*EXP(-gamma*(AU$15-$H25 )))      )","v":0},{"$f":"  $G25/[0]!Poids      *      (     (A*EXP(-alpha*(AV$15-$H25)))     +      (B*EXP(-bêta*(AV$15-$H25)))    +   (_C*EXP(-gamma*(AV$15-$H25 )))      )","v":0},{"$f":"  $G25/[0]!Poids      *      (     (A*EXP(-alpha*(AW$15-$H25)))     +      (B*EXP(-bêta*(AW$15-$H25)))    +   (_C*EXP(-gamma*(AW$15-$H25 )))      )","v":0},{"$f":"  $G25/[0]!Poids      *      (     (A*EXP(-alpha*(AX$15-$H25)))     +      (B*EXP(-bêta*(AX$15-$H25)))    +   (_C*EXP(-gamma*(AX$15-$H25 )))      )","v":0},{"$f":"  $G25/[0]!Poids      *      (     (A*EXP(-alpha*(AY$15-$H25)))     +      (B*EXP(-bêta*(AY$15-$H25)))    +   (_C*EXP(-gamma*(AY$15-$H25 )))      )","v":0},{"$f":"  $G25/[0]!Poids      *      (     (A*EXP(-alpha*(AZ$15-$H25)))     +      (B*EXP(-bêta*(AZ$15-$H25)))    +   (_C*EXP(-gamma*(AZ$15-$H25 )))      )","v":0},{"$f":"  $G25/[0]!Poids      *      (     (A*EXP(-alpha*(BA$15-$H25)))     +      (B*EXP(-bêta*(BA$15-$H25)))    +   (_C*EXP(-gamma*(BA$15-$H25 )))      )","v":0},{"$f":"  $G25/[0]!Poids      *      (     (A*EXP(-alpha*(BB$15-$H25)))     +      (B*EXP(-bêta*(BB$15-$H25)))    +   (_C*EXP(-gamma*(BB$15-$H25 )))      )","v":0},{"$f":"  $G25/[0]!Poids      *      (     (A*EXP(-alpha*(BC$15-$H25)))     +      (B*EXP(-bêta*(BC$15-$H25)))    +   (_C*EXP(-gamma*(BC$15-$H25 )))      )","v":0},{"$f":"  $G25/[0]!Poids      *      (     (A*EXP(-alpha*(BD$15-$H25)))     +      (B*EXP(-bêta*(BD$15-$H25)))    +   (_C*EXP(-gamma*(BD$15-$H25 )))      )","v":0},{"$f":"  $G25/[0]!Poids      *      (     (A*EXP(-alpha*(BE$15-$H25)))     +      (B*EXP(-bêta*(BE$15-$H25)))    +   (_C*EXP(-gamma*(BE$15-$H25 )))      )","v":0},{"$f":"  $G25/[0]!Poids      *      (     (A*EXP(-alpha*(BF$15-$H25)))     +      (B*EXP(-bêta*(BF$15-$H25)))    +   (_C*EXP(-gamma*(BF$15-$H25 )))      )","v":0},{"$f":"  $G25/[0]!Poids      *      (     (A*EXP(-alpha*(BG$15-$H25)))     +      (B*EXP(-bêta*(BG$15-$H25)))    +   (_C*EXP(-gamma*(BG$15-$H25 )))      )","v":0},{"$f":"  $G25/[0]!Poids      *      (     (A*EXP(-alpha*(BH$15-$H25)))     +      (B*EXP(-bêta*(BH$15-$H25)))    +   (_C*EXP(-gamma*(BH$15-$H25 )))      )","v":0},{"$f":"  $G25/[0]!Poids      *      (     (A*EXP(-alpha*(BI$15-$H25)))     +      (B*EXP(-bêta*(BI$15-$H25)))    +   (_C*EXP(-gamma*(BI$15-$H25 )))      )","v":0},{"$f":"  $G25/[0]!Poids      *      (     (A*EXP(-alpha*(BJ$15-$H25)))     +      (B*EXP(-bêta*(BJ$15-$H25)))    +   (_C*EXP(-gamma*(BJ$15-$H25 )))      )","v":0},{"$f":"  $G25/[0]!Poids      *      (     (A*EXP(-alpha*(BK$15-$H25)))     +      (B*EXP(-bêta*(BK$15-$H25)))    +   (_C*EXP(-gamma*(BK$15-$H25 )))      )","v":0},{"$f":"  $G25/[0]!Poids      *      (     (A*EXP(-alpha*(BL$15-$H25)))     +      (B*EXP(-bêta*(BL$15-$H25)))    +   (_C*EXP(-gamma*(BL$15-$H25 )))      )","v":0},{"$f":"  $G25/[0]!Poids      *      (     (A*EXP(-alpha*(BM$15-$H25)))     +      (B*EXP(-bêta*(BM$15-$H25)))    +   (_C*EXP(-gamma*(BM$15-$H25 )))      )","v":0},{"$f":"  $G25/[0]!Poids      *      (     (A*EXP(-alpha*(BN$15-$H25)))     +      (B*EXP(-bêta*(BN$15-$H25)))    +   (_C*EXP(-gamma*(BN$15-$H25 )))      )","v":0},{"$f":"  $G25/[0]!Poids      *      (     (A*EXP(-alpha*(BO$15-$H25)))     +      (B*EXP(-bêta*(BO$15-$H25)))    +   (_C*EXP(-gamma*(BO$15-$H25 )))      )","v":0},{"$f":"  $G25/[0]!Poids      *      (     (A*EXP(-alpha*(BP$15-$H25)))     +      (B*EXP(-bêta*(BP$15-$H25)))    +   (_C*EXP(-gamma*(BP$15-$H25 )))      )","v":0},{"$f":"  $G25/[0]!Poids      *      (     (A*EXP(-alpha*(BQ$15-$H25)))     +      (B*EXP(-bêta*(BQ$15-$H25)))    +   (_C*EXP(-gamma*(BQ$15-$H25 )))      )","v":0},{"$f":"  $G25/[0]!Poids      *      (     (A*EXP(-alpha*(BR$15-$H25)))     +      (B*EXP(-bêta*(BR$15-$H25)))    +   (_C*EXP(-gamma*(BR$15-$H25 )))      )","v":0}]
[null,null,null,null,{"$f":"[0]!Poids","v":70},null,{"$f":"T$10","v":0},50,null,null,null,null,null,null,null,null,null,null,null,{"$f":"  $G26/[0]!Poids      *      (     (A*EXP(-alpha*(T$15-$H26)))     +      (B*EXP(-bêta*(T$15-$H26)))    +   (_C*EXP(-gamma*(T$15-$H26 )))      )","v":0},{"$f":"  $G26/[0]!Poids      *      (     (A*EXP(-alpha*(U$15-$H26)))     +      (B*EXP(-bêta*(U$15-$H26)))    +   (_C*EXP(-gamma*(U$15-$H26 )))      )","v":0},{"$f":"  $G26/[0]!Poids      *      (     (A*EXP(-alpha*(V$15-$H26)))     +      (B*EXP(-bêta*(V$15-$H26)))    +   (_C*EXP(-gamma*(V$15-$H26 )))      )","v":0},{"$f":"  $G26/[0]!Poids      *      (     (A*EXP(-alpha*(W$15-$H26)))     +      (B*EXP(-bêta*(W$15-$H26)))    +   (_C*EXP(-gamma*(W$15-$H26 )))      )","v":0},{"$f":"  $G26/[0]!Poids      *      (     (A*EXP(-alpha*(X$15-$H26)))     +      (B*EXP(-bêta*(X$15-$H26)))    +   (_C*EXP(-gamma*(X$15-$H26 )))      )","v":0},{"$f":"  $G26/[0]!Poids      *      (     (A*EXP(-alpha*(Y$15-$H26)))     +      (B*EXP(-bêta*(Y$15-$H26)))    +   (_C*EXP(-gamma*(Y$15-$H26 )))      )","v":0},{"$f":"  $G26/[0]!Poids      *      (     (A*EXP(-alpha*(Z$15-$H26)))     +      (B*EXP(-bêta*(Z$15-$H26)))    +   (_C*EXP(-gamma*(Z$15-$H26 )))      )","v":0},{"$f":"  $G26/[0]!Poids      *      (     (A*EXP(-alpha*(AA$15-$H26)))     +      (B*EXP(-bêta*(AA$15-$H26)))    +   (_C*EXP(-gamma*(AA$15-$H26 )))      )","v":0},{"$f":"  $G26/[0]!Poids      *      (     (A*EXP(-alpha*(AB$15-$H26)))     +      (B*EXP(-bêta*(AB$15-$H26)))    +   (_C*EXP(-gamma*(AB$15-$H26 )))      )","v":0},{"$f":"  $G26/[0]!Poids      *      (     (A*EXP(-alpha*(AC$15-$H26)))     +      (B*EXP(-bêta*(AC$15-$H26)))    +   (_C*EXP(-gamma*(AC$15-$H26 )))      )","v":0},{"$f":"  $G26/[0]!Poids      *      (     (A*EXP(-alpha*(AD$15-$H26)))     +      (B*EXP(-bêta*(AD$15-$H26)))    +   (_C*EXP(-gamma*(AD$15-$H26 )))      )","v":0},{"$f":"  $G26/[0]!Poids      *      (     (A*EXP(-alpha*(AE$15-$H26)))     +      (B*EXP(-bêta*(AE$15-$H26)))    +   (_C*EXP(-gamma*(AE$15-$H26 )))      )","v":0},{"$f":"  $G26/[0]!Poids      *      (     (A*EXP(-alpha*(AF$15-$H26)))     +      (B*EXP(-bêta*(AF$15-$H26)))    +   (_C*EXP(-gamma*(AF$15-$H26 )))      )","v":0},{"$f":"  $G26/[0]!Poids      *      (     (A*EXP(-alpha*(AG$15-$H26)))     +      (B*EXP(-bêta*(AG$15-$H26)))    +   (_C*EXP(-gamma*(AG$15-$H26 )))      )","v":0},{"$f":"  $G26/[0]!Poids      *      (     (A*EXP(-alpha*(AH$15-$H26)))     +      (B*EXP(-bêta*(AH$15-$H26)))    +   (_C*EXP(-gamma*(AH$15-$H26 )))      )","v":0},{"$f":"  $G26/[0]!Poids      *      (     (A*EXP(-alpha*(AI$15-$H26)))     +      (B*EXP(-bêta*(AI$15-$H26)))    +   (_C*EXP(-gamma*(AI$15-$H26 )))      )","v":0},{"$f":"  $G26/[0]!Poids      *      (     (A*EXP(-alpha*(AJ$15-$H26)))     +      (B*EXP(-bêta*(AJ$15-$H26)))    +   (_C*EXP(-gamma*(AJ$15-$H26 )))      )","v":0},{"$f":"  $G26/[0]!Poids      *      (     (A*EXP(-alpha*(AK$15-$H26)))     +      (B*EXP(-bêta*(AK$15-$H26)))    +   (_C*EXP(-gamma*(AK$15-$H26 )))      )","v":0},{"$f":"  $G26/[0]!Poids      *      (     (A*EXP(-alpha*(AL$15-$H26)))     +      (B*EXP(-bêta*(AL$15-$H26)))    +   (_C*EXP(-gamma*(AL$15-$H26 )))      )","v":0},{"$f":"  $G26/[0]!Poids      *      (     (A*EXP(-alpha*(AM$15-$H26)))     +      (B*EXP(-bêta*(AM$15-$H26)))    +   (_C*EXP(-gamma*(AM$15-$H26 )))      )","v":0},{"$f":"  $G26/[0]!Poids      *      (     (A*EXP(-alpha*(AN$15-$H26)))     +      (B*EXP(-bêta*(AN$15-$H26)))    +   (_C*EXP(-gamma*(AN$15-$H26 )))      )","v":0},{"$f":"  $G26/[0]!Poids      *      (     (A*EXP(-alpha*(AO$15-$H26)))     +      (B*EXP(-bêta*(AO$15-$H26)))    +   (_C*EXP(-gamma*(AO$15-$H26 )))      )","v":0},{"$f":"  $G26/[0]!Poids      *      (     (A*EXP(-alpha*(AP$15-$H26)))     +      (B*EXP(-bêta*(AP$15-$H26)))    +   (_C*EXP(-gamma*(AP$15-$H26 )))      )","v":0},{"$f":"  $G26/[0]!Poids      *      (     (A*EXP(-alpha*(AQ$15-$H26)))     +      (B*EXP(-bêta*(AQ$15-$H26)))    +   (_C*EXP(-gamma*(AQ$15-$H26 )))      )","v":0},{"$f":"  $G26/[0]!Poids      *      (     (A*EXP(-alpha*(AR$15-$H26)))     +      (B*EXP(-bêta*(AR$15-$H26)))    +   (_C*EXP(-gamma*(AR$15-$H26 )))      )","v":0},{"$f":"  $G26/[0]!Poids      *      (     (A*EXP(-alpha*(AS$15-$H26)))     +      (B*EXP(-bêta*(AS$15-$H26)))    +   (_C*EXP(-gamma*(AS$15-$H26 )))      )","v":0},{"$f":"  $G26/[0]!Poids      *      (     (A*EXP(-alpha*(AT$15-$H26)))     +      (B*EXP(-bêta*(AT$15-$H26)))    +   (_C*EXP(-gamma*(AT$15-$H26 )))      )","v":0},{"$f":"  $G26/[0]!Poids      *      (     (A*EXP(-alpha*(AU$15-$H26)))     +      (B*EXP(-bêta*(AU$15-$H26)))    +   (_C*EXP(-gamma*(AU$15-$H26 )))      )","v":0},{"$f":"  $G26/[0]!Poids      *      (     (A*EXP(-alpha*(AV$15-$H26)))     +      (B*EXP(-bêta*(AV$15-$H26)))    +   (_C*EXP(-gamma*(AV$15-$H26 )))      )","v":0},{"$f":"  $G26/[0]!Poids      *      (     (A*EXP(-alpha*(AW$15-$H26)))     +      (B*EXP(-bêta*(AW$15-$H26)))    +   (_C*EXP(-gamma*(AW$15-$H26 )))      )","v":0},{"$f":"  $G26/[0]!Poids      *      (     (A*EXP(-alpha*(AX$15-$H26)))     +      (B*EXP(-bêta*(AX$15-$H26)))    +   (_C*EXP(-gamma*(AX$15-$H26 )))      )","v":0},{"$f":"  $G26/[0]!Poids      *      (     (A*EXP(-alpha*(AY$15-$H26)))     +      (B*EXP(-bêta*(AY$15-$H26)))    +   (_C*EXP(-gamma*(AY$15-$H26 )))      )","v":0},{"$f":"  $G26/[0]!Poids      *      (     (A*EXP(-alpha*(AZ$15-$H26)))     +      (B*EXP(-bêta*(AZ$15-$H26)))    +   (_C*EXP(-gamma*(AZ$15-$H26 )))      )","v":0},{"$f":"  $G26/[0]!Poids      *      (     (A*EXP(-alpha*(BA$15-$H26)))     +      (B*EXP(-bêta*(BA$15-$H26)))    +   (_C*EXP(-gamma*(BA$15-$H26 )))      )","v":0},{"$f":"  $G26/[0]!Poids      *      (     (A*EXP(-alpha*(BB$15-$H26)))     +      (B*EXP(-bêta*(BB$15-$H26)))    +   (_C*EXP(-gamma*(BB$15-$H26 )))      )","v":0},{"$f":"  $G26/[0]!Poids      *      (     (A*EXP(-alpha*(BC$15-$H26)))     +      (B*EXP(-bêta*(BC$15-$H26)))    +   (_C*EXP(-gamma*(BC$15-$H26 )))      )","v":0},{"$f":"  $G26/[0]!Poids      *      (     (A*EXP(-alpha*(BD$15-$H26)))     +      (B*EXP(-bêta*(BD$15-$H26)))    +   (_C*EXP(-gamma*(BD$15-$H26 )))      )","v":0},{"$f":"  $G26/[0]!Poids      *      (     (A*EXP(-alpha*(BE$15-$H26)))     +      (B*EXP(-bêta*(BE$15-$H26)))    +   (_C*EXP(-gamma*(BE$15-$H26 )))      )","v":0},{"$f":"  $G26/[0]!Poids      *      (     (A*EXP(-alpha*(BF$15-$H26)))     +      (B*EXP(-bêta*(BF$15-$H26)))    +   (_C*EXP(-gamma*(BF$15-$H26 )))      )","v":0},{"$f":"  $G26/[0]!Poids      *      (     (A*EXP(-alpha*(BG$15-$H26)))     +      (B*EXP(-bêta*(BG$15-$H26)))    +   (_C*EXP(-gamma*(BG$15-$H26 )))      )","v":0},{"$f":"  $G26/[0]!Poids      *      (     (A*EXP(-alpha*(BH$15-$H26)))     +      (B*EXP(-bêta*(BH$15-$H26)))    +   (_C*EXP(-gamma*(BH$15-$H26 )))      )","v":0},{"$f":"  $G26/[0]!Poids      *      (     (A*EXP(-alpha*(BI$15-$H26)))     +      (B*EXP(-bêta*(BI$15-$H26)))    +   (_C*EXP(-gamma*(BI$15-$H26 )))      )","v":0},{"$f":"  $G26/[0]!Poids      *      (     (A*EXP(-alpha*(BJ$15-$H26)))     +      (B*EXP(-bêta*(BJ$15-$H26)))    +   (_C*EXP(-gamma*(BJ$15-$H26 )))      )","v":0},{"$f":"  $G26/[0]!Poids      *      (     (A*EXP(-alpha*(BK$15-$H26)))     +      (B*EXP(-bêta*(BK$15-$H26)))    +   (_C*EXP(-gamma*(BK$15-$H26 )))      )","v":0},{"$f":"  $G26/[0]!Poids      *      (     (A*EXP(-alpha*(BL$15-$H26)))     +      (B*EXP(-bêta*(BL$15-$H26)))    +   (_C*EXP(-gamma*(BL$15-$H26 )))      )","v":0},{"$f":"  $G26/[0]!Poids      *      (     (A*EXP(-alpha*(BM$15-$H26)))     +      (B*EXP(-bêta*(BM$15-$H26)))    +   (_C*EXP(-gamma*(BM$15-$H26 )))      )","v":0},{"$f":"  $G26/[0]!Poids      *      (     (A*EXP(-alpha*(BN$15-$H26)))     +      (B*EXP(-bêta*(BN$15-$H26)))    +   (_C*EXP(-gamma*(BN$15-$H26 )))      )","v":0},{"$f":"  $G26/[0]!Poids      *      (     (A*EXP(-alpha*(BO$15-$H26)))     +      (B*EXP(-bêta*(BO$15-$H26)))    +   (_C*EXP(-gamma*(BO$15-$H26 )))      )","v":0},{"$f":"  $G26/[0]!Poids      *      (     (A*EXP(-alpha*(BP$15-$H26)))     +      (B*EXP(-bêta*(BP$15-$H26)))    +   (_C*EXP(-gamma*(BP$15-$H26 )))      )","v":0},{"$f":"  $G26/[0]!Poids      *      (     (A*EXP(-alpha*(BQ$15-$H26)))     +      (B*EXP(-bêta*(BQ$15-$H26)))    +   (_C*EXP(-gamma*(BQ$15-$H26 )))      )","v":0},{"$f":"  $G26/[0]!Poids      *      (     (A*EXP(-alpha*(BR$15-$H26)))     +      (B*EXP(-bêta*(BR$15-$H26)))    +   (_C*EXP(-gamma*(BR$15-$H26 )))      )","v":0}]
[null,"Dose fournie pour équation",null,null,null,null,{"$f":"U$10","v":0},55,null,null,null,null,null,null,null,null,null,null,null,null,{"$f":"  $G27/[0]!Poids      *      (     (A*EXP(-alpha*(U$15-$H27)))     +      (B*EXP(-bêta*(U$15-$H27)))    +   (_C*EXP(-gamma*(U$15-$H27 )))      )","v":0},{"$f":"  $G27/[0]!Poids      *      (     (A*EXP(-alpha*(V$15-$H27)))     +      (B*EXP(-bêta*(V$15-$H27)))    +   (_C*EXP(-gamma*(V$15-$H27 )))      )","v":0},{"$f":"  $G27/[0]!Poids      *      (     (A*EXP(-alpha*(W$15-$H27)))     +      (B*EXP(-bêta*(W$15-$H27)))    +   (_C*EXP(-gamma*(W$15-$H27 )))      )","v":0},{"$f":"  $G27/[0]!Poids      *      (     (A*EXP(-alpha*(X$15-$H27)))     +      (B*EXP(-bêta*(X$15-$H27)))    +   (_C*EXP(-gamma*(X$15-$H27 )))      )","v":0},{"$f":"  $G27/[0]!Poids      *      (     (A*EXP(-alpha*(Y$15-$H27)))     +      (B*EXP(-bêta*(Y$15-$H27)))    +   (_C*EXP(-gamma*(Y$15-$H27 )))      )","v":0},{"$f":"  $G27/[0]!Poids      *      (     (A*EXP(-alpha*(Z$15-$H27)))     +      (B*EXP(-bêta*(Z$15-$H27)))    +   (_C*EXP(-gamma*(Z$15-$H27 )))      )","v":0},{"$f":"  $G27/[0]!Poids      *      (     (A*EXP(-alpha*(AA$15-$H27)))     +      (B*EXP(-bêta*(AA$15-$H27)))    +   (_C*EXP(-gamma*(AA$15-$H27 )))      )","v":0},{"$f":"  $G27/[0]!Poids      *      (     (A*EXP(-alpha*(AB$15-$H27)))     +      (B*EXP(-bêta*(AB$15-$H27)))    +   (_C*EXP(-gamma*(AB$15-$H27 )))      )","v":0},{"$f":"  $G27/[0]!Poids      *      (     (A*EXP(-alpha*(AC$15-$H27)))     +      (B*EXP(-bêta*(AC$15-$H27)))    +   (_C*EXP(-gamma*(AC$15-$H27 )))      )","v":0},{"$f":"  $G27/[0]!Poids      *      (     (A*EXP(-alpha*(AD$15-$H27)))     +      (B*EXP(-bêta*(AD$15-$H27)))    +   (_C*EXP(-gamma*(AD$15-$H27 )))      )","v":0},{"$f":"  $G27/[0]!Poids      *      (     (A*EXP(-alpha*(AE$15-$H27)))     +      (B*EXP(-bêta*(AE$15-$H27)))    +   (_C*EXP(-gamma*(AE$15-$H27 )))      )","v":0},{"$f":"  $G27/[0]!Poids      *      (     (A*EXP(-alpha*(AF$15-$H27)))     +      (B*EXP(-bêta*(AF$15-$H27)))    +   (_C*EXP(-gamma*(AF$15-$H27 )))      )","v":0},{"$f":"  $G27/[0]!Poids      *      (     (A*EXP(-alpha*(AG$15-$H27)))     +      (B*EXP(-bêta*(AG$15-$H27)))    +   (_C*EXP(-gamma*(AG$15-$H27 )))      )","v":0},{"$f":"  $G27/[0]!Poids      *      (     (A*EXP(-alpha*(AH$15-$H27)))     +      (B*EXP(-bêta*(AH$15-$H27)))    +   (_C*EXP(-gamma*(AH$15-$H27 )))      )","v":0},{"$f":"  $G27/[0]!Poids      *      (     (A*EXP(-alpha*(AI$15-$H27)))     +      (B*EXP(-bêta*(AI$15-$H27)))    +   (_C*EXP(-gamma*(AI$15-$H27 )))      )","v":0},{"$f":"  $G27/[0]!Poids      *      (     (A*EXP(-alpha*(AJ$15-$H27)))     +      (B*EXP(-bêta*(AJ$15-$H27)))    +   (_C*EXP(-gamma*(AJ$15-$H27 )))      )","v":0},{"$f":"  $G27/[0]!Poids      *      (     (A*EXP(-alpha*(AK$15-$H27)))     +      (B*EXP(-bêta*(AK$15-$H27)))    +   (_C*EXP(-gamma*(AK$15-$H27 )))      )","v":0},{"$f":"  $G27/[0]!Poids      *      (     (A*EXP(-alpha*(AL$15-$H27)))     +      (B*EXP(-bêta*(AL$15-$H27)))    +   (_C*EXP(-gamma*(AL$15-$H27 )))      )","v":0},{"$f":"  $G27/[0]!Poids      *      (     (A*EXP(-alpha*(AM$15-$H27)))     +      (B*EXP(-bêta*(AM$15-$H27)))    +   (_C*EXP(-gamma*(AM$15-$H27 )))      )","v":0},{"$f":"  $G27/[0]!Poids      *      (     (A*EXP(-alpha*(AN$15-$H27)))     +      (B*EXP(-bêta*(AN$15-$H27)))    +   (_C*EXP(-gamma*(AN$15-$H27 )))      )","v":0},{"$f":"  $G27/[0]!Poids      *      (     (A*EXP(-alpha*(AO$15-$H27)))     +      (B*EXP(-bêta*(AO$15-$H27)))    +   (_C*EXP(-gamma*(AO$15-$H27 )))      )","v":0},{"$f":"  $G27/[0]!Poids      *      (     (A*EXP(-alpha*(AP$15-$H27)))     +      (B*EXP(-bêta*(AP$15-$H27)))    +   (_C*EXP(-gamma*(AP$15-$H27 )))      )","v":0},{"$f":"  $G27/[0]!Poids      *      (     (A*EXP(-alpha*(AQ$15-$H27)))     +      (B*EXP(-bêta*(AQ$15-$H27)))    +   (_C*EXP(-gamma*(AQ$15-$H27 )))      )","v":0},{"$f":"  $G27/[0]!Poids      *      (     (A*EXP(-alpha*(AR$15-$H27)))     +      (B*EXP(-bêta*(AR$15-$H27)))    +   (_C*EXP(-gamma*(AR$15-$H27 )))      )","v":0},{"$f":"  $G27/[0]!Poids      *      (     (A*EXP(-alpha*(AS$15-$H27)))     +      (B*EXP(-bêta*(AS$15-$H27)))    +   (_C*EXP(-gamma*(AS$15-$H27 )))      )","v":0},{"$f":"  $G27/[0]!Poids      *      (     (A*EXP(-alpha*(AT$15-$H27)))     +      (B*EXP(-bêta*(AT$15-$H27)))    +   (_C*EXP(-gamma*(AT$15-$H27 )))      )","v":0},{"$f":"  $G27/[0]!Poids      *      (     (A*EXP(-alpha*(AU$15-$H27)))     +      (B*EXP(-bêta*(AU$15-$H27)))    +   (_C*EXP(-gamma*(AU$15-$H27 )))      )","v":0},{"$f":"  $G27/[0]!Poids      *      (     (A*EXP(-alpha*(AV$15-$H27)))     +      (B*EXP(-bêta*(AV$15-$H27)))    +   (_C*EXP(-gamma*(AV$15-$H27 )))      )","v":0},{"$f":"  $G27/[0]!Poids      *      (     (A*EXP(-alpha*(AW$15-$H27)))     +      (B*EXP(-bêta*(AW$15-$H27)))    +   (_C*EXP(-gamma*(AW$15-$H27 )))      )","v":0},{"$f":"  $G27/[0]!Poids      *      (     (A*EXP(-alpha*(AX$15-$H27)))     +      (B*EXP(-bêta*(AX$15-$H27)))    +   (_C*EXP(-gamma*(AX$15-$H27 )))      )","v":0},{"$f":"  $G27/[0]!Poids      *      (     (A*EXP(-alpha*(AY$15-$H27)))     +      (B*EXP(-bêta*(AY$15-$H27)))    +   (_C*EXP(-gamma*(AY$15-$H27 )))      )","v":0},{"$f":"  $G27/[0]!Poids      *      (     (A*EXP(-alpha*(AZ$15-$H27)))     +      (B*EXP(-bêta*(AZ$15-$H27)))    +   (_C*EXP(-gamma*(AZ$15-$H27 )))      )","v":0},{"$f":"  $G27/[0]!Poids      *      (     (A*EXP(-alpha*(BA$15-$H27)))     +      (B*EXP(-bêta*(BA$15-$H27)))    +   (_C*EXP(-gamma*(BA$15-$H27 )))      )","v":0},{"$f":"  $G27/[0]!Poids      *      (     (A*EXP(-alpha*(BB$15-$H27)))     +      (B*EXP(-bêta*(BB$15-$H27)))    +   (_C*EXP(-gamma*(BB$15-$H27 )))      )","v":0},{"$f":"  $G27/[0]!Poids      *      (     (A*EXP(-alpha*(BC$15-$H27)))     +      (B*EXP(-bêta*(BC$15-$H27)))    +   (_C*EXP(-gamma*(BC$15-$H27 )))      )","v":0},{"$f":"  $G27/[0]!Poids      *      (     (A*EXP(-alpha*(BD$15-$H27)))     +      (B*EXP(-bêta*(BD$15-$H27)))    +   (_C*EXP(-gamma*(BD$15-$H27 )))      )","v":0},{"$f":"  $G27/[0]!Poids      *      (     (A*EXP(-alpha*(BE$15-$H27)))     +      (B*EXP(-bêta*(BE$15-$H27)))    +   (_C*EXP(-gamma*(BE$15-$H27 )))      )","v":0},{"$f":"  $G27/[0]!Poids      *      (     (A*EXP(-alpha*(BF$15-$H27)))     +      (B*EXP(-bêta*(BF$15-$H27)))    +   (_C*EXP(-gamma*(BF$15-$H27 )))      )","v":0},{"$f":"  $G27/[0]!Poids      *      (     (A*EXP(-alpha*(BG$15-$H27)))     +      (B*EXP(-bêta*(BG$15-$H27)))    +   (_C*EXP(-gamma*(BG$15-$H27 )))      )","v":0},{"$f":"  $G27/[0]!Poids      *      (     (A*EXP(-alpha*(BH$15-$H27)))     +      (B*EXP(-bêta*(BH$15-$H27)))    +   (_C*EXP(-gamma*(BH$15-$H27 )))      )","v":0},{"$f":"  $G27/[0]!Poids      *      (     (A*EXP(-alpha*(BI$15-$H27)))     +      (B*EXP(-bêta*(BI$15-$H27)))    +   (_C*EXP(-gamma*(BI$15-$H27 )))      )","v":0},{"$f":"  $G27/[0]!Poids      *      (     (A*EXP(-alpha*(BJ$15-$H27)))     +      (B*EXP(-bêta*(BJ$15-$H27)))    +   (_C*EXP(-gamma*(BJ$15-$H27 )))      )","v":0},{"$f":"  $G27/[0]!Poids      *      (     (A*EXP(-alpha*(BK$15-$H27)))     +      (B*EXP(-bêta*(BK$15-$H27)))    +   (_C*EXP(-gamma*(BK$15-$H27 )))      )","v":0},{"$f":"  $G27/[0]!Poids      *      (     (A*EXP(-alpha*(BL$15-$H27)))     +      (B*EXP(-bêta*(BL$15-$H27)))    +   (_C*EXP(-gamma*(BL$15-$H27 )))      )","v":0},{"$f":"  $G27/[0]!Poids      *      (     (A*EXP(-alpha*(BM$15-$H27)))     +      (B*EXP(-bêta*(BM$15-$H27)))    +   (_C*EXP(-gamma*(BM$15-$H27 )))      )","v":0},{"$f":"  $G27/[0]!Poids      *      (     (A*EXP(-alpha*(BN$15-$H27)))     +      (B*EXP(-bêta*(BN$15-$H27)))    +   (_C*EXP(-gamma*(BN$15-$H27 )))      )","v":0},{"$f":"  $G27/[0]!Poids      *      (     (A*EXP(-alpha*(BO$15-$H27)))     +      (B*EXP(-bêta*(BO$15-$H27)))    +   (_C*EXP(-gamma*(BO$15-$H27 )))      )","v":0},{"$f":"  $G27/[0]!Poids      *      (     (A*EXP(-alpha*(BP$15-$H27)))     +      (B*EXP(-bêta*(BP$15-$H27)))    +   (_C*EXP(-gamma*(BP$15-$H27 )))      )","v":0},{"$f":"  $G27/[0]!Poids      *      (     (A*EXP(-alpha*(BQ$15-$H27)))     +      (B*EXP(-bêta*(BQ$15-$H27)))    +   (_C*EXP(-gamma*(BQ$15-$H27 )))      )","v":0},{"$f":"  $G27/[0]!Poids      *      (     (A*EXP(-alpha*(BR$15-$H27)))     +      (B*EXP(-bêta*(BR$15-$H27)))    +   (_C*EXP(-gamma*(BR$15-$H27 )))      )","v":0}]
[null,null,null,0.5,"mg/kg",null,{"$f":"V$10","v":0},60,null,null,null,null,null,null,null,null,null,null,null,null,null,{"$f":"  $G28/[0]!Poids      *      (     (A*EXP(-alpha*(V$15-$H28)))     +      (B*EXP(-bêta*(V$15-$H28)))    +   (_C*EXP(-gamma*(V$15-$H28 )))      )","v":0},{"$f":"  $G28/[0]!Poids      *      (     (A*EXP(-alpha*(W$15-$H28)))     +      (B*EXP(-bêta*(W$15-$H28)))    +   (_C*EXP(-gamma*(W$15-$H28 )))      )","v":0},{"$f":"  $G28/[0]!Poids      *      (     (A*EXP(-alpha*(X$15-$H28)))     +      (B*EXP(-bêta*(X$15-$H28)))    +   (_C*EXP(-gamma*(X$15-$H28 )))      )","v":0},{"$f":"  $G28/[0]!Poids      *      (     (A*EXP(-alpha*(Y$15-$H28)))     +      (B*EXP(-bêta*(Y$15-$H28)))    +   (_C*EXP(-gamma*(Y$15-$H28 )))      )","v":0},{"$f":"  $G28/[0]!Poids      *      (     (A*EXP(-alpha*(Z$15-$H28)))     +      (B*EXP(-bêta*(Z$15-$H28)))    +   (_C*EXP(-gamma*(Z$15-$H28 )))      )","v":0},{"$f":"  $G28/[0]!Poids      *      (     (A*EXP(-alpha*(AA$15-$H28)))     +      (B*EXP(-bêta*(AA$15-$H28)))    +   (_C*EXP(-gamma*(AA$15-$H28 )))      )","v":0},{"$f":"  $G28/[0]!Poids      *      (     (A*EXP(-alpha*(AB$15-$H28)))     +      (B*EXP(-bêta*(AB$15-$H28)))    +   (_C*EXP(-gamma*(AB$15-$H28 )))      )","v":0},{"$f":"  $G28/[0]!Poids      *      (     (A*EXP(-alpha*(AC$15-$H28)))     +      (B*EXP(-bêta*(AC$15-$H28)))    +   (_C*EXP(-gamma*(AC$15-$H28 )))      )","v":0},{"$f":"  $G28/[0]!Poids      *      (     (A*EXP(-alpha*(AD$15-$H28)))     +      (B*EXP(-bêta*(AD$15-$H28)))    +   (_C*EXP(-gamma*(AD$15-$H28 )))      )","v":0},{"$f":"  $G28/[0]!Poids      *      (     (A*EXP(-alpha*(AE$15-$H28)))     +      (B*EXP(-bêta*(AE$15-$H28)))    +   (_C*EXP(-gamma*(AE$15-$H28 )))      )","v":0},{"$f":"  $G28/[0]!Poids      *      (     (A*EXP(-alpha*(AF$15-$H28)))     +      (B*EXP(-bêta*(AF$15-$H28)))    +   (_C*EXP(-gamma*(AF$15-$H28 )))      )","v":0},{"$f":"  $G28/[0]!Poids      *      (     (A*EXP(-alpha*(AG$15-$H28)))     +      (B*EXP(-bêta*(AG$15-$H28)))    +   (_C*EXP(-gamma*(AG$15-$H28 )))      )","v":0},{"$f":"  $G28/[0]!Poids      *      (     (A*EXP(-alpha*(AH$15-$H28)))     +      (B*EXP(-bêta*(AH$15-$H28)))    +   (_C*EXP(-gamma*(AH$15-$H28 )))      )","v":0},{"$f":"  $G28/[0]!Poids      *      (     (A*EXP(-alpha*(AI$15-$H28)))     +      (B*EXP(-bêta*(AI$15-$H28)))    +   (_C*EXP(-gamma*(AI$15-$H28 )))      )","v":0},{"$f":"  $G28/[0]!Poids      *      (     (A*EXP(-alpha*(AJ$15-$H28)))     +      (B*EXP(-bêta*(AJ$15-$H28)))    +   (_C*EXP(-gamma*(AJ$15-$H28 )))      )","v":0},{"$f":"  $G28/[0]!Poids      *      (     (A*EXP(-alpha*(AK$15-$H28)))     +      (B*EXP(-bêta*(AK$15-$H28)))    +   (_C*EXP(-gamma*(AK$15-$H28 )))      )","v":0},{"$f":"  $G28/[0]!Poids      *      (     (A*EXP(-alpha*(AL$15-$H28)))     +      (B*EXP(-bêta*(AL$15-$H28)))    +   (_C*EXP(-gamma*(AL$15-$H28 )))      )","v":0},{"$f":"  $G28/[0]!Poids      *      (     (A*EXP(-alpha*(AM$15-$H28)))     +      (B*EXP(-bêta*(AM$15-$H28)))    +   (_C*EXP(-gamma*(AM$15-$H28 )))      )","v":0},{"$f":"  $G28/[0]!Poids      *      (     (A*EXP(-alpha*(AN$15-$H28)))     +      (B*EXP(-bêta*(AN$15-$H28)))    +   (_C*EXP(-gamma*(AN$15-$H28 )))      )","v":0},{"$f":"  $G28/[0]!Poids      *      (     (A*EXP(-alpha*(AO$15-$H28)))     +      (B*EXP(-bêta*(AO$15-$H28)))    +   (_C*EXP(-gamma*(AO$15-$H28 )))      )","v":0},{"$f":"  $G28/[0]!Poids      *      (     (A*EXP(-alpha*(AP$15-$H28)))     +      (B*EXP(-bêta*(AP$15-$H28)))    +   (_C*EXP(-gamma*(AP$15-$H28 )))      )","v":0},{"$f":"  $G28/[0]!Poids      *      (     (A*EXP(-alpha*(AQ$15-$H28)))     +      (B*EXP(-bêta*(AQ$15-$H28)))    +   (_C*EXP(-gamma*(AQ$15-$H28 )))      )","v":0},{"$f":"  $G28/[0]!Poids      *      (     (A*EXP(-alpha*(AR$15-$H28)))     +      (B*EXP(-bêta*(AR$15-$H28)))    +   (_C*EXP(-gamma*(AR$15-$H28 )))      )","v":0},{"$f":"  $G28/[0]!Poids      *      (     (A*EXP(-alpha*(AS$15-$H28)))     +      (B*EXP(-bêta*(AS$15-$H28)))    +   (_C*EXP(-gamma*(AS$15-$H28 )))      )","v":0},{"$f":"  $G28/[0]!Poids      *      (     (A*EXP(-alpha*(AT$15-$H28)))     +      (B*EXP(-bêta*(AT$15-$H28)))    +   (_C*EXP(-gamma*(AT$15-$H28 )))      )","v":0},{"$f":"  $G28/[0]!Poids      *      (     (A*EXP(-alpha*(AU$15-$H28)))     +      (B*EXP(-bêta*(AU$15-$H28)))    +   (_C*EXP(-gamma*(AU$15-$H28 )))      )","v":0},{"$f":"  $G28/[0]!Poids      *      (     (A*EXP(-alpha*(AV$15-$H28)))     +      (B*EXP(-bêta*(AV$15-$H28)))    +   (_C*EXP(-gamma*(AV$15-$H28 )))      )","v":0},{"$f":"  $G28/[0]!Poids      *      (     (A*EXP(-alpha*(AW$15-$H28)))     +      (B*EXP(-bêta*(AW$15-$H28)))    +   (_C*EXP(-gamma*(AW$15-$H28 )))      )","v":0},{"$f":"  $G28/[0]!Poids      *      (     (A*EXP(-alpha*(AX$15-$H28)))     +      (B*EXP(-bêta*(AX$15-$H28)))    +   (_C*EXP(-gamma*(AX$15-$H28 )))      )","v":0},{"$f":"  $G28/[0]!Poids      *      (     (A*EXP(-alpha*(AY$15-$H28)))     +      (B*EXP(-bêta*(AY$15-$H28)))    +   (_C*EXP(-gamma*(AY$15-$H28 )))      )","v":0},{"$f":"  $G28/[0]!Poids      *      (     (A*EXP(-alpha*(AZ$15-$H28)))     +      (B*EXP(-bêta*(AZ$15-$H28)))    +   (_C*EXP(-gamma*(AZ$15-$H28 )))      )","v":0},{"$f":"  $G28/[0]!Poids      *      (     (A*EXP(-alpha*(BA$15-$H28)))     +      (B*EXP(-bêta*(BA$15-$H28)))    +   (_C*EXP(-gamma*(BA$15-$H28 )))      )","v":0},{"$f":"  $G28/[0]!Poids      *      (     (A*EXP(-alpha*(BB$15-$H28)))     +      (B*EXP(-bêta*(BB$15-$H28)))    +   (_C*EXP(-gamma*(BB$15-$H28 )))      )","v":0},{"$f":"  $G28/[0]!Poids      *      (     (A*EXP(-alpha*(BC$15-$H28)))     +      (B*EXP(-bêta*(BC$15-$H28)))    +   (_C*EXP(-gamma*(BC$15-$H28 )))      )","v":0},{"$f":"  $G28/[0]!Poids      *      (     (A*EXP(-alpha*(BD$15-$H28)))     +      (B*EXP(-bêta*(BD$15-$H28)))    +   (_C*EXP(-gamma*(BD$15-$H28 )))      )","v":0},{"$f":"  $G28/[0]!Poids      *      (     (A*EXP(-alpha*(BE$15-$H28)))     +      (B*EXP(-bêta*(BE$15-$H28)))    +   (_C*EXP(-gamma*(BE$15-$H28 )))      )","v":0},{"$f":"  $G28/[0]!Poids      *      (     (A*EXP(-alpha*(BF$15-$H28)))     +      (B*EXP(-bêta*(BF$15-$H28)))    +   (_C*EXP(-gamma*(BF$15-$H28 )))      )","v":0},{"$f":"  $G28/[0]!Poids      *      (     (A*EXP(-alpha*(BG$15-$H28)))     +      (B*EXP(-bêta*(BG$15-$H28)))    +   (_C*EXP(-gamma*(BG$15-$H28 )))      )","v":0},{"$f":"  $G28/[0]!Poids      *      (     (A*EXP(-alpha*(BH$15-$H28)))     +      (B*EXP(-bêta*(BH$15-$H28)))    +   (_C*EXP(-gamma*(BH$15-$H28 )))      )","v":0},{"$f":"  $G28/[0]!Poids      *      (     (A*EXP(-alpha*(BI$15-$H28)))     +      (B*EXP(-bêta*(BI$15-$H28)))    +   (_C*EXP(-gamma*(BI$15-$H28 )))      )","v":0},{"$f":"  $G28/[0]!Poids      *      (     (A*EXP(-alpha*(BJ$15-$H28)))     +      (B*EXP(-bêta*(BJ$15-$H28)))    +   (_C*EXP(-gamma*(BJ$15-$H28 )))      )","v":0},{"$f":"  $G28/[0]!Poids      *      (     (A*EXP(-alpha*(BK$15-$H28)))     +      (B*EXP(-bêta*(BK$15-$H28)))    +   (_C*EXP(-gamma*(BK$15-$H28 )))      )","v":0},{"$f":"  $G28/[0]!Poids      *      (     (A*EXP(-alpha*(BL$15-$H28)))     +      (B*EXP(-bêta*(BL$15-$H28)))    +   (_C*EXP(-gamma*(BL$15-$H28 )))      )","v":0},{"$f":"  $G28/[0]!Poids      *      (     (A*EXP(-alpha*(BM$15-$H28)))     +      (B*EXP(-bêta*(BM$15-$H28)))    +   (_C*EXP(-gamma*(BM$15-$H28 )))      )","v":0},{"$f":"  $G28/[0]!Poids      *      (     (A*EXP(-alpha*(BN$15-$H28)))     +      (B*EXP(-bêta*(BN$15-$H28)))    +   (_C*EXP(-gamma*(BN$15-$H28 )))      )","v":0},{"$f":"  $G28/[0]!Poids      *      (     (A*EXP(-alpha*(BO$15-$H28)))     +      (B*EXP(-bêta*(BO$15-$H28)))    +   (_C*EXP(-gamma*(BO$15-$H28 )))      )","v":0},{"$f":"  $G28/[0]!Poids      *      (     (A*EXP(-alpha*(BP$15-$H28)))     +      (B*EXP(-bêta*(BP$15-$H28)))    +   (_C*EXP(-gamma*(BP$15-$H28 )))      )","v":0},{"$f":"  $G28/[0]!Poids      *      (     (A*EXP(-alpha*(BQ$15-$H28)))     +      (B*EXP(-bêta*(BQ$15-$H28)))    +   (_C*EXP(-gamma*(BQ$15-$H28 )))      )","v":0},{"$f":"  $G28/[0]!Poids      *      (     (A*EXP(-alpha*(BR$15-$H28)))     +      (B*EXP(-bêta*(BR$15-$H28)))    +   (_C*EXP(-gamma*(BR$15-$H28 )))      )","v":0}]
[null,"A+B+C",{"$f":"SUM(C17:C19)","v":1556},"(pour 0,5)","à T=0",null,{"$f":"W$10","v":0},65,null,null,null,null,null,null,null,null,null,null,null,null,null,null,{"$f":"  $G29/[0]!Poids      *      (     (A*EXP(-alpha*(W$15-$H29)))     +      (B*EXP(-bêta*(W$15-$H29)))    +   (_C*EXP(-gamma*(W$15-$H29 )))      )","v":0},{"$f":"  $G29/[0]!Poids      *      (     (A*EXP(-alpha*(X$15-$H29)))     +      (B*EXP(-bêta*(X$15-$H29)))    +   (_C*EXP(-gamma*(X$15-$H29 )))      )","v":0},{"$f":"  $G29/[0]!Poids      *      (     (A*EXP(-alpha*(Y$15-$H29)))     +      (B*EXP(-bêta*(Y$15-$H29)))    +   (_C*EXP(-gamma*(Y$15-$H29 )))      )","v":0},{"$f":"  $G29/[0]!Poids      *      (     (A*EXP(-alpha*(Z$15-$H29)))     +      (B*EXP(-bêta*(Z$15-$H29)))    +   (_C*EXP(-gamma*(Z$15-$H29 )))      )","v":0},{"$f":"  $G29/[0]!Poids      *      (     (A*EXP(-alpha*(AA$15-$H29)))     +      (B*EXP(-bêta*(AA$15-$H29)))    +   (_C*EXP(-gamma*(AA$15-$H29 )))      )","v":0},{"$f":"  $G29/[0]!Poids      *      (     (A*EXP(-alpha*(AB$15-$H29)))     +      (B*EXP(-bêta*(AB$15-$H29)))    +   (_C*EXP(-gamma*(AB$15-$H29 )))      )","v":0},{"$f":"  $G29/[0]!Poids      *      (     (A*EXP(-alpha*(AC$15-$H29)))     +      (B*EXP(-bêta*(AC$15-$H29)))    +   (_C*EXP(-gamma*(AC$15-$H29 )))      )","v":0},{"$f":"  $G29/[0]!Poids      *      (     (A*EXP(-alpha*(AD$15-$H29)))     +      (B*EXP(-bêta*(AD$15-$H29)))    +   (_C*EXP(-gamma*(AD$15-$H29 )))      )","v":0},{"$f":"  $G29/[0]!Poids      *      (     (A*EXP(-alpha*(AE$15-$H29)))     +      (B*EXP(-bêta*(AE$15-$H29)))    +   (_C*EXP(-gamma*(AE$15-$H29 )))      )","v":0},{"$f":"  $G29/[0]!Poids      *      (     (A*EXP(-alpha*(AF$15-$H29)))     +      (B*EXP(-bêta*(AF$15-$H29)))    +   (_C*EXP(-gamma*(AF$15-$H29 )))      )","v":0},{"$f":"  $G29/[0]!Poids      *      (     (A*EXP(-alpha*(AG$15-$H29)))     +      (B*EXP(-bêta*(AG$15-$H29)))    +   (_C*EXP(-gamma*(AG$15-$H29 )))      )","v":0},{"$f":"  $G29/[0]!Poids      *      (     (A*EXP(-alpha*(AH$15-$H29)))     +      (B*EXP(-bêta*(AH$15-$H29)))    +   (_C*EXP(-gamma*(AH$15-$H29 )))      )","v":0},{"$f":"  $G29/[0]!Poids      *      (     (A*EXP(-alpha*(AI$15-$H29)))     +      (B*EXP(-bêta*(AI$15-$H29)))    +   (_C*EXP(-gamma*(AI$15-$H29 )))      )","v":0},{"$f":"  $G29/[0]!Poids      *      (     (A*EXP(-alpha*(AJ$15-$H29)))     +      (B*EXP(-bêta*(AJ$15-$H29)))    +   (_C*EXP(-gamma*(AJ$15-$H29 )))      )","v":0},{"$f":"  $G29/[0]!Poids      *      (     (A*EXP(-alpha*(AK$15-$H29)))     +      (B*EXP(-bêta*(AK$15-$H29)))    +   (_C*EXP(-gamma*(AK$15-$H29 )))      )","v":0},{"$f":"  $G29/[0]!Poids      *      (     (A*EXP(-alpha*(AL$15-$H29)))     +      (B*EXP(-bêta*(AL$15-$H29)))    +   (_C*EXP(-gamma*(AL$15-$H29 )))      )","v":0},{"$f":"  $G29/[0]!Poids      *      (     (A*EXP(-alpha*(AM$15-$H29)))     +      (B*EXP(-bêta*(AM$15-$H29)))    +   (_C*EXP(-gamma*(AM$15-$H29 )))      )","v":0},{"$f":"  $G29/[0]!Poids      *      (     (A*EXP(-alpha*(AN$15-$H29)))     +      (B*EXP(-bêta*(AN$15-$H29)))    +   (_C*EXP(-gamma*(AN$15-$H29 )))      )","v":0},{"$f":"  $G29/[0]!Poids      *      (     (A*EXP(-alpha*(AO$15-$H29)))     +      (B*EXP(-bêta*(AO$15-$H29)))    +   (_C*EXP(-gamma*(AO$15-$H29 )))      )","v":0},{"$f":"  $G29/[0]!Poids      *      (     (A*EXP(-alpha*(AP$15-$H29)))     +      (B*EXP(-bêta*(AP$15-$H29)))    +   (_C*EXP(-gamma*(AP$15-$H29 )))      )","v":0},{"$f":"  $G29/[0]!Poids      *      (     (A*EXP(-alpha*(AQ$15-$H29)))     +      (B*EXP(-bêta*(AQ$15-$H29)))    +   (_C*EXP(-gamma*(AQ$15-$H29 )))      )","v":0},{"$f":"  $G29/[0]!Poids      *      (     (A*EXP(-alpha*(AR$15-$H29)))     +      (B*EXP(-bêta*(AR$15-$H29)))    +   (_C*EXP(-gamma*(AR$15-$H29 )))      )","v":0},{"$f":"  $G29/[0]!Poids      *      (     (A*EXP(-alpha*(AS$15-$H29)))     +      (B*EXP(-bêta*(AS$15-$H29)))    +   (_C*EXP(-gamma*(AS$15-$H29 )))      )","v":0},{"$f":"  $G29/[0]!Poids      *      (     (A*EXP(-alpha*(AT$15-$H29)))     +      (B*EXP(-bêta*(AT$15-$H29)))    +   (_C*EXP(-gamma*(AT$15-$H29 )))      )","v":0},{"$f":"  $G29/[0]!Poids      *      (     (A*EXP(-alpha*(AU$15-$H29)))     +      (B*EXP(-bêta*(AU$15-$H29)))    +   (_C*EXP(-gamma*(AU$15-$H29 )))      )","v":0},{"$f":"  $G29/[0]!Poids      *      (     (A*EXP(-alpha*(AV$15-$H29)))     +      (B*EXP(-bêta*(AV$15-$H29)))    +   (_C*EXP(-gamma*(AV$15-$H29 )))      )","v":0},{"$f":"  $G29/[0]!Poids      *      (     (A*EXP(-alpha*(AW$15-$H29)))     +      (B*EXP(-bêta*(AW$15-$H29)))    +   (_C*EXP(-gamma*(AW$15-$H29 )))      )","v":0},{"$f":"  $G29/[0]!Poids      *      (     (A*EXP(-alpha*(AX$15-$H29)))     +      (B*EXP(-bêta*(AX$15-$H29)))    +   (_C*EXP(-gamma*(AX$15-$H29 )))      )","v":0},{"$f":"  $G29/[0]!Poids      *      (     (A*EXP(-alpha*(AY$15-$H29)))     +      (B*EXP(-bêta*(AY$15-$H29)))    +   (_C*EXP(-gamma*(AY$15-$H29 )))      )","v":0},{"$f":"  $G29/[0]!Poids      *      (     (A*EXP(-alpha*(AZ$15-$H29)))     +      (B*EXP(-bêta*(AZ$15-$H29)))    +   (_C*EXP(-gamma*(AZ$15-$H29 )))      )","v":0},{"$f":"  $G29/[0]!Poids      *      (     (A*EXP(-alpha*(BA$15-$H29)))     +      (B*EXP(-bêta*(BA$15-$H29)))    +   (_C*EXP(-gamma*(BA$15-$H29 )))      )","v":0},{"$f":"  $G29/[0]!Poids      *      (     (A*EXP(-alpha*(BB$15-$H29)))     +      (B*EXP(-bêta*(BB$15-$H29)))    +   (_C*EXP(-gamma*(BB$15-$H29 )))      )","v":0},{"$f":"  $G29/[0]!Poids      *      (     (A*EXP(-alpha*(BC$15-$H29)))     +      (B*EXP(-bêta*(BC$15-$H29)))    +   (_C*EXP(-gamma*(BC$15-$H29 )))      )","v":0},{"$f":"  $G29/[0]!Poids      *      (     (A*EXP(-alpha*(BD$15-$H29)))     +      (B*EXP(-bêta*(BD$15-$H29)))    +   (_C*EXP(-gamma*(BD$15-$H29 )))      )","v":0},{"$f":"  $G29/[0]!Poids      *      (     (A*EXP(-alpha*(BE$15-$H29)))     +      (B*EXP(-bêta*(BE$15-$H29)))    +   (_C*EXP(-gamma*(BE$15-$H29 )))      )","v":0},{"$f":"  $G29/[0]!Poids      *      (     (A*EXP(-alpha*(BF$15-$H29)))     +      (B*EXP(-bêta*(BF$15-$H29)))    +   (_C*EXP(-gamma*(BF$15-$H29 )))      )","v":0},{"$f":"  $G29/[0]!Poids      *      (     (A*EXP(-alpha*(BG$15-$H29)))     +      (B*EXP(-bêta*(BG$15-$H29)))    +   (_C*EXP(-gamma*(BG$15-$H29 )))      )","v":0},{"$f":"  $G29/[0]!Poids      *      (     (A*EXP(-alpha*(BH$15-$H29)))     +      (B*EXP(-bêta*(BH$15-$H29)))    +   (_C*EXP(-gamma*(BH$15-$H29 )))      )","v":0},{"$f":"  $G29/[0]!Poids      *      (     (A*EXP(-alpha*(BI$15-$H29)))     +      (B*EXP(-bêta*(BI$15-$H29)))    +   (_C*EXP(-gamma*(BI$15-$H29 )))      )","v":0},{"$f":"  $G29/[0]!Poids      *      (     (A*EXP(-alpha*(BJ$15-$H29)))     +      (B*EXP(-bêta*(BJ$15-$H29)))    +   (_C*EXP(-gamma*(BJ$15-$H29 )))      )","v":0},{"$f":"  $G29/[0]!Poids      *      (     (A*EXP(-alpha*(BK$15-$H29)))     +      (B*EXP(-bêta*(BK$15-$H29)))    +   (_C*EXP(-gamma*(BK$15-$H29 )))      )","v":0},{"$f":"  $G29/[0]!Poids      *      (     (A*EXP(-alpha*(BL$15-$H29)))     +      (B*EXP(-bêta*(BL$15-$H29)))    +   (_C*EXP(-gamma*(BL$15-$H29 )))      )","v":0},{"$f":"  $G29/[0]!Poids      *      (     (A*EXP(-alpha*(BM$15-$H29)))     +      (B*EXP(-bêta*(BM$15-$H29)))    +   (_C*EXP(-gamma*(BM$15-$H29 )))      )","v":0},{"$f":"  $G29/[0]!Poids      *      (     (A*EXP(-alpha*(BN$15-$H29)))     +      (B*EXP(-bêta*(BN$15-$H29)))    +   (_C*EXP(-gamma*(BN$15-$H29 )))      )","v":0},{"$f":"  $G29/[0]!Poids      *      (     (A*EXP(-alpha*(BO$15-$H29)))     +      (B*EXP(-bêta*(BO$15-$H29)))    +   (_C*EXP(-gamma*(BO$15-$H29 )))      )","v":0},{"$f":"  $G29/[0]!Poids      *      (     (A*EXP(-alpha*(BP$15-$H29)))     +      (B*EXP(-bêta*(BP$15-$H29)))    +   (_C*EXP(-gamma*(BP$15-$H29 )))      )","v":0},{"$f":"  $G29/[0]!Poids      *      (     (A*EXP(-alpha*(BQ$15-$H29)))     +      (B*EXP(-bêta*(BQ$15-$H29)))    +   (_C*EXP(-gamma*(BQ$15-$H29 )))      )","v":0},{"$f":"  $G29/[0]!Poids      *      (     (A*EXP(-alpha*(BR$15-$H29)))     +      (B*EXP(-bêta*(BR$15-$H29)))    +   (_C*EXP(-gamma*(BR$15-$H29 )))      )","v":0}]
[null,null,null,null,null,null,{"$f":"X$10","v":0},70,null,null,null,null,null,null,null,null,null,null,null,null,null,null,null,{"$f":"  $G30/[0]!Poids      *      (     (A*EXP(-alpha*(X$15-$H30)))     +      (B*EXP(-bêta*(X$15-$H30)))    +   (_C*EXP(-gamma*(X$15-$H30 )))      )","v":0},{"$f":"  $G30/[0]!Poids      *      (     (A*EXP(-alpha*(Y$15-$H30)))     +      (B*EXP(-bêta*(Y$15-$H30)))    +   (_C*EXP(-gamma*(Y$15-$H30 )))      )","v":0},{"$f":"  $G30/[0]!Poids      *      (     (A*EXP(-alpha*(Z$15-$H30)))     +      (B*EXP(-bêta*(Z$15-$H30)))    +   (_C*EXP(-gamma*(Z$15-$H30 )))      )","v":0},{"$f":"  $G30/[0]!Poids      *      (     (A*EXP(-alpha*(AA$15-$H30)))     +      (B*EXP(-bêta*(AA$15-$H30)))    +   (_C*EXP(-gamma*(AA$15-$H30 )))      )","v":0},{"$f":"  $G30/[0]!Poids      *      (     (A*EXP(-alpha*(AB$15-$H30)))     +      (B*EXP(-bêta*(AB$15-$H30)))    +   (_C*EXP(-gamma*(AB$15-$H30 )))      )","v":0},{"$f":"  $G30/[0]!Poids      *      (     (A*EXP(-alpha*(AC$15-$H30)))     +      (B*EXP(-bêta*(AC$15-$H30)))    +   (_C*EXP(-gamma*(AC$15-$H30 )))      )","v":0},{"$f":"  $G30/[0]!Poids      *      (     (A*EXP(-alpha*(AD$15-$H30)))     +      (B*EXP(-bêta*(AD$15-$H30)))    +   (_C*EXP(-gamma*(AD$15-$H30 )))      )","v":0},{"$f":"  $G30/[0]!Poids      *      (     (A*EXP(-alpha*(AE$15-$H30)))     +      (B*EXP(-bêta*(AE$15-$H30)))    +   (_C*EXP(-gamma*(AE$15-$H30 )))      )","v":0},{"$f":"  $G30/[0]!Poids      *      (     (A*EXP(-alpha*(AF$15-$H30)))     +      (B*EXP(-bêta*(AF$15-$H30)))    +   (_C*EXP(-gamma*(AF$15-$H30 )))      )","v":0},{"$f":"  $G30/[0]!Poids      *      (     (A*EXP(-alpha*(AG$15-$H30)))     +      (B*EXP(-bêta*(AG$15-$H30)))    +   (_C*EXP(-gamma*(AG$15-$H30 )))      )","v":0},{"$f":"  $G30/[0]!Poids      *      (     (A*EXP(-alpha*(AH$15-$H30)))     +      (B*EXP(-bêta*(AH$15-$H30)))    +   (_C*EXP(-gamma*(AH$15-$H30 )))      )","v":0},{"$f":"  $G30/[0]!Poids      *      (     (A*EXP(-alpha*(AI$15-$H30)))     +      (B*EXP(-bêta*(AI$15-$H30)))    +   (_C*EXP(-gamma*(AI$15-$H30 )))      )","v":0},{"$f":"  $G30/[0]!Poids      *      (     (A*EXP(-alpha*(AJ$15-$H30)))     +      (B*EXP(-bêta*(AJ$15-$H30)))    +   (_C*EXP(-gamma*(AJ$15-$H30 )))      )","v":0},{"$f":"  $G30/[0]!Poids      *      (     (A*EXP(-alpha*(AK$15-$H30)))     +      (B*EXP(-bêta*(AK$15-$H30)))    +   (_C*EXP(-gamma*(AK$15-$H30 )))      )","v":0},{"$f":"  $G30/[0]!Poids      *      (     (A*EXP(-alpha*(AL$15-$H30)))     +      (B*EXP(-bêta*(AL$15-$H30)))    +   (_C*EXP(-gamma*(AL$15-$H30 )))      )","v":0},{"$f":"  $G30/[0]!Poids      *      (     (A*EXP(-alpha*(AM$15-$H30)))     +      (B*EXP(-bêta*(AM$15-$H30)))    +   (_C*EXP(-gamma*(AM$15-$H30 )))      )","v":0},{"$f":"  $G30/[0]!Poids      *      (     (A*EXP(-alpha*(AN$15-$H30)))     +      (B*EXP(-bêta*(AN$15-$H30)))    +   (_C*EXP(-gamma*(AN$15-$H30 )))      )","v":0},{"$f":"  $G30/[0]!Poids      *      (     (A*EXP(-alpha*(AO$15-$H30)))     +      (B*EXP(-bêta*(AO$15-$H30)))    +   (_C*EXP(-gamma*(AO$15-$H30 )))      )","v":0},{"$f":"  $G30/[0]!Poids      *      (     (A*EXP(-alpha*(AP$15-$H30)))     +      (B*EXP(-bêta*(AP$15-$H30)))    +   (_C*EXP(-gamma*(AP$15-$H30 )))      )","v":0},{"$f":"  $G30/[0]!Poids      *      (     (A*EXP(-alpha*(AQ$15-$H30)))     +      (B*EXP(-bêta*(AQ$15-$H30)))    +   (_C*EXP(-gamma*(AQ$15-$H30 )))      )","v":0},{"$f":"  $G30/[0]!Poids      *      (     (A*EXP(-alpha*(AR$15-$H30)))     +      (B*EXP(-bêta*(AR$15-$H30)))    +   (_C*EXP(-gamma*(AR$15-$H30 )))      )","v":0},{"$f":"  $G30/[0]!Poids      *      (     (A*EXP(-alpha*(AS$15-$H30)))     +      (B*EXP(-bêta*(AS$15-$H30)))    +   (_C*EXP(-gamma*(AS$15-$H30 )))      )","v":0},{"$f":"  $G30/[0]!Poids      *      (     (A*EXP(-alpha*(AT$15-$H30)))     +      (B*EXP(-bêta*(AT$15-$H30)))    +   (_C*EXP(-gamma*(AT$15-$H30 )))      )","v":0},{"$f":"  $G30/[0]!Poids      *      (     (A*EXP(-alpha*(AU$15-$H30)))     +      (B*EXP(-bêta*(AU$15-$H30)))    +   (_C*EXP(-gamma*(AU$15-$H30 )))      )","v":0},{"$f":"  $G30/[0]!Poids      *      (     (A*EXP(-alpha*(AV$15-$H30)))     +      (B*EXP(-bêta*(AV$15-$H30)))    +   (_C*EXP(-gamma*(AV$15-$H30 )))      )","v":0},{"$f":"  $G30/[0]!Poids      *      (     (A*EXP(-alpha*(AW$15-$H30)))     +      (B*EXP(-bêta*(AW$15-$H30)))    +   (_C*EXP(-gamma*(AW$15-$H30 )))      )","v":0},{"$f":"  $G30/[0]!Poids      *      (     (A*EXP(-alpha*(AX$15-$H30)))     +      (B*EXP(-bêta*(AX$15-$H30)))    +   (_C*EXP(-gamma*(AX$15-$H30 )))      )","v":0},{"$f":"  $G30/[0]!Poids      *      (     (A*EXP(-alpha*(AY$15-$H30)))     +      (B*EXP(-bêta*(AY$15-$H30)))    +   (_C*EXP(-gamma*(AY$15-$H30 )))      )","v":0},{"$f":"  $G30/[0]!Poids      *      (     (A*EXP(-alpha*(AZ$15-$H30)))     +      (B*EXP(-bêta*(AZ$15-$H30)))    +   (_C*EXP(-gamma*(AZ$15-$H30 )))      )","v":0},{"$f":"  $G30/[0]!Poids      *      (     (A*EXP(-alpha*(BA$15-$H30)))     +      (B*EXP(-bêta*(BA$15-$H30)))    +   (_C*EXP(-gamma*(BA$15-$H30 )))      )","v":0},{"$f":"  $G30/[0]!Poids      *      (     (A*EXP(-alpha*(BB$15-$H30)))     +      (B*EXP(-bêta*(BB$15-$H30)))    +   (_C*EXP(-gamma*(BB$15-$H30 )))      )","v":0},{"$f":"  $G30/[0]!Poids      *      (     (A*EXP(-alpha*(BC$15-$H30)))     +      (B*EXP(-bêta*(BC$15-$H30)))    +   (_C*EXP(-gamma*(BC$15-$H30 )))      )","v":0},{"$f":"  $G30/[0]!Poids      *      (     (A*EXP(-alpha*(BD$15-$H30)))     +      (B*EXP(-bêta*(BD$15-$H30)))    +   (_C*EXP(-gamma*(BD$15-$H30 )))      )","v":0},{"$f":"  $G30/[0]!Poids      *      (     (A*EXP(-alpha*(BE$15-$H30)))     +      (B*EXP(-bêta*(BE$15-$H30)))    +   (_C*EXP(-gamma*(BE$15-$H30 )))      )","v":0},{"$f":"  $G30/[0]!Poids      *      (     (A*EXP(-alpha*(BF$15-$H30)))     +      (B*EXP(-bêta*(BF$15-$H30)))    +   (_C*EXP(-gamma*(BF$15-$H30 )))      )","v":0},{"$f":"  $G30/[0]!Poids      *      (     (A*EXP(-alpha*(BG$15-$H30)))     +      (B*EXP(-bêta*(BG$15-$H30)))    +   (_C*EXP(-gamma*(BG$15-$H30 )))      )","v":0},{"$f":"  $G30/[0]!Poids      *      (     (A*EXP(-alpha*(BH$15-$H30)))     +      (B*EXP(-bêta*(BH$15-$H30)))    +   (_C*EXP(-gamma*(BH$15-$H30 )))      )","v":0},{"$f":"  $G30/[0]!Poids      *      (     (A*EXP(-alpha*(BI$15-$H30)))     +      (B*EXP(-bêta*(BI$15-$H30)))    +   (_C*EXP(-gamma*(BI$15-$H30 )))      )","v":0},{"$f":"  $G30/[0]!Poids      *      (     (A*EXP(-alpha*(BJ$15-$H30)))     +      (B*EXP(-bêta*(BJ$15-$H30)))    +   (_C*EXP(-gamma*(BJ$15-$H30 )))      )","v":0},{"$f":"  $G30/[0]!Poids      *      (     (A*EXP(-alpha*(BK$15-$H30)))     +      (B*EXP(-bêta*(BK$15-$H30)))    +   (_C*EXP(-gamma*(BK$15-$H30 )))      )","v":0},{"$f":"  $G30/[0]!Poids      *      (     (A*EXP(-alpha*(BL$15-$H30)))     +      (B*EXP(-bêta*(BL$15-$H30)))    +   (_C*EXP(-gamma*(BL$15-$H30 )))      )","v":0},{"$f":"  $G30/[0]!Poids      *      (     (A*EXP(-alpha*(BM$15-$H30)))     +      (B*EXP(-bêta*(BM$15-$H30)))    +   (_C*EXP(-gamma*(BM$15-$H30 )))      )","v":0},{"$f":"  $G30/[0]!Poids      *      (     (A*EXP(-alpha*(BN$15-$H30)))     +      (B*EXP(-bêta*(BN$15-$H30)))    +   (_C*EXP(-gamma*(BN$15-$H30 )))      )","v":0},{"$f":"  $G30/[0]!Poids      *      (     (A*EXP(-alpha*(BO$15-$H30)))     +      (B*EXP(-bêta*(BO$15-$H30)))    +   (_C*EXP(-gamma*(BO$15-$H30 )))      )","v":0},{"$f":"  $G30/[0]!Poids      *      (     (A*EXP(-alpha*(BP$15-$H30)))     +      (B*EXP(-bêta*(BP$15-$H30)))    +   (_C*EXP(-gamma*(BP$15-$H30 )))      )","v":0},{"$f":"  $G30/[0]!Poids      *      (     (A*EXP(-alpha*(BQ$15-$H30)))     +      (B*EXP(-bêta*(BQ$15-$H30)))    +   (_C*EXP(-gamma*(BQ$15-$H30 )))      )","v":0},{"$f":"  $G30/[0]!Poids      *      (     (A*EXP(-alpha*(BR$15-$H30)))     +      (B*EXP(-bêta*(BR$15-$H30)))    +   (_C*EXP(-gamma*(BR$15-$H30 )))      )","v":0}]
[null,"Calculs test formule",null,null,null,null,{"$f":"Y$10","v":0},75,null,null,null,null,null,null,null,null,null,null,null,null,null,null,null,null,{"$f":"  $G31/[0]!Poids      *      (     (A*EXP(-alpha*(Y$15-$H31)))     +      (B*EXP(-bêta*(Y$15-$H31)))    +   (_C*EXP(-gamma*(Y$15-$H31 )))      )","v":0},{"$f":"  $G31/[0]!Poids      *      (     (A*EXP(-alpha*(Z$15-$H31)))     +      (B*EXP(-bêta*(Z$15-$H31)))    +   (_C*EXP(-gamma*(Z$15-$H31 )))      )","v":0},{"$f":"  $G31/[0]!Poids      *      (     (A*EXP(-alpha*(AA$15-$H31)))     +      (B*EXP(-bêta*(AA$15-$H31)))    +   (_C*EXP(-gamma*(AA$15-$H31 )))      )","v":0},{"$f":"  $G31/[0]!Poids      *      (     (A*EXP(-alpha*(AB$15-$H31)))     +      (B*EXP(-bêta*(AB$15-$H31)))    +   (_C*EXP(-gamma*(AB$15-$H31 )))      )","v":0},{"$f":"  $G31/[0]!Poids      *      (     (A*EXP(-alpha*(AC$15-$H31)))     +      (B*EXP(-bêta*(AC$15-$H31)))    +   (_C*EXP(-gamma*(AC$15-$H31 )))      )","v":0},{"$f":"  $G31/[0]!Poids      *      (     (A*EXP(-alpha*(AD$15-$H31)))     +      (B*EXP(-bêta*(AD$15-$H31)))    +   (_C*EXP(-gamma*(AD$15-$H31 )))      )","v":0},{"$f":"  $G31/[0]!Poids      *      (     (A*EXP(-alpha*(AE$15-$H31)))     +      (B*EXP(-bêta*(AE$15-$H31)))    +   (_C*EXP(-gamma*(AE$15-$H31 )))      )","v":0},{"$f":"  $G31/[0]!Poids      *      (     (A*EXP(-alpha*(AF$15-$H31)))     +      (B*EXP(-bêta*(AF$15-$H31)))    +   (_C*EXP(-gamma*(AF$15-$H31 )))      )","v":0},{"$f":"  $G31/[0]!Poids      *      (     (A*EXP(-alpha*(AG$15-$H31)))     +      (B*EXP(-bêta*(AG$15-$H31)))    +   (_C*EXP(-gamma*(AG$15-$H31 )))      )","v":0},{"$f":"  $G31/[0]!Poids      *      (     (A*EXP(-alpha*(AH$15-$H31)))     +      (B*EXP(-bêta*(AH$15-$H31)))    +   (_C*EXP(-gamma*(AH$15-$H31 )))      )","v":0},{"$f":"  $G31/[0]!Poids      *      (     (A*EXP(-alpha*(AI$15-$H31)))     +      (B*EXP(-bêta*(AI$15-$H31)))    +   (_C*EXP(-gamma*(AI$15-$H31 )))      )","v":0},{"$f":"  $G31/[0]!Poids      *      (     (A*EXP(-alpha*(AJ$15-$H31)))     +      (B*EXP(-bêta*(AJ$15-$H31)))    +   (_C*EXP(-gamma*(AJ$15-$H31 )))      )","v":0},{"$f":"  $G31/[0]!Poids      *      (     (A*EXP(-alpha*(AK$15-$H31)))     +      (B*EXP(-bêta*(AK$15-$H31)))    +   (_C*EXP(-gamma*(AK$15-$H31 )))      )","v":0},{"$f":"  $G31/[0]!Poids      *      (     (A*EXP(-alpha*(AL$15-$H31)))     +      (B*EXP(-bêta*(AL$15-$H31)))    +   (_C*EXP(-gamma*(AL$15-$H31 )))      )","v":0},{"$f":"  $G31/[0]!Poids      *      (     (A*EXP(-alpha*(AM$15-$H31)))     +      (B*EXP(-bêta*(AM$15-$H31)))    +   (_C*EXP(-gamma*(AM$15-$H31 )))      )","v":0},{"$f":"  $G31/[0]!Poids      *      (     (A*EXP(-alpha*(AN$15-$H31)))     +      (B*EXP(-bêta*(AN$15-$H31)))    +   (_C*EXP(-gamma*(AN$15-$H31 )))      )","v":0},{"$f":"  $G31/[0]!Poids      *      (     (A*EXP(-alpha*(AO$15-$H31)))     +      (B*EXP(-bêta*(AO$15-$H31)))    +   (_C*EXP(-gamma*(AO$15-$H31 )))      )","v":0},{"$f":"  $G31/[0]!Poids      *      (     (A*EXP(-alpha*(AP$15-$H31)))     +      (B*EXP(-bêta*(AP$15-$H31)))    +   (_C*EXP(-gamma*(AP$15-$H31 )))      )","v":0},{"$f":"  $G31/[0]!Poids      *      (     (A*EXP(-alpha*(AQ$15-$H31)))     +      (B*EXP(-bêta*(AQ$15-$H31)))    +   (_C*EXP(-gamma*(AQ$15-$H31 )))      )","v":0},{"$f":"  $G31/[0]!Poids      *      (     (A*EXP(-alpha*(AR$15-$H31)))     +      (B*EXP(-bêta*(AR$15-$H31)))    +   (_C*EXP(-gamma*(AR$15-$H31 )))      )","v":0},{"$f":"  $G31/[0]!Poids      *      (     (A*EXP(-alpha*(AS$15-$H31)))     +      (B*EXP(-bêta*(AS$15-$H31)))    +   (_C*EXP(-gamma*(AS$15-$H31 )))      )","v":0},{"$f":"  $G31/[0]!Poids      *      (     (A*EXP(-alpha*(AT$15-$H31)))     +      (B*EXP(-bêta*(AT$15-$H31)))    +   (_C*EXP(-gamma*(AT$15-$H31 )))      )","v":0},{"$f":"  $G31/[0]!Poids      *      (     (A*EXP(-alpha*(AU$15-$H31)))     +      (B*EXP(-bêta*(AU$15-$H31)))    +   (_C*EXP(-gamma*(AU$15-$H31 )))      )","v":0},{"$f":"  $G31/[0]!Poids      *      (     (A*EXP(-alpha*(AV$15-$H31)))     +      (B*EXP(-bêta*(AV$15-$H31)))    +   (_C*EXP(-gamma*(AV$15-$H31 )))      )","v":0},{"$f":"  $G31/[0]!Poids      *      (     (A*EXP(-alpha*(AW$15-$H31)))     +      (B*EXP(-bêta*(AW$15-$H31)))    +   (_C*EXP(-gamma*(AW$15-$H31 )))      )","v":0},{"$f":"  $G31/[0]!Poids      *      (     (A*EXP(-alpha*(AX$15-$H31)))     +      (B*EXP(-bêta*(AX$15-$H31)))    +   (_C*EXP(-gamma*(AX$15-$H31 )))      )","v":0},{"$f":"  $G31/[0]!Poids      *      (     (A*EXP(-alpha*(AY$15-$H31)))     +      (B*EXP(-bêta*(AY$15-$H31)))    +   (_C*EXP(-gamma*(AY$15-$H31 )))      )","v":0},{"$f":"  $G31/[0]!Poids      *      (     (A*EXP(-alpha*(AZ$15-$H31)))     +      (B*EXP(-bêta*(AZ$15-$H31)))    +   (_C*EXP(-gamma*(AZ$15-$H31 )))      )","v":0},{"$f":"  $G31/[0]!Poids      *      (     (A*EXP(-alpha*(BA$15-$H31)))     +      (B*EXP(-bêta*(BA$15-$H31)))    +   (_C*EXP(-gamma*(BA$15-$H31 )))      )","v":0},{"$f":"  $G31/[0]!Poids      *      (     (A*EXP(-alpha*(BB$15-$H31)))     +      (B*EXP(-bêta*(BB$15-$H31)))    +   (_C*EXP(-gamma*(BB$15-$H31 )))      )","v":0},{"$f":"  $G31/[0]!Poids      *      (     (A*EXP(-alpha*(BC$15-$H31)))     +      (B*EXP(-bêta*(BC$15-$H31)))    +   (_C*EXP(-gamma*(BC$15-$H31 )))      )","v":0},{"$f":"  $G31/[0]!Poids      *      (     (A*EXP(-alpha*(BD$15-$H31)))     +      (B*EXP(-bêta*(BD$15-$H31)))    +   (_C*EXP(-gamma*(BD$15-$H31 )))      )","v":0},{"$f":"  $G31/[0]!Poids      *      (     (A*EXP(-alpha*(BE$15-$H31)))     +      (B*EXP(-bêta*(BE$15-$H31)))    +   (_C*EXP(-gamma*(BE$15-$H31 )))      )","v":0},{"$f":"  $G31/[0]!Poids      *      (     (A*EXP(-alpha*(BF$15-$H31)))     +      (B*EXP(-bêta*(BF$15-$H31)))    +   (_C*EXP(-gamma*(BF$15-$H31 )))      )","v":0},{"$f":"  $G31/[0]!Poids      *      (     (A*EXP(-alpha*(BG$15-$H31)))     +      (B*EXP(-bêta*(BG$15-$H31)))    +   (_C*EXP(-gamma*(BG$15-$H31 )))      )","v":0},{"$f":"  $G31/[0]!Poids      *      (     (A*EXP(-alpha*(BH$15-$H31)))     +      (B*EXP(-bêta*(BH$15-$H31)))    +   (_C*EXP(-gamma*(BH$15-$H31 )))      )","v":0},{"$f":"  $G31/[0]!Poids      *      (     (A*EXP(-alpha*(BI$15-$H31)))     +      (B*EXP(-bêta*(BI$15-$H31)))    +   (_C*EXP(-gamma*(BI$15-$H31 )))      )","v":0},{"$f":"  $G31/[0]!Poids      *      (     (A*EXP(-alpha*(BJ$15-$H31)))     +      (B*EXP(-bêta*(BJ$15-$H31)))    +   (_C*EXP(-gamma*(BJ$15-$H31 )))      )","v":0},{"$f":"  $G31/[0]!Poids      *      (     (A*EXP(-alpha*(BK$15-$H31)))     +      (B*EXP(-bêta*(BK$15-$H31)))    +   (_C*EXP(-gamma*(BK$15-$H31 )))      )","v":0},{"$f":"  $G31/[0]!Poids      *      (     (A*EXP(-alpha*(BL$15-$H31)))     +      (B*EXP(-bêta*(BL$15-$H31)))    +   (_C*EXP(-gamma*(BL$15-$H31 )))      )","v":0},{"$f":"  $G31/[0]!Poids      *      (     (A*EXP(-alpha*(BM$15-$H31)))     +      (B*EXP(-bêta*(BM$15-$H31)))    +   (_C*EXP(-gamma*(BM$15-$H31 )))      )","v":0},{"$f":"  $G31/[0]!Poids      *      (     (A*EXP(-alpha*(BN$15-$H31)))     +      (B*EXP(-bêta*(BN$15-$H31)))    +   (_C*EXP(-gamma*(BN$15-$H31 )))      )","v":0},{"$f":"  $G31/[0]!Poids      *      (     (A*EXP(-alpha*(BO$15-$H31)))     +      (B*EXP(-bêta*(BO$15-$H31)))    +   (_C*EXP(-gamma*(BO$15-$H31 )))      )","v":0},{"$f":"  $G31/[0]!Poids      *      (     (A*EXP(-alpha*(BP$15-$H31)))     +      (B*EXP(-bêta*(BP$15-$H31)))    +   (_C*EXP(-gamma*(BP$15-$H31 )))      )","v":0},{"$f":"  $G31/[0]!Poids      *      (     (A*EXP(-alpha*(BQ$15-$H31)))     +      (B*EXP(-bêta*(BQ$15-$H31)))    +   (_C*EXP(-gamma*(BQ$15-$H31 )))      )","v":0},{"$f":"  $G31/[0]!Poids      *      (     (A*EXP(-alpha*(BR$15-$H31)))     +      (B*EXP(-bêta*(BR$15-$H31)))    +   (_C*EXP(-gamma*(BR$15-$H31 )))      )","v":0}]
[null,"poids","dose","temps",null,null,{"$f":"Z$10","v":0},80,null,null,null,null,null,null,null,null,null,null,null,null,null,null,null,null,null,{"$f":"  $G32/[0]!Poids      *      (     (A*EXP(-alpha*(Z$15-$H32)))     +      (B*EXP(-bêta*(Z$15-$H32)))    +   (_C*EXP(-gamma*(Z$15-$H32 )))      )","v":0},{"$f":"  $G32/[0]!Poids      *      (     (A*EXP(-alpha*(AA$15-$H32)))     +      (B*EXP(-bêta*(AA$15-$H32)))    +   (_C*EXP(-gamma*(AA$15-$H32 )))      )","v":0},{"$f":"  $G32/[0]!Poids      *      (     (A*EXP(-alpha*(AB$15-$H32)))     +      (B*EXP(-bêta*(AB$15-$H32)))    +   (_C*EXP(-gamma*(AB$15-$H32 )))      )","v":0},{"$f":"  $G32/[0]!Poids      *      (     (A*EXP(-alpha*(AC$15-$H32)))     +      (B*EXP(-bêta*(AC$15-$H32)))    +   (_C*EXP(-gamma*(AC$15-$H32 )))      )","v":0},{"$f":"  $G32/[0]!Poids      *      (     (A*EXP(-alpha*(AD$15-$H32)))     +      (B*EXP(-bêta*(AD$15-$H32)))    +   (_C*EXP(-gamma*(AD$15-$H32 )))      )","v":0},{"$f":"  $G32/[0]!Poids      *      (     (A*EXP(-alpha*(AE$15-$H32)))     +      (B*EXP(-bêta*(AE$15-$H32)))    +   (_C*EXP(-gamma*(AE$15-$H32 )))      )","v":0},{"$f":"  $G32/[0]!Poids      *      (     (A*EXP(-alpha*(AF$15-$H32)))     +      (B*EXP(-bêta*(AF$15-$H32)))    +   (_C*EXP(-gamma*(AF$15-$H32 )))      )","v":0},{"$f":"  $G32/[0]!Poids      *      (     (A*EXP(-alpha*(AG$15-$H32)))     +      (B*EXP(-bêta*(AG$15-$H32)))    +   (_C*EXP(-gamma*(AG$15-$H32 )))      )","v":0},{"$f":"  $G32/[0]!Poids      *      (     (A*EXP(-alpha*(AH$15-$H32)))     +      (B*EXP(-bêta*(AH$15-$H32)))    +   (_C*EXP(-gamma*(AH$15-$H32 )))      )","v":0},{"$f":"  $G32/[0]!Poids      *      (     (A*EXP(-alpha*(AI$15-$H32)))     +      (B*EXP(-bêta*(AI$15-$H32)))    +   (_C*EXP(-gamma*(AI$15-$H32 )))      )","v":0},{"$f":"  $G32/[0]!Poids      *      (     (A*EXP(-alpha*(AJ$15-$H32)))     +      (B*EXP(-bêta*(AJ$15-$H32)))    +   (_C*EXP(-gamma*(AJ$15-$H32 )))      )","v":0},{"$f":"  $G32/[0]!Poids      *      (     (A*EXP(-alpha*(AK$15-$H32)))     +      (B*EXP(-bêta*(AK$15-$H32)))    +   (_C*EXP(-gamma*(AK$15-$H32 )))      )","v":0},{"$f":"  $G32/[0]!Poids      *      (     (A*EXP(-alpha*(AL$15-$H32)))     +      (B*EXP(-bêta*(AL$15-$H32)))    +   (_C*EXP(-gamma*(AL$15-$H32 )))      )","v":0},{"$f":"  $G32/[0]!Poids      *      (     (A*EXP(-alpha*(AM$15-$H32)))     +      (B*EXP(-bêta*(AM$15-$H32)))    +   (_C*EXP(-gamma*(AM$15-$H32 )))      )","v":0},{"$f":"  $G32/[0]!Poids      *      (     (A*EXP(-alpha*(AN$15-$H32)))     +      (B*EXP(-bêta*(AN$15-$H32)))    +   (_C*EXP(-gamma*(AN$15-$H32 )))      )","v":0},{"$f":"  $G32/[0]!Poids      *      (     (A*EXP(-alpha*(AO$15-$H32)))     +      (B*EXP(-bêta*(AO$15-$H32)))    +   (_C*EXP(-gamma*(AO$15-$H32 )))      )","v":0},{"$f":"  $G32/[0]!Poids      *      (     (A*EXP(-alpha*(AP$15-$H32)))     +      (B*EXP(-bêta*(AP$15-$H32)))    +   (_C*EXP(-gamma*(AP$15-$H32 )))      )","v":0},{"$f":"  $G32/[0]!Poids      *      (     (A*EXP(-alpha*(AQ$15-$H32)))     +      (B*EXP(-bêta*(AQ$15-$H32)))    +   (_C*EXP(-gamma*(AQ$15-$H32 )))      )","v":0},{"$f":"  $G32/[0]!Poids      *      (     (A*EXP(-alpha*(AR$15-$H32)))     +      (B*EXP(-bêta*(AR$15-$H32)))    +   (_C*EXP(-gamma*(AR$15-$H32 )))      )","v":0},{"$f":"  $G32/[0]!Poids      *      (     (A*EXP(-alpha*(AS$15-$H32)))     +      (B*EXP(-bêta*(AS$15-$H32)))    +   (_C*EXP(-gamma*(AS$15-$H32 )))      )","v":0},{"$f":"  $G32/[0]!Poids      *      (     (A*EXP(-alpha*(AT$15-$H32)))     +      (B*EXP(-bêta*(AT$15-$H32)))    +   (_C*EXP(-gamma*(AT$15-$H32 )))      )","v":0},{"$f":"  $G32/[0]!Poids      *      (     (A*EXP(-alpha*(AU$15-$H32)))     +      (B*EXP(-bêta*(AU$15-$H32)))    +   (_C*EXP(-gamma*(AU$15-$H32 )))      )","v":0},{"$f":"  $G32/[0]!Poids      *      (     (A*EXP(-alpha*(AV$15-$H32)))     +      (B*EXP(-bêta*(AV$15-$H32)))    +   (_C*EXP(-gamma*(AV$15-$H32 )))      )","v":0},{"$f":"  $G32/[0]!Poids      *      (     (A*EXP(-alpha*(AW$15-$H32)))     +      (B*EXP(-bêta*(AW$15-$H32)))    +   (_C*EXP(-gamma*(AW$15-$H32 )))      )","v":0},{"$f":"  $G32/[0]!Poids      *      (     (A*EXP(-alpha*(AX$15-$H32)))     +      (B*EXP(-bêta*(AX$15-$H32)))    +   (_C*EXP(-gamma*(AX$15-$H32 )))      )","v":0},{"$f":"  $G32/[0]!Poids      *      (     (A*EXP(-alpha*(AY$15-$H32)))     +      (B*EXP(-bêta*(AY$15-$H32)))    +   (_C*EXP(-gamma*(AY$15-$H32 )))      )","v":0},{"$f":"  $G32/[0]!Poids      *      (     (A*EXP(-alpha*(AZ$15-$H32)))     +      (B*EXP(-bêta*(AZ$15-$H32)))    +   (_C*EXP(-gamma*(AZ$15-$H32 )))      )","v":0},{"$f":"  $G32/[0]!Poids      *      (     (A*EXP(-alpha*(BA$15-$H32)))     +      (B*EXP(-bêta*(BA$15-$H32)))    +   (_C*EXP(-gamma*(BA$15-$H32 )))      )","v":0},{"$f":"  $G32/[0]!Poids      *      (     (A*EXP(-alpha*(BB$15-$H32)))     +      (B*EXP(-bêta*(BB$15-$H32)))    +   (_C*EXP(-gamma*(BB$15-$H32 )))      )","v":0},{"$f":"  $G32/[0]!Poids      *      (     (A*EXP(-alpha*(BC$15-$H32)))     +      (B*EXP(-bêta*(BC$15-$H32)))    +   (_C*EXP(-gamma*(BC$15-$H32 )))      )","v":0},{"$f":"  $G32/[0]!Poids      *      (     (A*EXP(-alpha*(BD$15-$H32)))     +      (B*EXP(-bêta*(BD$15-$H32)))    +   (_C*EXP(-gamma*(BD$15-$H32 )))      )","v":0},{"$f":"  $G32/[0]!Poids      *      (     (A*EXP(-alpha*(BE$15-$H32)))     +      (B*EXP(-bêta*(BE$15-$H32)))    +   (_C*EXP(-gamma*(BE$15-$H32 )))      )","v":0},{"$f":"  $G32/[0]!Poids      *      (     (A*EXP(-alpha*(BF$15-$H32)))     +      (B*EXP(-bêta*(BF$15-$H32)))    +   (_C*EXP(-gamma*(BF$15-$H32 )))      )","v":0},{"$f":"  $G32/[0]!Poids      *      (     (A*EXP(-alpha*(BG$15-$H32)))     +      (B*EXP(-bêta*(BG$15-$H32)))    +   (_C*EXP(-gamma*(BG$15-$H32 )))      )","v":0},{"$f":"  $G32/[0]!Poids      *      (     (A*EXP(-alpha*(BH$15-$H32)))     +      (B*EXP(-bêta*(BH$15-$H32)))    +   (_C*EXP(-gamma*(BH$15-$H32 )))      )","v":0},{"$f":"  $G32/[0]!Poids      *      (     (A*EXP(-alpha*(BI$15-$H32)))     +      (B*EXP(-bêta*(BI$15-$H32)))    +   (_C*EXP(-gamma*(BI$15-$H32 )))      )","v":0},{"$f":"  $G32/[0]!Poids      *      (     (A*EXP(-alpha*(BJ$15-$H32)))     +      (B*EXP(-bêta*(BJ$15-$H32)))    +   (_C*EXP(-gamma*(BJ$15-$H32 )))      )","v":0},{"$f":"  $G32/[0]!Poids      *      (     (A*EXP(-alpha*(BK$15-$H32)))     +      (B*EXP(-bêta*(BK$15-$H32)))    +   (_C*EXP(-gamma*(BK$15-$H32 )))      )","v":0},{"$f":"  $G32/[0]!Poids      *      (     (A*EXP(-alpha*(BL$15-$H32)))     +      (B*EXP(-bêta*(BL$15-$H32)))    +   (_C*EXP(-gamma*(BL$15-$H32 )))      )","v":0},{"$f":"  $G32/[0]!Poids      *      (     (A*EXP(-alpha*(BM$15-$H32)))     +      (B*EXP(-bêta*(BM$15-$H32)))    +   (_C*EXP(-gamma*(BM$15-$H32 )))      )","v":0},{"$f":"  $G32/[0]!Poids      *      (     (A*EXP(-alpha*(BN$15-$H32)))     +      (B*EXP(-bêta*(BN$15-$H32)))    +   (_C*EXP(-gamma*(BN$15-$H32 )))      )","v":0},{"$f":"  $G32/[0]!Poids      *      (     (A*EXP(-alpha*(BO$15-$H32)))     +      (B*EXP(-bêta*(BO$15-$H32)))    +   (_C*EXP(-gamma*(BO$15-$H32 )))      )","v":0},{"$f":"  $G32/[0]!Poids      *      (     (A*EXP(-alpha*(BP$15-$H32)))     +      (B*EXP(-bêta*(BP$15-$H32)))    +   (_C*EXP(-gamma*(BP$15-$H32 )))      )","v":0},{"$f":"  $G32/[0]!Poids      *      (     (A*EXP(-alpha*(BQ$15-$H32)))     +      (B*EXP(-bêta*(BQ$15-$H32)))    +   (_C*EXP(-gamma*(BQ$15-$H32 )))      )","v":0},{"$f":"  $G32/[0]!Poids      *      (     (A*EXP(-alpha*(BR$15-$H32)))     +      (B*EXP(-bêta*(BR$15-$H32)))    +   (_C*EXP(-gamma*(BR$15-$H32 )))      )","v":0}]
[null,"Kg","mg",0,null,null,{"$f":"AA$10","v":0},85,null,null,null,null,null,null,null,null,null,null,null,null,null,null,null,null,null,null,{"$f":"  $G33/[0]!Poids      *      (     (A*EXP(-alpha*(AA$15-$H33)))     +      (B*EXP(-bêta*(AA$15-$H33)))    +   (_C*EXP(-gamma*(AA$15-$H33 )))      )","v":0},{"$f":"  $G33/[0]!Poids      *      (     (A*EXP(-alpha*(AB$15-$H33)))     +      (B*EXP(-bêta*(AB$15-$H33)))    +   (_C*EXP(-gamma*(AB$15-$H33 )))      )","v":0},{"$f":"  $G33/[0]!Poids      *      (     (A*EXP(-alpha*(AC$15-$H33)))     +      (B*EXP(-bêta*(AC$15-$H33)))    +   (_C*EXP(-gamma*(AC$15-$H33 )))      )","v":0},{"$f":"  $G33/[0]!Poids      *      (     (A*EXP(-alpha*(AD$15-$H33)))     +      (B*EXP(-bêta*(AD$15-$H33)))    +   (_C*EXP(-gamma*(AD$15-$H33 )))      )","v":0},{"$f":"  $G33/[0]!Poids      *      (     (A*EXP(-alpha*(AE$15-$H33)))     +      (B*EXP(-bêta*(AE$15-$H33)))    +   (_C*EXP(-gamma*(AE$15-$H33 )))      )","v":0},{"$f":"  $G33/[0]!Poids      *      (     (A*EXP(-alpha*(AF$15-$H33)))     +      (B*EXP(-bêta*(AF$15-$H33)))    +   (_C*EXP(-gamma*(AF$15-$H33 )))      )","v":0},{"$f":"  $G33/[0]!Poids      *      (     (A*EXP(-alpha*(AG$15-$H33)))     +      (B*EXP(-bêta*(AG$15-$H33)))    +   (_C*EXP(-gamma*(AG$15-$H33 )))      )","v":0},{"$f":"  $G33/[0]!Poids      *      (     (A*EXP(-alpha*(AH$15-$H33)))     +      (B*EXP(-bêta*(AH$15-$H33)))    +   (_C*EXP(-gamma*(AH$15-$H33 )))      )","v":0},{"$f":"  $G33/[0]!Poids      *      (     (A*EXP(-alpha*(AI$15-$H33)))     +      (B*EXP(-bêta*(AI$15-$H33)))    +   (_C*EXP(-gamma*(AI$15-$H33 )))      )","v":0},{"$f":"  $G33/[0]!Poids      *      (     (A*EXP(-alpha*(AJ$15-$H33)))     +      (B*EXP(-bêta*(AJ$15-$H33)))    +   (_C*EXP(-gamma*(AJ$15-$H33 )))      )","v":0},{"$f":"  $G33/[0]!Poids      *      (     (A*EXP(-alpha*(AK$15-$H33)))     +      (B*EXP(-bêta*(AK$15-$H33)))    +   (_C*EXP(-gamma*(AK$15-$H33 )))      )","v":0},{"$f":"  $G33/[0]!Poids      *      (     (A*EXP(-alpha*(AL$15-$H33)))     +      (B*EXP(-bêta*(AL$15-$H33)))    +   (_C*EXP(-gamma*(AL$15-$H33 )))      )","v":0},{"$f":"  $G33/[0]!Poids      *      (     (A*EXP(-alpha*(AM$15-$H33)))     +      (B*EXP(-bêta*(AM$15-$H33)))    +   (_C*EXP(-gamma*(AM$15-$H33 )))      )","v":0},{"$f":"  $G33/[0]!Poids      *      (     (A*EXP(-alpha*(AN$15-$H33)))     +      (B*EXP(-bêta*(AN$15-$H33)))    +   (_C*EXP(-gamma*(AN$15-$H33 )))      )","v":0},{"$f":"  $G33/[0]!Poids      *      (     (A*EXP(-alpha*(AO$15-$H33)))     +      (B*EXP(-bêta*(AO$15-$H33)))    +   (_C*EXP(-gamma*(AO$15-$H33 )))      )","v":0},{"$f":"  $G33/[0]!Poids      *      (     (A*EXP(-alpha*(AP$15-$H33)))     +      (B*EXP(-bêta*(AP$15-$H33)))    +   (_C*EXP(-gamma*(AP$15-$H33 )))      )","v":0},{"$f":"  $G33/[0]!Poids      *      (     (A*EXP(-alpha*(AQ$15-$H33)))     +      (B*EXP(-bêta*(AQ$15-$H33)))    +   (_C*EXP(-gamma*(AQ$15-$H33 )))      )","v":0},{"$f":"  $G33/[0]!Poids      *      (     (A*EXP(-alpha*(AR$15-$H33)))     +      (B*EXP(-bêta*(AR$15-$H33)))    +   (_C*EXP(-gamma*(AR$15-$H33 )))      )","v":0},{"$f":"  $G33/[0]!Poids      *      (     (A*EXP(-alpha*(AS$15-$H33)))     +      (B*EXP(-bêta*(AS$15-$H33)))    +   (_C*EXP(-gamma*(AS$15-$H33 )))      )","v":0},{"$f":"  $G33/[0]!Poids      *      (     (A*EXP(-alpha*(AT$15-$H33)))     +      (B*EXP(-bêta*(AT$15-$H33)))    +   (_C*EXP(-gamma*(AT$15-$H33 )))      )","v":0},{"$f":"  $G33/[0]!Poids      *      (     (A*EXP(-alpha*(AU$15-$H33)))     +      (B*EXP(-bêta*(AU$15-$H33)))    +   (_C*EXP(-gamma*(AU$15-$H33 )))      )","v":0},{"$f":"  $G33/[0]!Poids      *      (     (A*EXP(-alpha*(AV$15-$H33)))     +      (B*EXP(-bêta*(AV$15-$H33)))    +   (_C*EXP(-gamma*(AV$15-$H33 )))      )","v":0},{"$f":"  $G33/[0]!Poids      *      (     (A*EXP(-alpha*(AW$15-$H33)))     +      (B*EXP(-bêta*(AW$15-$H33)))    +   (_C*EXP(-gamma*(AW$15-$H33 )))      )","v":0},{"$f":"  $G33/[0]!Poids      *      (     (A*EXP(-alpha*(AX$15-$H33)))     +      (B*EXP(-bêta*(AX$15-$H33)))    +   (_C*EXP(-gamma*(AX$15-$H33 )))      )","v":0},{"$f":"  $G33/[0]!Poids      *      (     (A*EXP(-alpha*(AY$15-$H33)))     +      (B*EXP(-bêta*(AY$15-$H33)))    +   (_C*EXP(-gamma*(AY$15-$H33 )))      )","v":0},{"$f":"  $G33/[0]!Poids      *      (     (A*EXP(-alpha*(AZ$15-$H33)))     +      (B*EXP(-bêta*(AZ$15-$H33)))    +   (_C*EXP(-gamma*(AZ$15-$H33 )))      )","v":0},{"$f":"  $G33/[0]!Poids      *      (     (A*EXP(-alpha*(BA$15-$H33)))     +      (B*EXP(-bêta*(BA$15-$H33)))    +   (_C*EXP(-gamma*(BA$15-$H33 )))      )","v":0},{"$f":"  $G33/[0]!Poids      *      (     (A*EXP(-alpha*(BB$15-$H33)))     +      (B*EXP(-bêta*(BB$15-$H33)))    +   (_C*EXP(-gamma*(BB$15-$H33 )))      )","v":0},{"$f":"  $G33/[0]!Poids      *      (     (A*EXP(-alpha*(BC$15-$H33)))     +      (B*EXP(-bêta*(BC$15-$H33)))    +   (_C*EXP(-gamma*(BC$15-$H33 )))      )","v":0},{"$f":"  $G33/[0]!Poids      *      (     (A*EXP(-alpha*(BD$15-$H33)))     +      (B*EXP(-bêta*(BD$15-$H33)))    +   (_C*EXP(-gamma*(BD$15-$H33 )))      )","v":0},{"$f":"  $G33/[0]!Poids      *      (     (A*EXP(-alpha*(BE$15-$H33)))     +      (B*EXP(-bêta*(BE$15-$H33)))    +   (_C*EXP(-gamma*(BE$15-$H33 )))      )","v":0},{"$f":"  $G33/[0]!Poids      *      (     (A*EXP(-alpha*(BF$15-$H33)))     +      (B*EXP(-bêta*(BF$15-$H33)))    +   (_C*EXP(-gamma*(BF$15-$H33 )))      )","v":0},{"$f":"  $G33/[0]!Poids      *      (     (A*EXP(-alpha*(BG$15-$H33)))     +      (B*EXP(-bêta*(BG$15-$H33)))    +   (_C*EXP(-gamma*(BG$15-$H33 )))      )","v":0},{"$f":"  $G33/[0]!Poids      *      (     (A*EXP(-alpha*(BH$15-$H33)))     +      (B*EXP(-bêta*(BH$15-$H33)))    +   (_C*EXP(-gamma*(BH$15-$H33 )))      )","v":0},{"$f":"  $G33/[0]!Poids      *      (     (A*EXP(-alpha*(BI$15-$H33)))     +      (B*EXP(-bêta*(BI$15-$H33)))    +   (_C*EXP(-gamma*(BI$15-$H33 )))      )","v":0},{"$f":"  $G33/[0]!Poids      *      (     (A*EXP(-alpha*(BJ$15-$H33)))     +      (B*EXP(-bêta*(BJ$15-$H33)))    +   (_C*EXP(-gamma*(BJ$15-$H33 )))      )","v":0},{"$f":"  $G33/[0]!Poids      *      (     (A*EXP(-alpha*(BK$15-$H33)))     +      (B*EXP(-bêta*(BK$15-$H33)))    +   (_C*EXP(-gamma*(BK$15-$H33 )))      )","v":0},{"$f":"  $G33/[0]!Poids      *      (     (A*EXP(-alpha*(BL$15-$H33)))     +      (B*EXP(-bêta*(BL$15-$H33)))    +   (_C*EXP(-gamma*(BL$15-$H33 )))      )","v":0},{"$f":"  $G33/[0]!Poids      *      (     (A*EXP(-alpha*(BM$15-$H33)))     +      (B*EXP(-bêta*(BM$15-$H33)))    +   (_C*EXP(-gamma*(BM$15-$H33 )))      )","v":0},{"$f":"  $G33/[0]!Poids      *      (     (A*EXP(-alpha*(BN$15-$H33)))     +      (B*EXP(-bêta*(BN$15-$H33)))    +   (_C*EXP(-gamma*(BN$15-$H33 )))      )","v":0},{"$f":"  $G33/[0]!Poids      *      (     (A*EXP(-alpha*(BO$15-$H33)))     +      (B*EXP(-bêta*(BO$15-$H33)))    +   (_C*EXP(-gamma*(BO$15-$H33 )))      )","v":0},{"$f":"  $G33/[0]!Poids      *      (     (A*EXP(-alpha*(BP$15-$H33)))     +      (B*EXP(-bêta*(BP$15-$H33)))    +   (_C*EXP(-gamma*(BP$15-$H33 )))      )","v":0},{"$f":"  $G33/[0]!Poids      *      (     (A*EXP(-alpha*(BQ$15-$H33)))     +      (B*EXP(-bêta*(BQ$15-$H33)))    +   (_C*EXP(-gamma*(BQ$15-$H33 )))      )","v":0},{"$f":"  $G33/[0]!Poids      *      (     (A*EXP(-alpha*(BR$15-$H33)))     +      (B*EXP(-bêta*(BR$15-$H33)))    +   (_C*EXP(-gamma*(BR$15-$H33 )))      )","v":0}]
[null,70,35,{"$f":"  C34/B34      *      (     (A*EXP(-alpha*(D33)))     +      (B*EXP(-bêta*(D33)))    +   (_C*EXP(-gamma*(D33 )))      )","v":1556},"ng",null,{"$f":"AB$10","v":0},90,null,null,null,null,null,null,null,null,null,null,null,null,null,null,null,null,null,null,null,{"$f":"  $G34/[0]!Poids      *      (     (A*EXP(-alpha*(AB$15-$H34)))     +      (B*EXP(-bêta*(AB$15-$H34)))    +   (_C*EXP(-gamma*(AB$15-$H34 )))      )","v":0},{"$f":"  $G34/[0]!Poids      *      (     (A*EXP(-alpha*(AC$15-$H34)))     +      (B*EXP(-bêta*(AC$15-$H34)))    +   (_C*EXP(-gamma*(AC$15-$H34 )))      )","v":0},{"$f":"  $G34/[0]!Poids      *      (     (A*EXP(-alpha*(AD$15-$H34)))     +      (B*EXP(-bêta*(AD$15-$H34)))    +   (_C*EXP(-gamma*(AD$15-$H34 )))      )","v":0},{"$f":"  $G34/[0]!Poids      *      (     (A*EXP(-alpha*(AE$15-$H34)))     +      (B*EXP(-bêta*(AE$15-$H34)))    +   (_C*EXP(-gamma*(AE$15-$H34 )))      )","v":0},{"$f":"  $G34/[0]!Poids      *      (     (A*EXP(-alpha*(AF$15-$H34)))     +      (B*EXP(-bêta*(AF$15-$H34)))    +   (_C*EXP(-gamma*(AF$15-$H34 )))      )","v":0},{"$f":"  $G34/[0]!Poids      *      (     (A*EXP(-alpha*(AG$15-$H34)))     +      (B*EXP(-bêta*(AG$15-$H34)))    +   (_C*EXP(-gamma*(AG$15-$H34 )))      )","v":0},{"$f":"  $G34/[0]!Poids      *      (     (A*EXP(-alpha*(AH$15-$H34)))     +      (B*EXP(-bêta*(AH$15-$H34)))    +   (_C*EXP(-gamma*(AH$15-$H34 )))      )","v":0},{"$f":"  $G34/[0]!Poids      *      (     (A*EXP(-alpha*(AI$15-$H34)))     +      (B*EXP(-bêta*(AI$15-$H34)))    +   (_C*EXP(-gamma*(AI$15-$H34 )))      )","v":0},{"$f":"  $G34/[0]!Poids      *      (     (A*EXP(-alpha*(AJ$15-$H34)))     +      (B*EXP(-bêta*(AJ$15-$H34)))    +   (_C*EXP(-gamma*(AJ$15-$H34 )))      )","v":0},{"$f":"  $G34/[0]!Poids      *      (     (A*EXP(-alpha*(AK$15-$H34)))     +      (B*EXP(-bêta*(AK$15-$H34)))    +   (_C*EXP(-gamma*(AK$15-$H34 )))      )","v":0},{"$f":"  $G34/[0]!Poids      *      (     (A*EXP(-alpha*(AL$15-$H34)))     +      (B*EXP(-bêta*(AL$15-$H34)))    +   (_C*EXP(-gamma*(AL$15-$H34 )))      )","v":0},{"$f":"  $G34/[0]!Poids      *      (     (A*EXP(-alpha*(AM$15-$H34)))     +      (B*EXP(-bêta*(AM$15-$H34)))    +   (_C*EXP(-gamma*(AM$15-$H34 )))      )","v":0},{"$f":"  $G34/[0]!Poids      *      (     (A*EXP(-alpha*(AN$15-$H34)))     +      (B*EXP(-bêta*(AN$15-$H34)))    +   (_C*EXP(-gamma*(AN$15-$H34 )))      )","v":0},{"$f":"  $G34/[0]!Poids      *      (     (A*EXP(-alpha*(AO$15-$H34)))     +      (B*EXP(-bêta*(AO$15-$H34)))    +   (_C*EXP(-gamma*(AO$15-$H34 )))      )","v":0},{"$f":"  $G34/[0]!Poids      *      (     (A*EXP(-alpha*(AP$15-$H34)))     +      (B*EXP(-bêta*(AP$15-$H34)))    +   (_C*EXP(-gamma*(AP$15-$H34 )))      )","v":0},{"$f":"  $G34/[0]!Poids      *      (     (A*EXP(-alpha*(AQ$15-$H34)))     +      (B*EXP(-bêta*(AQ$15-$H34)))    +   (_C*EXP(-gamma*(AQ$15-$H34 )))      )","v":0},{"$f":"  $G34/[0]!Poids      *      (     (A*EXP(-alpha*(AR$15-$H34)))     +      (B*EXP(-bêta*(AR$15-$H34)))    +   (_C*EXP(-gamma*(AR$15-$H34 )))      )","v":0},{"$f":"  $G34/[0]!Poids      *      (     (A*EXP(-alpha*(AS$15-$H34)))     +      (B*EXP(-bêta*(AS$15-$H34)))    +   (_C*EXP(-gamma*(AS$15-$H34 )))      )","v":0},{"$f":"  $G34/[0]!Poids      *      (     (A*EXP(-alpha*(AT$15-$H34)))     +      (B*EXP(-bêta*(AT$15-$H34)))    +   (_C*EXP(-gamma*(AT$15-$H34 )))      )","v":0},{"$f":"  $G34/[0]!Poids      *      (     (A*EXP(-alpha*(AU$15-$H34)))     +      (B*EXP(-bêta*(AU$15-$H34)))    +   (_C*EXP(-gamma*(AU$15-$H34 )))      )","v":0},{"$f":"  $G34/[0]!Poids      *      (     (A*EXP(-alpha*(AV$15-$H34)))     +      (B*EXP(-bêta*(AV$15-$H34)))    +   (_C*EXP(-gamma*(AV$15-$H34 )))      )","v":0},{"$f":"  $G34/[0]!Poids      *      (     (A*EXP(-alpha*(AW$15-$H34)))     +      (B*EXP(-bêta*(AW$15-$H34)))    +   (_C*EXP(-gamma*(AW$15-$H34 )))      )","v":0},{"$f":"  $G34/[0]!Poids      *      (     (A*EXP(-alpha*(AX$15-$H34)))     +      (B*EXP(-bêta*(AX$15-$H34)))    +   (_C*EXP(-gamma*(AX$15-$H34 )))      )","v":0},{"$f":"  $G34/[0]!Poids      *      (     (A*EXP(-alpha*(AY$15-$H34)))     +      (B*EXP(-bêta*(AY$15-$H34)))    +   (_C*EXP(-gamma*(AY$15-$H34 )))      )","v":0},{"$f":"  $G34/[0]!Poids      *      (     (A*EXP(-alpha*(AZ$15-$H34)))     +      (B*EXP(-bêta*(AZ$15-$H34)))    +   (_C*EXP(-gamma*(AZ$15-$H34 )))      )","v":0},{"$f":"  $G34/[0]!Poids      *      (     (A*EXP(-alpha*(BA$15-$H34)))     +      (B*EXP(-bêta*(BA$15-$H34)))    +   (_C*EXP(-gamma*(BA$15-$H34 )))      )","v":0},{"$f":"  $G34/[0]!Poids      *      (     (A*EXP(-alpha*(BB$15-$H34)))     +      (B*EXP(-bêta*(BB$15-$H34)))    +   (_C*EXP(-gamma*(BB$15-$H34 )))      )","v":0},{"$f":"  $G34/[0]!Poids      *      (     (A*EXP(-alpha*(BC$15-$H34)))     +      (B*EXP(-bêta*(BC$15-$H34)))    +   (_C*EXP(-gamma*(BC$15-$H34 )))      )","v":0},{"$f":"  $G34/[0]!Poids      *      (     (A*EXP(-alpha*(BD$15-$H34)))     +      (B*EXP(-bêta*(BD$15-$H34)))    +   (_C*EXP(-gamma*(BD$15-$H34 )))      )","v":0},{"$f":"  $G34/[0]!Poids      *      (     (A*EXP(-alpha*(BE$15-$H34)))     +      (B*EXP(-bêta*(BE$15-$H34)))    +   (_C*EXP(-gamma*(BE$15-$H34 )))      )","v":0},{"$f":"  $G34/[0]!Poids      *      (     (A*EXP(-alpha*(BF$15-$H34)))     +      (B*EXP(-bêta*(BF$15-$H34)))    +   (_C*EXP(-gamma*(BF$15-$H34 )))      )","v":0},{"$f":"  $G34/[0]!Poids      *      (     (A*EXP(-alpha*(BG$15-$H34)))     +      (B*EXP(-bêta*(BG$15-$H34)))    +   (_C*EXP(-gamma*(BG$15-$H34 )))      )","v":0},{"$f":"  $G34/[0]!Poids      *      (     (A*EXP(-alpha*(BH$15-$H34)))     +      (B*EXP(-bêta*(BH$15-$H34)))    +   (_C*EXP(-gamma*(BH$15-$H34 )))      )","v":0},{"$f":"  $G34/[0]!Poids      *      (     (A*EXP(-alpha*(BI$15-$H34)))     +      (B*EXP(-bêta*(BI$15-$H34)))    +   (_C*EXP(-gamma*(BI$15-$H34 )))      )","v":0},{"$f":"  $G34/[0]!Poids      *      (     (A*EXP(-alpha*(BJ$15-$H34)))     +      (B*EXP(-bêta*(BJ$15-$H34)))    +   (_C*EXP(-gamma*(BJ$15-$H34 )))      )","v":0},{"$f":"  $G34/[0]!Poids      *      (     (A*EXP(-alpha*(BK$15-$H34)))     +      (B*EXP(-bêta*(BK$15-$H34)))    +   (_C*EXP(-gamma*(BK$15-$H34 )))      )","v":0},{"$f":"  $G34/[0]!Poids      *      (     (A*EXP(-alpha*(BL$15-$H34)))     +      (B*EXP(-bêta*(BL$15-$H34)))    +   (_C*EXP(-gamma*(BL$15-$H34 )))      )","v":0},{"$f":"  $G34/[0]!Poids      *      (     (A*EXP(-alpha*(BM$15-$H34)))     +      (B*EXP(-bêta*(BM$15-$H34)))    +   (_C*EXP(-gamma*(BM$15-$H34 )))      )","v":0},{"$f":"  $G34/[0]!Poids      *      (     (A*EXP(-alpha*(BN$15-$H34)))     +      (B*EXP(-bêta*(BN$15-$H34)))    +   (_C*EXP(-gamma*(BN$15-$H34 )))      )","v":0},{"$f":"  $G34/[0]!Poids      *      (     (A*EXP(-alpha*(BO$15-$H34)))     +      (B*EXP(-bêta*(BO$15-$H34)))    +   (_C*EXP(-gamma*(BO$15-$H34 )))      )","v":0},{"$f":"  $G34/[0]!Poids      *      (     (A*EXP(-alpha*(BP$15-$H34)))     +      (B*EXP(-bêta*(BP$15-$H34)))    +   (_C*EXP(-gamma*(BP$15-$H34 )))      )","v":0},{"$f":"  $G34/[0]!Poids      *      (     (A*EXP(-alpha*(BQ$15-$H34)))     +      (B*EXP(-bêta*(BQ$15-$H34)))    +   (_C*EXP(-gamma*(BQ$15-$H34 )))      )","v":0},{"$f":"  $G34/[0]!Poids      *      (     (A*EXP(-alpha*(BR$15-$H34)))     +      (B*EXP(-bêta*(BR$15-$H34)))    +   (_C*EXP(-gamma*(BR$15-$H34 )))      )","v":0}]
[null,null,null,null,null,null,{"$f":"AC$10","v":0},95,null,null,null,null,null,null,null,null,null,null,null,null,null,null,null,null,null,null,null,null,{"$f":"  $G35/[0]!Poids      *      (     (A*EXP(-alpha*(AC$15-$H35)))     +      (B*EXP(-bêta*(AC$15-$H35)))    +   (_C*EXP(-gamma*(AC$15-$H35 )))      )","v":0},{"$f":"  $G35/[0]!Poids      *      (     (A*EXP(-alpha*(AD$15-$H35)))     +      (B*EXP(-bêta*(AD$15-$H35)))    +   (_C*EXP(-gamma*(AD$15-$H35 )))      )","v":0},{"$f":"  $G35/[0]!Poids      *      (     (A*EXP(-alpha*(AE$15-$H35)))     +      (B*EXP(-bêta*(AE$15-$H35)))    +   (_C*EXP(-gamma*(AE$15-$H35 )))      )","v":0},{"$f":"  $G35/[0]!Poids      *      (     (A*EXP(-alpha*(AF$15-$H35)))     +      (B*EXP(-bêta*(AF$15-$H35)))    +   (_C*EXP(-gamma*(AF$15-$H35 )))      )","v":0},{"$f":"  $G35/[0]!Poids      *      (     (A*EXP(-alpha*(AG$15-$H35)))     +      (B*EXP(-bêta*(AG$15-$H35)))    +   (_C*EXP(-gamma*(AG$15-$H35 )))      )","v":0},{"$f":"  $G35/[0]!Poids      *      (     (A*EXP(-alpha*(AH$15-$H35)))     +      (B*EXP(-bêta*(AH$15-$H35)))    +   (_C*EXP(-gamma*(AH$15-$H35 )))      )","v":0},{"$f":"  $G35/[0]!Poids      *      (     (A*EXP(-alpha*(AI$15-$H35)))     +      (B*EXP(-bêta*(AI$15-$H35)))    +   (_C*EXP(-gamma*(AI$15-$H35 )))      )","v":0},{"$f":"  $G35/[0]!Poids      *      (     (A*EXP(-alpha*(AJ$15-$H35)))     +      (B*EXP(-bêta*(AJ$15-$H35)))    +   (_C*EXP(-gamma*(AJ$15-$H35 )))      )","v":0},{"$f":"  $G35/[0]!Poids      *      (     (A*EXP(-alpha*(AK$15-$H35)))     +      (B*EXP(-bêta*(AK$15-$H35)))    +   (_C*EXP(-gamma*(AK$15-$H35 )))      )","v":0},{"$f":"  $G35/[0]!Poids      *      (     (A*EXP(-alpha*(AL$15-$H35)))     +      (B*EXP(-bêta*(AL$15-$H35)))    +   (_C*EXP(-gamma*(AL$15-$H35 )))      )","v":0},{"$f":"  $G35/[0]!Poids      *      (     (A*EXP(-alpha*(AM$15-$H35)))     +      (B*EXP(-bêta*(AM$15-$H35)))    +   (_C*EXP(-gamma*(AM$15-$H35 )))      )","v":0},{"$f":"  $G35/[0]!Poids      *      (     (A*EXP(-alpha*(AN$15-$H35)))     +      (B*EXP(-bêta*(AN$15-$H35)))    +   (_C*EXP(-gamma*(AN$15-$H35 )))      )","v":0},{"$f":"  $G35/[0]!Poids      *      (     (A*EXP(-alpha*(AO$15-$H35)))     +      (B*EXP(-bêta*(AO$15-$H35)))    +   (_C*EXP(-gamma*(AO$15-$H35 )))      )","v":0},{"$f":"  $G35/[0]!Poids      *      (     (A*EXP(-alpha*(AP$15-$H35)))     +      (B*EXP(-bêta*(AP$15-$H35)))    +   (_C*EXP(-gamma*(AP$15-$H35 )))      )","v":0},{"$f":"  $G35/[0]!Poids      *      (     (A*EXP(-alpha*(AQ$15-$H35)))     +      (B*EXP(-bêta*(AQ$15-$H35)))    +   (_C*EXP(-gamma*(AQ$15-$H35 )))      )","v":0},{"$f":"  $G35/[0]!Poids      *      (     (A*EXP(-alpha*(AR$15-$H35)))     +      (B*EXP(-bêta*(AR$15-$H35)))    +   (_C*EXP(-gamma*(AR$15-$H35 )))      )","v":0},{"$f":"  $G35/[0]!Poids      *      (     (A*EXP(-alpha*(AS$15-$H35)))     +      (B*EXP(-bêta*(AS$15-$H35)))    +   (_C*EXP(-gamma*(AS$15-$H35 )))      )","v":0},{"$f":"  $G35/[0]!Poids      *      (     (A*EXP(-alpha*(AT$15-$H35)))     +      (B*EXP(-bêta*(AT$15-$H35)))    +   (_C*EXP(-gamma*(AT$15-$H35 )))      )","v":0},{"$f":"  $G35/[0]!Poids      *      (     (A*EXP(-alpha*(AU$15-$H35)))     +      (B*EXP(-bêta*(AU$15-$H35)))    +   (_C*EXP(-gamma*(AU$15-$H35 )))      )","v":0},{"$f":"  $G35/[0]!Poids      *      (     (A*EXP(-alpha*(AV$15-$H35)))     +      (B*EXP(-bêta*(AV$15-$H35)))    +   (_C*EXP(-gamma*(AV$15-$H35 )))      )","v":0},{"$f":"  $G35/[0]!Poids      *      (     (A*EXP(-alpha*(AW$15-$H35)))     +      (B*EXP(-bêta*(AW$15-$H35)))    +   (_C*EXP(-gamma*(AW$15-$H35 )))      )","v":0},{"$f":"  $G35/[0]!Poids      *      (     (A*EXP(-alpha*(AX$15-$H35)))     +      (B*EXP(-bêta*(AX$15-$H35)))    +   (_C*EXP(-gamma*(AX$15-$H35 )))      )","v":0},{"$f":"  $G35/[0]!Poids      *      (     (A*EXP(-alpha*(AY$15-$H35)))     +      (B*EXP(-bêta*(AY$15-$H35)))    +   (_C*EXP(-gamma*(AY$15-$H35 )))      )","v":0},{"$f":"  $G35/[0]!Poids      *      (     (A*EXP(-alpha*(AZ$15-$H35)))     +      (B*EXP(-bêta*(AZ$15-$H35)))    +   (_C*EXP(-gamma*(AZ$15-$H35 )))      )","v":0},{"$f":"  $G35/[0]!Poids      *      (     (A*EXP(-alpha*(BA$15-$H35)))     +      (B*EXP(-bêta*(BA$15-$H35)))    +   (_C*EXP(-gamma*(BA$15-$H35 )))      )","v":0},{"$f":"  $G35/[0]!Poids      *      (     (A*EXP(-alpha*(BB$15-$H35)))     +      (B*EXP(-bêta*(BB$15-$H35)))    +   (_C*EXP(-gamma*(BB$15-$H35 )))      )","v":0},{"$f":"  $G35/[0]!Poids      *      (     (A*EXP(-alpha*(BC$15-$H35)))     +      (B*EXP(-bêta*(BC$15-$H35)))    +   (_C*EXP(-gamma*(BC$15-$H35 )))      )","v":0},{"$f":"  $G35/[0]!Poids      *      (     (A*EXP(-alpha*(BD$15-$H35)))     +      (B*EXP(-bêta*(BD$15-$H35)))    +   (_C*EXP(-gamma*(BD$15-$H35 )))      )","v":0},{"$f":"  $G35/[0]!Poids      *      (     (A*EXP(-alpha*(BE$15-$H35)))     +      (B*EXP(-bêta*(BE$15-$H35)))    +   (_C*EXP(-gamma*(BE$15-$H35 )))      )","v":0},{"$f":"  $G35/[0]!Poids      *      (     (A*EXP(-alpha*(BF$15-$H35)))     +      (B*EXP(-bêta*(BF$15-$H35)))    +   (_C*EXP(-gamma*(BF$15-$H35 )))      )","v":0},{"$f":"  $G35/[0]!Poids      *      (     (A*EXP(-alpha*(BG$15-$H35)))     +      (B*EXP(-bêta*(BG$15-$H35)))    +   (_C*EXP(-gamma*(BG$15-$H35 )))      )","v":0},{"$f":"  $G35/[0]!Poids      *      (     (A*EXP(-alpha*(BH$15-$H35)))     +      (B*EXP(-bêta*(BH$15-$H35)))    +   (_C*EXP(-gamma*(BH$15-$H35 )))      )","v":0},{"$f":"  $G35/[0]!Poids      *      (     (A*EXP(-alpha*(BI$15-$H35)))     +      (B*EXP(-bêta*(BI$15-$H35)))    +   (_C*EXP(-gamma*(BI$15-$H35 )))      )","v":0},{"$f":"  $G35/[0]!Poids      *      (     (A*EXP(-alpha*(BJ$15-$H35)))     +      (B*EXP(-bêta*(BJ$15-$H35)))    +   (_C*EXP(-gamma*(BJ$15-$H35 )))      )","v":0},{"$f":"  $G35/[0]!Poids      *      (     (A*EXP(-alpha*(BK$15-$H35)))     +      (B*EXP(-bêta*(BK$15-$H35)))    +   (_C*EXP(-gamma*(BK$15-$H35 )))      )","v":0},{"$f":"  $G35/[0]!Poids      *      (     (A*EXP(-alpha*(BL$15-$H35)))     +      (B*EXP(-bêta*(BL$15-$H35)))    +   (_C*EXP(-gamma*(BL$15-$H35 )))      )","v":0},{"$f":"  $G35/[0]!Poids      *      (     (A*EXP(-alpha*(BM$15-$H35)))     +      (B*EXP(-bêta*(BM$15-$H35)))    +   (_C*EXP(-gamma*(BM$15-$H35 )))      )","v":0},{"$f":"  $G35/[0]!Poids      *      (     (A*EXP(-alpha*(BN$15-$H35)))     +      (B*EXP(-bêta*(BN$15-$H35)))    +   (_C*EXP(-gamma*(BN$15-$H35 )))      )","v":0},{"$f":"  $G35/[0]!Poids      *      (     (A*EXP(-alpha*(BO$15-$H35)))     +      (B*EXP(-bêta*(BO$15-$H35)))    +   (_C*EXP(-gamma*(BO$15-$H35 )))      )","v":0},{"$f":"  $G35/[0]!Poids      *      (     (A*EXP(-alpha*(BP$15-$H35)))     +      (B*EXP(-bêta*(BP$15-$H35)))    +   (_C*EXP(-gamma*(BP$15-$H35 )))      )","v":0},{"$f":"  $G35/[0]!Poids      *      (     (A*EXP(-alpha*(BQ$15-$H35)))     +      (B*EXP(-bêta*(BQ$15-$H35)))    +   (_C*EXP(-gamma*(BQ$15-$H35 )))      )","v":0},{"$f":"  $G35/[0]!Poids      *      (     (A*EXP(-alpha*(BR$15-$H35)))     +      (B*EXP(-bêta*(BR$15-$H35)))    +   (_C*EXP(-gamma*(BR$15-$H35 )))      )","v":0}]
[null,null,null,null,null,null,{"$f":"AD$10","v":0},100,null,null,null,null,null,null,null,null,null,null,null,null,null,null,null,null,null,null,null,null,null,{"$f":"  $G36/[0]!Poids      *      (     (A*EXP(-alpha*(AD$15-$H36)))     +      (B*EXP(-bêta*(AD$15-$H36)))    +   (_C*EXP(-gamma*(AD$15-$H36 )))      )","v":0},{"$f":"  $G36/[0]!Poids      *      (     (A*EXP(-alpha*(AE$15-$H36)))     +      (B*EXP(-bêta*(AE$15-$H36)))    +   (_C*EXP(-gamma*(AE$15-$H36 )))      )","v":0},{"$f":"  $G36/[0]!Poids      *      (     (A*EXP(-alpha*(AF$15-$H36)))     +      (B*EXP(-bêta*(AF$15-$H36)))    +   (_C*EXP(-gamma*(AF$15-$H36 )))      )","v":0},{"$f":"  $G36/[0]!Poids      *      (     (A*EXP(-alpha*(AG$15-$H36)))     +      (B*EXP(-bêta*(AG$15-$H36)))    +   (_C*EXP(-gamma*(AG$15-$H36 )))      )","v":0},{"$f":"  $G36/[0]!Poids      *      (     (A*EXP(-alpha*(AH$15-$H36)))     +      (B*EXP(-bêta*(AH$15-$H36)))    +   (_C*EXP(-gamma*(AH$15-$H36 )))      )","v":0},{"$f":"  $G36/[0]!Poids      *      (     (A*EXP(-alpha*(AI$15-$H36)))     +      (B*EXP(-bêta*(AI$15-$H36)))    +   (_C*EXP(-gamma*(AI$15-$H36 )))      )","v":0},{"$f":"  $G36/[0]!Poids      *      (     (A*EXP(-alpha*(AJ$15-$H36)))     +      (B*EXP(-bêta*(AJ$15-$H36)))    +   (_C*EXP(-gamma*(AJ$15-$H36 )))      )","v":0},{"$f":"  $G36/[0]!Poids      *      (     (A*EXP(-alpha*(AK$15-$H36)))     +      (B*EXP(-bêta*(AK$15-$H36)))    +   (_C*EXP(-gamma*(AK$15-$H36 )))      )","v":0},{"$f":"  $G36/[0]!Poids      *      (     (A*EXP(-alpha*(AL$15-$H36)))     +      (B*EXP(-bêta*(AL$15-$H36)))    +   (_C*EXP(-gamma*(AL$15-$H36 )))      )","v":0},{"$f":"  $G36/[0]!Poids      *      (     (A*EXP(-alpha*(AM$15-$H36)))     +      (B*EXP(-bêta*(AM$15-$H36)))    +   (_C*EXP(-gamma*(AM$15-$H36 )))      )","v":0},{"$f":"  $G36/[0]!Poids      *      (     (A*EXP(-alpha*(AN$15-$H36)))     +      (B*EXP(-bêta*(AN$15-$H36)))    +   (_C*EXP(-gamma*(AN$15-$H36 )))      )","v":0},{"$f":"  $G36/[0]!Poids      *      (     (A*EXP(-alpha*(AO$15-$H36)))     +      (B*EXP(-bêta*(AO$15-$H36)))    +   (_C*EXP(-gamma*(AO$15-$H36 )))      )","v":0},{"$f":"  $G36/[0]!Poids      *      (     (A*EXP(-alpha*(AP$15-$H36)))     +      (B*EXP(-bêta*(AP$15-$H36)))    +   (_C*EXP(-gamma*(AP$15-$H36 )))      )","v":0},{"$f":"  $G36/[0]!Poids      *      (     (A*EXP(-alpha*(AQ$15-$H36)))     +      (B*EXP(-bêta*(AQ$15-$H36)))    +   (_C*EXP(-gamma*(AQ$15-$H36 )))      )","v":0},{"$f":"  $G36/[0]!Poids      *      (     (A*EXP(-alpha*(AR$15-$H36)))     +      (B*EXP(-bêta*(AR$15-$H36)))    +   (_C*EXP(-gamma*(AR$15-$H36 )))      )","v":0},{"$f":"  $G36/[0]!Poids      *      (     (A*EXP(-alpha*(AS$15-$H36)))     +      (B*EXP(-bêta*(AS$15-$H36)))    +   (_C*EXP(-gamma*(AS$15-$H36 )))      )","v":0},{"$f":"  $G36/[0]!Poids      *      (     (A*EXP(-alpha*(AT$15-$H36)))     +      (B*EXP(-bêta*(AT$15-$H36)))    +   (_C*EXP(-gamma*(AT$15-$H36 )))      )","v":0},{"$f":"  $G36/[0]!Poids      *      (     (A*EXP(-alpha*(AU$15-$H36)))     +      (B*EXP(-bêta*(AU$15-$H36)))    +   (_C*EXP(-gamma*(AU$15-$H36 )))      )","v":0},{"$f":"  $G36/[0]!Poids      *      (     (A*EXP(-alpha*(AV$15-$H36)))     +      (B*EXP(-bêta*(AV$15-$H36)))    +   (_C*EXP(-gamma*(AV$15-$H36 )))      )","v":0},{"$f":"  $G36/[0]!Poids      *      (     (A*EXP(-alpha*(AW$15-$H36)))     +      (B*EXP(-bêta*(AW$15-$H36)))    +   (_C*EXP(-gamma*(AW$15-$H36 )))      )","v":0},{"$f":"  $G36/[0]!Poids      *      (     (A*EXP(-alpha*(AX$15-$H36)))     +      (B*EXP(-bêta*(AX$15-$H36)))    +   (_C*EXP(-gamma*(AX$15-$H36 )))      )","v":0},{"$f":"  $G36/[0]!Poids      *      (     (A*EXP(-alpha*(AY$15-$H36)))     +      (B*EXP(-bêta*(AY$15-$H36)))    +   (_C*EXP(-gamma*(AY$15-$H36 )))      )","v":0},{"$f":"  $G36/[0]!Poids      *      (     (A*EXP(-alpha*(AZ$15-$H36)))     +      (B*EXP(-bêta*(AZ$15-$H36)))    +   (_C*EXP(-gamma*(AZ$15-$H36 )))      )","v":0},{"$f":"  $G36/[0]!Poids      *      (     (A*EXP(-alpha*(BA$15-$H36)))     +      (B*EXP(-bêta*(BA$15-$H36)))    +   (_C*EXP(-gamma*(BA$15-$H36 )))      )","v":0},{"$f":"  $G36/[0]!Poids      *      (     (A*EXP(-alpha*(BB$15-$H36)))     +      (B*EXP(-bêta*(BB$15-$H36)))    +   (_C*EXP(-gamma*(BB$15-$H36 )))      )","v":0},{"$f":"  $G36/[0]!Poids      *      (     (A*EXP(-alpha*(BC$15-$H36)))     +      (B*EXP(-bêta*(BC$15-$H36)))    +   (_C*EXP(-gamma*(BC$15-$H36 )))      )","v":0},{"$f":"  $G36/[0]!Poids      *      (     (A*EXP(-alpha*(BD$15-$H36)))     +      (B*EXP(-bêta*(BD$15-$H36)))    +   (_C*EXP(-gamma*(BD$15-$H36 )))      )","v":0},{"$f":"  $G36/[0]!Poids      *      (     (A*EXP(-alpha*(BE$15-$H36)))     +      (B*EXP(-bêta*(BE$15-$H36)))    +   (_C*EXP(-gamma*(BE$15-$H36 )))      )","v":0},{"$f":"  $G36/[0]!Poids      *      (     (A*EXP(-alpha*(BF$15-$H36)))     +      (B*EXP(-bêta*(BF$15-$H36)))    +   (_C*EXP(-gamma*(BF$15-$H36 )))      )","v":0},{"$f":"  $G36/[0]!Poids      *      (     (A*EXP(-alpha*(BG$15-$H36)))     +      (B*EXP(-bêta*(BG$15-$H36)))    +   (_C*EXP(-gamma*(BG$15-$H36 )))      )","v":0},{"$f":"  $G36/[0]!Poids      *      (     (A*EXP(-alpha*(BH$15-$H36)))     +      (B*EXP(-bêta*(BH$15-$H36)))    +   (_C*EXP(-gamma*(BH$15-$H36 )))      )","v":0},{"$f":"  $G36/[0]!Poids      *      (     (A*EXP(-alpha*(BI$15-$H36)))     +      (B*EXP(-bêta*(BI$15-$H36)))    +   (_C*EXP(-gamma*(BI$15-$H36 )))      )","v":0},{"$f":"  $G36/[0]!Poids      *      (     (A*EXP(-alpha*(BJ$15-$H36)))     +      (B*EXP(-bêta*(BJ$15-$H36)))    +   (_C*EXP(-gamma*(BJ$15-$H36 )))      )","v":0},{"$f":"  $G36/[0]!Poids      *      (     (A*EXP(-alpha*(BK$15-$H36)))     +      (B*EXP(-bêta*(BK$15-$H36)))    +   (_C*EXP(-gamma*(BK$15-$H36 )))      )","v":0},{"$f":"  $G36/[0]!Poids      *      (     (A*EXP(-alpha*(BL$15-$H36)))     +      (B*EXP(-bêta*(BL$15-$H36)))    +   (_C*EXP(-gamma*(BL$15-$H36 )))      )","v":0},{"$f":"  $G36/[0]!Poids      *      (     (A*EXP(-alpha*(BM$15-$H36)))     +      (B*EXP(-bêta*(BM$15-$H36)))    +   (_C*EXP(-gamma*(BM$15-$H36 )))      )","v":0},{"$f":"  $G36/[0]!Poids      *      (     (A*EXP(-alpha*(BN$15-$H36)))     +      (B*EXP(-bêta*(BN$15-$H36)))    +   (_C*EXP(-gamma*(BN$15-$H36 )))      )","v":0},{"$f":"  $G36/[0]!Poids      *      (     (A*EXP(-alpha*(BO$15-$H36)))     +      (B*EXP(-bêta*(BO$15-$H36)))    +   (_C*EXP(-gamma*(BO$15-$H36 )))      )","v":0},{"$f":"  $G36/[0]!Poids      *      (     (A*EXP(-alpha*(BP$15-$H36)))     +      (B*EXP(-bêta*(BP$15-$H36)))    +   (_C*EXP(-gamma*(BP$15-$H36 )))      )","v":0},{"$f":"  $G36/[0]!Poids      *      (     (A*EXP(-alpha*(BQ$15-$H36)))     +      (B*EXP(-bêta*(BQ$15-$H36)))    +   (_C*EXP(-gamma*(BQ$15-$H36 )))      )","v":0},{"$f":"  $G36/[0]!Poids      *      (     (A*EXP(-alpha*(BR$15-$H36)))     +      (B*EXP(-bêta*(BR$15-$H36)))    +   (_C*EXP(-gamma*(BR$15-$H36 )))      )","v":0}]
[null,null,null,null,null,null,{"$f":"AE$10","v":0},105,null,null,null,null,null,null,null,null,null,null,null,null,null,null,null,null,null,null,null,null,null,null,{"$f":"  $G37/[0]!Poids      *      (     (A*EXP(-alpha*(AE$15-$H37)))     +      (B*EXP(-bêta*(AE$15-$H37)))    +   (_C*EXP(-gamma*(AE$15-$H37 )))      )","v":0},{"$f":"  $G37/[0]!Poids      *      (     (A*EXP(-alpha*(AF$15-$H37)))     +      (B*EXP(-bêta*(AF$15-$H37)))    +   (_C*EXP(-gamma*(AF$15-$H37 )))      )","v":0},{"$f":"  $G37/[0]!Poids      *      (     (A*EXP(-alpha*(AG$15-$H37)))     +      (B*EXP(-bêta*(AG$15-$H37)))    +   (_C*EXP(-gamma*(AG$15-$H37 )))      )","v":0},{"$f":"  $G37/[0]!Poids      *      (     (A*EXP(-alpha*(AH$15-$H37)))     +      (B*EXP(-bêta*(AH$15-$H37)))    +   (_C*EXP(-gamma*(AH$15-$H37 )))      )","v":0},{"$f":"  $G37/[0]!Poids      *      (     (A*EXP(-alpha*(AI$15-$H37)))     +      (B*EXP(-bêta*(AI$15-$H37)))    +   (_C*EXP(-gamma*(AI$15-$H37 )))      )","v":0},{"$f":"  $G37/[0]!Poids      *      (     (A*EXP(-alpha*(AJ$15-$H37)))     +      (B*EXP(-bêta*(AJ$15-$H37)))    +   (_C*EXP(-gamma*(AJ$15-$H37 )))      )","v":0},{"$f":"  $G37/[0]!Poids      *      (     (A*EXP(-alpha*(AK$15-$H37)))     +      (B*EXP(-bêta*(AK$15-$H37)))    +   (_C*EXP(-gamma*(AK$15-$H37 )))      )","v":0},{"$f":"  $G37/[0]!Poids      *      (     (A*EXP(-alpha*(AL$15-$H37)))     +      (B*EXP(-bêta*(AL$15-$H37)))    +   (_C*EXP(-gamma*(AL$15-$H37 )))      )","v":0},{"$f":"  $G37/[0]!Poids      *      (     (A*EXP(-alpha*(AM$15-$H37)))     +      (B*EXP(-bêta*(AM$15-$H37)))    +   (_C*EXP(-gamma*(AM$15-$H37 )))      )","v":0},{"$f":"  $G37/[0]!Poids      *      (     (A*EXP(-alpha*(AN$15-$H37)))     +      (B*EXP(-bêta*(AN$15-$H37)))    +   (_C*EXP(-gamma*(AN$15-$H37 )))      )","v":0},{"$f":"  $G37/[0]!Poids      *      (     (A*EXP(-alpha*(AO$15-$H37)))     +      (B*EXP(-bêta*(AO$15-$H37)))    +   (_C*EXP(-gamma*(AO$15-$H37 )))      )","v":0},{"$f":"  $G37/[0]!Poids      *      (     (A*EXP(-alpha*(AP$15-$H37)))     +      (B*EXP(-bêta*(AP$15-$H37)))    +   (_C*EXP(-gamma*(AP$15-$H37 )))      )","v":0},{"$f":"  $G37/[0]!Poids      *      (     (A*EXP(-alpha*(AQ$15-$H37)))     +      (B*EXP(-bêta*(AQ$15-$H37)))    +   (_C*EXP(-gamma*(AQ$15-$H37 )))      )","v":0},{"$f":"  $G37/[0]!Poids      *      (     (A*EXP(-alpha*(AR$15-$H37)))     +      (B*EXP(-bêta*(AR$15-$H37)))    +   (_C*EXP(-gamma*(AR$15-$H37 )))      )","v":0},{"$f":"  $G37/[0]!Poids      *      (     (A*EXP(-alpha*(AS$15-$H37)))     +      (B*EXP(-bêta*(AS$15-$H37)))    +   (_C*EXP(-gamma*(AS$15-$H37 )))      )","v":0},{"$f":"  $G37/[0]!Poids      *      (     (A*EXP(-alpha*(AT$15-$H37)))     +      (B*EXP(-bêta*(AT$15-$H37)))    +   (_C*EXP(-gamma*(AT$15-$H37 )))      )","v":0},{"$f":"  $G37/[0]!Poids      *      (     (A*EXP(-alpha*(AU$15-$H37)))     +      (B*EXP(-bêta*(AU$15-$H37)))    +   (_C*EXP(-gamma*(AU$15-$H37 )))      )","v":0},{"$f":"  $G37/[0]!Poids      *      (     (A*EXP(-alpha*(AV$15-$H37)))     +      (B*EXP(-bêta*(AV$15-$H37)))    +   (_C*EXP(-gamma*(AV$15-$H37 )))      )","v":0},{"$f":"  $G37/[0]!Poids      *      (     (A*EXP(-alpha*(AW$15-$H37)))     +      (B*EXP(-bêta*(AW$15-$H37)))    +   (_C*EXP(-gamma*(AW$15-$H37 )))      )","v":0},{"$f":"  $G37/[0]!Poids      *      (     (A*EXP(-alpha*(AX$15-$H37)))     +      (B*EXP(-bêta*(AX$15-$H37)))    +   (_C*EXP(-gamma*(AX$15-$H37 )))      )","v":0},{"$f":"  $G37/[0]!Poids      *      (     (A*EXP(-alpha*(AY$15-$H37)))     +      (B*EXP(-bêta*(AY$15-$H37)))    +   (_C*EXP(-gamma*(AY$15-$H37 )))      )","v":0},{"$f":"  $G37/[0]!Poids      *      (     (A*EXP(-alpha*(AZ$15-$H37)))     +      (B*EXP(-bêta*(AZ$15-$H37)))    +   (_C*EXP(-gamma*(AZ$15-$H37 )))      )","v":0},{"$f":"  $G37/[0]!Poids      *      (     (A*EXP(-alpha*(BA$15-$H37)))     +      (B*EXP(-bêta*(BA$15-$H37)))    +   (_C*EXP(-gamma*(BA$15-$H37 )))      )","v":0},{"$f":"  $G37/[0]!Poids      *      (     (A*EXP(-alpha*(BB$15-$H37)))     +      (B*EXP(-bêta*(BB$15-$H37)))    +   (_C*EXP(-gamma*(BB$15-$H37 )))      )","v":0},{"$f":"  $G37/[0]!Poids      *      (     (A*EXP(-alpha*(BC$15-$H37)))     +      (B*EXP(-bêta*(BC$15-$H37)))    +   (_C*EXP(-gamma*(BC$15-$H37 )))      )","v":0},{"$f":"  $G37/[0]!Poids      *      (     (A*EXP(-alpha*(BD$15-$H37)))     +      (B*EXP(-bêta*(BD$15-$H37)))    +   (_C*EXP(-gamma*(BD$15-$H37 )))      )","v":0},{"$f":"  $G37/[0]!Poids      *      (     (A*EXP(-alpha*(BE$15-$H37)))     +      (B*EXP(-bêta*(BE$15-$H37)))    +   (_C*EXP(-gamma*(BE$15-$H37 )))      )","v":0},{"$f":"  $G37/[0]!Poids      *      (     (A*EXP(-alpha*(BF$15-$H37)))     +      (B*EXP(-bêta*(BF$15-$H37)))    +   (_C*EXP(-gamma*(BF$15-$H37 )))      )","v":0},{"$f":"  $G37/[0]!Poids      *      (     (A*EXP(-alpha*(BG$15-$H37)))     +      (B*EXP(-bêta*(BG$15-$H37)))    +   (_C*EXP(-gamma*(BG$15-$H37 )))      )","v":0},{"$f":"  $G37/[0]!Poids      *      (     (A*EXP(-alpha*(BH$15-$H37)))     +      (B*EXP(-bêta*(BH$15-$H37)))    +   (_C*EXP(-gamma*(BH$15-$H37 )))      )","v":0},{"$f":"  $G37/[0]!Poids      *      (     (A*EXP(-alpha*(BI$15-$H37)))     +      (B*EXP(-bêta*(BI$15-$H37)))    +   (_C*EXP(-gamma*(BI$15-$H37 )))      )","v":0},{"$f":"  $G37/[0]!Poids      *      (     (A*EXP(-alpha*(BJ$15-$H37)))     +      (B*EXP(-bêta*(BJ$15-$H37)))    +   (_C*EXP(-gamma*(BJ$15-$H37 )))      )","v":0},{"$f":"  $G37/[0]!Poids      *      (     (A*EXP(-alpha*(BK$15-$H37)))     +      (B*EXP(-bêta*(BK$15-$H37)))    +   (_C*EXP(-gamma*(BK$15-$H37 )))      )","v":0},{"$f":"  $G37/[0]!Poids      *      (     (A*EXP(-alpha*(BL$15-$H37)))     +      (B*EXP(-bêta*(BL$15-$H37)))    +   (_C*EXP(-gamma*(BL$15-$H37 )))      )","v":0},{"$f":"  $G37/[0]!Poids      *      (     (A*EXP(-alpha*(BM$15-$H37)))     +      (B*EXP(-bêta*(BM$15-$H37)))    +   (_C*EXP(-gamma*(BM$15-$H37 )))      )","v":0},{"$f":"  $G37/[0]!Poids      *      (     (A*EXP(-alpha*(BN$15-$H37)))     +      (B*EXP(-bêta*(BN$15-$H37)))    +   (_C*EXP(-gamma*(BN$15-$H37 )))      )","v":0},{"$f":"  $G37/[0]!Poids      *      (     (A*EXP(-alpha*(BO$15-$H37)))     +      (B*EXP(-bêta*(BO$15-$H37)))    +   (_C*EXP(-gamma*(BO$15-$H37 )))      )","v":0},{"$f":"  $G37/[0]!Poids      *      (     (A*EXP(-alpha*(BP$15-$H37)))     +      (B*EXP(-bêta*(BP$15-$H37)))    +   (_C*EXP(-gamma*(BP$15-$H37 )))      )","v":0},{"$f":"  $G37/[0]!Poids      *      (     (A*EXP(-alpha*(BQ$15-$H37)))     +      (B*EXP(-bêta*(BQ$15-$H37)))    +   (_C*EXP(-gamma*(BQ$15-$H37 )))      )","v":0},{"$f":"  $G37/[0]!Poids      *      (     (A*EXP(-alpha*(BR$15-$H37)))     +      (B*EXP(-bêta*(BR$15-$H37)))    +   (_C*EXP(-gamma*(BR$15-$H37 )))      )","v":0}]
[null,null,null,null,null,null,{"$f":"AF$10","v":0},110,null,null,null,null,null,null,null,null,null,null,null,null,null,null,null,null,null,null,null,null,null,null,null,{"$f":"  $G38/[0]!Poids      *      (     (A*EXP(-alpha*(AF$15-$H38)))     +      (B*EXP(-bêta*(AF$15-$H38)))    +   (_C*EXP(-gamma*(AF$15-$H38 )))      )","v":0},{"$f":"  $G38/[0]!Poids      *      (     (A*EXP(-alpha*(AG$15-$H38)))     +      (B*EXP(-bêta*(AG$15-$H38)))    +   (_C*EXP(-gamma*(AG$15-$H38 )))      )","v":0},{"$f":"  $G38/[0]!Poids      *      (     (A*EXP(-alpha*(AH$15-$H38)))     +      (B*EXP(-bêta*(AH$15-$H38)))    +   (_C*EXP(-gamma*(AH$15-$H38 )))      )","v":0},{"$f":"  $G38/[0]!Poids      *      (     (A*EXP(-alpha*(AI$15-$H38)))     +      (B*EXP(-bêta*(AI$15-$H38)))    +   (_C*EXP(-gamma*(AI$15-$H38 )))      )","v":0},{"$f":"  $G38/[0]!Poids      *      (     (A*EXP(-alpha*(AJ$15-$H38)))     +      (B*EXP(-bêta*(AJ$15-$H38)))    +   (_C*EXP(-gamma*(AJ$15-$H38 )))      )","v":0},{"$f":"  $G38/[0]!Poids      *      (     (A*EXP(-alpha*(AK$15-$H38)))     +      (B*EXP(-bêta*(AK$15-$H38)))    +   (_C*EXP(-gamma*(AK$15-$H38 )))      )","v":0},{"$f":"  $G38/[0]!Poids      *      (     (A*EXP(-alpha*(AL$15-$H38)))     +      (B*EXP(-bêta*(AL$15-$H38)))    +   (_C*EXP(-gamma*(AL$15-$H38 )))      )","v":0},{"$f":"  $G38/[0]!Poids      *      (     (A*EXP(-alpha*(AM$15-$H38)))     +      (B*EXP(-bêta*(AM$15-$H38)))    +   (_C*EXP(-gamma*(AM$15-$H38 )))      )","v":0},{"$f":"  $G38/[0]!Poids      *      (     (A*EXP(-alpha*(AN$15-$H38)))     +      (B*EXP(-bêta*(AN$15-$H38)))    +   (_C*EXP(-gamma*(AN$15-$H38 )))      )","v":0},{"$f":"  $G38/[0]!Poids      *      (     (A*EXP(-alpha*(AO$15-$H38)))     +      (B*EXP(-bêta*(AO$15-$H38)))    +   (_C*EXP(-gamma*(AO$15-$H38 )))      )","v":0},{"$f":"  $G38/[0]!Poids      *      (     (A*EXP(-alpha*(AP$15-$H38)))     +      (B*EXP(-bêta*(AP$15-$H38)))    +   (_C*EXP(-gamma*(AP$15-$H38 )))      )","v":0},{"$f":"  $G38/[0]!Poids      *      (     (A*EXP(-alpha*(AQ$15-$H38)))     +      (B*EXP(-bêta*(AQ$15-$H38)))    +   (_C*EXP(-gamma*(AQ$15-$H38 )))      )","v":0},{"$f":"  $G38/[0]!Poids      *      (     (A*EXP(-alpha*(AR$15-$H38)))     +      (B*EXP(-bêta*(AR$15-$H38)))    +   (_C*EXP(-gamma*(AR$15-$H38 )))      )","v":0},{"$f":"  $G38/[0]!Poids      *      (     (A*EXP(-alpha*(AS$15-$H38)))     +      (B*EXP(-bêta*(AS$15-$H38)))    +   (_C*EXP(-gamma*(AS$15-$H38 )))      )","v":0},{"$f":"  $G38/[0]!Poids      *      (     (A*EXP(-alpha*(AT$15-$H38)))     +      (B*EXP(-bêta*(AT$15-$H38)))    +   (_C*EXP(-gamma*(AT$15-$H38 )))      )","v":0},{"$f":"  $G38/[0]!Poids      *      (     (A*EXP(-alpha*(AU$15-$H38)))     +      (B*EXP(-bêta*(AU$15-$H38)))    +   (_C*EXP(-gamma*(AU$15-$H38 )))      )","v":0},{"$f":"  $G38/[0]!Poids      *      (     (A*EXP(-alpha*(AV$15-$H38)))     +      (B*EXP(-bêta*(AV$15-$H38)))    +   (_C*EXP(-gamma*(AV$15-$H38 )))      )","v":0},{"$f":"  $G38/[0]!Poids      *      (     (A*EXP(-alpha*(AW$15-$H38)))     +      (B*EXP(-bêta*(AW$15-$H38)))    +   (_C*EXP(-gamma*(AW$15-$H38 )))      )","v":0},{"$f":"  $G38/[0]!Poids      *      (     (A*EXP(-alpha*(AX$15-$H38)))     +      (B*EXP(-bêta*(AX$15-$H38)))    +   (_C*EXP(-gamma*(AX$15-$H38 )))      )","v":0},{"$f":"  $G38/[0]!Poids      *      (     (A*EXP(-alpha*(AY$15-$H38)))     +      (B*EXP(-bêta*(AY$15-$H38)))    +   (_C*EXP(-gamma*(AY$15-$H38 )))      )","v":0},{"$f":"  $G38/[0]!Poids      *      (     (A*EXP(-alpha*(AZ$15-$H38)))     +      (B*EXP(-bêta*(AZ$15-$H38)))    +   (_C*EXP(-gamma*(AZ$15-$H38 )))      )","v":0},{"$f":"  $G38/[0]!Poids      *      (     (A*EXP(-alpha*(BA$15-$H38)))     +      (B*EXP(-bêta*(BA$15-$H38)))    +   (_C*EXP(-gamma*(BA$15-$H38 )))      )","v":0},{"$f":"  $G38/[0]!Poids      *      (     (A*EXP(-alpha*(BB$15-$H38)))     +      (B*EXP(-bêta*(BB$15-$H38)))    +   (_C*EXP(-gamma*(BB$15-$H38 )))      )","v":0},{"$f":"  $G38/[0]!Poids      *      (     (A*EXP(-alpha*(BC$15-$H38)))     +      (B*EXP(-bêta*(BC$15-$H38)))    +   (_C*EXP(-gamma*(BC$15-$H38 )))      )","v":0},{"$f":"  $G38/[0]!Poids      *      (     (A*EXP(-alpha*(BD$15-$H38)))     +      (B*EXP(-bêta*(BD$15-$H38)))    +   (_C*EXP(-gamma*(BD$15-$H38 )))      )","v":0},{"$f":"  $G38/[0]!Poids      *      (     (A*EXP(-alpha*(BE$15-$H38)))     +      (B*EXP(-bêta*(BE$15-$H38)))    +   (_C*EXP(-gamma*(BE$15-$H38 )))      )","v":0},{"$f":"  $G38/[0]!Poids      *      (     (A*EXP(-alpha*(BF$15-$H38)))     +      (B*EXP(-bêta*(BF$15-$H38)))    +   (_C*EXP(-gamma*(BF$15-$H38 )))      )","v":0},{"$f":"  $G38/[0]!Poids      *      (     (A*EXP(-alpha*(BG$15-$H38)))     +      (B*EXP(-bêta*(BG$15-$H38)))    +   (_C*EXP(-gamma*(BG$15-$H38 )))      )","v":0},{"$f":"  $G38/[0]!Poids      *      (     (A*EXP(-alpha*(BH$15-$H38)))     +      (B*EXP(-bêta*(BH$15-$H38)))    +   (_C*EXP(-gamma*(BH$15-$H38 )))      )","v":0},{"$f":"  $G38/[0]!Poids      *      (     (A*EXP(-alpha*(BI$15-$H38)))     +      (B*EXP(-bêta*(BI$15-$H38)))    +   (_C*EXP(-gamma*(BI$15-$H38 )))      )","v":0},{"$f":"  $G38/[0]!Poids      *      (     (A*EXP(-alpha*(BJ$15-$H38)))     +      (B*EXP(-bêta*(BJ$15-$H38)))    +   (_C*EXP(-gamma*(BJ$15-$H38 )))      )","v":0},{"$f":"  $G38/[0]!Poids      *      (     (A*EXP(-alpha*(BK$15-$H38)))     +      (B*EXP(-bêta*(BK$15-$H38)))    +   (_C*EXP(-gamma*(BK$15-$H38 )))      )","v":0},{"$f":"  $G38/[0]!Poids      *      (     (A*EXP(-alpha*(BL$15-$H38)))     +      (B*EXP(-bêta*(BL$15-$H38)))    +   (_C*EXP(-gamma*(BL$15-$H38 )))      )","v":0},{"$f":"  $G38/[0]!Poids      *      (     (A*EXP(-alpha*(BM$15-$H38)))     +      (B*EXP(-bêta*(BM$15-$H38)))    +   (_C*EXP(-gamma*(BM$15-$H38 )))      )","v":0},{"$f":"  $G38/[0]!Poids      *      (     (A*EXP(-alpha*(BN$15-$H38)))     +      (B*EXP(-bêta*(BN$15-$H38)))    +   (_C*EXP(-gamma*(BN$15-$H38 )))      )","v":0},{"$f":"  $G38/[0]!Poids      *      (     (A*EXP(-alpha*(BO$15-$H38)))     +      (B*EXP(-bêta*(BO$15-$H38)))    +   (_C*EXP(-gamma*(BO$15-$H38 )))      )","v":0},{"$f":"  $G38/[0]!Poids      *      (     (A*EXP(-alpha*(BP$15-$H38)))     +      (B*EXP(-bêta*(BP$15-$H38)))    +   (_C*EXP(-gamma*(BP$15-$H38 )))      )","v":0},{"$f":"  $G38/[0]!Poids      *      (     (A*EXP(-alpha*(BQ$15-$H38)))     +      (B*EXP(-bêta*(BQ$15-$H38)))    +   (_C*EXP(-gamma*(BQ$15-$H38 )))      )","v":0},{"$f":"  $G38/[0]!Poids      *      (     (A*EXP(-alpha*(BR$15-$H38)))     +      (B*EXP(-bêta*(BR$15-$H38)))    +   (_C*EXP(-gamma*(BR$15-$H38 )))      )","v":0}]
[null,null,null,null,null,null,{"$f":"AG$10","v":0},115,null,null,null,null,null,null,null,null,null,null,null,null,null,null,null,null,null,null,null,null,null,null,null,null,{"$f":"  $G39/[0]!Poids      *      (     (A*EXP(-alpha*(AG$15-$H39)))     +      (B*EXP(-bêta*(AG$15-$H39)))    +   (_C*EXP(-gamma*(AG$15-$H39 )))      )","v":0},{"$f":"  $G39/[0]!Poids      *      (     (A*EXP(-alpha*(AH$15-$H39)))     +      (B*EXP(-bêta*(AH$15-$H39)))    +   (_C*EXP(-gamma*(AH$15-$H39 )))      )","v":0},{"$f":"  $G39/[0]!Poids      *      (     (A*EXP(-alpha*(AI$15-$H39)))     +      (B*EXP(-bêta*(AI$15-$H39)))    +   (_C*EXP(-gamma*(AI$15-$H39 )))      )","v":0},{"$f":"  $G39/[0]!Poids      *      (     (A*EXP(-alpha*(AJ$15-$H39)))     +      (B*EXP(-bêta*(AJ$15-$H39)))    +   (_C*EXP(-gamma*(AJ$15-$H39 )))      )","v":0},{"$f":"  $G39/[0]!Poids      *      (     (A*EXP(-alpha*(AK$15-$H39)))     +      (B*EXP(-bêta*(AK$15-$H39)))    +   (_C*EXP(-gamma*(AK$15-$H39 )))      )","v":0},{"$f":"  $G39/[0]!Poids      *      (     (A*EXP(-alpha*(AL$15-$H39)))     +      (B*EXP(-bêta*(AL$15-$H39)))    +   (_C*EXP(-gamma*(AL$15-$H39 )))      )","v":0},{"$f":"  $G39/[0]!Poids      *      (     (A*EXP(-alpha*(AM$15-$H39)))     +      (B*EXP(-bêta*(AM$15-$H39)))    +   (_C*EXP(-gamma*(AM$15-$H39 )))      )","v":0},{"$f":"  $G39/[0]!Poids      *      (     (A*EXP(-alpha*(AN$15-$H39)))     +      (B*EXP(-bêta*(AN$15-$H39)))    +   (_C*EXP(-gamma*(AN$15-$H39 )))      )","v":0},{"$f":"  $G39/[0]!Poids      *      (     (A*EXP(-alpha*(AO$15-$H39)))     +      (B*EXP(-bêta*(AO$15-$H39)))    +   (_C*EXP(-gamma*(AO$15-$H39 )))      )","v":0},{"$f":"  $G39/[0]!Poids      *      (     (A*EXP(-alpha*(AP$15-$H39)))     +      (B*EXP(-bêta*(AP$15-$H39)))    +   (_C*EXP(-gamma*(AP$15-$H39 )))      )","v":0},{"$f":"  $G39/[0]!Poids      *      (     (A*EXP(-alpha*(AQ$15-$H39)))     +      (B*EXP(-bêta*(AQ$15-$H39)))    +   (_C*EXP(-gamma*(AQ$15-$H39 )))      )","v":0},{"$f":"  $G39/[0]!Poids      *      (     (A*EXP(-alpha*(AR$15-$H39)))     +      (B*EXP(-bêta*(AR$15-$H39)))    +   (_C*EXP(-gamma*(AR$15-$H39 )))      )","v":0},{"$f":"  $G39/[0]!Poids      *      (     (A*EXP(-alpha*(AS$15-$H39)))     +      (B*EXP(-bêta*(AS$15-$H39)))    +   (_C*EXP(-gamma*(AS$15-$H39 )))      )","v":0},{"$f":"  $G39/[0]!Poids      *      (     (A*EXP(-alpha*(AT$15-$H39)))     +      (B*EXP(-bêta*(AT$15-$H39)))    +   (_C*EXP(-gamma*(AT$15-$H39 )))      )","v":0},{"$f":"  $G39/[0]!Poids      *      (     (A*EXP(-alpha*(AU$15-$H39)))     +      (B*EXP(-bêta*(AU$15-$H39)))    +   (_C*EXP(-gamma*(AU$15-$H39 )))      )","v":0},{"$f":"  $G39/[0]!Poids      *      (     (A*EXP(-alpha*(AV$15-$H39)))     +      (B*EXP(-bêta*(AV$15-$H39)))    +   (_C*EXP(-gamma*(AV$15-$H39 )))      )","v":0},{"$f":"  $G39/[0]!Poids      *      (     (A*EXP(-alpha*(AW$15-$H39)))     +      (B*EXP(-bêta*(AW$15-$H39)))    +   (_C*EXP(-gamma*(AW$15-$H39 )))      )","v":0},{"$f":"  $G39/[0]!Poids      *      (     (A*EXP(-alpha*(AX$15-$H39)))     +      (B*EXP(-bêta*(AX$15-$H39)))    +   (_C*EXP(-gamma*(AX$15-$H39 )))      )","v":0},{"$f":"  $G39/[0]!Poids      *      (     (A*EXP(-alpha*(AY$15-$H39)))     +      (B*EXP(-bêta*(AY$15-$H39)))    +   (_C*EXP(-gamma*(AY$15-$H39 )))      )","v":0},{"$f":"  $G39/[0]!Poids      *      (     (A*EXP(-alpha*(AZ$15-$H39)))     +      (B*EXP(-bêta*(AZ$15-$H39)))    +   (_C*EXP(-gamma*(AZ$15-$H39 )))      )","v":0},{"$f":"  $G39/[0]!Poids      *      (     (A*EXP(-alpha*(BA$15-$H39)))     +      (B*EXP(-bêta*(BA$15-$H39)))    +   (_C*EXP(-gamma*(BA$15-$H39 )))      )","v":0},{"$f":"  $G39/[0]!Poids      *      (     (A*EXP(-alpha*(BB$15-$H39)))     +      (B*EXP(-bêta*(BB$15-$H39)))    +   (_C*EXP(-gamma*(BB$15-$H39 )))      )","v":0},{"$f":"  $G39/[0]!Poids      *      (     (A*EXP(-alpha*(BC$15-$H39)))     +      (B*EXP(-bêta*(BC$15-$H39)))    +   (_C*EXP(-gamma*(BC$15-$H39 )))      )","v":0},{"$f":"  $G39/[0]!Poids      *      (     (A*EXP(-alpha*(BD$15-$H39)))     +      (B*EXP(-bêta*(BD$15-$H39)))    +   (_C*EXP(-gamma*(BD$15-$H39 )))      )","v":0},{"$f":"  $G39/[0]!Poids      *      (     (A*EXP(-alpha*(BE$15-$H39)))     +      (B*EXP(-bêta*(BE$15-$H39)))    +   (_C*EXP(-gamma*(BE$15-$H39 )))      )","v":0},{"$f":"  $G39/[0]!Poids      *      (     (A*EXP(-alpha*(BF$15-$H39)))     +      (B*EXP(-bêta*(BF$15-$H39)))    +   (_C*EXP(-gamma*(BF$15-$H39 )))      )","v":0},{"$f":"  $G39/[0]!Poids      *      (     (A*EXP(-alpha*(BG$15-$H39)))     +      (B*EXP(-bêta*(BG$15-$H39)))    +   (_C*EXP(-gamma*(BG$15-$H39 )))      )","v":0},{"$f":"  $G39/[0]!Poids      *      (     (A*EXP(-alpha*(BH$15-$H39)))     +      (B*EXP(-bêta*(BH$15-$H39)))    +   (_C*EXP(-gamma*(BH$15-$H39 )))      )","v":0},{"$f":"  $G39/[0]!Poids      *      (     (A*EXP(-alpha*(BI$15-$H39)))     +      (B*EXP(-bêta*(BI$15-$H39)))    +   (_C*EXP(-gamma*(BI$15-$H39 )))      )","v":0},{"$f":"  $G39/[0]!Poids      *      (     (A*EXP(-alpha*(BJ$15-$H39)))     +      (B*EXP(-bêta*(BJ$15-$H39)))    +   (_C*EXP(-gamma*(BJ$15-$H39 )))      )","v":0},{"$f":"  $G39/[0]!Poids      *      (     (A*EXP(-alpha*(BK$15-$H39)))     +      (B*EXP(-bêta*(BK$15-$H39)))    +   (_C*EXP(-gamma*(BK$15-$H39 )))      )","v":0},{"$f":"  $G39/[0]!Poids      *      (     (A*EXP(-alpha*(BL$15-$H39)))     +      (B*EXP(-bêta*(BL$15-$H39)))    +   (_C*EXP(-gamma*(BL$15-$H39 )))      )","v":0},{"$f":"  $G39/[0]!Poids      *      (     (A*EXP(-alpha*(BM$15-$H39)))     +      (B*EXP(-bêta*(BM$15-$H39)))    +   (_C*EXP(-gamma*(BM$15-$H39 )))      )","v":0},{"$f":"  $G39/[0]!Poids      *      (     (A*EXP(-alpha*(BN$15-$H39)))     +      (B*EXP(-bêta*(BN$15-$H39)))    +   (_C*EXP(-gamma*(BN$15-$H39 )))      )","v":0},{"$f":"  $G39/[0]!Poids      *      (     (A*EXP(-alpha*(BO$15-$H39)))     +      (B*EXP(-bêta*(BO$15-$H39)))    +   (_C*EXP(-gamma*(BO$15-$H39 )))      )","v":0},{"$f":"  $G39/[0]!Poids      *      (     (A*EXP(-alpha*(BP$15-$H39)))     +      (B*EXP(-bêta*(BP$15-$H39)))    +   (_C*EXP(-gamma*(BP$15-$H39 )))      )","v":0},{"$f":"  $G39/[0]!Poids      *      (     (A*EXP(-alpha*(BQ$15-$H39)))     +      (B*EXP(-bêta*(BQ$15-$H39)))    +   (_C*EXP(-gamma*(BQ$15-$H39 )))      )","v":0},{"$f":"  $G39/[0]!Poids      *      (     (A*EXP(-alpha*(BR$15-$H39)))     +      (B*EXP(-bêta*(BR$15-$H39)))    +   (_C*EXP(-gamma*(BR$15-$H39 )))      )","v":0}]
[null,null,null,null,null,null,{"$f":"AH$10","v":0},120,null,null,null,null,null,null,null,null,null,null,null,null,null,null,null,null,null,null,null,null,null,null,null,null,null,{"$f":"  $G40/[0]!Poids      *      (     (A*EXP(-alpha*(AH$15-$H40)))     +      (B*EXP(-bêta*(AH$15-$H40)))    +   (_C*EXP(-gamma*(AH$15-$H40 )))      )","v":0},{"$f":"  $G40/[0]!Poids      *      (     (A*EXP(-alpha*(AI$15-$H40)))     +      (B*EXP(-bêta*(AI$15-$H40)))    +   (_C*EXP(-gamma*(AI$15-$H40 )))      )","v":0},{"$f":"  $G40/[0]!Poids      *      (     (A*EXP(-alpha*(AJ$15-$H40)))     +      (B*EXP(-bêta*(AJ$15-$H40)))    +   (_C*EXP(-gamma*(AJ$15-$H40 )))      )","v":0},{"$f":"  $G40/[0]!Poids      *      (     (A*EXP(-alpha*(AK$15-$H40)))     +      (B*EXP(-bêta*(AK$15-$H40)))    +   (_C*EXP(-gamma*(AK$15-$H40 )))      )","v":0},{"$f":"  $G40/[0]!Poids      *      (     (A*EXP(-alpha*(AL$15-$H40)))     +      (B*EXP(-bêta*(AL$15-$H40)))    +   (_C*EXP(-gamma*(AL$15-$H40 )))      )","v":0},{"$f":"  $G40/[0]!Poids      *      (     (A*EXP(-alpha*(AM$15-$H40)))     +      (B*EXP(-bêta*(AM$15-$H40)))    +   (_C*EXP(-gamma*(AM$15-$H40 )))      )","v":0},{"$f":"  $G40/[0]!Poids      *      (     (A*EXP(-alpha*(AN$15-$H40)))     +      (B*EXP(-bêta*(AN$15-$H40)))    +   (_C*EXP(-gamma*(AN$15-$H40 )))      )","v":0},{"$f":"  $G40/[0]!Poids      *      (     (A*EXP(-alpha*(AO$15-$H40)))     +      (B*EXP(-bêta*(AO$15-$H40)))    +   (_C*EXP(-gamma*(AO$15-$H40 )))      )","v":0},{"$f":"  $G40/[0]!Poids      *      (     (A*EXP(-alpha*(AP$15-$H40)))     +      (B*EXP(-bêta*(AP$15-$H40)))    +   (_C*EXP(-gamma*(AP$15-$H40 )))      )","v":0},{"$f":"  $G40/[0]!Poids      *      (     (A*EXP(-alpha*(AQ$15-$H40)))     +      (B*EXP(-bêta*(AQ$15-$H40)))    +   (_C*EXP(-gamma*(AQ$15-$H40 )))      )","v":0},{"$f":"  $G40/[0]!Poids      *      (     (A*EXP(-alpha*(AR$15-$H40)))     +      (B*EXP(-bêta*(AR$15-$H40)))    +   (_C*EXP(-gamma*(AR$15-$H40 )))      )","v":0},{"$f":"  $G40/[0]!Poids      *      (     (A*EXP(-alpha*(AS$15-$H40)))     +      (B*EXP(-bêta*(AS$15-$H40)))    +   (_C*EXP(-gamma*(AS$15-$H40 )))      )","v":0},{"$f":"  $G40/[0]!Poids      *      (     (A*EXP(-alpha*(AT$15-$H40)))     +      (B*EXP(-bêta*(AT$15-$H40)))    +   (_C*EXP(-gamma*(AT$15-$H40 )))      )","v":0},{"$f":"  $G40/[0]!Poids      *      (     (A*EXP(-alpha*(AU$15-$H40)))     +      (B*EXP(-bêta*(AU$15-$H40)))    +   (_C*EXP(-gamma*(AU$15-$H40 )))      )","v":0},{"$f":"  $G40/[0]!Poids      *      (     (A*EXP(-alpha*(AV$15-$H40)))     +      (B*EXP(-bêta*(AV$15-$H40)))    +   (_C*EXP(-gamma*(AV$15-$H40 )))      )","v":0},{"$f":"  $G40/[0]!Poids      *      (     (A*EXP(-alpha*(AW$15-$H40)))     +      (B*EXP(-bêta*(AW$15-$H40)))    +   (_C*EXP(-gamma*(AW$15-$H40 )))      )","v":0},{"$f":"  $G40/[0]!Poids      *      (     (A*EXP(-alpha*(AX$15-$H40)))     +      (B*EXP(-bêta*(AX$15-$H40)))    +   (_C*EXP(-gamma*(AX$15-$H40 )))      )","v":0},{"$f":"  $G40/[0]!Poids      *      (     (A*EXP(-alpha*(AY$15-$H40)))     +      (B*EXP(-bêta*(AY$15-$H40)))    +   (_C*EXP(-gamma*(AY$15-$H40 )))      )","v":0},{"$f":"  $G40/[0]!Poids      *      (     (A*EXP(-alpha*(AZ$15-$H40)))     +      (B*EXP(-bêta*(AZ$15-$H40)))    +   (_C*EXP(-gamma*(AZ$15-$H40 )))      )","v":0},{"$f":"  $G40/[0]!Poids      *      (     (A*EXP(-alpha*(BA$15-$H40)))     +      (B*EXP(-bêta*(BA$15-$H40)))    +   (_C*EXP(-gamma*(BA$15-$H40 )))      )","v":0},{"$f":"  $G40/[0]!Poids      *      (     (A*EXP(-alpha*(BB$15-$H40)))     +      (B*EXP(-bêta*(BB$15-$H40)))    +   (_C*EXP(-gamma*(BB$15-$H40 )))      )","v":0},{"$f":"  $G40/[0]!Poids      *      (     (A*EXP(-alpha*(BC$15-$H40)))     +      (B*EXP(-bêta*(BC$15-$H40)))    +   (_C*EXP(-gamma*(BC$15-$H40 )))      )","v":0},{"$f":"  $G40/[0]!Poids      *      (     (A*EXP(-alpha*(BD$15-$H40)))     +      (B*EXP(-bêta*(BD$15-$H40)))    +   (_C*EXP(-gamma*(BD$15-$H40 )))      )","v":0},{"$f":"  $G40/[0]!Poids      *      (     (A*EXP(-alpha*(BE$15-$H40)))     +      (B*EXP(-bêta*(BE$15-$H40)))    +   (_C*EXP(-gamma*(BE$15-$H40 )))      )","v":0},{"$f":"  $G40/[0]!Poids      *      (     (A*EXP(-alpha*(BF$15-$H40)))     +      (B*EXP(-bêta*(BF$15-$H40)))    +   (_C*EXP(-gamma*(BF$15-$H40 )))      )","v":0},{"$f":"  $G40/[0]!Poids      *      (     (A*EXP(-alpha*(BG$15-$H40)))     +      (B*EXP(-bêta*(BG$15-$H40)))    +   (_C*EXP(-gamma*(BG$15-$H40 )))      )","v":0},{"$f":"  $G40/[0]!Poids      *      (     (A*EXP(-alpha*(BH$15-$H40)))     +      (B*EXP(-bêta*(BH$15-$H40)))    +   (_C*EXP(-gamma*(BH$15-$H40 )))      )","v":0},{"$f":"  $G40/[0]!Poids      *      (     (A*EXP(-alpha*(BI$15-$H40)))     +      (B*EXP(-bêta*(BI$15-$H40)))    +   (_C*EXP(-gamma*(BI$15-$H40 )))      )","v":0},{"$f":"  $G40/[0]!Poids      *      (     (A*EXP(-alpha*(BJ$15-$H40)))     +      (B*EXP(-bêta*(BJ$15-$H40)))    +   (_C*EXP(-gamma*(BJ$15-$H40 )))      )","v":0},{"$f":"  $G40/[0]!Poids      *      (     (A*EXP(-alpha*(BK$15-$H40)))     +      (B*EXP(-bêta*(BK$15-$H40)))    +   (_C*EXP(-gamma*(BK$15-$H40 )))      )","v":0},{"$f":"  $G40/[0]!Poids      *      (     (A*EXP(-alpha*(BL$15-$H40)))     +      (B*EXP(-bêta*(BL$15-$H40)))    +   (_C*EXP(-gamma*(BL$15-$H40 )))      )","v":0},{"$f":"  $G40/[0]!Poids      *      (     (A*EXP(-alpha*(BM$15-$H40)))     +      (B*EXP(-bêta*(BM$15-$H40)))    +   (_C*EXP(-gamma*(BM$15-$H40 )))      )","v":0},{"$f":"  $G40/[0]!Poids      *      (     (A*EXP(-alpha*(BN$15-$H40)))     +      (B*EXP(-bêta*(BN$15-$H40)))    +   (_C*EXP(-gamma*(BN$15-$H40 )))      )","v":0},{"$f":"  $G40/[0]!Poids      *      (     (A*EXP(-alpha*(BO$15-$H40)))     +      (B*EXP(-bêta*(BO$15-$H40)))    +   (_C*EXP(-gamma*(BO$15-$H40 )))      )","v":0},{"$f":"  $G40/[0]!Poids      *      (     (A*EXP(-alpha*(BP$15-$H40)))     +      (B*EXP(-bêta*(BP$15-$H40)))    +   (_C*EXP(-gamma*(BP$15-$H40 )))      )","v":0},{"$f":"  $G40/[0]!Poids      *      (     (A*EXP(-alpha*(BQ$15-$H40)))     +      (B*EXP(-bêta*(BQ$15-$H40)))    +   (_C*EXP(-gamma*(BQ$15-$H40 )))      )","v":0},{"$f":"  $G40/[0]!Poids      *      (     (A*EXP(-alpha*(BR$15-$H40)))     +      (B*EXP(-bêta*(BR$15-$H40)))    +   (_C*EXP(-gamma*(BR$15-$H40 )))      )","v":0}]
[null,null,null,null,null,null,{"$f":"AI$10","v":0},125,null,null,null,null,null,null,null,null,null,null,null,null,null,null,null,null,null,null,null,null,null,null,null,null,null,null,{"$f":"  $G41/[0]!Poids      *      (     (A*EXP(-alpha*(AI$15-$H41)))     +      (B*EXP(-bêta*(AI$15-$H41)))    +   (_C*EXP(-gamma*(AI$15-$H41 )))      )","v":0},{"$f":"  $G41/[0]!Poids      *      (     (A*EXP(-alpha*(AJ$15-$H41)))     +      (B*EXP(-bêta*(AJ$15-$H41)))    +   (_C*EXP(-gamma*(AJ$15-$H41 )))      )","v":0},{"$f":"  $G41/[0]!Poids      *      (     (A*EXP(-alpha*(AK$15-$H41)))     +      (B*EXP(-bêta*(AK$15-$H41)))    +   (_C*EXP(-gamma*(AK$15-$H41 )))      )","v":0},{"$f":"  $G41/[0]!Poids      *      (     (A*EXP(-alpha*(AL$15-$H41)))     +      (B*EXP(-bêta*(AL$15-$H41)))    +   (_C*EXP(-gamma*(AL$15-$H41 )))      )","v":0},{"$f":"  $G41/[0]!Poids      *      (     (A*EXP(-alpha*(AM$15-$H41)))     +      (B*EXP(-bêta*(AM$15-$H41)))    +   (_C*EXP(-gamma*(AM$15-$H41 )))      )","v":0},{"$f":"  $G41/[0]!Poids      *      (     (A*EXP(-alpha*(AN$15-$H41)))     +      (B*EXP(-bêta*(AN$15-$H41)))    +   (_C*EXP(-gamma*(AN$15-$H41 )))      )","v":0},{"$f":"  $G41/[0]!Poids      *      (     (A*EXP(-alpha*(AO$15-$H41)))     +      (B*EXP(-bêta*(AO$15-$H41)))    +   (_C*EXP(-gamma*(AO$15-$H41 )))      )","v":0},{"$f":"  $G41/[0]!Poids      *      (     (A*EXP(-alpha*(AP$15-$H41)))     +      (B*EXP(-bêta*(AP$15-$H41)))    +   (_C*EXP(-gamma*(AP$15-$H41 )))      )","v":0},{"$f":"  $G41/[0]!Poids      *      (     (A*EXP(-alpha*(AQ$15-$H41)))     +      (B*EXP(-bêta*(AQ$15-$H41)))    +   (_C*EXP(-gamma*(AQ$15-$H41 )))      )","v":0},{"$f":"  $G41/[0]!Poids      *      (     (A*EXP(-alpha*(AR$15-$H41)))     +      (B*EXP(-bêta*(AR$15-$H41)))    +   (_C*EXP(-gamma*(AR$15-$H41 )))      )","v":0},{"$f":"  $G41/[0]!Poids      *      (     (A*EXP(-alpha*(AS$15-$H41)))     +      (B*EXP(-bêta*(AS$15-$H41)))    +   (_C*EXP(-gamma*(AS$15-$H41 )))      )","v":0},{"$f":"  $G41/[0]!Poids      *      (     (A*EXP(-alpha*(AT$15-$H41)))     +      (B*EXP(-bêta*(AT$15-$H41)))    +   (_C*EXP(-gamma*(AT$15-$H41 )))      )","v":0},{"$f":"  $G41/[0]!Poids      *      (     (A*EXP(-alpha*(AU$15-$H41)))     +      (B*EXP(-bêta*(AU$15-$H41)))    +   (_C*EXP(-gamma*(AU$15-$H41 )))      )","v":0},{"$f":"  $G41/[0]!Poids      *      (     (A*EXP(-alpha*(AV$15-$H41)))     +      (B*EXP(-bêta*(AV$15-$H41)))    +   (_C*EXP(-gamma*(AV$15-$H41 )))      )","v":0},{"$f":"  $G41/[0]!Poids      *      (     (A*EXP(-alpha*(AW$15-$H41)))     +      (B*EXP(-bêta*(AW$15-$H41)))    +   (_C*EXP(-gamma*(AW$15-$H41 )))      )","v":0},{"$f":"  $G41/[0]!Poids      *      (     (A*EXP(-alpha*(AX$15-$H41)))     +      (B*EXP(-bêta*(AX$15-$H41)))    +   (_C*EXP(-gamma*(AX$15-$H41 )))      )","v":0},{"$f":"  $G41/[0]!Poids      *      (     (A*EXP(-alpha*(AY$15-$H41)))     +      (B*EXP(-bêta*(AY$15-$H41)))    +   (_C*EXP(-gamma*(AY$15-$H41 )))      )","v":0},{"$f":"  $G41/[0]!Poids      *      (     (A*EXP(-alpha*(AZ$15-$H41)))     +      (B*EXP(-bêta*(AZ$15-$H41)))    +   (_C*EXP(-gamma*(AZ$15-$H41 )))      )","v":0},{"$f":"  $G41/[0]!Poids      *      (     (A*EXP(-alpha*(BA$15-$H41)))     +      (B*EXP(-bêta*(BA$15-$H41)))    +   (_C*EXP(-gamma*(BA$15-$H41 )))      )","v":0},{"$f":"  $G41/[0]!Poids      *      (     (A*EXP(-alpha*(BB$15-$H41)))     +      (B*EXP(-bêta*(BB$15-$H41)))    +   (_C*EXP(-gamma*(BB$15-$H41 )))      )","v":0},{"$f":"  $G41/[0]!Poids      *      (     (A*EXP(-alpha*(BC$15-$H41)))     +      (B*EXP(-bêta*(BC$15-$H41)))    +   (_C*EXP(-gamma*(BC$15-$H41 )))      )","v":0},{"$f":"  $G41/[0]!Poids      *      (     (A*EXP(-alpha*(BD$15-$H41)))     +      (B*EXP(-bêta*(BD$15-$H41)))    +   (_C*EXP(-gamma*(BD$15-$H41 )))      )","v":0},{"$f":"  $G41/[0]!Poids      *      (     (A*EXP(-alpha*(BE$15-$H41)))     +      (B*EXP(-bêta*(BE$15-$H41)))    +   (_C*EXP(-gamma*(BE$15-$H41 )))      )","v":0},{"$f":"  $G41/[0]!Poids      *      (     (A*EXP(-alpha*(BF$15-$H41)))     +      (B*EXP(-bêta*(BF$15-$H41)))    +   (_C*EXP(-gamma*(BF$15-$H41 )))      )","v":0},{"$f":"  $G41/[0]!Poids      *      (     (A*EXP(-alpha*(BG$15-$H41)))     +      (B*EXP(-bêta*(BG$15-$H41)))    +   (_C*EXP(-gamma*(BG$15-$H41 )))      )","v":0},{"$f":"  $G41/[0]!Poids      *      (     (A*EXP(-alpha*(BH$15-$H41)))     +      (B*EXP(-bêta*(BH$15-$H41)))    +   (_C*EXP(-gamma*(BH$15-$H41 )))      )","v":0},{"$f":"  $G41/[0]!Poids      *      (     (A*EXP(-alpha*(BI$15-$H41)))     +      (B*EXP(-bêta*(BI$15-$H41)))    +   (_C*EXP(-gamma*(BI$15-$H41 )))      )","v":0},{"$f":"  $G41/[0]!Poids      *      (     (A*EXP(-alpha*(BJ$15-$H41)))     +      (B*EXP(-bêta*(BJ$15-$H41)))    +   (_C*EXP(-gamma*(BJ$15-$H41 )))      )","v":0},{"$f":"  $G41/[0]!Poids      *      (     (A*EXP(-alpha*(BK$15-$H41)))     +      (B*EXP(-bêta*(BK$15-$H41)))    +   (_C*EXP(-gamma*(BK$15-$H41 )))      )","v":0},{"$f":"  $G41/[0]!Poids      *      (     (A*EXP(-alpha*(BL$15-$H41)))     +      (B*EXP(-bêta*(BL$15-$H41)))    +   (_C*EXP(-gamma*(BL$15-$H41 )))      )","v":0},{"$f":"  $G41/[0]!Poids      *      (     (A*EXP(-alpha*(BM$15-$H41)))     +      (B*EXP(-bêta*(BM$15-$H41)))    +   (_C*EXP(-gamma*(BM$15-$H41 )))      )","v":0},{"$f":"  $G41/[0]!Poids      *      (     (A*EXP(-alpha*(BN$15-$H41)))     +      (B*EXP(-bêta*(BN$15-$H41)))    +   (_C*EXP(-gamma*(BN$15-$H41 )))      )","v":0},{"$f":"  $G41/[0]!Poids      *      (     (A*EXP(-alpha*(BO$15-$H41)))     +      (B*EXP(-bêta*(BO$15-$H41)))    +   (_C*EXP(-gamma*(BO$15-$H41 )))      )","v":0},{"$f":"  $G41/[0]!Poids      *      (     (A*EXP(-alpha*(BP$15-$H41)))     +      (B*EXP(-bêta*(BP$15-$H41)))    +   (_C*EXP(-gamma*(BP$15-$H41 )))      )","v":0},{"$f":"  $G41/[0]!Poids      *      (     (A*EXP(-alpha*(BQ$15-$H41)))     +      (B*EXP(-bêta*(BQ$15-$H41)))    +   (_C*EXP(-gamma*(BQ$15-$H41 )))      )","v":0},{"$f":"  $G41/[0]!Poids      *      (     (A*EXP(-alpha*(BR$15-$H41)))     +      (B*EXP(-bêta*(BR$15-$H41)))    +   (_C*EXP(-gamma*(BR$15-$H41 )))      )","v":0}]
[null,null,null,null,null,null,{"$f":"AJ$10","v":0},130,null,null,null,null,null,null,null,null,null,null,null,null,null,null,null,null,null,null,null,null,null,null,null,null,null,null,null,{"$f":"  $G42/[0]!Poids      *      (     (A*EXP(-alpha*(AJ$15-$H42)))     +      (B*EXP(-bêta*(AJ$15-$H42)))    +   (_C*EXP(-gamma*(AJ$15-$H42 )))      )","v":0},{"$f":"  $G42/[0]!Poids      *      (     (A*EXP(-alpha*(AK$15-$H42)))     +      (B*EXP(-bêta*(AK$15-$H42)))    +   (_C*EXP(-gamma*(AK$15-$H42 )))      )","v":0},{"$f":"  $G42/[0]!Poids      *      (     (A*EXP(-alpha*(AL$15-$H42)))     +      (B*EXP(-bêta*(AL$15-$H42)))    +   (_C*EXP(-gamma*(AL$15-$H42 )))      )","v":0},{"$f":"  $G42/[0]!Poids      *      (     (A*EXP(-alpha*(AM$15-$H42)))     +      (B*EXP(-bêta*(AM$15-$H42)))    +   (_C*EXP(-gamma*(AM$15-$H42 )))      )","v":0},{"$f":"  $G42/[0]!Poids      *      (     (A*EXP(-alpha*(AN$15-$H42)))     +      (B*EXP(-bêta*(AN$15-$H42)))    +   (_C*EXP(-gamma*(AN$15-$H42 )))      )","v":0},{"$f":"  $G42/[0]!Poids      *      (     (A*EXP(-alpha*(AO$15-$H42)))     +      (B*EXP(-bêta*(AO$15-$H42)))    +   (_C*EXP(-gamma*(AO$15-$H42 )))      )","v":0},{"$f":"  $G42/[0]!Poids      *      (     (A*EXP(-alpha*(AP$15-$H42)))     +      (B*EXP(-bêta*(AP$15-$H42)))    +   (_C*EXP(-gamma*(AP$15-$H42 )))      )","v":0},{"$f":"  $G42/[0]!Poids      *      (     (A*EXP(-alpha*(AQ$15-$H42)))     +      (B*EXP(-bêta*(AQ$15-$H42)))    +   (_C*EXP(-gamma*(AQ$15-$H42 )))      )","v":0},{"$f":"  $G42/[0]!Poids      *      (     (A*EXP(-alpha*(AR$15-$H42)))     +      (B*EXP(-bêta*(AR$15-$H42)))    +   (_C*EXP(-gamma*(AR$15-$H42 )))      )","v":0},{"$f":"  $G42/[0]!Poids      *      (     (A*EXP(-alpha*(AS$15-$H42)))     +      (B*EXP(-bêta*(AS$15-$H42)))    +   (_C*EXP(-gamma*(AS$15-$H42 )))      )","v":0},{"$f":"  $G42/[0]!Poids      *      (     (A*EXP(-alpha*(AT$15-$H42)))     +      (B*EXP(-bêta*(AT$15-$H42)))    +   (_C*EXP(-gamma*(AT$15-$H42 )))      )","v":0},{"$f":"  $G42/[0]!Poids      *      (     (A*EXP(-alpha*(AU$15-$H42)))     +      (B*EXP(-bêta*(AU$15-$H42)))    +   (_C*EXP(-gamma*(AU$15-$H42 )))      )","v":0},{"$f":"  $G42/[0]!Poids      *      (     (A*EXP(-alpha*(AV$15-$H42)))     +      (B*EXP(-bêta*(AV$15-$H42)))    +   (_C*EXP(-gamma*(AV$15-$H42 )))      )","v":0},{"$f":"  $G42/[0]!Poids      *      (     (A*EXP(-alpha*(AW$15-$H42)))     +      (B*EXP(-bêta*(AW$15-$H42)))    +   (_C*EXP(-gamma*(AW$15-$H42 )))      )","v":0},{"$f":"  $G42/[0]!Poids      *      (     (A*EXP(-alpha*(AX$15-$H42)))     +      (B*EXP(-bêta*(AX$15-$H42)))    +   (_C*EXP(-gamma*(AX$15-$H42 )))      )","v":0},{"$f":"  $G42/[0]!Poids      *      (     (A*EXP(-alpha*(AY$15-$H42)))     +      (B*EXP(-bêta*(AY$15-$H42)))    +   (_C*EXP(-gamma*(AY$15-$H42 )))      )","v":0},{"$f":"  $G42/[0]!Poids      *      (     (A*EXP(-alpha*(AZ$15-$H42)))     +      (B*EXP(-bêta*(AZ$15-$H42)))    +   (_C*EXP(-gamma*(AZ$15-$H42 )))      )","v":0},{"$f":"  $G42/[0]!Poids      *      (     (A*EXP(-alpha*(BA$15-$H42)))     +      (B*EXP(-bêta*(BA$15-$H42)))    +   (_C*EXP(-gamma*(BA$15-$H42 )))      )","v":0},{"$f":"  $G42/[0]!Poids      *      (     (A*EXP(-alpha*(BB$15-$H42)))     +      (B*EXP(-bêta*(BB$15-$H42)))    +   (_C*EXP(-gamma*(BB$15-$H42 )))      )","v":0},{"$f":"  $G42/[0]!Poids      *      (     (A*EXP(-alpha*(BC$15-$H42)))     +      (B*EXP(-bêta*(BC$15-$H42)))    +   (_C*EXP(-gamma*(BC$15-$H42 )))      )","v":0},{"$f":"  $G42/[0]!Poids      *      (     (A*EXP(-alpha*(BD$15-$H42)))     +      (B*EXP(-bêta*(BD$15-$H42)))    +   (_C*EXP(-gamma*(BD$15-$H42 )))      )","v":0},{"$f":"  $G42/[0]!Poids      *      (     (A*EXP(-alpha*(BE$15-$H42)))     +      (B*EXP(-bêta*(BE$15-$H42)))    +   (_C*EXP(-gamma*(BE$15-$H42 )))      )","v":0},{"$f":"  $G42/[0]!Poids      *      (     (A*EXP(-alpha*(BF$15-$H42)))     +      (B*EXP(-bêta*(BF$15-$H42)))    +   (_C*EXP(-gamma*(BF$15-$H42 )))      )","v":0},{"$f":"  $G42/[0]!Poids      *      (     (A*EXP(-alpha*(BG$15-$H42)))     +      (B*EXP(-bêta*(BG$15-$H42)))    +   (_C*EXP(-gamma*(BG$15-$H42 )))      )","v":0},{"$f":"  $G42/[0]!Poids      *      (     (A*EXP(-alpha*(BH$15-$H42)))     +      (B*EXP(-bêta*(BH$15-$H42)))    +   (_C*EXP(-gamma*(BH$15-$H42 )))      )","v":0},{"$f":"  $G42/[0]!Poids      *      (     (A*EXP(-alpha*(BI$15-$H42)))     +      (B*EXP(-bêta*(BI$15-$H42)))    +   (_C*EXP(-gamma*(BI$15-$H42 )))      )","v":0},{"$f":"  $G42/[0]!Poids      *      (     (A*EXP(-alpha*(BJ$15-$H42)))     +      (B*EXP(-bêta*(BJ$15-$H42)))    +   (_C*EXP(-gamma*(BJ$15-$H42 )))      )","v":0},{"$f":"  $G42/[0]!Poids      *      (     (A*EXP(-alpha*(BK$15-$H42)))     +      (B*EXP(-bêta*(BK$15-$H42)))    +   (_C*EXP(-gamma*(BK$15-$H42 )))      )","v":0},{"$f":"  $G42/[0]!Poids      *      (     (A*EXP(-alpha*(BL$15-$H42)))     +      (B*EXP(-bêta*(BL$15-$H42)))    +   (_C*EXP(-gamma*(BL$15-$H42 )))      )","v":0},{"$f":"  $G42/[0]!Poids      *      (     (A*EXP(-alpha*(BM$15-$H42)))     +      (B*EXP(-bêta*(BM$15-$H42)))    +   (_C*EXP(-gamma*(BM$15-$H42 )))      )","v":0},{"$f":"  $G42/[0]!Poids      *      (     (A*EXP(-alpha*(BN$15-$H42)))     +      (B*EXP(-bêta*(BN$15-$H42)))    +   (_C*EXP(-gamma*(BN$15-$H42 )))      )","v":0},{"$f":"  $G42/[0]!Poids      *      (     (A*EXP(-alpha*(BO$15-$H42)))     +      (B*EXP(-bêta*(BO$15-$H42)))    +   (_C*EXP(-gamma*(BO$15-$H42 )))      )","v":0},{"$f":"  $G42/[0]!Poids      *      (     (A*EXP(-alpha*(BP$15-$H42)))     +      (B*EXP(-bêta*(BP$15-$H42)))    +   (_C*EXP(-gamma*(BP$15-$H42 )))      )","v":0},{"$f":"  $G42/[0]!Poids      *      (     (A*EXP(-alpha*(BQ$15-$H42)))     +      (B*EXP(-bêta*(BQ$15-$H42)))    +   (_C*EXP(-gamma*(BQ$15-$H42 )))      )","v":0},{"$f":"  $G42/[0]!Poids      *      (     (A*EXP(-alpha*(BR$15-$H42)))     +      (B*EXP(-bêta*(BR$15-$H42)))    +   (_C*EXP(-gamma*(BR$15-$H42 )))      )","v":0}]
[null,null,null,null,null,null,{"$f":"AK$10","v":0},135,null,null,null,null,null,null,null,null,null,null,null,null,null,null,null,null,null,null,null,null,null,null,null,null,null,null,null,null,{"$f":"  $G43/[0]!Poids      *      (     (A*EXP(-alpha*(AK$15-$H43)))     +      (B*EXP(-bêta*(AK$15-$H43)))    +   (_C*EXP(-gamma*(AK$15-$H43 )))      )","v":0},{"$f":"  $G43/[0]!Poids      *      (     (A*EXP(-alpha*(AL$15-$H43)))     +      (B*EXP(-bêta*(AL$15-$H43)))    +   (_C*EXP(-gamma*(AL$15-$H43 )))      )","v":0},{"$f":"  $G43/[0]!Poids      *      (     (A*EXP(-alpha*(AM$15-$H43)))     +      (B*EXP(-bêta*(AM$15-$H43)))    +   (_C*EXP(-gamma*(AM$15-$H43 )))      )","v":0},{"$f":"  $G43/[0]!Poids      *      (     (A*EXP(-alpha*(AN$15-$H43)))     +      (B*EXP(-bêta*(AN$15-$H43)))    +   (_C*EXP(-gamma*(AN$15-$H43 )))      )","v":0},{"$f":"  $G43/[0]!Poids      *      (     (A*EXP(-alpha*(AO$15-$H43)))     +      (B*EXP(-bêta*(AO$15-$H43)))    +   (_C*EXP(-gamma*(AO$15-$H43 )))      )","v":0},{"$f":"  $G43/[0]!Poids      *      (     (A*EXP(-alpha*(AP$15-$H43)))     +      (B*EXP(-bêta*(AP$15-$H43)))    +   (_C*EXP(-gamma*(AP$15-$H43 )))      )","v":0},{"$f":"  $G43/[0]!Poids      *      (     (A*EXP(-alpha*(AQ$15-$H43)))     +      (B*EXP(-bêta*(AQ$15-$H43)))    +   (_C*EXP(-gamma*(AQ$15-$H43 )))      )","v":0},{"$f":"  $G43/[0]!Poids      *      (     (A*EXP(-alpha*(AR$15-$H43)))     +      (B*EXP(-bêta*(AR$15-$H43)))    +   (_C*EXP(-gamma*(AR$15-$H43 )))      )","v":0},{"$f":"  $G43/[0]!Poids      *      (     (A*EXP(-alpha*(AS$15-$H43)))     +      (B*EXP(-bêta*(AS$15-$H43)))    +   (_C*EXP(-gamma*(AS$15-$H43 )))      )","v":0},{"$f":"  $G43/[0]!Poids      *      (     (A*EXP(-alpha*(AT$15-$H43)))     +      (B*EXP(-bêta*(AT$15-$H43)))    +   (_C*EXP(-gamma*(AT$15-$H43 )))      )","v":0},{"$f":"  $G43/[0]!Poids      *      (     (A*EXP(-alpha*(AU$15-$H43)))     +      (B*EXP(-bêta*(AU$15-$H43)))    +   (_C*EXP(-gamma*(AU$15-$H43 )))      )","v":0},{"$f":"  $G43/[0]!Poids      *      (     (A*EXP(-alpha*(AV$15-$H43)))     +      (B*EXP(-bêta*(AV$15-$H43)))    +   (_C*EXP(-gamma*(AV$15-$H43 )))      )","v":0},{"$f":"  $G43/[0]!Poids      *      (     (A*EXP(-alpha*(AW$15-$H43)))     +      (B*EXP(-bêta*(AW$15-$H43)))    +   (_C*EXP(-gamma*(AW$15-$H43 )))      )","v":0},{"$f":"  $G43/[0]!Poids      *      (     (A*EXP(-alpha*(AX$15-$H43)))     +      (B*EXP(-bêta*(AX$15-$H43)))    +   (_C*EXP(-gamma*(AX$15-$H43 )))      )","v":0},{"$f":"  $G43/[0]!Poids      *      (     (A*EXP(-alpha*(AY$15-$H43)))     +      (B*EXP(-bêta*(AY$15-$H43)))    +   (_C*EXP(-gamma*(AY$15-$H43 )))      )","v":0},{"$f":"  $G43/[0]!Poids      *      (     (A*EXP(-alpha*(AZ$15-$H43)))     +      (B*EXP(-bêta*(AZ$15-$H43)))    +   (_C*EXP(-gamma*(AZ$15-$H43 )))      )","v":0},{"$f":"  $G43/[0]!Poids      *      (     (A*EXP(-alpha*(BA$15-$H43)))     +      (B*EXP(-bêta*(BA$15-$H43)))    +   (_C*EXP(-gamma*(BA$15-$H43 )))      )","v":0},{"$f":"  $G43/[0]!Poids      *      (     (A*EXP(-alpha*(BB$15-$H43)))     +      (B*EXP(-bêta*(BB$15-$H43)))    +   (_C*EXP(-gamma*(BB$15-$H43 )))      )","v":0},{"$f":"  $G43/[0]!Poids      *      (     (A*EXP(-alpha*(BC$15-$H43)))     +      (B*EXP(-bêta*(BC$15-$H43)))    +   (_C*EXP(-gamma*(BC$15-$H43 )))      )","v":0},{"$f":"  $G43/[0]!Poids      *      (     (A*EXP(-alpha*(BD$15-$H43)))     +      (B*EXP(-bêta*(BD$15-$H43)))    +   (_C*EXP(-gamma*(BD$15-$H43 )))      )","v":0},{"$f":"  $G43/[0]!Poids      *      (     (A*EXP(-alpha*(BE$15-$H43)))     +      (B*EXP(-bêta*(BE$15-$H43)))    +   (_C*EXP(-gamma*(BE$15-$H43 )))      )","v":0},{"$f":"  $G43/[0]!Poids      *      (     (A*EXP(-alpha*(BF$15-$H43)))     +      (B*EXP(-bêta*(BF$15-$H43)))    +   (_C*EXP(-gamma*(BF$15-$H43 )))      )","v":0},{"$f":"  $G43/[0]!Poids      *      (     (A*EXP(-alpha*(BG$15-$H43)))     +      (B*EXP(-bêta*(BG$15-$H43)))    +   (_C*EXP(-gamma*(BG$15-$H43 )))      )","v":0},{"$f":"  $G43/[0]!Poids      *      (     (A*EXP(-alpha*(BH$15-$H43)))     +      (B*EXP(-bêta*(BH$15-$H43)))    +   (_C*EXP(-gamma*(BH$15-$H43 )))      )","v":0},{"$f":"  $G43/[0]!Poids      *      (     (A*EXP(-alpha*(BI$15-$H43)))     +      (B*EXP(-bêta*(BI$15-$H43)))    +   (_C*EXP(-gamma*(BI$15-$H43 )))      )","v":0},{"$f":"  $G43/[0]!Poids      *      (     (A*EXP(-alpha*(BJ$15-$H43)))     +      (B*EXP(-bêta*(BJ$15-$H43)))    +   (_C*EXP(-gamma*(BJ$15-$H43 )))      )","v":0},{"$f":"  $G43/[0]!Poids      *      (     (A*EXP(-alpha*(BK$15-$H43)))     +      (B*EXP(-bêta*(BK$15-$H43)))    +   (_C*EXP(-gamma*(BK$15-$H43 )))      )","v":0},{"$f":"  $G43/[0]!Poids      *      (     (A*EXP(-alpha*(BL$15-$H43)))     +      (B*EXP(-bêta*(BL$15-$H43)))    +   (_C*EXP(-gamma*(BL$15-$H43 )))      )","v":0},{"$f":"  $G43/[0]!Poids      *      (     (A*EXP(-alpha*(BM$15-$H43)))     +      (B*EXP(-bêta*(BM$15-$H43)))    +   (_C*EXP(-gamma*(BM$15-$H43 )))      )","v":0},{"$f":"  $G43/[0]!Poids      *      (     (A*EXP(-alpha*(BN$15-$H43)))     +      (B*EXP(-bêta*(BN$15-$H43)))    +   (_C*EXP(-gamma*(BN$15-$H43 )))      )","v":0},{"$f":"  $G43/[0]!Poids      *      (     (A*EXP(-alpha*(BO$15-$H43)))     +      (B*EXP(-bêta*(BO$15-$H43)))    +   (_C*EXP(-gamma*(BO$15-$H43 )))      )","v":0},{"$f":"  $G43/[0]!Poids      *      (     (A*EXP(-alpha*(BP$15-$H43)))     +      (B*EXP(-bêta*(BP$15-$H43)))    +   (_C*EXP(-gamma*(BP$15-$H43 )))      )","v":0},{"$f":"  $G43/[0]!Poids      *      (     (A*EXP(-alpha*(BQ$15-$H43)))     +      (B*EXP(-bêta*(BQ$15-$H43)))    +   (_C*EXP(-gamma*(BQ$15-$H43 )))      )","v":0},{"$f":"  $G43/[0]!Poids      *      (     (A*EXP(-alpha*(BR$15-$H43)))     +      (B*EXP(-bêta*(BR$15-$H43)))    +   (_C*EXP(-gamma*(BR$15-$H43 )))      )","v":0}]
[null,null,null,null,null,null,{"$f":"AL$10","v":0},140,null,null,null,null,null,null,null,null,null,null,null,null,null,null,null,null,null,null,null,null,null,null,null,null,null,null,null,null,null,{"$f":"  $G44/[0]!Poids      *      (     (A*EXP(-alpha*(AL$15-$H44)))     +      (B*EXP(-bêta*(AL$15-$H44)))    +   (_C*EXP(-gamma*(AL$15-$H44 )))      )","v":0},{"$f":"  $G44/[0]!Poids      *      (     (A*EXP(-alpha*(AM$15-$H44)))     +      (B*EXP(-bêta*(AM$15-$H44)))    +   (_C*EXP(-gamma*(AM$15-$H44 )))      )","v":0},{"$f":"  $G44/[0]!Poids      *      (     (A*EXP(-alpha*(AN$15-$H44)))     +      (B*EXP(-bêta*(AN$15-$H44)))    +   (_C*EXP(-gamma*(AN$15-$H44 )))      )","v":0},{"$f":"  $G44/[0]!Poids      *      (     (A*EXP(-alpha*(AO$15-$H44)))     +      (B*EXP(-bêta*(AO$15-$H44)))    +   (_C*EXP(-gamma*(AO$15-$H44 )))      )","v":0},{"$f":"  $G44/[0]!Poids      *      (     (A*EXP(-alpha*(AP$15-$H44)))     +      (B*EXP(-bêta*(AP$15-$H44)))    +   (_C*EXP(-gamma*(AP$15-$H44 )))      )","v":0},{"$f":"  $G44/[0]!Poids      *      (     (A*EXP(-alpha*(AQ$15-$H44)))     +      (B*EXP(-bêta*(AQ$15-$H44)))    +   (_C*EXP(-gamma*(AQ$15-$H44 )))      )","v":0},{"$f":"  $G44/[0]!Poids      *      (     (A*EXP(-alpha*(AR$15-$H44)))     +      (B*EXP(-bêta*(AR$15-$H44)))    +   (_C*EXP(-gamma*(AR$15-$H44 )))      )","v":0},{"$f":"  $G44/[0]!Poids      *      (     (A*EXP(-alpha*(AS$15-$H44)))     +      (B*EXP(-bêta*(AS$15-$H44)))    +   (_C*EXP(-gamma*(AS$15-$H44 )))      )","v":0},{"$f":"  $G44/[0]!Poids      *      (     (A*EXP(-alpha*(AT$15-$H44)))     +      (B*EXP(-bêta*(AT$15-$H44)))    +   (_C*EXP(-gamma*(AT$15-$H44 )))      )","v":0},{"$f":"  $G44/[0]!Poids      *      (     (A*EXP(-alpha*(AU$15-$H44)))     +      (B*EXP(-bêta*(AU$15-$H44)))    +   (_C*EXP(-gamma*(AU$15-$H44 )))      )","v":0},{"$f":"  $G44/[0]!Poids      *      (     (A*EXP(-alpha*(AV$15-$H44)))     +      (B*EXP(-bêta*(AV$15-$H44)))    +   (_C*EXP(-gamma*(AV$15-$H44 )))      )","v":0},{"$f":"  $G44/[0]!Poids      *      (     (A*EXP(-alpha*(AW$15-$H44)))     +      (B*EXP(-bêta*(AW$15-$H44)))    +   (_C*EXP(-gamma*(AW$15-$H44 )))      )","v":0},{"$f":"  $G44/[0]!Poids      *      (     (A*EXP(-alpha*(AX$15-$H44)))     +      (B*EXP(-bêta*(AX$15-$H44)))    +   (_C*EXP(-gamma*(AX$15-$H44 )))      )","v":0},{"$f":"  $G44/[0]!Poids      *      (     (A*EXP(-alpha*(AY$15-$H44)))     +      (B*EXP(-bêta*(AY$15-$H44)))    +   (_C*EXP(-gamma*(AY$15-$H44 )))      )","v":0},{"$f":"  $G44/[0]!Poids      *      (     (A*EXP(-alpha*(AZ$15-$H44)))     +      (B*EXP(-bêta*(AZ$15-$H44)))    +   (_C*EXP(-gamma*(AZ$15-$H44 )))      )","v":0},{"$f":"  $G44/[0]!Poids      *      (     (A*EXP(-alpha*(BA$15-$H44)))     +      (B*EXP(-bêta*(BA$15-$H44)))    +   (_C*EXP(-gamma*(BA$15-$H44 )))      )","v":0},{"$f":"  $G44/[0]!Poids      *      (     (A*EXP(-alpha*(BB$15-$H44)))     +      (B*EXP(-bêta*(BB$15-$H44)))    +   (_C*EXP(-gamma*(BB$15-$H44 )))      )","v":0},{"$f":"  $G44/[0]!Poids      *      (     (A*EXP(-alpha*(BC$15-$H44)))     +      (B*EXP(-bêta*(BC$15-$H44)))    +   (_C*EXP(-gamma*(BC$15-$H44 )))      )","v":0},{"$f":"  $G44/[0]!Poids      *      (     (A*EXP(-alpha*(BD$15-$H44)))     +      (B*EXP(-bêta*(BD$15-$H44)))    +   (_C*EXP(-gamma*(BD$15-$H44 )))      )","v":0},{"$f":"  $G44/[0]!Poids      *      (     (A*EXP(-alpha*(BE$15-$H44)))     +      (B*EXP(-bêta*(BE$15-$H44)))    +   (_C*EXP(-gamma*(BE$15-$H44 )))      )","v":0},{"$f":"  $G44/[0]!Poids      *      (     (A*EXP(-alpha*(BF$15-$H44)))     +      (B*EXP(-bêta*(BF$15-$H44)))    +   (_C*EXP(-gamma*(BF$15-$H44 )))      )","v":0},{"$f":"  $G44/[0]!Poids      *      (     (A*EXP(-alpha*(BG$15-$H44)))     +      (B*EXP(-bêta*(BG$15-$H44)))    +   (_C*EXP(-gamma*(BG$15-$H44 )))      )","v":0},{"$f":"  $G44/[0]!Poids      *      (     (A*EXP(-alpha*(BH$15-$H44)))     +      (B*EXP(-bêta*(BH$15-$H44)))    +   (_C*EXP(-gamma*(BH$15-$H44 )))      )","v":0},{"$f":"  $G44/[0]!Poids      *      (     (A*EXP(-alpha*(BI$15-$H44)))     +      (B*EXP(-bêta*(BI$15-$H44)))    +   (_C*EXP(-gamma*(BI$15-$H44 )))      )","v":0},{"$f":"  $G44/[0]!Poids      *      (     (A*EXP(-alpha*(BJ$15-$H44)))     +      (B*EXP(-bêta*(BJ$15-$H44)))    +   (_C*EXP(-gamma*(BJ$15-$H44 )))      )","v":0},{"$f":"  $G44/[0]!Poids      *      (     (A*EXP(-alpha*(BK$15-$H44)))     +      (B*EXP(-bêta*(BK$15-$H44)))    +   (_C*EXP(-gamma*(BK$15-$H44 )))      )","v":0},{"$f":"  $G44/[0]!Poids      *      (     (A*EXP(-alpha*(BL$15-$H44)))     +      (B*EXP(-bêta*(BL$15-$H44)))    +   (_C*EXP(-gamma*(BL$15-$H44 )))      )","v":0},{"$f":"  $G44/[0]!Poids      *      (     (A*EXP(-alpha*(BM$15-$H44)))     +      (B*EXP(-bêta*(BM$15-$H44)))    +   (_C*EXP(-gamma*(BM$15-$H44 )))      )","v":0},{"$f":"  $G44/[0]!Poids      *      (     (A*EXP(-alpha*(BN$15-$H44)))     +      (B*EXP(-bêta*(BN$15-$H44)))    +   (_C*EXP(-gamma*(BN$15-$H44 )))      )","v":0},{"$f":"  $G44/[0]!Poids      *      (     (A*EXP(-alpha*(BO$15-$H44)))     +      (B*EXP(-bêta*(BO$15-$H44)))    +   (_C*EXP(-gamma*(BO$15-$H44 )))      )","v":0},{"$f":"  $G44/[0]!Poids      *      (     (A*EXP(-alpha*(BP$15-$H44)))     +      (B*EXP(-bêta*(BP$15-$H44)))    +   (_C*EXP(-gamma*(BP$15-$H44 )))      )","v":0},{"$f":"  $G44/[0]!Poids      *      (     (A*EXP(-alpha*(BQ$15-$H44)))     +      (B*EXP(-bêta*(BQ$15-$H44)))    +   (_C*EXP(-gamma*(BQ$15-$H44 )))      )","v":0},{"$f":"  $G44/[0]!Poids      *      (     (A*EXP(-alpha*(BR$15-$H44)))     +      (B*EXP(-bêta*(BR$15-$H44)))    +   (_C*EXP(-gamma*(BR$15-$H44 )))      )","v":0}]
[null,null,null,null,null,null,{"$f":"AM$10","v":0},145,null,null,null,null,null,null,null,null,null,null,null,null,null,null,null,null,null,null,null,null,null,null,null,null,null,null,null,null,null,null,{"$f":"  $G45/[0]!Poids      *      (     (A*EXP(-alpha*(AM$15-$H45)))     +      (B*EXP(-bêta*(AM$15-$H45)))    +   (_C*EXP(-gamma*(AM$15-$H45 )))      )","v":0},{"$f":"  $G45/[0]!Poids      *      (     (A*EXP(-alpha*(AN$15-$H45)))     +      (B*EXP(-bêta*(AN$15-$H45)))    +   (_C*EXP(-gamma*(AN$15-$H45 )))      )","v":0},{"$f":"  $G45/[0]!Poids      *      (     (A*EXP(-alpha*(AO$15-$H45)))     +      (B*EXP(-bêta*(AO$15-$H45)))    +   (_C*EXP(-gamma*(AO$15-$H45 )))      )","v":0},{"$f":"  $G45/[0]!Poids      *      (     (A*EXP(-alpha*(AP$15-$H45)))     +      (B*EXP(-bêta*(AP$15-$H45)))    +   (_C*EXP(-gamma*(AP$15-$H45 )))      )","v":0},{"$f":"  $G45/[0]!Poids      *      (     (A*EXP(-alpha*(AQ$15-$H45)))     +      (B*EXP(-bêta*(AQ$15-$H45)))    +   (_C*EXP(-gamma*(AQ$15-$H45 )))      )","v":0},{"$f":"  $G45/[0]!Poids      *      (     (A*EXP(-alpha*(AR$15-$H45)))     +      (B*EXP(-bêta*(AR$15-$H45)))    +   (_C*EXP(-gamma*(AR$15-$H45 )))      )","v":0},{"$f":"  $G45/[0]!Poids      *      (     (A*EXP(-alpha*(AS$15-$H45)))     +      (B*EXP(-bêta*(AS$15-$H45)))    +   (_C*EXP(-gamma*(AS$15-$H45 )))      )","v":0},{"$f":"  $G45/[0]!Poids      *      (     (A*EXP(-alpha*(AT$15-$H45)))     +      (B*EXP(-bêta*(AT$15-$H45)))    +   (_C*EXP(-gamma*(AT$15-$H45 )))      )","v":0},{"$f":"  $G45/[0]!Poids      *      (     (A*EXP(-alpha*(AU$15-$H45)))     +      (B*EXP(-bêta*(AU$15-$H45)))    +   (_C*EXP(-gamma*(AU$15-$H45 )))      )","v":0},{"$f":"  $G45/[0]!Poids      *      (     (A*EXP(-alpha*(AV$15-$H45)))     +      (B*EXP(-bêta*(AV$15-$H45)))    +   (_C*EXP(-gamma*(AV$15-$H45 )))      )","v":0},{"$f":"  $G45/[0]!Poids      *      (     (A*EXP(-alpha*(AW$15-$H45)))     +      (B*EXP(-bêta*(AW$15-$H45)))    +   (_C*EXP(-gamma*(AW$15-$H45 )))      )","v":0},{"$f":"  $G45/[0]!Poids      *      (     (A*EXP(-alpha*(AX$15-$H45)))     +      (B*EXP(-bêta*(AX$15-$H45)))    +   (_C*EXP(-gamma*(AX$15-$H45 )))      )","v":0},{"$f":"  $G45/[0]!Poids      *      (     (A*EXP(-alpha*(AY$15-$H45)))     +      (B*EXP(-bêta*(AY$15-$H45)))    +   (_C*EXP(-gamma*(AY$15-$H45 )))      )","v":0},{"$f":"  $G45/[0]!Poids      *      (     (A*EXP(-alpha*(AZ$15-$H45)))     +      (B*EXP(-bêta*(AZ$15-$H45)))    +   (_C*EXP(-gamma*(AZ$15-$H45 )))      )","v":0},{"$f":"  $G45/[0]!Poids      *      (     (A*EXP(-alpha*(BA$15-$H45)))     +      (B*EXP(-bêta*(BA$15-$H45)))    +   (_C*EXP(-gamma*(BA$15-$H45 )))      )","v":0},{"$f":"  $G45/[0]!Poids      *      (     (A*EXP(-alpha*(BB$15-$H45)))     +      (B*EXP(-bêta*(BB$15-$H45)))    +   (_C*EXP(-gamma*(BB$15-$H45 )))      )","v":0},{"$f":"  $G45/[0]!Poids      *      (     (A*EXP(-alpha*(BC$15-$H45)))     +      (B*EXP(-bêta*(BC$15-$H45)))    +   (_C*EXP(-gamma*(BC$15-$H45 )))      )","v":0},{"$f":"  $G45/[0]!Poids      *      (     (A*EXP(-alpha*(BD$15-$H45)))     +      (B*EXP(-bêta*(BD$15-$H45)))    +   (_C*EXP(-gamma*(BD$15-$H45 )))      )","v":0},{"$f":"  $G45/[0]!Poids      *      (     (A*EXP(-alpha*(BE$15-$H45)))     +      (B*EXP(-bêta*(BE$15-$H45)))    +   (_C*EXP(-gamma*(BE$15-$H45 )))      )","v":0},{"$f":"  $G45/[0]!Poids      *      (     (A*EXP(-alpha*(BF$15-$H45)))     +      (B*EXP(-bêta*(BF$15-$H45)))    +   (_C*EXP(-gamma*(BF$15-$H45 )))      )","v":0},{"$f":"  $G45/[0]!Poids      *      (     (A*EXP(-alpha*(BG$15-$H45)))     +      (B*EXP(-bêta*(BG$15-$H45)))    +   (_C*EXP(-gamma*(BG$15-$H45 )))      )","v":0},{"$f":"  $G45/[0]!Poids      *      (     (A*EXP(-alpha*(BH$15-$H45)))     +      (B*EXP(-bêta*(BH$15-$H45)))    +   (_C*EXP(-gamma*(BH$15-$H45 )))      )","v":0},{"$f":"  $G45/[0]!Poids      *      (     (A*EXP(-alpha*(BI$15-$H45)))     +      (B*EXP(-bêta*(BI$15-$H45)))    +   (_C*EXP(-gamma*(BI$15-$H45 )))      )","v":0},{"$f":"  $G45/[0]!Poids      *      (     (A*EXP(-alpha*(BJ$15-$H45)))     +      (B*EXP(-bêta*(BJ$15-$H45)))    +   (_C*EXP(-gamma*(BJ$15-$H45 )))      )","v":0},{"$f":"  $G45/[0]!Poids      *      (     (A*EXP(-alpha*(BK$15-$H45)))     +      (B*EXP(-bêta*(BK$15-$H45)))    +   (_C*EXP(-gamma*(BK$15-$H45 )))      )","v":0},{"$f":"  $G45/[0]!Poids      *      (     (A*EXP(-alpha*(BL$15-$H45)))     +      (B*EXP(-bêta*(BL$15-$H45)))    +   (_C*EXP(-gamma*(BL$15-$H45 )))      )","v":0},{"$f":"  $G45/[0]!Poids      *      (     (A*EXP(-alpha*(BM$15-$H45)))     +      (B*EXP(-bêta*(BM$15-$H45)))    +   (_C*EXP(-gamma*(BM$15-$H45 )))      )","v":0},{"$f":"  $G45/[0]!Poids      *      (     (A*EXP(-alpha*(BN$15-$H45)))     +      (B*EXP(-bêta*(BN$15-$H45)))    +   (_C*EXP(-gamma*(BN$15-$H45 )))      )","v":0},{"$f":"  $G45/[0]!Poids      *      (     (A*EXP(-alpha*(BO$15-$H45)))     +      (B*EXP(-bêta*(BO$15-$H45)))    +   (_C*EXP(-gamma*(BO$15-$H45 )))      )","v":0},{"$f":"  $G45/[0]!Poids      *      (     (A*EXP(-alpha*(BP$15-$H45)))     +      (B*EXP(-bêta*(BP$15-$H45)))    +   (_C*EXP(-gamma*(BP$15-$H45 )))      )","v":0},{"$f":"  $G45/[0]!Poids      *      (     (A*EXP(-alpha*(BQ$15-$H45)))     +      (B*EXP(-bêta*(BQ$15-$H45)))    +   (_C*EXP(-gamma*(BQ$15-$H45 )))      )","v":0},{"$f":"  $G45/[0]!Poids      *      (     (A*EXP(-alpha*(BR$15-$H45)))     +      (B*EXP(-bêta*(BR$15-$H45)))    +   (_C*EXP(-gamma*(BR$15-$H45 )))      )","v":0}]
[null,null,null,null,null,null,{"$f":"AN$10","v":0},150,null,null,null,null,null,null,null,null,null,null,null,null,null,null,null,null,null,null,null,null,null,null,null,null,null,null,null,null,null,null,null,{"$f":"  $G46/[0]!Poids      *      (     (A*EXP(-alpha*(AN$15-$H46)))     +      (B*EXP(-bêta*(AN$15-$H46)))    +   (_C*EXP(-gamma*(AN$15-$H46 )))      )","v":0},{"$f":"  $G46/[0]!Poids      *      (     (A*EXP(-alpha*(AO$15-$H46)))     +      (B*EXP(-bêta*(AO$15-$H46)))    +   (_C*EXP(-gamma*(AO$15-$H46 )))      )","v":0},{"$f":"  $G46/[0]!Poids      *      (     (A*EXP(-alpha*(AP$15-$H46)))     +      (B*EXP(-bêta*(AP$15-$H46)))    +   (_C*EXP(-gamma*(AP$15-$H46 )))      )","v":0},{"$f":"  $G46/[0]!Poids      *      (     (A*EXP(-alpha*(AQ$15-$H46)))     +      (B*EXP(-bêta*(AQ$15-$H46)))    +   (_C*EXP(-gamma*(AQ$15-$H46 )))      )","v":0},{"$f":"  $G46/[0]!Poids      *      (     (A*EXP(-alpha*(AR$15-$H46)))     +      (B*EXP(-bêta*(AR$15-$H46)))    +   (_C*EXP(-gamma*(AR$15-$H46 )))      )","v":0},{"$f":"  $G46/[0]!Poids      *      (     (A*EXP(-alpha*(AS$15-$H46)))     +      (B*EXP(-bêta*(AS$15-$H46)))    +   (_C*EXP(-gamma*(AS$15-$H46 )))      )","v":0},{"$f":"  $G46/[0]!Poids      *      (     (A*EXP(-alpha*(AT$15-$H46)))     +      (B*EXP(-bêta*(AT$15-$H46)))    +   (_C*EXP(-gamma*(AT$15-$H46 )))      )","v":0},{"$f":"  $G46/[0]!Poids      *      (     (A*EXP(-alpha*(AU$15-$H46)))     +      (B*EXP(-bêta*(AU$15-$H46)))    +   (_C*EXP(-gamma*(AU$15-$H46 )))      )","v":0},{"$f":"  $G46/[0]!Poids      *      (     (A*EXP(-alpha*(AV$15-$H46)))     +      (B*EXP(-bêta*(AV$15-$H46)))    +   (_C*EXP(-gamma*(AV$15-$H46 )))      )","v":0},{"$f":"  $G46/[0]!Poids      *      (     (A*EXP(-alpha*(AW$15-$H46)))     +      (B*EXP(-bêta*(AW$15-$H46)))    +   (_C*EXP(-gamma*(AW$15-$H46 )))      )","v":0},{"$f":"  $G46/[0]!Poids      *      (     (A*EXP(-alpha*(AX$15-$H46)))     +      (B*EXP(-bêta*(AX$15-$H46)))    +   (_C*EXP(-gamma*(AX$15-$H46 )))      )","v":0},{"$f":"  $G46/[0]!Poids      *      (     (A*EXP(-alpha*(AY$15-$H46)))     +      (B*EXP(-bêta*(AY$15-$H46)))    +   (_C*EXP(-gamma*(AY$15-$H46 )))      )","v":0},{"$f":"  $G46/[0]!Poids      *      (     (A*EXP(-alpha*(AZ$15-$H46)))     +      (B*EXP(-bêta*(AZ$15-$H46)))    +   (_C*EXP(-gamma*(AZ$15-$H46 )))      )","v":0},{"$f":"  $G46/[0]!Poids      *      (     (A*EXP(-alpha*(BA$15-$H46)))     +      (B*EXP(-bêta*(BA$15-$H46)))    +   (_C*EXP(-gamma*(BA$15-$H46 )))      )","v":0},{"$f":"  $G46/[0]!Poids      *      (     (A*EXP(-alpha*(BB$15-$H46)))     +      (B*EXP(-bêta*(BB$15-$H46)))    +   (_C*EXP(-gamma*(BB$15-$H46 )))      )","v":0},{"$f":"  $G46/[0]!Poids      *      (     (A*EXP(-alpha*(BC$15-$H46)))     +      (B*EXP(-bêta*(BC$15-$H46)))    +   (_C*EXP(-gamma*(BC$15-$H46 )))      )","v":0},{"$f":"  $G46/[0]!Poids      *      (     (A*EXP(-alpha*(BD$15-$H46)))     +      (B*EXP(-bêta*(BD$15-$H46)))    +   (_C*EXP(-gamma*(BD$15-$H46 )))      )","v":0},{"$f":"  $G46/[0]!Poids      *      (     (A*EXP(-alpha*(BE$15-$H46)))     +      (B*EXP(-bêta*(BE$15-$H46)))    +   (_C*EXP(-gamma*(BE$15-$H46 )))      )","v":0},{"$f":"  $G46/[0]!Poids      *      (     (A*EXP(-alpha*(BF$15-$H46)))     +      (B*EXP(-bêta*(BF$15-$H46)))    +   (_C*EXP(-gamma*(BF$15-$H46 )))      )","v":0},{"$f":"  $G46/[0]!Poids      *      (     (A*EXP(-alpha*(BG$15-$H46)))     +      (B*EXP(-bêta*(BG$15-$H46)))    +   (_C*EXP(-gamma*(BG$15-$H46 )))      )","v":0},{"$f":"  $G46/[0]!Poids      *      (     (A*EXP(-alpha*(BH$15-$H46)))     +      (B*EXP(-bêta*(BH$15-$H46)))    +   (_C*EXP(-gamma*(BH$15-$H46 )))      )","v":0},{"$f":"  $G46/[0]!Poids      *      (     (A*EXP(-alpha*(BI$15-$H46)))     +      (B*EXP(-bêta*(BI$15-$H46)))    +   (_C*EXP(-gamma*(BI$15-$H46 )))      )","v":0},{"$f":"  $G46/[0]!Poids      *      (     (A*EXP(-alpha*(BJ$15-$H46)))     +      (B*EXP(-bêta*(BJ$15-$H46)))    +   (_C*EXP(-gamma*(BJ$15-$H46 )))      )","v":0},{"$f":"  $G46/[0]!Poids      *      (     (A*EXP(-alpha*(BK$15-$H46)))     +      (B*EXP(-bêta*(BK$15-$H46)))    +   (_C*EXP(-gamma*(BK$15-$H46 )))      )","v":0},{"$f":"  $G46/[0]!Poids      *      (     (A*EXP(-alpha*(BL$15-$H46)))     +      (B*EXP(-bêta*(BL$15-$H46)))    +   (_C*EXP(-gamma*(BL$15-$H46 )))      )","v":0},{"$f":"  $G46/[0]!Poids      *      (     (A*EXP(-alpha*(BM$15-$H46)))     +      (B*EXP(-bêta*(BM$15-$H46)))    +   (_C*EXP(-gamma*(BM$15-$H46 )))      )","v":0},{"$f":"  $G46/[0]!Poids      *      (     (A*EXP(-alpha*(BN$15-$H46)))     +      (B*EXP(-bêta*(BN$15-$H46)))    +   (_C*EXP(-gamma*(BN$15-$H46 )))      )","v":0},{"$f":"  $G46/[0]!Poids      *      (     (A*EXP(-alpha*(BO$15-$H46)))     +      (B*EXP(-bêta*(BO$15-$H46)))    +   (_C*EXP(-gamma*(BO$15-$H46 )))      )","v":0},{"$f":"  $G46/[0]!Poids      *      (     (A*EXP(-alpha*(BP$15-$H46)))     +      (B*EXP(-bêta*(BP$15-$H46)))    +   (_C*EXP(-gamma*(BP$15-$H46 )))      )","v":0},{"$f":"  $G46/[0]!Poids      *      (     (A*EXP(-alpha*(BQ$15-$H46)))     +      (B*EXP(-bêta*(BQ$15-$H46)))    +   (_C*EXP(-gamma*(BQ$15-$H46 )))      )","v":0},{"$f":"  $G46/[0]!Poids      *      (     (A*EXP(-alpha*(BR$15-$H46)))     +      (B*EXP(-bêta*(BR$15-$H46)))    +   (_C*EXP(-gamma*(BR$15-$H46 )))      )","v":0}]
[null,null,null,null,null,null,{"$f":"AO$10","v":0},155,null,null,null,null,null,null,null,null,null,null,null,null,null,null,null,null,null,null,null,null,null,null,null,null,null,null,null,null,null,null,null,null,{"$f":"  $G47/[0]!Poids      *      (     (A*EXP(-alpha*(AO$15-$H47)))     +      (B*EXP(-bêta*(AO$15-$H47)))    +   (_C*EXP(-gamma*(AO$15-$H47 )))      )","v":0},{"$f":"  $G47/[0]!Poids      *      (     (A*EXP(-alpha*(AP$15-$H47)))     +      (B*EXP(-bêta*(AP$15-$H47)))    +   (_C*EXP(-gamma*(AP$15-$H47 )))      )","v":0},{"$f":"  $G47/[0]!Poids      *      (     (A*EXP(-alpha*(AQ$15-$H47)))     +      (B*EXP(-bêta*(AQ$15-$H47)))    +   (_C*EXP(-gamma*(AQ$15-$H47 )))      )","v":0},{"$f":"  $G47/[0]!Poids      *      (     (A*EXP(-alpha*(AR$15-$H47)))     +      (B*EXP(-bêta*(AR$15-$H47)))    +   (_C*EXP(-gamma*(AR$15-$H47 )))      )","v":0},{"$f":"  $G47/[0]!Poids      *      (     (A*EXP(-alpha*(AS$15-$H47)))     +      (B*EXP(-bêta*(AS$15-$H47)))    +   (_C*EXP(-gamma*(AS$15-$H47 )))      )","v":0},{"$f":"  $G47/[0]!Poids      *      (     (A*EXP(-alpha*(AT$15-$H47)))     +      (B*EXP(-bêta*(AT$15-$H47)))    +   (_C*EXP(-gamma*(AT$15-$H47 )))      )","v":0},{"$f":"  $G47/[0]!Poids      *      (     (A*EXP(-alpha*(AU$15-$H47)))     +      (B*EXP(-bêta*(AU$15-$H47)))    +   (_C*EXP(-gamma*(AU$15-$H47 )))      )","v":0},{"$f":"  $G47/[0]!Poids      *      (     (A*EXP(-alpha*(AV$15-$H47)))     +      (B*EXP(-bêta*(AV$15-$H47)))    +   (_C*EXP(-gamma*(AV$15-$H47 )))      )","v":0},{"$f":"  $G47/[0]!Poids      *      (     (A*EXP(-alpha*(AW$15-$H47)))     +      (B*EXP(-bêta*(AW$15-$H47)))    +   (_C*EXP(-gamma*(AW$15-$H47 )))      )","v":0},{"$f":"  $G47/[0]!Poids      *      (     (A*EXP(-alpha*(AX$15-$H47)))     +      (B*EXP(-bêta*(AX$15-$H47)))    +   (_C*EXP(-gamma*(AX$15-$H47 )))      )","v":0},{"$f":"  $G47/[0]!Poids      *      (     (A*EXP(-alpha*(AY$15-$H47)))     +      (B*EXP(-bêta*(AY$15-$H47)))    +   (_C*EXP(-gamma*(AY$15-$H47 )))      )","v":0},{"$f":"  $G47/[0]!Poids      *      (     (A*EXP(-alpha*(AZ$15-$H47)))     +      (B*EXP(-bêta*(AZ$15-$H47)))    +   (_C*EXP(-gamma*(AZ$15-$H47 )))      )","v":0},{"$f":"  $G47/[0]!Poids      *      (     (A*EXP(-alpha*(BA$15-$H47)))     +      (B*EXP(-bêta*(BA$15-$H47)))    +   (_C*EXP(-gamma*(BA$15-$H47 )))      )","v":0},{"$f":"  $G47/[0]!Poids      *      (     (A*EXP(-alpha*(BB$15-$H47)))     +      (B*EXP(-bêta*(BB$15-$H47)))    +   (_C*EXP(-gamma*(BB$15-$H47 )))      )","v":0},{"$f":"  $G47/[0]!Poids      *      (     (A*EXP(-alpha*(BC$15-$H47)))     +      (B*EXP(-bêta*(BC$15-$H47)))    +   (_C*EXP(-gamma*(BC$15-$H47 )))      )","v":0},{"$f":"  $G47/[0]!Poids      *      (     (A*EXP(-alpha*(BD$15-$H47)))     +      (B*EXP(-bêta*(BD$15-$H47)))    +   (_C*EXP(-gamma*(BD$15-$H47 )))      )","v":0},{"$f":"  $G47/[0]!Poids      *      (     (A*EXP(-alpha*(BE$15-$H47)))     +      (B*EXP(-bêta*(BE$15-$H47)))    +   (_C*EXP(-gamma*(BE$15-$H47 )))      )","v":0},{"$f":"  $G47/[0]!Poids      *      (     (A*EXP(-alpha*(BF$15-$H47)))     +      (B*EXP(-bêta*(BF$15-$H47)))    +   (_C*EXP(-gamma*(BF$15-$H47 )))      )","v":0},{"$f":"  $G47/[0]!Poids      *      (     (A*EXP(-alpha*(BG$15-$H47)))     +      (B*EXP(-bêta*(BG$15-$H47)))    +   (_C*EXP(-gamma*(BG$15-$H47 )))      )","v":0},{"$f":"  $G47/[0]!Poids      *      (     (A*EXP(-alpha*(BH$15-$H47)))     +      (B*EXP(-bêta*(BH$15-$H47)))    +   (_C*EXP(-gamma*(BH$15-$H47 )))      )","v":0},{"$f":"  $G47/[0]!Poids      *      (     (A*EXP(-alpha*(BI$15-$H47)))     +      (B*EXP(-bêta*(BI$15-$H47)))    +   (_C*EXP(-gamma*(BI$15-$H47 )))      )","v":0},{"$f":"  $G47/[0]!Poids      *      (     (A*EXP(-alpha*(BJ$15-$H47)))     +      (B*EXP(-bêta*(BJ$15-$H47)))    +   (_C*EXP(-gamma*(BJ$15-$H47 )))      )","v":0},{"$f":"  $G47/[0]!Poids      *      (     (A*EXP(-alpha*(BK$15-$H47)))     +      (B*EXP(-bêta*(BK$15-$H47)))    +   (_C*EXP(-gamma*(BK$15-$H47 )))      )","v":0},{"$f":"  $G47/[0]!Poids      *      (     (A*EXP(-alpha*(BL$15-$H47)))     +      (B*EXP(-bêta*(BL$15-$H47)))    +   (_C*EXP(-gamma*(BL$15-$H47 )))      )","v":0},{"$f":"  $G47/[0]!Poids      *      (     (A*EXP(-alpha*(BM$15-$H47)))     +      (B*EXP(-bêta*(BM$15-$H47)))    +   (_C*EXP(-gamma*(BM$15-$H47 )))      )","v":0},{"$f":"  $G47/[0]!Poids      *      (     (A*EXP(-alpha*(BN$15-$H47)))     +      (B*EXP(-bêta*(BN$15-$H47)))    +   (_C*EXP(-gamma*(BN$15-$H47 )))      )","v":0},{"$f":"  $G47/[0]!Poids      *      (     (A*EXP(-alpha*(BO$15-$H47)))     +      (B*EXP(-bêta*(BO$15-$H47)))    +   (_C*EXP(-gamma*(BO$15-$H47 )))      )","v":0},{"$f":"  $G47/[0]!Poids      *      (     (A*EXP(-alpha*(BP$15-$H47)))     +      (B*EXP(-bêta*(BP$15-$H47)))    +   (_C*EXP(-gamma*(BP$15-$H47 )))      )","v":0},{"$f":"  $G47/[0]!Poids      *      (     (A*EXP(-alpha*(BQ$15-$H47)))     +      (B*EXP(-bêta*(BQ$15-$H47)))    +   (_C*EXP(-gamma*(BQ$15-$H47 )))      )","v":0},{"$f":"  $G47/[0]!Poids      *      (     (A*EXP(-alpha*(BR$15-$H47)))     +      (B*EXP(-bêta*(BR$15-$H47)))    +   (_C*EXP(-gamma*(BR$15-$H47 )))      )","v":0}]
[null,null,null,null,null,null,{"$f":"AP$10","v":0},160,null,null,null,null,null,null,null,null,null,null,null,null,null,null,null,null,null,null,null,null,null,null,null,null,null,null,null,null,null,null,null,null,null,{"$f":"  $G48/[0]!Poids      *      (     (A*EXP(-alpha*(AP$15-$H48)))     +      (B*EXP(-bêta*(AP$15-$H48)))    +   (_C*EXP(-gamma*(AP$15-$H48 )))      )","v":0},{"$f":"  $G48/[0]!Poids      *      (     (A*EXP(-alpha*(AQ$15-$H48)))     +      (B*EXP(-bêta*(AQ$15-$H48)))    +   (_C*EXP(-gamma*(AQ$15-$H48 )))      )","v":0},{"$f":"  $G48/[0]!Poids      *      (     (A*EXP(-alpha*(AR$15-$H48)))     +      (B*EXP(-bêta*(AR$15-$H48)))    +   (_C*EXP(-gamma*(AR$15-$H48 )))      )","v":0},{"$f":"  $G48/[0]!Poids      *      (     (A*EXP(-alpha*(AS$15-$H48)))     +      (B*EXP(-bêta*(AS$15-$H48)))    +   (_C*EXP(-gamma*(AS$15-$H48 )))      )","v":0},{"$f":"  $G48/[0]!Poids      *      (     (A*EXP(-alpha*(AT$15-$H48)))     +      (B*EXP(-bêta*(AT$15-$H48)))    +   (_C*EXP(-gamma*(AT$15-$H48 )))      )","v":0},{"$f":"  $G48/[0]!Poids      *      (     (A*EXP(-alpha*(AU$15-$H48)))     +      (B*EXP(-bêta*(AU$15-$H48)))    +   (_C*EXP(-gamma*(AU$15-$H48 )))      )","v":0},{"$f":"  $G48/[0]!Poids      *      (     (A*EXP(-alpha*(AV$15-$H48)))     +      (B*EXP(-bêta*(AV$15-$H48)))    +   (_C*EXP(-gamma*(AV$15-$H48 )))      )","v":0},{"$f":"  $G48/[0]!Poids      *      (     (A*EXP(-alpha*(AW$15-$H48)))     +      (B*EXP(-bêta*(AW$15-$H48)))    +   (_C*EXP(-gamma*(AW$15-$H48 )))      )","v":0},{"$f":"  $G48/[0]!Poids      *      (     (A*EXP(-alpha*(AX$15-$H48)))     +      (B*EXP(-bêta*(AX$15-$H48)))    +   (_C*EXP(-gamma*(AX$15-$H48 )))      )","v":0},{"$f":"  $G48/[0]!Poids      *      (     (A*EXP(-alpha*(AY$15-$H48)))     +      (B*EXP(-bêta*(AY$15-$H48)))    +   (_C*EXP(-gamma*(AY$15-$H48 )))      )","v":0},{"$f":"  $G48/[0]!Poids      *      (     (A*EXP(-alpha*(AZ$15-$H48)))     +      (B*EXP(-bêta*(AZ$15-$H48)))    +   (_C*EXP(-gamma*(AZ$15-$H48 )))      )","v":0},{"$f":"  $G48/[0]!Poids      *      (     (A*EXP(-alpha*(BA$15-$H48)))     +      (B*EXP(-bêta*(BA$15-$H48)))    +   (_C*EXP(-gamma*(BA$15-$H48 )))      )","v":0},{"$f":"  $G48/[0]!Poids      *      (     (A*EXP(-alpha*(BB$15-$H48)))     +      (B*EXP(-bêta*(BB$15-$H48)))    +   (_C*EXP(-gamma*(BB$15-$H48 )))      )","v":0},{"$f":"  $G48/[0]!Poids      *      (     (A*EXP(-alpha*(BC$15-$H48)))     +      (B*EXP(-bêta*(BC$15-$H48)))    +   (_C*EXP(-gamma*(BC$15-$H48 )))      )","v":0},{"$f":"  $G48/[0]!Poids      *      (     (A*EXP(-alpha*(BD$15-$H48)))     +      (B*EXP(-bêta*(BD$15-$H48)))    +   (_C*EXP(-gamma*(BD$15-$H48 )))      )","v":0},{"$f":"  $G48/[0]!Poids      *      (     (A*EXP(-alpha*(BE$15-$H48)))     +      (B*EXP(-bêta*(BE$15-$H48)))    +   (_C*EXP(-gamma*(BE$15-$H48 )))      )","v":0},{"$f":"  $G48/[0]!Poids      *      (     (A*EXP(-alpha*(BF$15-$H48)))     +      (B*EXP(-bêta*(BF$15-$H48)))    +   (_C*EXP(-gamma*(BF$15-$H48 )))      )","v":0},{"$f":"  $G48/[0]!Poids      *      (     (A*EXP(-alpha*(BG$15-$H48)))     +      (B*EXP(-bêta*(BG$15-$H48)))    +   (_C*EXP(-gamma*(BG$15-$H48 )))      )","v":0},{"$f":"  $G48/[0]!Poids      *      (     (A*EXP(-alpha*(BH$15-$H48)))     +      (B*EXP(-bêta*(BH$15-$H48)))    +   (_C*EXP(-gamma*(BH$15-$H48 )))      )","v":0},{"$f":"  $G48/[0]!Poids      *      (     (A*EXP(-alpha*(BI$15-$H48)))     +      (B*EXP(-bêta*(BI$15-$H48)))    +   (_C*EXP(-gamma*(BI$15-$H48 )))      )","v":0},{"$f":"  $G48/[0]!Poids      *      (     (A*EXP(-alpha*(BJ$15-$H48)))     +      (B*EXP(-bêta*(BJ$15-$H48)))    +   (_C*EXP(-gamma*(BJ$15-$H48 )))      )","v":0},{"$f":"  $G48/[0]!Poids      *      (     (A*EXP(-alpha*(BK$15-$H48)))     +      (B*EXP(-bêta*(BK$15-$H48)))    +   (_C*EXP(-gamma*(BK$15-$H48 )))      )","v":0},{"$f":"  $G48/[0]!Poids      *      (     (A*EXP(-alpha*(BL$15-$H48)))     +      (B*EXP(-bêta*(BL$15-$H48)))    +   (_C*EXP(-gamma*(BL$15-$H48 )))      )","v":0},{"$f":"  $G48/[0]!Poids      *      (     (A*EXP(-alpha*(BM$15-$H48)))     +      (B*EXP(-bêta*(BM$15-$H48)))    +   (_C*EXP(-gamma*(BM$15-$H48 )))      )","v":0},{"$f":"  $G48/[0]!Poids      *      (     (A*EXP(-alpha*(BN$15-$H48)))     +      (B*EXP(-bêta*(BN$15-$H48)))    +   (_C*EXP(-gamma*(BN$15-$H48 )))      )","v":0},{"$f":"  $G48/[0]!Poids      *      (     (A*EXP(-alpha*(BO$15-$H48)))     +      (B*EXP(-bêta*(BO$15-$H48)))    +   (_C*EXP(-gamma*(BO$15-$H48 )))      )","v":0},{"$f":"  $G48/[0]!Poids      *      (     (A*EXP(-alpha*(BP$15-$H48)))     +      (B*EXP(-bêta*(BP$15-$H48)))    +   (_C*EXP(-gamma*(BP$15-$H48 )))      )","v":0},{"$f":"  $G48/[0]!Poids      *      (     (A*EXP(-alpha*(BQ$15-$H48)))     +      (B*EXP(-bêta*(BQ$15-$H48)))    +   (_C*EXP(-gamma*(BQ$15-$H48 )))      )","v":0},{"$f":"  $G48/[0]!Poids      *      (     (A*EXP(-alpha*(BR$15-$H48)))     +      (B*EXP(-bêta*(BR$15-$H48)))    +   (_C*EXP(-gamma*(BR$15-$H48 )))      )","v":0}]
[null,null,null,null,null,null,{"$f":"AQ$10","v":0},165,null,null,null,null,null,null,null,null,null,null,null,null,null,null,null,null,null,null,null,null,null,null,null,null,null,null,null,null,null,null,null,null,null,null,{"$f":"  $G49/[0]!Poids      *      (     (A*EXP(-alpha*(AQ$15-$H49)))     +      (B*EXP(-bêta*(AQ$15-$H49)))    +   (_C*EXP(-gamma*(AQ$15-$H49 )))      )","v":0},{"$f":"  $G49/[0]!Poids      *      (     (A*EXP(-alpha*(AR$15-$H49)))     +      (B*EXP(-bêta*(AR$15-$H49)))    +   (_C*EXP(-gamma*(AR$15-$H49 )))      )","v":0},{"$f":"  $G49/[0]!Poids      *      (     (A*EXP(-alpha*(AS$15-$H49)))     +      (B*EXP(-bêta*(AS$15-$H49)))    +   (_C*EXP(-gamma*(AS$15-$H49 )))      )","v":0},{"$f":"  $G49/[0]!Poids      *      (     (A*EXP(-alpha*(AT$15-$H49)))     +      (B*EXP(-bêta*(AT$15-$H49)))    +   (_C*EXP(-gamma*(AT$15-$H49 )))      )","v":0},{"$f":"  $G49/[0]!Poids      *      (     (A*EXP(-alpha*(AU$15-$H49)))     +      (B*EXP(-bêta*(AU$15-$H49)))    +   (_C*EXP(-gamma*(AU$15-$H49 )))      )","v":0},{"$f":"  $G49/[0]!Poids      *      (     (A*EXP(-alpha*(AV$15-$H49)))     +      (B*EXP(-bêta*(AV$15-$H49)))    +   (_C*EXP(-gamma*(AV$15-$H49 )))      )","v":0},{"$f":"  $G49/[0]!Poids      *      (     (A*EXP(-alpha*(AW$15-$H49)))     +      (B*EXP(-bêta*(AW$15-$H49)))    +   (_C*EXP(-gamma*(AW$15-$H49 )))      )","v":0},{"$f":"  $G49/[0]!Poids      *      (     (A*EXP(-alpha*(AX$15-$H49)))     +      (B*EXP(-bêta*(AX$15-$H49)))    +   (_C*EXP(-gamma*(AX$15-$H49 )))      )","v":0},{"$f":"  $G49/[0]!Poids      *      (     (A*EXP(-alpha*(AY$15-$H49)))     +      (B*EXP(-bêta*(AY$15-$H49)))    +   (_C*EXP(-gamma*(AY$15-$H49 )))      )","v":0},{"$f":"  $G49/[0]!Poids      *      (     (A*EXP(-alpha*(AZ$15-$H49)))     +      (B*EXP(-bêta*(AZ$15-$H49)))    +   (_C*EXP(-gamma*(AZ$15-$H49 )))      )","v":0},{"$f":"  $G49/[0]!Poids      *      (     (A*EXP(-alpha*(BA$15-$H49)))     +      (B*EXP(-bêta*(BA$15-$H49)))    +   (_C*EXP(-gamma*(BA$15-$H49 )))      )","v":0},{"$f":"  $G49/[0]!Poids      *      (     (A*EXP(-alpha*(BB$15-$H49)))     +      (B*EXP(-bêta*(BB$15-$H49)))    +   (_C*EXP(-gamma*(BB$15-$H49 )))      )","v":0},{"$f":"  $G49/[0]!Poids      *      (     (A*EXP(-alpha*(BC$15-$H49)))     +      (B*EXP(-bêta*(BC$15-$H49)))    +   (_C*EXP(-gamma*(BC$15-$H49 )))      )","v":0},{"$f":"  $G49/[0]!Poids      *      (     (A*EXP(-alpha*(BD$15-$H49)))     +      (B*EXP(-bêta*(BD$15-$H49)))    +   (_C*EXP(-gamma*(BD$15-$H49 )))      )","v":0},{"$f":"  $G49/[0]!Poids      *      (     (A*EXP(-alpha*(BE$15-$H49)))     +      (B*EXP(-bêta*(BE$15-$H49)))    +   (_C*EXP(-gamma*(BE$15-$H49 )))      )","v":0},{"$f":"  $G49/[0]!Poids      *      (     (A*EXP(-alpha*(BF$15-$H49)))     +      (B*EXP(-bêta*(BF$15-$H49)))    +   (_C*EXP(-gamma*(BF$15-$H49 )))      )","v":0},{"$f":"  $G49/[0]!Poids      *      (     (A*EXP(-alpha*(BG$15-$H49)))     +      (B*EXP(-bêta*(BG$15-$H49)))    +   (_C*EXP(-gamma*(BG$15-$H49 )))      )","v":0},{"$f":"  $G49/[0]!Poids      *      (     (A*EXP(-alpha*(BH$15-$H49)))     +      (B*EXP(-bêta*(BH$15-$H49)))    +   (_C*EXP(-gamma*(BH$15-$H49 )))      )","v":0},{"$f":"  $G49/[0]!Poids      *      (     (A*EXP(-alpha*(BI$15-$H49)))     +      (B*EXP(-bêta*(BI$15-$H49)))    +   (_C*EXP(-gamma*(BI$15-$H49 )))      )","v":0},{"$f":"  $G49/[0]!Poids      *      (     (A*EXP(-alpha*(BJ$15-$H49)))     +      (B*EXP(-bêta*(BJ$15-$H49)))    +   (_C*EXP(-gamma*(BJ$15-$H49 )))      )","v":0},{"$f":"  $G49/[0]!Poids      *      (     (A*EXP(-alpha*(BK$15-$H49)))     +      (B*EXP(-bêta*(BK$15-$H49)))    +   (_C*EXP(-gamma*(BK$15-$H49 )))      )","v":0},{"$f":"  $G49/[0]!Poids      *      (     (A*EXP(-alpha*(BL$15-$H49)))     +      (B*EXP(-bêta*(BL$15-$H49)))    +   (_C*EXP(-gamma*(BL$15-$H49 )))      )","v":0},{"$f":"  $G49/[0]!Poids      *      (     (A*EXP(-alpha*(BM$15-$H49)))     +      (B*EXP(-bêta*(BM$15-$H49)))    +   (_C*EXP(-gamma*(BM$15-$H49 )))      )","v":0},{"$f":"  $G49/[0]!Poids      *      (     (A*EXP(-alpha*(BN$15-$H49)))     +      (B*EXP(-bêta*(BN$15-$H49)))    +   (_C*EXP(-gamma*(BN$15-$H49 )))      )","v":0},{"$f":"  $G49/[0]!Poids      *      (     (A*EXP(-alpha*(BO$15-$H49)))     +      (B*EXP(-bêta*(BO$15-$H49)))    +   (_C*EXP(-gamma*(BO$15-$H49 )))      )","v":0},{"$f":"  $G49/[0]!Poids      *      (     (A*EXP(-alpha*(BP$15-$H49)))     +      (B*EXP(-bêta*(BP$15-$H49)))    +   (_C*EXP(-gamma*(BP$15-$H49 )))      )","v":0},{"$f":"  $G49/[0]!Poids      *      (     (A*EXP(-alpha*(BQ$15-$H49)))     +      (B*EXP(-bêta*(BQ$15-$H49)))    +   (_C*EXP(-gamma*(BQ$15-$H49 )))      )","v":0},{"$f":"  $G49/[0]!Poids      *      (     (A*EXP(-alpha*(BR$15-$H49)))     +      (B*EXP(-bêta*(BR$15-$H49)))    +   (_C*EXP(-gamma*(BR$15-$H49 )))      )","v":0}]
[null,null,null,null,null,null,{"$f":"AR$10","v":0},170,null,null,null,null,null,null,null,null,null,null,null,null,null,null,null,null,null,null,null,null,null,null,null,null,null,null,null,null,null,null,null,null,null,null,null,{"$f":"  $G50/[0]!Poids      *      (     (A*EXP(-alpha*(AR$15-$H50)))     +      (B*EXP(-bêta*(AR$15-$H50)))    +   (_C*EXP(-gamma*(AR$15-$H50 )))      )","v":0},{"$f":"  $G50/[0]!Poids      *      (     (A*EXP(-alpha*(AS$15-$H50)))     +      (B*EXP(-bêta*(AS$15-$H50)))    +   (_C*EXP(-gamma*(AS$15-$H50 )))      )","v":0},{"$f":"  $G50/[0]!Poids      *      (     (A*EXP(-alpha*(AT$15-$H50)))     +      (B*EXP(-bêta*(AT$15-$H50)))    +   (_C*EXP(-gamma*(AT$15-$H50 )))      )","v":0},{"$f":"  $G50/[0]!Poids      *      (     (A*EXP(-alpha*(AU$15-$H50)))     +      (B*EXP(-bêta*(AU$15-$H50)))    +   (_C*EXP(-gamma*(AU$15-$H50 )))      )","v":0},{"$f":"  $G50/[0]!Poids      *      (     (A*EXP(-alpha*(AV$15-$H50)))     +      (B*EXP(-bêta*(AV$15-$H50)))    +   (_C*EXP(-gamma*(AV$15-$H50 )))      )","v":0},{"$f":"  $G50/[0]!Poids      *      (     (A*EXP(-alpha*(AW$15-$H50)))     +      (B*EXP(-bêta*(AW$15-$H50)))    +   (_C*EXP(-gamma*(AW$15-$H50 )))      )","v":0},{"$f":"  $G50/[0]!Poids      *      (     (A*EXP(-alpha*(AX$15-$H50)))     +      (B*EXP(-bêta*(AX$15-$H50)))    +   (_C*EXP(-gamma*(AX$15-$H50 )))      )","v":0},{"$f":"  $G50/[0]!Poids      *      (     (A*EXP(-alpha*(AY$15-$H50)))     +      (B*EXP(-bêta*(AY$15-$H50)))    +   (_C*EXP(-gamma*(AY$15-$H50 )))      )","v":0},{"$f":"  $G50/[0]!Poids      *      (     (A*EXP(-alpha*(AZ$15-$H50)))     +      (B*EXP(-bêta*(AZ$15-$H50)))    +   (_C*EXP(-gamma*(AZ$15-$H50 )))      )","v":0},{"$f":"  $G50/[0]!Poids      *      (     (A*EXP(-alpha*(BA$15-$H50)))     +      (B*EXP(-bêta*(BA$15-$H50)))    +   (_C*EXP(-gamma*(BA$15-$H50 )))      )","v":0},{"$f":"  $G50/[0]!Poids      *      (     (A*EXP(-alpha*(BB$15-$H50)))     +      (B*EXP(-bêta*(BB$15-$H50)))    +   (_C*EXP(-gamma*(BB$15-$H50 )))      )","v":0},{"$f":"  $G50/[0]!Poids      *      (     (A*EXP(-alpha*(BC$15-$H50)))     +      (B*EXP(-bêta*(BC$15-$H50)))    +   (_C*EXP(-gamma*(BC$15-$H50 )))      )","v":0},{"$f":"  $G50/[0]!Poids      *      (     (A*EXP(-alpha*(BD$15-$H50)))     +      (B*EXP(-bêta*(BD$15-$H50)))    +   (_C*EXP(-gamma*(BD$15-$H50 )))      )","v":0},{"$f":"  $G50/[0]!Poids      *      (     (A*EXP(-alpha*(BE$15-$H50)))     +      (B*EXP(-bêta*(BE$15-$H50)))    +   (_C*EXP(-gamma*(BE$15-$H50 )))      )","v":0},{"$f":"  $G50/[0]!Poids      *      (     (A*EXP(-alpha*(BF$15-$H50)))     +      (B*EXP(-bêta*(BF$15-$H50)))    +   (_C*EXP(-gamma*(BF$15-$H50 )))      )","v":0},{"$f":"  $G50/[0]!Poids      *      (     (A*EXP(-alpha*(BG$15-$H50)))     +      (B*EXP(-bêta*(BG$15-$H50)))    +   (_C*EXP(-gamma*(BG$15-$H50 )))      )","v":0},{"$f":"  $G50/[0]!Poids      *      (     (A*EXP(-alpha*(BH$15-$H50)))     +      (B*EXP(-bêta*(BH$15-$H50)))    +   (_C*EXP(-gamma*(BH$15-$H50 )))      )","v":0},{"$f":"  $G50/[0]!Poids      *      (     (A*EXP(-alpha*(BI$15-$H50)))     +      (B*EXP(-bêta*(BI$15-$H50)))    +   (_C*EXP(-gamma*(BI$15-$H50 )))      )","v":0},{"$f":"  $G50/[0]!Poids      *      (     (A*EXP(-alpha*(BJ$15-$H50)))     +      (B*EXP(-bêta*(BJ$15-$H50)))    +   (_C*EXP(-gamma*(BJ$15-$H50 )))      )","v":0},{"$f":"  $G50/[0]!Poids      *      (     (A*EXP(-alpha*(BK$15-$H50)))     +      (B*EXP(-bêta*(BK$15-$H50)))    +   (_C*EXP(-gamma*(BK$15-$H50 )))      )","v":0},{"$f":"  $G50/[0]!Poids      *      (     (A*EXP(-alpha*(BL$15-$H50)))     +      (B*EXP(-bêta*(BL$15-$H50)))    +   (_C*EXP(-gamma*(BL$15-$H50 )))      )","v":0},{"$f":"  $G50/[0]!Poids      *      (     (A*EXP(-alpha*(BM$15-$H50)))     +      (B*EXP(-bêta*(BM$15-$H50)))    +   (_C*EXP(-gamma*(BM$15-$H50 )))      )","v":0},{"$f":"  $G50/[0]!Poids      *      (     (A*EXP(-alpha*(BN$15-$H50)))     +      (B*EXP(-bêta*(BN$15-$H50)))    +   (_C*EXP(-gamma*(BN$15-$H50 )))      )","v":0},{"$f":"  $G50/[0]!Poids      *      (     (A*EXP(-alpha*(BO$15-$H50)))     +      (B*EXP(-bêta*(BO$15-$H50)))    +   (_C*EXP(-gamma*(BO$15-$H50 )))      )","v":0},{"$f":"  $G50/[0]!Poids      *      (     (A*EXP(-alpha*(BP$15-$H50)))     +      (B*EXP(-bêta*(BP$15-$H50)))    +   (_C*EXP(-gamma*(BP$15-$H50 )))      )","v":0},{"$f":"  $G50/[0]!Poids      *      (     (A*EXP(-alpha*(BQ$15-$H50)))     +      (B*EXP(-bêta*(BQ$15-$H50)))    +   (_C*EXP(-gamma*(BQ$15-$H50 )))      )","v":0},{"$f":"  $G50/[0]!Poids      *      (     (A*EXP(-alpha*(BR$15-$H50)))     +      (B*EXP(-bêta*(BR$15-$H50)))    +   (_C*EXP(-gamma*(BR$15-$H50 )))      )","v":0}]
[null,null,null,null,null,null,{"$f":"AS$10","v":0},175,null,null,null,null,null,null,null,null,null,null,null,null,null,null,null,null,null,null,null,null,null,null,null,null,null,null,null,null,null,null,null,null,null,null,null,null,{"$f":"  $G51/[0]!Poids      *      (     (A*EXP(-alpha*(AS$15-$H51)))     +      (B*EXP(-bêta*(AS$15-$H51)))    +   (_C*EXP(-gamma*(AS$15-$H51 )))      )","v":0},{"$f":"  $G51/[0]!Poids      *      (     (A*EXP(-alpha*(AT$15-$H51)))     +      (B*EXP(-bêta*(AT$15-$H51)))    +   (_C*EXP(-gamma*(AT$15-$H51 )))      )","v":0},{"$f":"  $G51/[0]!Poids      *      (     (A*EXP(-alpha*(AU$15-$H51)))     +      (B*EXP(-bêta*(AU$15-$H51)))    +   (_C*EXP(-gamma*(AU$15-$H51 )))      )","v":0},{"$f":"  $G51/[0]!Poids      *      (     (A*EXP(-alpha*(AV$15-$H51)))     +      (B*EXP(-bêta*(AV$15-$H51)))    +   (_C*EXP(-gamma*(AV$15-$H51 )))      )","v":0},{"$f":"  $G51/[0]!Poids      *      (     (A*EXP(-alpha*(AW$15-$H51)))     +      (B*EXP(-bêta*(AW$15-$H51)))    +   (_C*EXP(-gamma*(AW$15-$H51 )))      )","v":0},{"$f":"  $G51/[0]!Poids      *      (     (A*EXP(-alpha*(AX$15-$H51)))     +      (B*EXP(-bêta*(AX$15-$H51)))    +   (_C*EXP(-gamma*(AX$15-$H51 )))      )","v":0},{"$f":"  $G51/[0]!Poids      *      (     (A*EXP(-alpha*(AY$15-$H51)))     +      (B*EXP(-bêta*(AY$15-$H51)))    +   (_C*EXP(-gamma*(AY$15-$H51 )))      )","v":0},{"$f":"  $G51/[0]!Poids      *      (     (A*EXP(-alpha*(AZ$15-$H51)))     +      (B*EXP(-bêta*(AZ$15-$H51)))    +   (_C*EXP(-gamma*(AZ$15-$H51 )))      )","v":0},{"$f":"  $G51/[0]!Poids      *      (     (A*EXP(-alpha*(BA$15-$H51)))     +      (B*EXP(-bêta*(BA$15-$H51)))    +   (_C*EXP(-gamma*(BA$15-$H51 )))      )","v":0},{"$f":"  $G51/[0]!Poids      *      (     (A*EXP(-alpha*(BB$15-$H51)))     +      (B*EXP(-bêta*(BB$15-$H51)))    +   (_C*EXP(-gamma*(BB$15-$H51 )))      )","v":0},{"$f":"  $G51/[0]!Poids      *      (     (A*EXP(-alpha*(BC$15-$H51)))     +      (B*EXP(-bêta*(BC$15-$H51)))    +   (_C*EXP(-gamma*(BC$15-$H51 )))      )","v":0},{"$f":"  $G51/[0]!Poids      *      (     (A*EXP(-alpha*(BD$15-$H51)))     +      (B*EXP(-bêta*(BD$15-$H51)))    +   (_C*EXP(-gamma*(BD$15-$H51 )))      )","v":0},{"$f":"  $G51/[0]!Poids      *      (     (A*EXP(-alpha*(BE$15-$H51)))     +      (B*EXP(-bêta*(BE$15-$H51)))    +   (_C*EXP(-gamma*(BE$15-$H51 )))      )","v":0},{"$f":"  $G51/[0]!Poids      *      (     (A*EXP(-alpha*(BF$15-$H51)))     +      (B*EXP(-bêta*(BF$15-$H51)))    +   (_C*EXP(-gamma*(BF$15-$H51 )))      )","v":0},{"$f":"  $G51/[0]!Poids      *      (     (A*EXP(-alpha*(BG$15-$H51)))     +      (B*EXP(-bêta*(BG$15-$H51)))    +   (_C*EXP(-gamma*(BG$15-$H51 )))      )","v":0},{"$f":"  $G51/[0]!Poids      *      (     (A*EXP(-alpha*(BH$15-$H51)))     +      (B*EXP(-bêta*(BH$15-$H51)))    +   (_C*EXP(-gamma*(BH$15-$H51 )))      )","v":0},{"$f":"  $G51/[0]!Poids      *      (     (A*EXP(-alpha*(BI$15-$H51)))     +      (B*EXP(-bêta*(BI$15-$H51)))    +   (_C*EXP(-gamma*(BI$15-$H51 )))      )","v":0},{"$f":"  $G51/[0]!Poids      *      (     (A*EXP(-alpha*(BJ$15-$H51)))     +      (B*EXP(-bêta*(BJ$15-$H51)))    +   (_C*EXP(-gamma*(BJ$15-$H51 )))      )","v":0},{"$f":"  $G51/[0]!Poids      *      (     (A*EXP(-alpha*(BK$15-$H51)))     +      (B*EXP(-bêta*(BK$15-$H51)))    +   (_C*EXP(-gamma*(BK$15-$H51 )))      )","v":0},{"$f":"  $G51/[0]!Poids      *      (     (A*EXP(-alpha*(BL$15-$H51)))     +      (B*EXP(-bêta*(BL$15-$H51)))    +   (_C*EXP(-gamma*(BL$15-$H51 )))      )","v":0},{"$f":"  $G51/[0]!Poids      *      (     (A*EXP(-alpha*(BM$15-$H51)))     +      (B*EXP(-bêta*(BM$15-$H51)))    +   (_C*EXP(-gamma*(BM$15-$H51 )))      )","v":0},{"$f":"  $G51/[0]!Poids      *      (     (A*EXP(-alpha*(BN$15-$H51)))     +      (B*EXP(-bêta*(BN$15-$H51)))    +   (_C*EXP(-gamma*(BN$15-$H51 )))      )","v":0},{"$f":"  $G51/[0]!Poids      *      (     (A*EXP(-alpha*(BO$15-$H51)))     +      (B*EXP(-bêta*(BO$15-$H51)))    +   (_C*EXP(-gamma*(BO$15-$H51 )))      )","v":0},{"$f":"  $G51/[0]!Poids      *      (     (A*EXP(-alpha*(BP$15-$H51)))     +      (B*EXP(-bêta*(BP$15-$H51)))    +   (_C*EXP(-gamma*(BP$15-$H51 )))      )","v":0},{"$f":"  $G51/[0]!Poids      *      (     (A*EXP(-alpha*(BQ$15-$H51)))     +      (B*EXP(-bêta*(BQ$15-$H51)))    +   (_C*EXP(-gamma*(BQ$15-$H51 )))      )","v":0},{"$f":"  $G51/[0]!Poids      *      (     (A*EXP(-alpha*(BR$15-$H51)))     +      (B*EXP(-bêta*(BR$15-$H51)))    +   (_C*EXP(-gamma*(BR$15-$H51 )))      )","v":0}]
[null,null,null,null,null,null,{"$f":"AT$10","v":0},180,null,null,null,null,null,null,null,null,null,null,null,null,null,null,null,null,null,null,null,null,null,null,null,null,null,null,null,null,null,null,null,null,null,null,null,null,null,{"$f":"  $G52/[0]!Poids      *      (     (A*EXP(-alpha*(AT$15-$H52)))     +      (B*EXP(-bêta*(AT$15-$H52)))    +   (_C*EXP(-gamma*(AT$15-$H52 )))      )","v":0},{"$f":"  $G52/[0]!Poids      *      (     (A*EXP(-alpha*(AU$15-$H52)))     +      (B*EXP(-bêta*(AU$15-$H52)))    +   (_C*EXP(-gamma*(AU$15-$H52 )))      )","v":0},{"$f":"  $G52/[0]!Poids      *      (     (A*EXP(-alpha*(AV$15-$H52)))     +      (B*EXP(-bêta*(AV$15-$H52)))    +   (_C*EXP(-gamma*(AV$15-$H52 )))      )","v":0},{"$f":"  $G52/[0]!Poids      *      (     (A*EXP(-alpha*(AW$15-$H52)))     +      (B*EXP(-bêta*(AW$15-$H52)))    +   (_C*EXP(-gamma*(AW$15-$H52 )))      )","v":0},{"$f":"  $G52/[0]!Poids      *      (     (A*EXP(-alpha*(AX$15-$H52)))     +      (B*EXP(-bêta*(AX$15-$H52)))    +   (_C*EXP(-gamma*(AX$15-$H52 )))      )","v":0},{"$f":"  $G52/[0]!Poids      *      (     (A*EXP(-alpha*(AY$15-$H52)))     +      (B*EXP(-bêta*(AY$15-$H52)))    +   (_C*EXP(-gamma*(AY$15-$H52 )))      )","v":0},{"$f":"  $G52/[0]!Poids      *      (     (A*EXP(-alpha*(AZ$15-$H52)))     +      (B*EXP(-bêta*(AZ$15-$H52)))    +   (_C*EXP(-gamma*(AZ$15-$H52 )))      )","v":0},{"$f":"  $G52/[0]!Poids      *      (     (A*EXP(-alpha*(BA$15-$H52)))     +      (B*EXP(-bêta*(BA$15-$H52)))    +   (_C*EXP(-gamma*(BA$15-$H52 )))      )","v":0},{"$f":"  $G52/[0]!Poids      *      (     (A*EXP(-alpha*(BB$15-$H52)))     +      (B*EXP(-bêta*(BB$15-$H52)))    +   (_C*EXP(-gamma*(BB$15-$H52 )))      )","v":0},{"$f":"  $G52/[0]!Poids      *      (     (A*EXP(-alpha*(BC$15-$H52)))     +      (B*EXP(-bêta*(BC$15-$H52)))    +   (_C*EXP(-gamma*(BC$15-$H52 )))      )","v":0},{"$f":"  $G52/[0]!Poids      *      (     (A*EXP(-alpha*(BD$15-$H52)))     +      (B*EXP(-bêta*(BD$15-$H52)))    +   (_C*EXP(-gamma*(BD$15-$H52 )))      )","v":0},{"$f":"  $G52/[0]!Poids      *      (     (A*EXP(-alpha*(BE$15-$H52)))     +      (B*EXP(-bêta*(BE$15-$H52)))    +   (_C*EXP(-gamma*(BE$15-$H52 )))      )","v":0},{"$f":"  $G52/[0]!Poids      *      (     (A*EXP(-alpha*(BF$15-$H52)))     +      (B*EXP(-bêta*(BF$15-$H52)))    +   (_C*EXP(-gamma*(BF$15-$H52 )))      )","v":0},{"$f":"  $G52/[0]!Poids      *      (     (A*EXP(-alpha*(BG$15-$H52)))     +      (B*EXP(-bêta*(BG$15-$H52)))    +   (_C*EXP(-gamma*(BG$15-$H52 )))      )","v":0},{"$f":"  $G52/[0]!Poids      *      (     (A*EXP(-alpha*(BH$15-$H52)))     +      (B*EXP(-bêta*(BH$15-$H52)))    +   (_C*EXP(-gamma*(BH$15-$H52 )))      )","v":0},{"$f":"  $G52/[0]!Poids      *      (     (A*EXP(-alpha*(BI$15-$H52)))     +      (B*EXP(-bêta*(BI$15-$H52)))    +   (_C*EXP(-gamma*(BI$15-$H52 )))      )","v":0},{"$f":"  $G52/[0]!Poids      *      (     (A*EXP(-alpha*(BJ$15-$H52)))     +      (B*EXP(-bêta*(BJ$15-$H52)))    +   (_C*EXP(-gamma*(BJ$15-$H52 )))      )","v":0},{"$f":"  $G52/[0]!Poids      *      (     (A*EXP(-alpha*(BK$15-$H52)))     +      (B*EXP(-bêta*(BK$15-$H52)))    +   (_C*EXP(-gamma*(BK$15-$H52 )))      )","v":0},{"$f":"  $G52/[0]!Poids      *      (     (A*EXP(-alpha*(BL$15-$H52)))     +      (B*EXP(-bêta*(BL$15-$H52)))    +   (_C*EXP(-gamma*(BL$15-$H52 )))      )","v":0},{"$f":"  $G52/[0]!Poids      *      (     (A*EXP(-alpha*(BM$15-$H52)))     +      (B*EXP(-bêta*(BM$15-$H52)))    +   (_C*EXP(-gamma*(BM$15-$H52 )))      )","v":0},{"$f":"  $G52/[0]!Poids      *      (     (A*EXP(-alpha*(BN$15-$H52)))     +      (B*EXP(-bêta*(BN$15-$H52)))    +   (_C*EXP(-gamma*(BN$15-$H52 )))      )","v":0},{"$f":"  $G52/[0]!Poids      *      (     (A*EXP(-alpha*(BO$15-$H52)))     +      (B*EXP(-bêta*(BO$15-$H52)))    +   (_C*EXP(-gamma*(BO$15-$H52 )))      )","v":0},{"$f":"  $G52/[0]!Poids      *      (     (A*EXP(-alpha*(BP$15-$H52)))     +      (B*EXP(-bêta*(BP$15-$H52)))    +   (_C*EXP(-gamma*(BP$15-$H52 )))      )","v":0},{"$f":"  $G52/[0]!Poids      *      (     (A*EXP(-alpha*(BQ$15-$H52)))     +      (B*EXP(-bêta*(BQ$15-$H52)))    +   (_C*EXP(-gamma*(BQ$15-$H52 )))      )","v":0},{"$f":"  $G52/[0]!Poids      *      (     (A*EXP(-alpha*(BR$15-$H52)))     +      (B*EXP(-bêta*(BR$15-$H52)))    +   (_C*EXP(-gamma*(BR$15-$H52 )))      )","v":0}]
[null,null,null,null,null,null,{"$f":"AU$10","v":0},185,null,null,null,null,null,null,null,null,null,null,null,null,null,null,null,null,null,null,null,null,null,null,null,null,null,null,null,null,null,null,null,null,null,null,null,null,null,null,{"$f":"  $G53/[0]!Poids      *      (     (A*EXP(-alpha*(AU$15-$H53)))     +      (B*EXP(-bêta*(AU$15-$H53)))    +   (_C*EXP(-gamma*(AU$15-$H53 )))      )","v":0},{"$f":"  $G53/[0]!Poids      *      (     (A*EXP(-alpha*(AV$15-$H53)))     +      (B*EXP(-bêta*(AV$15-$H53)))    +   (_C*EXP(-gamma*(AV$15-$H53 )))      )","v":0},{"$f":"  $G53/[0]!Poids      *      (     (A*EXP(-alpha*(AW$15-$H53)))     +      (B*EXP(-bêta*(AW$15-$H53)))    +   (_C*EXP(-gamma*(AW$15-$H53 )))      )","v":0},{"$f":"  $G53/[0]!Poids      *      (     (A*EXP(-alpha*(AX$15-$H53)))     +      (B*EXP(-bêta*(AX$15-$H53)))    +   (_C*EXP(-gamma*(AX$15-$H53 )))      )","v":0},{"$f":"  $G53/[0]!Poids      *      (     (A*EXP(-alpha*(AY$15-$H53)))     +      (B*EXP(-bêta*(AY$15-$H53)))    +   (_C*EXP(-gamma*(AY$15-$H53 )))      )","v":0},{"$f":"  $G53/[0]!Poids      *      (     (A*EXP(-alpha*(AZ$15-$H53)))     +      (B*EXP(-bêta*(AZ$15-$H53)))    +   (_C*EXP(-gamma*(AZ$15-$H53 )))      )","v":0},{"$f":"  $G53/[0]!Poids      *      (     (A*EXP(-alpha*(BA$15-$H53)))     +      (B*EXP(-bêta*(BA$15-$H53)))    +   (_C*EXP(-gamma*(BA$15-$H53 )))      )","v":0},{"$f":"  $G53/[0]!Poids      *      (     (A*EXP(-alpha*(BB$15-$H53)))     +      (B*EXP(-bêta*(BB$15-$H53)))    +   (_C*EXP(-gamma*(BB$15-$H53 )))      )","v":0},{"$f":"  $G53/[0]!Poids      *      (     (A*EXP(-alpha*(BC$15-$H53)))     +      (B*EXP(-bêta*(BC$15-$H53)))    +   (_C*EXP(-gamma*(BC$15-$H53 )))      )","v":0},{"$f":"  $G53/[0]!Poids      *      (     (A*EXP(-alpha*(BD$15-$H53)))     +      (B*EXP(-bêta*(BD$15-$H53)))    +   (_C*EXP(-gamma*(BD$15-$H53 )))      )","v":0},{"$f":"  $G53/[0]!Poids      *      (     (A*EXP(-alpha*(BE$15-$H53)))     +      (B*EXP(-bêta*(BE$15-$H53)))    +   (_C*EXP(-gamma*(BE$15-$H53 )))      )","v":0},{"$f":"  $G53/[0]!Poids      *      (     (A*EXP(-alpha*(BF$15-$H53)))     +      (B*EXP(-bêta*(BF$15-$H53)))    +   (_C*EXP(-gamma*(BF$15-$H53 )))      )","v":0},{"$f":"  $G53/[0]!Poids      *      (     (A*EXP(-alpha*(BG$15-$H53)))     +      (B*EXP(-bêta*(BG$15-$H53)))    +   (_C*EXP(-gamma*(BG$15-$H53 )))      )","v":0},{"$f":"  $G53/[0]!Poids      *      (     (A*EXP(-alpha*(BH$15-$H53)))     +      (B*EXP(-bêta*(BH$15-$H53)))    +   (_C*EXP(-gamma*(BH$15-$H53 )))      )","v":0},{"$f":"  $G53/[0]!Poids      *      (     (A*EXP(-alpha*(BI$15-$H53)))     +      (B*EXP(-bêta*(BI$15-$H53)))    +   (_C*EXP(-gamma*(BI$15-$H53 )))      )","v":0},{"$f":"  $G53/[0]!Poids      *      (     (A*EXP(-alpha*(BJ$15-$H53)))     +      (B*EXP(-bêta*(BJ$15-$H53)))    +   (_C*EXP(-gamma*(BJ$15-$H53 )))      )","v":0},{"$f":"  $G53/[0]!Poids      *      (     (A*EXP(-alpha*(BK$15-$H53)))     +      (B*EXP(-bêta*(BK$15-$H53)))    +   (_C*EXP(-gamma*(BK$15-$H53 )))      )","v":0},{"$f":"  $G53/[0]!Poids      *      (     (A*EXP(-alpha*(BL$15-$H53)))     +      (B*EXP(-bêta*(BL$15-$H53)))    +   (_C*EXP(-gamma*(BL$15-$H53 )))      )","v":0},{"$f":"  $G53/[0]!Poids      *      (     (A*EXP(-alpha*(BM$15-$H53)))     +      (B*EXP(-bêta*(BM$15-$H53)))    +   (_C*EXP(-gamma*(BM$15-$H53 )))      )","v":0},{"$f":"  $G53/[0]!Poids      *      (     (A*EXP(-alpha*(BN$15-$H53)))     +      (B*EXP(-bêta*(BN$15-$H53)))    +   (_C*EXP(-gamma*(BN$15-$H53 )))      )","v":0},{"$f":"  $G53/[0]!Poids      *      (     (A*EXP(-alpha*(BO$15-$H53)))     +      (B*EXP(-bêta*(BO$15-$H53)))    +   (_C*EXP(-gamma*(BO$15-$H53 )))      )","v":0},{"$f":"  $G53/[0]!Poids      *      (     (A*EXP(-alpha*(BP$15-$H53)))     +      (B*EXP(-bêta*(BP$15-$H53)))    +   (_C*EXP(-gamma*(BP$15-$H53 )))      )","v":0},{"$f":"  $G53/[0]!Poids      *      (     (A*EXP(-alpha*(BQ$15-$H53)))     +      (B*EXP(-bêta*(BQ$15-$H53)))    +   (_C*EXP(-gamma*(BQ$15-$H53 )))      )","v":0},{"$f":"  $G53/[0]!Poids      *      (     (A*EXP(-alpha*(BR$15-$H53)))     +      (B*EXP(-bêta*(BR$15-$H53)))    +   (_C*EXP(-gamma*(BR$15-$H53 )))      )","v":0}]
[null,null,null,null,null,null,{"$f":"AV$10","v":0},190,null,null,null,null,null,null,null,null,null,null,null,null,null,null,null,null,null,null,null,null,null,null,null,null,null,null,null,null,null,null,null,null,null,null,null,null,null,null,null,{"$f":"  $G54/[0]!Poids      *      (     (A*EXP(-alpha*(AV$15-$H54)))     +      (B*EXP(-bêta*(AV$15-$H54)))    +   (_C*EXP(-gamma*(AV$15-$H54 )))      )","v":0},{"$f":"  $G54/[0]!Poids      *      (     (A*EXP(-alpha*(AW$15-$H54)))     +      (B*EXP(-bêta*(AW$15-$H54)))    +   (_C*EXP(-gamma*(AW$15-$H54 )))      )","v":0},{"$f":"  $G54/[0]!Poids      *      (     (A*EXP(-alpha*(AX$15-$H54)))     +      (B*EXP(-bêta*(AX$15-$H54)))    +   (_C*EXP(-gamma*(AX$15-$H54 )))      )","v":0},{"$f":"  $G54/[0]!Poids      *      (     (A*EXP(-alpha*(AY$15-$H54)))     +      (B*EXP(-bêta*(AY$15-$H54)))    +   (_C*EXP(-gamma*(AY$15-$H54 )))      )","v":0},{"$f":"  $G54/[0]!Poids      *      (     (A*EXP(-alpha*(AZ$15-$H54)))     +      (B*EXP(-bêta*(AZ$15-$H54)))    +   (_C*EXP(-gamma*(AZ$15-$H54 )))      )","v":0},{"$f":"  $G54/[0]!Poids      *      (     (A*EXP(-alpha*(BA$15-$H54)))     +      (B*EXP(-bêta*(BA$15-$H54)))    +   (_C*EXP(-gamma*(BA$15-$H54 )))      )","v":0},{"$f":"  $G54/[0]!Poids      *      (     (A*EXP(-alpha*(BB$15-$H54)))     +      (B*EXP(-bêta*(BB$15-$H54)))    +   (_C*EXP(-gamma*(BB$15-$H54 )))      )","v":0},{"$f":"  $G54/[0]!Poids      *      (     (A*EXP(-alpha*(BC$15-$H54)))     +      (B*EXP(-bêta*(BC$15-$H54)))    +   (_C*EXP(-gamma*(BC$15-$H54 )))      )","v":0},{"$f":"  $G54/[0]!Poids      *      (     (A*EXP(-alpha*(BD$15-$H54)))     +      (B*EXP(-bêta*(BD$15-$H54)))    +   (_C*EXP(-gamma*(BD$15-$H54 )))      )","v":0},{"$f":"  $G54/[0]!Poids      *      (     (A*EXP(-alpha*(BE$15-$H54)))     +      (B*EXP(-bêta*(BE$15-$H54)))    +   (_C*EXP(-gamma*(BE$15-$H54 )))      )","v":0},{"$f":"  $G54/[0]!Poids      *      (     (A*EXP(-alpha*(BF$15-$H54)))     +      (B*EXP(-bêta*(BF$15-$H54)))    +   (_C*EXP(-gamma*(BF$15-$H54 )))      )","v":0},{"$f":"  $G54/[0]!Poids      *      (     (A*EXP(-alpha*(BG$15-$H54)))     +      (B*EXP(-bêta*(BG$15-$H54)))    +   (_C*EXP(-gamma*(BG$15-$H54 )))      )","v":0},{"$f":"  $G54/[0]!Poids      *      (     (A*EXP(-alpha*(BH$15-$H54)))     +      (B*EXP(-bêta*(BH$15-$H54)))    +   (_C*EXP(-gamma*(BH$15-$H54 )))      )","v":0},{"$f":"  $G54/[0]!Poids      *      (     (A*EXP(-alpha*(BI$15-$H54)))     +      (B*EXP(-bêta*(BI$15-$H54)))    +   (_C*EXP(-gamma*(BI$15-$H54 )))      )","v":0},{"$f":"  $G54/[0]!Poids      *      (     (A*EXP(-alpha*(BJ$15-$H54)))     +      (B*EXP(-bêta*(BJ$15-$H54)))    +   (_C*EXP(-gamma*(BJ$15-$H54 )))      )","v":0},{"$f":"  $G54/[0]!Poids      *      (     (A*EXP(-alpha*(BK$15-$H54)))     +      (B*EXP(-bêta*(BK$15-$H54)))    +   (_C*EXP(-gamma*(BK$15-$H54 )))      )","v":0},{"$f":"  $G54/[0]!Poids      *      (     (A*EXP(-alpha*(BL$15-$H54)))     +      (B*EXP(-bêta*(BL$15-$H54)))    +   (_C*EXP(-gamma*(BL$15-$H54 )))      )","v":0},{"$f":"  $G54/[0]!Poids      *      (     (A*EXP(-alpha*(BM$15-$H54)))     +      (B*EXP(-bêta*(BM$15-$H54)))    +   (_C*EXP(-gamma*(BM$15-$H54 )))      )","v":0},{"$f":"  $G54/[0]!Poids      *      (     (A*EXP(-alpha*(BN$15-$H54)))     +      (B*EXP(-bêta*(BN$15-$H54)))    +   (_C*EXP(-gamma*(BN$15-$H54 )))      )","v":0},{"$f":"  $G54/[0]!Poids      *      (     (A*EXP(-alpha*(BO$15-$H54)))     +      (B*EXP(-bêta*(BO$15-$H54)))    +   (_C*EXP(-gamma*(BO$15-$H54 )))      )","v":0},{"$f":"  $G54/[0]!Poids      *      (     (A*EXP(-alpha*(BP$15-$H54)))     +      (B*EXP(-bêta*(BP$15-$H54)))    +   (_C*EXP(-gamma*(BP$15-$H54 )))      )","v":0},{"$f":"  $G54/[0]!Poids      *      (     (A*EXP(-alpha*(BQ$15-$H54)))     +      (B*EXP(-bêta*(BQ$15-$H54)))    +   (_C*EXP(-gamma*(BQ$15-$H54 )))      )","v":0},{"$f":"  $G54/[0]!Poids      *      (     (A*EXP(-alpha*(BR$15-$H54)))     +      (B*EXP(-bêta*(BR$15-$H54)))    +   (_C*EXP(-gamma*(BR$15-$H54 )))      )","v":0}]
[null,null,null,null,null,null,{"$f":"AW$10","v":0},195,null,null,null,null,null,null,null,null,null,null,null,null,null,null,null,null,null,null,null,null,null,null,null,null,null,null,null,null,null,null,null,null,null,null,null,null,null,null,null,null,{"$f":"  $G55/[0]!Poids      *      (     (A*EXP(-alpha*(AW$15-$H55)))     +      (B*EXP(-bêta*(AW$15-$H55)))    +   (_C*EXP(-gamma*(AW$15-$H55 )))      )","v":0},{"$f":"  $G55/[0]!Poids      *      (     (A*EXP(-alpha*(AX$15-$H55)))     +      (B*EXP(-bêta*(AX$15-$H55)))    +   (_C*EXP(-gamma*(AX$15-$H55 )))      )","v":0},{"$f":"  $G55/[0]!Poids      *      (     (A*EXP(-alpha*(AY$15-$H55)))     +      (B*EXP(-bêta*(AY$15-$H55)))    +   (_C*EXP(-gamma*(AY$15-$H55 )))      )","v":0},{"$f":"  $G55/[0]!Poids      *      (     (A*EXP(-alpha*(AZ$15-$H55)))     +      (B*EXP(-bêta*(AZ$15-$H55)))    +   (_C*EXP(-gamma*(AZ$15-$H55 )))      )","v":0},{"$f":"  $G55/[0]!Poids      *      (     (A*EXP(-alpha*(BA$15-$H55)))     +      (B*EXP(-bêta*(BA$15-$H55)))    +   (_C*EXP(-gamma*(BA$15-$H55 )))      )","v":0},{"$f":"  $G55/[0]!Poids      *      (     (A*EXP(-alpha*(BB$15-$H55)))     +      (B*EXP(-bêta*(BB$15-$H55)))    +   (_C*EXP(-gamma*(BB$15-$H55 )))      )","v":0},{"$f":"  $G55/[0]!Poids      *      (     (A*EXP(-alpha*(BC$15-$H55)))     +      (B*EXP(-bêta*(BC$15-$H55)))    +   (_C*EXP(-gamma*(BC$15-$H55 )))      )","v":0},{"$f":"  $G55/[0]!Poids      *      (     (A*EXP(-alpha*(BD$15-$H55)))     +      (B*EXP(-bêta*(BD$15-$H55)))    +   (_C*EXP(-gamma*(BD$15-$H55 )))      )","v":0},{"$f":"  $G55/[0]!Poids      *      (     (A*EXP(-alpha*(BE$15-$H55)))     +      (B*EXP(-bêta*(BE$15-$H55)))    +   (_C*EXP(-gamma*(BE$15-$H55 )))      )","v":0},{"$f":"  $G55/[0]!Poids      *      (     (A*EXP(-alpha*(BF$15-$H55)))     +      (B*EXP(-bêta*(BF$15-$H55)))    +   (_C*EXP(-gamma*(BF$15-$H55 )))      )","v":0},{"$f":"  $G55/[0]!Poids      *      (     (A*EXP(-alpha*(BG$15-$H55)))     +      (B*EXP(-bêta*(BG$15-$H55)))    +   (_C*EXP(-gamma*(BG$15-$H55 )))      )","v":0},{"$f":"  $G55/[0]!Poids      *      (     (A*EXP(-alpha*(BH$15-$H55)))     +      (B*EXP(-bêta*(BH$15-$H55)))    +   (_C*EXP(-gamma*(BH$15-$H55 )))      )","v":0},{"$f":"  $G55/[0]!Poids      *      (     (A*EXP(-alpha*(BI$15-$H55)))     +      (B*EXP(-bêta*(BI$15-$H55)))    +   (_C*EXP(-gamma*(BI$15-$H55 )))      )","v":0},{"$f":"  $G55/[0]!Poids      *      (     (A*EXP(-alpha*(BJ$15-$H55)))     +      (B*EXP(-bêta*(BJ$15-$H55)))    +   (_C*EXP(-gamma*(BJ$15-$H55 )))      )","v":0},{"$f":"  $G55/[0]!Poids      *      (     (A*EXP(-alpha*(BK$15-$H55)))     +      (B*EXP(-bêta*(BK$15-$H55)))    +   (_C*EXP(-gamma*(BK$15-$H55 )))      )","v":0},{"$f":"  $G55/[0]!Poids      *      (     (A*EXP(-alpha*(BL$15-$H55)))     +      (B*EXP(-bêta*(BL$15-$H55)))    +   (_C*EXP(-gamma*(BL$15-$H55 )))      )","v":0},{"$f":"  $G55/[0]!Poids      *      (     (A*EXP(-alpha*(BM$15-$H55)))     +      (B*EXP(-bêta*(BM$15-$H55)))    +   (_C*EXP(-gamma*(BM$15-$H55 )))      )","v":0},{"$f":"  $G55/[0]!Poids      *      (     (A*EXP(-alpha*(BN$15-$H55)))     +      (B*EXP(-bêta*(BN$15-$H55)))    +   (_C*EXP(-gamma*(BN$15-$H55 )))      )","v":0},{"$f":"  $G55/[0]!Poids      *      (     (A*EXP(-alpha*(BO$15-$H55)))     +      (B*EXP(-bêta*(BO$15-$H55)))    +   (_C*EXP(-gamma*(BO$15-$H55 )))      )","v":0},{"$f":"  $G55/[0]!Poids      *      (     (A*EXP(-alpha*(BP$15-$H55)))     +      (B*EXP(-bêta*(BP$15-$H55)))    +   (_C*EXP(-gamma*(BP$15-$H55 )))      )","v":0},{"$f":"  $G55/[0]!Poids      *      (     (A*EXP(-alpha*(BQ$15-$H55)))     +      (B*EXP(-bêta*(BQ$15-$H55)))    +   (_C*EXP(-gamma*(BQ$15-$H55 )))      )","v":0},{"$f":"  $G55/[0]!Poids      *      (     (A*EXP(-alpha*(BR$15-$H55)))     +      (B*EXP(-bêta*(BR$15-$H55)))    +   (_C*EXP(-gamma*(BR$15-$H55 )))      )","v":0}]
[null,null,null,null,null,null,{"$f":"AX$10","v":0},200,null,null,null,null,null,null,null,null,null,null,null,null,null,null,null,null,null,null,null,null,null,null,null,null,null,null,null,null,null,null,null,null,null,null,null,null,null,null,null,null,null,{"$f":"  $G56/[0]!Poids      *      (     (A*EXP(-alpha*(AX$15-$H56)))     +      (B*EXP(-bêta*(AX$15-$H56)))    +   (_C*EXP(-gamma*(AX$15-$H56 )))      )","v":0},{"$f":"  $G56/[0]!Poids      *      (     (A*EXP(-alpha*(AY$15-$H56)))     +      (B*EXP(-bêta*(AY$15-$H56)))    +   (_C*EXP(-gamma*(AY$15-$H56 )))      )","v":0},{"$f":"  $G56/[0]!Poids      *      (     (A*EXP(-alpha*(AZ$15-$H56)))     +      (B*EXP(-bêta*(AZ$15-$H56)))    +   (_C*EXP(-gamma*(AZ$15-$H56 )))      )","v":0},{"$f":"  $G56/[0]!Poids      *      (     (A*EXP(-alpha*(BA$15-$H56)))     +      (B*EXP(-bêta*(BA$15-$H56)))    +   (_C*EXP(-gamma*(BA$15-$H56 )))      )","v":0},{"$f":"  $G56/[0]!Poids      *      (     (A*EXP(-alpha*(BB$15-$H56)))     +      (B*EXP(-bêta*(BB$15-$H56)))    +   (_C*EXP(-gamma*(BB$15-$H56 )))      )","v":0},{"$f":"  $G56/[0]!Poids      *      (     (A*EXP(-alpha*(BC$15-$H56)))     +      (B*EXP(-bêta*(BC$15-$H56)))    +   (_C*EXP(-gamma*(BC$15-$H56 )))      )","v":0},{"$f":"  $G56/[0]!Poids      *      (     (A*EXP(-alpha*(BD$15-$H56)))     +      (B*EXP(-bêta*(BD$15-$H56)))    +   (_C*EXP(-gamma*(BD$15-$H56 )))      )","v":0},{"$f":"  $G56/[0]!Poids      *      (     (A*EXP(-alpha*(BE$15-$H56)))     +      (B*EXP(-bêta*(BE$15-$H56)))    +   (_C*EXP(-gamma*(BE$15-$H56 )))      )","v":0},{"$f":"  $G56/[0]!Poids      *      (     (A*EXP(-alpha*(BF$15-$H56)))     +      (B*EXP(-bêta*(BF$15-$H56)))    +   (_C*EXP(-gamma*(BF$15-$H56 )))      )","v":0},{"$f":"  $G56/[0]!Poids      *      (     (A*EXP(-alpha*(BG$15-$H56)))     +      (B*EXP(-bêta*(BG$15-$H56)))    +   (_C*EXP(-gamma*(BG$15-$H56 )))      )","v":0},{"$f":"  $G56/[0]!Poids      *      (     (A*EXP(-alpha*(BH$15-$H56)))     +      (B*EXP(-bêta*(BH$15-$H56)))    +   (_C*EXP(-gamma*(BH$15-$H56 )))      )","v":0},{"$f":"  $G56/[0]!Poids      *      (     (A*EXP(-alpha*(BI$15-$H56)))     +      (B*EXP(-bêta*(BI$15-$H56)))    +   (_C*EXP(-gamma*(BI$15-$H56 )))      )","v":0},{"$f":"  $G56/[0]!Poids      *      (     (A*EXP(-alpha*(BJ$15-$H56)))     +      (B*EXP(-bêta*(BJ$15-$H56)))    +   (_C*EXP(-gamma*(BJ$15-$H56 )))      )","v":0},{"$f":"  $G56/[0]!Poids      *      (     (A*EXP(-alpha*(BK$15-$H56)))     +      (B*EXP(-bêta*(BK$15-$H56)))    +   (_C*EXP(-gamma*(BK$15-$H56 )))      )","v":0},{"$f":"  $G56/[0]!Poids      *      (     (A*EXP(-alpha*(BL$15-$H56)))     +      (B*EXP(-bêta*(BL$15-$H56)))    +   (_C*EXP(-gamma*(BL$15-$H56 )))      )","v":0},{"$f":"  $G56/[0]!Poids      *      (     (A*EXP(-alpha*(BM$15-$H56)))     +      (B*EXP(-bêta*(BM$15-$H56)))    +   (_C*EXP(-gamma*(BM$15-$H56 )))      )","v":0},{"$f":"  $G56/[0]!Poids      *      (     (A*EXP(-alpha*(BN$15-$H56)))     +      (B*EXP(-bêta*(BN$15-$H56)))    +   (_C*EXP(-gamma*(BN$15-$H56 )))      )","v":0},{"$f":"  $G56/[0]!Poids      *      (     (A*EXP(-alpha*(BO$15-$H56)))     +      (B*EXP(-bêta*(BO$15-$H56)))    +   (_C*EXP(-gamma*(BO$15-$H56 )))      )","v":0},{"$f":"  $G56/[0]!Poids      *      (     (A*EXP(-alpha*(BP$15-$H56)))     +      (B*EXP(-bêta*(BP$15-$H56)))    +   (_C*EXP(-gamma*(BP$15-$H56 )))      )","v":0},{"$f":"  $G56/[0]!Poids      *      (     (A*EXP(-alpha*(BQ$15-$H56)))     +      (B*EXP(-bêta*(BQ$15-$H56)))    +   (_C*EXP(-gamma*(BQ$15-$H56 )))      )","v":0},{"$f":"  $G56/[0]!Poids      *      (     (A*EXP(-alpha*(BR$15-$H56)))     +      (B*EXP(-bêta*(BR$15-$H56)))    +   (_C*EXP(-gamma*(BR$15-$H56 )))      )","v":0}]
[null,null,null,null,null,null,{"$f":"AY$10","v":0},205,null,null,null,null,null,null,null,null,null,null,null,null,null,null,null,null,null,null,null,null,null,null,null,null,null,null,null,null,null,null,null,null,null,null,null,null,null,null,null,null,null,null,{"$f":"  $G57/[0]!Poids      *      (     (A*EXP(-alpha*(AY$15-$H57)))     +      (B*EXP(-bêta*(AY$15-$H57)))    +   (_C*EXP(-gamma*(AY$15-$H57 )))      )","v":0},{"$f":"  $G57/[0]!Poids      *      (     (A*EXP(-alpha*(AZ$15-$H57)))     +      (B*EXP(-bêta*(AZ$15-$H57)))    +   (_C*EXP(-gamma*(AZ$15-$H57 )))      )","v":0},{"$f":"  $G57/[0]!Poids      *      (     (A*EXP(-alpha*(BA$15-$H57)))     +      (B*EXP(-bêta*(BA$15-$H57)))    +   (_C*EXP(-gamma*(BA$15-$H57 )))      )","v":0},{"$f":"  $G57/[0]!Poids      *      (     (A*EXP(-alpha*(BB$15-$H57)))     +      (B*EXP(-bêta*(BB$15-$H57)))    +   (_C*EXP(-gamma*(BB$15-$H57 )))      )","v":0},{"$f":"  $G57/[0]!Poids      *      (     (A*EXP(-alpha*(BC$15-$H57)))     +      (B*EXP(-bêta*(BC$15-$H57)))    +   (_C*EXP(-gamma*(BC$15-$H57 )))      )","v":0},{"$f":"  $G57/[0]!Poids      *      (     (A*EXP(-alpha*(BD$15-$H57)))     +      (B*EXP(-bêta*(BD$15-$H57)))    +   (_C*EXP(-gamma*(BD$15-$H57 )))      )","v":0},{"$f":"  $G57/[0]!Poids      *      (     (A*EXP(-alpha*(BE$15-$H57)))     +      (B*EXP(-bêta*(BE$15-$H57)))    +   (_C*EXP(-gamma*(BE$15-$H57 )))      )","v":0},{"$f":"  $G57/[0]!Poids      *      (     (A*EXP(-alpha*(BF$15-$H57)))     +      (B*EXP(-bêta*(BF$15-$H57)))    +   (_C*EXP(-gamma*(BF$15-$H57 )))      )","v":0},{"$f":"  $G57/[0]!Poids      *      (     (A*EXP(-alpha*(BG$15-$H57)))     +      (B*EXP(-bêta*(BG$15-$H57)))    +   (_C*EXP(-gamma*(BG$15-$H57 )))      )","v":0},{"$f":"  $G57/[0]!Poids      *      (     (A*EXP(-alpha*(BH$15-$H57)))     +      (B*EXP(-bêta*(BH$15-$H57)))    +   (_C*EXP(-gamma*(BH$15-$H57 )))      )","v":0},{"$f":"  $G57/[0]!Poids      *      (     (A*EXP(-alpha*(BI$15-$H57)))     +      (B*EXP(-bêta*(BI$15-$H57)))    +   (_C*EXP(-gamma*(BI$15-$H57 )))      )","v":0},{"$f":"  $G57/[0]!Poids      *      (     (A*EXP(-alpha*(BJ$15-$H57)))     +      (B*EXP(-bêta*(BJ$15-$H57)))    +   (_C*EXP(-gamma*(BJ$15-$H57 )))      )","v":0},{"$f":"  $G57/[0]!Poids      *      (     (A*EXP(-alpha*(BK$15-$H57)))     +      (B*EXP(-bêta*(BK$15-$H57)))    +   (_C*EXP(-gamma*(BK$15-$H57 )))      )","v":0},{"$f":"  $G57/[0]!Poids      *      (     (A*EXP(-alpha*(BL$15-$H57)))     +      (B*EXP(-bêta*(BL$15-$H57)))    +   (_C*EXP(-gamma*(BL$15-$H57 )))      )","v":0},{"$f":"  $G57/[0]!Poids      *      (     (A*EXP(-alpha*(BM$15-$H57)))     +      (B*EXP(-bêta*(BM$15-$H57)))    +   (_C*EXP(-gamma*(BM$15-$H57 )))      )","v":0},{"$f":"  $G57/[0]!Poids      *      (     (A*EXP(-alpha*(BN$15-$H57)))     +      (B*EXP(-bêta*(BN$15-$H57)))    +   (_C*EXP(-gamma*(BN$15-$H57 )))      )","v":0},{"$f":"  $G57/[0]!Poids      *      (     (A*EXP(-alpha*(BO$15-$H57)))     +      (B*EXP(-bêta*(BO$15-$H57)))    +   (_C*EXP(-gamma*(BO$15-$H57 )))      )","v":0},{"$f":"  $G57/[0]!Poids      *      (     (A*EXP(-alpha*(BP$15-$H57)))     +      (B*EXP(-bêta*(BP$15-$H57)))    +   (_C*EXP(-gamma*(BP$15-$H57 )))      )","v":0},{"$f":"  $G57/[0]!Poids      *      (     (A*EXP(-alpha*(BQ$15-$H57)))     +      (B*EXP(-bêta*(BQ$15-$H57)))    +   (_C*EXP(-gamma*(BQ$15-$H57 )))      )","v":0},{"$f":"  $G57/[0]!Poids      *      (     (A*EXP(-alpha*(BR$15-$H57)))     +      (B*EXP(-bêta*(BR$15-$H57)))    +   (_C*EXP(-gamma*(BR$15-$H57 )))      )","v":0}]
[null,null,null,null,null,null,{"$f":"AZ$10","v":0},210,null,null,null,null,null,null,null,null,null,null,null,null,null,null,null,null,null,null,null,null,null,null,null,null,null,null,null,null,null,null,null,null,null,null,null,null,null,null,null,null,null,null,null,{"$f":"  $G58/[0]!Poids      *      (     (A*EXP(-alpha*(AZ$15-$H58)))     +      (B*EXP(-bêta*(AZ$15-$H58)))    +   (_C*EXP(-gamma*(AZ$15-$H58 )))      )","v":0},{"$f":"  $G58/[0]!Poids      *      (     (A*EXP(-alpha*(BA$15-$H58)))     +      (B*EXP(-bêta*(BA$15-$H58)))    +   (_C*EXP(-gamma*(BA$15-$H58 )))      )","v":0},{"$f":"  $G58/[0]!Poids      *      (     (A*EXP(-alpha*(BB$15-$H58)))     +      (B*EXP(-bêta*(BB$15-$H58)))    +   (_C*EXP(-gamma*(BB$15-$H58 )))      )","v":0},{"$f":"  $G58/[0]!Poids      *      (     (A*EXP(-alpha*(BC$15-$H58)))     +      (B*EXP(-bêta*(BC$15-$H58)))    +   (_C*EXP(-gamma*(BC$15-$H58 )))      )","v":0},{"$f":"  $G58/[0]!Poids      *      (     (A*EXP(-alpha*(BD$15-$H58)))     +      (B*EXP(-bêta*(BD$15-$H58)))    +   (_C*EXP(-gamma*(BD$15-$H58 )))      )","v":0},{"$f":"  $G58/[0]!Poids      *      (     (A*EXP(-alpha*(BE$15-$H58)))     +      (B*EXP(-bêta*(BE$15-$H58)))    +   (_C*EXP(-gamma*(BE$15-$H58 )))      )","v":0},{"$f":"  $G58/[0]!Poids      *      (     (A*EXP(-alpha*(BF$15-$H58)))     +      (B*EXP(-bêta*(BF$15-$H58)))    +   (_C*EXP(-gamma*(BF$15-$H58 )))      )","v":0},{"$f":"  $G58/[0]!Poids      *      (     (A*EXP(-alpha*(BG$15-$H58)))     +      (B*EXP(-bêta*(BG$15-$H58)))    +   (_C*EXP(-gamma*(BG$15-$H58 )))      )","v":0},{"$f":"  $G58/[0]!Poids      *      (     (A*EXP(-alpha*(BH$15-$H58)))     +      (B*EXP(-bêta*(BH$15-$H58)))    +   (_C*EXP(-gamma*(BH$15-$H58 )))      )","v":0},{"$f":"  $G58/[0]!Poids      *      (     (A*EXP(-alpha*(BI$15-$H58)))     +      (B*EXP(-bêta*(BI$15-$H58)))    +   (_C*EXP(-gamma*(BI$15-$H58 )))      )","v":0},{"$f":"  $G58/[0]!Poids      *      (     (A*EXP(-alpha*(BJ$15-$H58)))     +      (B*EXP(-bêta*(BJ$15-$H58)))    +   (_C*EXP(-gamma*(BJ$15-$H58 )))      )","v":0},{"$f":"  $G58/[0]!Poids      *      (     (A*EXP(-alpha*(BK$15-$H58)))     +      (B*EXP(-bêta*(BK$15-$H58)))    +   (_C*EXP(-gamma*(BK$15-$H58 )))      )","v":0},{"$f":"  $G58/[0]!Poids      *      (     (A*EXP(-alpha*(BL$15-$H58)))     +      (B*EXP(-bêta*(BL$15-$H58)))    +   (_C*EXP(-gamma*(BL$15-$H58 )))      )","v":0},{"$f":"  $G58/[0]!Poids      *      (     (A*EXP(-alpha*(BM$15-$H58)))     +      (B*EXP(-bêta*(BM$15-$H58)))    +   (_C*EXP(-gamma*(BM$15-$H58 )))      )","v":0},{"$f":"  $G58/[0]!Poids      *      (     (A*EXP(-alpha*(BN$15-$H58)))     +      (B*EXP(-bêta*(BN$15-$H58)))    +   (_C*EXP(-gamma*(BN$15-$H58 )))      )","v":0},{"$f":"  $G58/[0]!Poids      *      (     (A*EXP(-alpha*(BO$15-$H58)))     +      (B*EXP(-bêta*(BO$15-$H58)))    +   (_C*EXP(-gamma*(BO$15-$H58 )))      )","v":0},{"$f":"  $G58/[0]!Poids      *      (     (A*EXP(-alpha*(BP$15-$H58)))     +      (B*EXP(-bêta*(BP$15-$H58)))    +   (_C*EXP(-gamma*(BP$15-$H58 )))      )","v":0},{"$f":"  $G58/[0]!Poids      *      (     (A*EXP(-alpha*(BQ$15-$H58)))     +      (B*EXP(-bêta*(BQ$15-$H58)))    +   (_C*EXP(-gamma*(BQ$15-$H58 )))      )","v":0},{"$f":"  $G58/[0]!Poids      *      (     (A*EXP(-alpha*(BR$15-$H58)))     +      (B*EXP(-bêta*(BR$15-$H58)))    +   (_C*EXP(-gamma*(BR$15-$H58 )))      )","v":0}]
[null,null,null,null,null,null,{"$f":"BA$10","v":0},215,null,null,null,null,null,null,null,null,null,null,null,null,null,null,null,null,null,null,null,null,null,null,null,null,null,null,null,null,null,null,null,null,null,null,null,null,null,null,null,null,null,null,null,null,{"$f":"  $G59/[0]!Poids      *      (     (A*EXP(-alpha*(BA$15-$H59)))     +      (B*EXP(-bêta*(BA$15-$H59)))    +   (_C*EXP(-gamma*(BA$15-$H59 )))      )","v":0},{"$f":"  $G59/[0]!Poids      *      (     (A*EXP(-alpha*(BB$15-$H59)))     +      (B*EXP(-bêta*(BB$15-$H59)))    +   (_C*EXP(-gamma*(BB$15-$H59 )))      )","v":0},{"$f":"  $G59/[0]!Poids      *      (     (A*EXP(-alpha*(BC$15-$H59)))     +      (B*EXP(-bêta*(BC$15-$H59)))    +   (_C*EXP(-gamma*(BC$15-$H59 )))      )","v":0},{"$f":"  $G59/[0]!Poids      *      (     (A*EXP(-alpha*(BD$15-$H59)))     +      (B*EXP(-bêta*(BD$15-$H59)))    +   (_C*EXP(-gamma*(BD$15-$H59 )))      )","v":0},{"$f":"  $G59/[0]!Poids      *      (     (A*EXP(-alpha*(BE$15-$H59)))     +      (B*EXP(-bêta*(BE$15-$H59)))    +   (_C*EXP(-gamma*(BE$15-$H59 )))      )","v":0},{"$f":"  $G59/[0]!Poids      *      (     (A*EXP(-alpha*(BF$15-$H59)))     +      (B*EXP(-bêta*(BF$15-$H59)))    +   (_C*EXP(-gamma*(BF$15-$H59 )))      )","v":0},{"$f":"  $G59/[0]!Poids      *      (     (A*EXP(-alpha*(BG$15-$H59)))     +      (B*EXP(-bêta*(BG$15-$H59)))    +   (_C*EXP(-gamma*(BG$15-$H59 )))      )","v":0},{"$f":"  $G59/[0]!Poids      *      (     (A*EXP(-alpha*(BH$15-$H59)))     +      (B*EXP(-bêta*(BH$15-$H59)))    +   (_C*EXP(-gamma*(BH$15-$H59 )))      )","v":0},{"$f":"  $G59/[0]!Poids      *      (     (A*EXP(-alpha*(BI$15-$H59)))     +      (B*EXP(-bêta*(BI$15-$H59)))    +   (_C*EXP(-gamma*(BI$15-$H59 )))      )","v":0},{"$f":"  $G59/[0]!Poids      *      (     (A*EXP(-alpha*(BJ$15-$H59)))     +      (B*EXP(-bêta*(BJ$15-$H59)))    +   (_C*EXP(-gamma*(BJ$15-$H59 )))      )","v":0},{"$f":"  $G59/[0]!Poids      *      (     (A*EXP(-alpha*(BK$15-$H59)))     +      (B*EXP(-bêta*(BK$15-$H59)))    +   (_C*EXP(-gamma*(BK$15-$H59 )))      )","v":0},{"$f":"  $G59/[0]!Poids      *      (     (A*EXP(-alpha*(BL$15-$H59)))     +      (B*EXP(-bêta*(BL$15-$H59)))    +   (_C*EXP(-gamma*(BL$15-$H59 )))      )","v":0},{"$f":"  $G59/[0]!Poids      *      (     (A*EXP(-alpha*(BM$15-$H59)))     +      (B*EXP(-bêta*(BM$15-$H59)))    +   (_C*EXP(-gamma*(BM$15-$H59 )))      )","v":0},{"$f":"  $G59/[0]!Poids      *      (     (A*EXP(-alpha*(BN$15-$H59)))     +      (B*EXP(-bêta*(BN$15-$H59)))    +   (_C*EXP(-gamma*(BN$15-$H59 )))      )","v":0},{"$f":"  $G59/[0]!Poids      *      (     (A*EXP(-alpha*(BO$15-$H59)))     +      (B*EXP(-bêta*(BO$15-$H59)))    +   (_C*EXP(-gamma*(BO$15-$H59 )))      )","v":0},{"$f":"  $G59/[0]!Poids      *      (     (A*EXP(-alpha*(BP$15-$H59)))     +      (B*EXP(-bêta*(BP$15-$H59)))    +   (_C*EXP(-gamma*(BP$15-$H59 )))      )","v":0},{"$f":"  $G59/[0]!Poids      *      (     (A*EXP(-alpha*(BQ$15-$H59)))     +      (B*EXP(-bêta*(BQ$15-$H59)))    +   (_C*EXP(-gamma*(BQ$15-$H59 )))      )","v":0},{"$f":"  $G59/[0]!Poids      *      (     (A*EXP(-alpha*(BR$15-$H59)))     +      (B*EXP(-bêta*(BR$15-$H59)))    +   (_C*EXP(-gamma*(BR$15-$H59 )))      )","v":0}]
[null,null,null,null,null,null,{"$f":"BB$10","v":0},220,null,null,null,null,null,null,null,null,null,null,null,null,null,null,null,null,null,null,null,null,null,null,null,null,null,null,null,null,null,null,null,null,null,null,null,null,null,null,null,null,null,null,null,null,null,{"$f":"  $G60/[0]!Poids      *      (     (A*EXP(-alpha*(BB$15-$H60)))     +      (B*EXP(-bêta*(BB$15-$H60)))    +   (_C*EXP(-gamma*(BB$15-$H60 )))      )","v":0},{"$f":"  $G60/[0]!Poids      *      (     (A*EXP(-alpha*(BC$15-$H60)))     +      (B*EXP(-bêta*(BC$15-$H60)))    +   (_C*EXP(-gamma*(BC$15-$H60 )))      )","v":0},{"$f":"  $G60/[0]!Poids      *      (     (A*EXP(-alpha*(BD$15-$H60)))     +      (B*EXP(-bêta*(BD$15-$H60)))    +   (_C*EXP(-gamma*(BD$15-$H60 )))      )","v":0},{"$f":"  $G60/[0]!Poids      *      (     (A*EXP(-alpha*(BE$15-$H60)))     +      (B*EXP(-bêta*(BE$15-$H60)))    +   (_C*EXP(-gamma*(BE$15-$H60 )))      )","v":0},{"$f":"  $G60/[0]!Poids      *      (     (A*EXP(-alpha*(BF$15-$H60)))     +      (B*EXP(-bêta*(BF$15-$H60)))    +   (_C*EXP(-gamma*(BF$15-$H60 )))      )","v":0},{"$f":"  $G60/[0]!Poids      *      (     (A*EXP(-alpha*(BG$15-$H60)))     +      (B*EXP(-bêta*(BG$15-$H60)))    +   (_C*EXP(-gamma*(BG$15-$H60 )))      )","v":0},{"$f":"  $G60/[0]!Poids      *      (     (A*EXP(-alpha*(BH$15-$H60)))     +      (B*EXP(-bêta*(BH$15-$H60)))    +   (_C*EXP(-gamma*(BH$15-$H60 )))      )","v":0},{"$f":"  $G60/[0]!Poids      *      (     (A*EXP(-alpha*(BI$15-$H60)))     +      (B*EXP(-bêta*(BI$15-$H60)))    +   (_C*EXP(-gamma*(BI$15-$H60 )))      )","v":0},{"$f":"  $G60/[0]!Poids      *      (     (A*EXP(-alpha*(BJ$15-$H60)))     +      (B*EXP(-bêta*(BJ$15-$H60)))    +   (_C*EXP(-gamma*(BJ$15-$H60 )))      )","v":0},{"$f":"  $G60/[0]!Poids      *      (     (A*EXP(-alpha*(BK$15-$H60)))     +      (B*EXP(-bêta*(BK$15-$H60)))    +   (_C*EXP(-gamma*(BK$15-$H60 )))      )","v":0},{"$f":"  $G60/[0]!Poids      *      (     (A*EXP(-alpha*(BL$15-$H60)))     +      (B*EXP(-bêta*(BL$15-$H60)))    +   (_C*EXP(-gamma*(BL$15-$H60 )))      )","v":0},{"$f":"  $G60/[0]!Poids      *      (     (A*EXP(-alpha*(BM$15-$H60)))     +      (B*EXP(-bêta*(BM$15-$H60)))    +   (_C*EXP(-gamma*(BM$15-$H60 )))      )","v":0},{"$f":"  $G60/[0]!Poids      *      (     (A*EXP(-alpha*(BN$15-$H60)))     +      (B*EXP(-bêta*(BN$15-$H60)))    +   (_C*EXP(-gamma*(BN$15-$H60 )))      )","v":0},{"$f":"  $G60/[0]!Poids      *      (     (A*EXP(-alpha*(BO$15-$H60)))     +      (B*EXP(-bêta*(BO$15-$H60)))    +   (_C*EXP(-gamma*(BO$15-$H60 )))      )","v":0},{"$f":"  $G60/[0]!Poids      *      (     (A*EXP(-alpha*(BP$15-$H60)))     +      (B*EXP(-bêta*(BP$15-$H60)))    +   (_C*EXP(-gamma*(BP$15-$H60 )))      )","v":0},{"$f":"  $G60/[0]!Poids      *      (     (A*EXP(-alpha*(BQ$15-$H60)))     +      (B*EXP(-bêta*(BQ$15-$H60)))    +   (_C*EXP(-gamma*(BQ$15-$H60 )))      )","v":0},{"$f":"  $G60/[0]!Poids      *      (     (A*EXP(-alpha*(BR$15-$H60)))     +      (B*EXP(-bêta*(BR$15-$H60)))    +   (_C*EXP(-gamma*(BR$15-$H60 )))      )","v":0}]
[null,null,null,null,null,null,{"$f":"BC$10","v":0},225,null,null,null,null,null,null,null,null,null,null,null,null,null,null,null,null,null,null,null,null,null,null,null,null,null,null,null,null,null,null,null,null,null,null,null,null,null,null,null,null,null,null,null,null,null,null,{"$f":"  $G61/[0]!Poids      *      (     (A*EXP(-alpha*(BC$15-$H61)))     +      (B*EXP(-bêta*(BC$15-$H61)))    +   (_C*EXP(-gamma*(BC$15-$H61 )))      )","v":0},{"$f":"  $G61/[0]!Poids      *      (     (A*EXP(-alpha*(BD$15-$H61)))     +      (B*EXP(-bêta*(BD$15-$H61)))    +   (_C*EXP(-gamma*(BD$15-$H61 )))      )","v":0},{"$f":"  $G61/[0]!Poids      *      (     (A*EXP(-alpha*(BE$15-$H61)))     +      (B*EXP(-bêta*(BE$15-$H61)))    +   (_C*EXP(-gamma*(BE$15-$H61 )))      )","v":0},{"$f":"  $G61/[0]!Poids      *      (     (A*EXP(-alpha*(BF$15-$H61)))     +      (B*EXP(-bêta*(BF$15-$H61)))    +   (_C*EXP(-gamma*(BF$15-$H61 )))      )","v":0},{"$f":"  $G61/[0]!Poids      *      (     (A*EXP(-alpha*(BG$15-$H61)))     +      (B*EXP(-bêta*(BG$15-$H61)))    +   (_C*EXP(-gamma*(BG$15-$H61 )))      )","v":0},{"$f":"  $G61/[0]!Poids      *      (     (A*EXP(-alpha*(BH$15-$H61)))     +      (B*EXP(-bêta*(BH$15-$H61)))    +   (_C*EXP(-gamma*(BH$15-$H61 )))      )","v":0},{"$f":"  $G61/[0]!Poids      *      (     (A*EXP(-alpha*(BI$15-$H61)))     +      (B*EXP(-bêta*(BI$15-$H61)))    +   (_C*EXP(-gamma*(BI$15-$H61 )))      )","v":0},{"$f":"  $G61/[0]!Poids      *      (     (A*EXP(-alpha*(BJ$15-$H61)))     +      (B*EXP(-bêta*(BJ$15-$H61)))    +   (_C*EXP(-gamma*(BJ$15-$H61 )))      )","v":0},{"$f":"  $G61/[0]!Poids      *      (     (A*EXP(-alpha*(BK$15-$H61)))     +      (B*EXP(-bêta*(BK$15-$H61)))    +   (_C*EXP(-gamma*(BK$15-$H61 )))      )","v":0},{"$f":"  $G61/[0]!Poids      *      (     (A*EXP(-alpha*(BL$15-$H61)))     +      (B*EXP(-bêta*(BL$15-$H61)))    +   (_C*EXP(-gamma*(BL$15-$H61 )))      )","v":0},{"$f":"  $G61/[0]!Poids      *      (     (A*EXP(-alpha*(BM$15-$H61)))     +      (B*EXP(-bêta*(BM$15-$H61)))    +   (_C*EXP(-gamma*(BM$15-$H61 )))      )","v":0},{"$f":"  $G61/[0]!Poids      *      (     (A*EXP(-alpha*(BN$15-$H61)))     +      (B*EXP(-bêta*(BN$15-$H61)))    +   (_C*EXP(-gamma*(BN$15-$H61 )))      )","v":0},{"$f":"  $G61/[0]!Poids      *      (     (A*EXP(-alpha*(BO$15-$H61)))     +      (B*EXP(-bêta*(BO$15-$H61)))    +   (_C*EXP(-gamma*(BO$15-$H61 )))      )","v":0},{"$f":"  $G61/[0]!Poids      *      (     (A*EXP(-alpha*(BP$15-$H61)))     +      (B*EXP(-bêta*(BP$15-$H61)))    +   (_C*EXP(-gamma*(BP$15-$H61 )))      )","v":0},{"$f":"  $G61/[0]!Poids      *      (     (A*EXP(-alpha*(BQ$15-$H61)))     +      (B*EXP(-bêta*(BQ$15-$H61)))    +   (_C*EXP(-gamma*(BQ$15-$H61 )))      )","v":0},{"$f":"  $G61/[0]!Poids      *      (     (A*EXP(-alpha*(BR$15-$H61)))     +      (B*EXP(-bêta*(BR$15-$H61)))    +   (_C*EXP(-gamma*(BR$15-$H61 )))      )","v":0}]
[null,null,null,null,null,null,{"$f":"BD$10","v":0},230,null,null,null,null,null,null,null,null,null,null,null,null,null,null,null,null,null,null,null,null,null,null,null,null,null,null,null,null,null,null,null,null,null,null,null,null,null,null,null,null,null,null,null,null,null,null,null,{"$f":"  $G62/[0]!Poids      *      (     (A*EXP(-alpha*(BD$15-$H62)))     +      (B*EXP(-bêta*(BD$15-$H62)))    +   (_C*EXP(-gamma*(BD$15-$H62 )))      )","v":0},{"$f":"  $G62/[0]!Poids      *      (     (A*EXP(-alpha*(BE$15-$H62)))     +      (B*EXP(-bêta*(BE$15-$H62)))    +   (_C*EXP(-gamma*(BE$15-$H62 )))      )","v":0},{"$f":"  $G62/[0]!Poids      *      (     (A*EXP(-alpha*(BF$15-$H62)))     +      (B*EXP(-bêta*(BF$15-$H62)))    +   (_C*EXP(-gamma*(BF$15-$H62 )))      )","v":0},{"$f":"  $G62/[0]!Poids      *      (     (A*EXP(-alpha*(BG$15-$H62)))     +      (B*EXP(-bêta*(BG$15-$H62)))    +   (_C*EXP(-gamma*(BG$15-$H62 )))      )","v":0},{"$f":"  $G62/[0]!Poids      *      (     (A*EXP(-alpha*(BH$15-$H62)))     +      (B*EXP(-bêta*(BH$15-$H62)))    +   (_C*EXP(-gamma*(BH$15-$H62 )))      )","v":0},{"$f":"  $G62/[0]!Poids      *      (     (A*EXP(-alpha*(BI$15-$H62)))     +      (B*EXP(-bêta*(BI$15-$H62)))    +   (_C*EXP(-gamma*(BI$15-$H62 )))      )","v":0},{"$f":"  $G62/[0]!Poids      *      (     (A*EXP(-alpha*(BJ$15-$H62)))     +      (B*EXP(-bêta*(BJ$15-$H62)))    +   (_C*EXP(-gamma*(BJ$15-$H62 )))      )","v":0},{"$f":"  $G62/[0]!Poids      *      (     (A*EXP(-alpha*(BK$15-$H62)))     +      (B*EXP(-bêta*(BK$15-$H62)))    +   (_C*EXP(-gamma*(BK$15-$H62 )))      )","v":0},{"$f":"  $G62/[0]!Poids      *      (     (A*EXP(-alpha*(BL$15-$H62)))     +      (B*EXP(-bêta*(BL$15-$H62)))    +   (_C*EXP(-gamma*(BL$15-$H62 )))      )","v":0},{"$f":"  $G62/[0]!Poids      *      (     (A*EXP(-alpha*(BM$15-$H62)))     +      (B*EXP(-bêta*(BM$15-$H62)))    +   (_C*EXP(-gamma*(BM$15-$H62 )))      )","v":0},{"$f":"  $G62/[0]!Poids      *      (     (A*EXP(-alpha*(BN$15-$H62)))     +      (B*EXP(-bêta*(BN$15-$H62)))    +   (_C*EXP(-gamma*(BN$15-$H62 )))      )","v":0},{"$f":"  $G62/[0]!Poids      *      (     (A*EXP(-alpha*(BO$15-$H62)))     +      (B*EXP(-bêta*(BO$15-$H62)))    +   (_C*EXP(-gamma*(BO$15-$H62 )))      )","v":0},{"$f":"  $G62/[0]!Poids      *      (     (A*EXP(-alpha*(BP$15-$H62)))     +      (B*EXP(-bêta*(BP$15-$H62)))    +   (_C*EXP(-gamma*(BP$15-$H62 )))      )","v":0},{"$f":"  $G62/[0]!Poids      *      (     (A*EXP(-alpha*(BQ$15-$H62)))     +      (B*EXP(-bêta*(BQ$15-$H62)))    +   (_C*EXP(-gamma*(BQ$15-$H62 )))      )","v":0},{"$f":"  $G62/[0]!Poids      *      (     (A*EXP(-alpha*(BR$15-$H62)))     +      (B*EXP(-bêta*(BR$15-$H62)))    +   (_C*EXP(-gamma*(BR$15-$H62 )))      )","v":0}]
[null,null,null,null,null,null,{"$f":"BE$10","v":0},235,null,null,null,null,null,null,null,null,null,null,null,null,null,null,null,null,null,null,null,null,null,null,null,null,null,null,null,null,null,null,null,null,null,null,null,null,null,null,null,null,null,null,null,null,null,null,null,null,{"$f":"  $G63/[0]!Poids      *      (     (A*EXP(-alpha*(BE$15-$H63)))     +      (B*EXP(-bêta*(BE$15-$H63)))    +   (_C*EXP(-gamma*(BE$15-$H63 )))      )","v":0},{"$f":"  $G63/[0]!Poids      *      (     (A*EXP(-alpha*(BF$15-$H63)))     +      (B*EXP(-bêta*(BF$15-$H63)))    +   (_C*EXP(-gamma*(BF$15-$H63 )))      )","v":0},{"$f":"  $G63/[0]!Poids      *      (     (A*EXP(-alpha*(BG$15-$H63)))     +      (B*EXP(-bêta*(BG$15-$H63)))    +   (_C*EXP(-gamma*(BG$15-$H63 )))      )","v":0},{"$f":"  $G63/[0]!Poids      *      (     (A*EXP(-alpha*(BH$15-$H63)))     +      (B*EXP(-bêta*(BH$15-$H63)))    +   (_C*EXP(-gamma*(BH$15-$H63 )))      )","v":0},{"$f":"  $G63/[0]!Poids      *      (     (A*EXP(-alpha*(BI$15-$H63)))     +      (B*EXP(-bêta*(BI$15-$H63)))    +   (_C*EXP(-gamma*(BI$15-$H63 )))      )","v":0},{"$f":"  $G63/[0]!Poids      *      (     (A*EXP(-alpha*(BJ$15-$H63)))     +      (B*EXP(-bêta*(BJ$15-$H63)))    +   (_C*EXP(-gamma*(BJ$15-$H63 )))      )","v":0},{"$f":"  $G63/[0]!Poids      *      (     (A*EXP(-alpha*(BK$15-$H63)))     +      (B*EXP(-bêta*(BK$15-$H63)))    +   (_C*EXP(-gamma*(BK$15-$H63 )))      )","v":0},{"$f":"  $G63/[0]!Poids      *      (     (A*EXP(-alpha*(BL$15-$H63)))     +      (B*EXP(-bêta*(BL$15-$H63)))    +   (_C*EXP(-gamma*(BL$15-$H63 )))      )","v":0},{"$f":"  $G63/[0]!Poids      *      (     (A*EXP(-alpha*(BM$15-$H63)))     +      (B*EXP(-bêta*(BM$15-$H63)))    +   (_C*EXP(-gamma*(BM$15-$H63 )))      )","v":0},{"$f":"  $G63/[0]!Poids      *      (     (A*EXP(-alpha*(BN$15-$H63)))     +      (B*EXP(-bêta*(BN$15-$H63)))    +   (_C*EXP(-gamma*(BN$15-$H63 )))      )","v":0},{"$f":"  $G63/[0]!Poids      *      (     (A*EXP(-alpha*(BO$15-$H63)))     +      (B*EXP(-bêta*(BO$15-$H63)))    +   (_C*EXP(-gamma*(BO$15-$H63 )))      )","v":0},{"$f":"  $G63/[0]!Poids      *      (     (A*EXP(-alpha*(BP$15-$H63)))     +      (B*EXP(-bêta*(BP$15-$H63)))    +   (_C*EXP(-gamma*(BP$15-$H63 )))      )","v":0},{"$f":"  $G63/[0]!Poids      *      (     (A*EXP(-alpha*(BQ$15-$H63)))     +      (B*EXP(-bêta*(BQ$15-$H63)))    +   (_C*EXP(-gamma*(BQ$15-$H63 )))      )","v":0},{"$f":"  $G63/[0]!Poids      *      (     (A*EXP(-alpha*(BR$15-$H63)))     +      (B*EXP(-bêta*(BR$15-$H63)))    +   (_C*EXP(-gamma*(BR$15-$H63 )))      )","v":0}]
[null,null,null,null,null,null,{"$f":"BF$10","v":0},240,null,null,null,null,null,null,null,null,null,null,null,null,null,null,null,null,null,null,null,null,null,null,null,null,null,null,null,null,null,null,null,null,null,null,null,null,null,null,null,null,null,null,null,null,null,null,null,null,null,{"$f":"  $G64/[0]!Poids      *      (     (A*EXP(-alpha*(BF$15-$H64)))     +      (B*EXP(-bêta*(BF$15-$H64)))    +   (_C*EXP(-gamma*(BF$15-$H64 )))      )","v":0},{"$f":"  $G64/[0]!Poids      *      (     (A*EXP(-alpha*(BG$15-$H64)))     +      (B*EXP(-bêta*(BG$15-$H64)))    +   (_C*EXP(-gamma*(BG$15-$H64 )))      )","v":0},{"$f":"  $G64/[0]!Poids      *      (     (A*EXP(-alpha*(BH$15-$H64)))     +      (B*EXP(-bêta*(BH$15-$H64)))    +   (_C*EXP(-gamma*(BH$15-$H64 )))      )","v":0},{"$f":"  $G64/[0]!Poids      *      (     (A*EXP(-alpha*(BI$15-$H64)))     +      (B*EXP(-bêta*(BI$15-$H64)))    +   (_C*EXP(-gamma*(BI$15-$H64 )))      )","v":0},{"$f":"  $G64/[0]!Poids      *      (     (A*EXP(-alpha*(BJ$15-$H64)))     +      (B*EXP(-bêta*(BJ$15-$H64)))    +   (_C*EXP(-gamma*(BJ$15-$H64 )))      )","v":0},{"$f":"  $G64/[0]!Poids      *      (     (A*EXP(-alpha*(BK$15-$H64)))     +      (B*EXP(-bêta*(BK$15-$H64)))    +   (_C*EXP(-gamma*(BK$15-$H64 )))      )","v":0},{"$f":"  $G64/[0]!Poids      *      (     (A*EXP(-alpha*(BL$15-$H64)))     +      (B*EXP(-bêta*(BL$15-$H64)))    +   (_C*EXP(-gamma*(BL$15-$H64 )))      )","v":0},{"$f":"  $G64/[0]!Poids      *      (     (A*EXP(-alpha*(BM$15-$H64)))     +      (B*EXP(-bêta*(BM$15-$H64)))    +   (_C*EXP(-gamma*(BM$15-$H64 )))      )","v":0},{"$f":"  $G64/[0]!Poids      *      (     (A*EXP(-alpha*(BN$15-$H64)))     +      (B*EXP(-bêta*(BN$15-$H64)))    +   (_C*EXP(-gamma*(BN$15-$H64 )))      )","v":0},{"$f":"  $G64/[0]!Poids      *      (     (A*EXP(-alpha*(BO$15-$H64)))     +      (B*EXP(-bêta*(BO$15-$H64)))    +   (_C*EXP(-gamma*(BO$15-$H64 )))      )","v":0},{"$f":"  $G64/[0]!Poids      *      (     (A*EXP(-alpha*(BP$15-$H64)))     +      (B*EXP(-bêta*(BP$15-$H64)))    +   (_C*EXP(-gamma*(BP$15-$H64 )))      )","v":0},{"$f":"  $G64/[0]!Poids      *      (     (A*EXP(-alpha*(BQ$15-$H64)))     +      (B*EXP(-bêta*(BQ$15-$H64)))    +   (_C*EXP(-gamma*(BQ$15-$H64 )))      )","v":0},{"$f":"  $G64/[0]!Poids      *      (     (A*EXP(-alpha*(BR$15-$H64)))     +      (B*EXP(-bêta*(BR$15-$H64)))    +   (_C*EXP(-gamma*(BR$15-$H64 )))      )","v":0}]
[null,null,null,null,null,null,{"$f":"BG$10","v":0},245,null,null,null,null,null,null,null,null,null,null,null,null,null,null,null,null,null,null,null,null,null,null,null,null,null,null,null,null,null,null,null,null,null,null,null,null,null,null,null,null,null,null,null,null,null,null,null,null,null,null,{"$f":"  $G65/[0]!Poids      *      (     (A*EXP(-alpha*(BG$15-$H65)))     +      (B*EXP(-bêta*(BG$15-$H65)))    +   (_C*EXP(-gamma*(BG$15-$H65 )))      )","v":0},{"$f":"  $G65/[0]!Poids      *      (     (A*EXP(-alpha*(BH$15-$H65)))     +      (B*EXP(-bêta*(BH$15-$H65)))    +   (_C*EXP(-gamma*(BH$15-$H65 )))      )","v":0},{"$f":"  $G65/[0]!Poids      *      (     (A*EXP(-alpha*(BI$15-$H65)))     +      (B*EXP(-bêta*(BI$15-$H65)))    +   (_C*EXP(-gamma*(BI$15-$H65 )))      )","v":0},{"$f":"  $G65/[0]!Poids      *      (     (A*EXP(-alpha*(BJ$15-$H65)))     +      (B*EXP(-bêta*(BJ$15-$H65)))    +   (_C*EXP(-gamma*(BJ$15-$H65 )))      )","v":0},{"$f":"  $G65/[0]!Poids      *      (     (A*EXP(-alpha*(BK$15-$H65)))     +      (B*EXP(-bêta*(BK$15-$H65)))    +   (_C*EXP(-gamma*(BK$15-$H65 )))      )","v":0},{"$f":"  $G65/[0]!Poids      *      (     (A*EXP(-alpha*(BL$15-$H65)))     +      (B*EXP(-bêta*(BL$15-$H65)))    +   (_C*EXP(-gamma*(BL$15-$H65 )))      )","v":0},{"$f":"  $G65/[0]!Poids      *      (     (A*EXP(-alpha*(BM$15-$H65)))     +      (B*EXP(-bêta*(BM$15-$H65)))    +   (_C*EXP(-gamma*(BM$15-$H65 )))      )","v":0},{"$f":"  $G65/[0]!Poids      *      (     (A*EXP(-alpha*(BN$15-$H65)))     +      (B*EXP(-bêta*(BN$15-$H65)))    +   (_C*EXP(-gamma*(BN$15-$H65 )))      )","v":0},{"$f":"  $G65/[0]!Poids      *      (     (A*EXP(-alpha*(BO$15-$H65)))     +      (B*EXP(-bêta*(BO$15-$H65)))    +   (_C*EXP(-gamma*(BO$15-$H65 )))      )","v":0},{"$f":"  $G65/[0]!Poids      *      (     (A*EXP(-alpha*(BP$15-$H65)))     +      (B*EXP(-bêta*(BP$15-$H65)))    +   (_C*EXP(-gamma*(BP$15-$H65 )))      )","v":0},{"$f":"  $G65/[0]!Poids      *      (     (A*EXP(-alpha*(BQ$15-$H65)))     +      (B*EXP(-bêta*(BQ$15-$H65)))    +   (_C*EXP(-gamma*(BQ$15-$H65 )))      )","v":0},{"$f":"  $G65/[0]!Poids      *      (     (A*EXP(-alpha*(BR$15-$H65)))     +      (B*EXP(-bêta*(BR$15-$H65)))    +   (_C*EXP(-gamma*(BR$15-$H65 )))      )","v":0}]
[null,null,null,null,null,null,{"$f":"BH$10","v":0},250,null,null,null,null,null,null,null,null,null,null,null,null,null,null,null,null,null,null,null,null,null,null,null,null,null,null,null,null,null,null,null,null,null,null,null,null,null,null,null,null,null,null,null,null,null,null,null,null,null,null,null,{"$f":"  $G66/[0]!Poids      *      (     (A*EXP(-alpha*(BH$15-$H66)))     +      (B*EXP(-bêta*(BH$15-$H66)))    +   (_C*EXP(-gamma*(BH$15-$H66 )))      )","v":0},{"$f":"  $G66/[0]!Poids      *      (     (A*EXP(-alpha*(BI$15-$H66)))     +      (B*EXP(-bêta*(BI$15-$H66)))    +   (_C*EXP(-gamma*(BI$15-$H66 )))      )","v":0},{"$f":"  $G66/[0]!Poids      *      (     (A*EXP(-alpha*(BJ$15-$H66)))     +      (B*EXP(-bêta*(BJ$15-$H66)))    +   (_C*EXP(-gamma*(BJ$15-$H66 )))      )","v":0},{"$f":"  $G66/[0]!Poids      *      (     (A*EXP(-alpha*(BK$15-$H66)))     +      (B*EXP(-bêta*(BK$15-$H66)))    +   (_C*EXP(-gamma*(BK$15-$H66 )))      )","v":0},{"$f":"  $G66/[0]!Poids      *      (     (A*EXP(-alpha*(BL$15-$H66)))     +      (B*EXP(-bêta*(BL$15-$H66)))    +   (_C*EXP(-gamma*(BL$15-$H66 )))      )","v":0},{"$f":"  $G66/[0]!Poids      *      (     (A*EXP(-alpha*(BM$15-$H66)))     +      (B*EXP(-bêta*(BM$15-$H66)))    +   (_C*EXP(-gamma*(BM$15-$H66 )))      )","v":0},{"$f":"  $G66/[0]!Poids      *      (     (A*EXP(-alpha*(BN$15-$H66)))     +      (B*EXP(-bêta*(BN$15-$H66)))    +   (_C*EXP(-gamma*(BN$15-$H66 )))      )","v":0},{"$f":"  $G66/[0]!Poids      *      (     (A*EXP(-alpha*(BO$15-$H66)))     +      (B*EXP(-bêta*(BO$15-$H66)))    +   (_C*EXP(-gamma*(BO$15-$H66 )))      )","v":0},{"$f":"  $G66/[0]!Poids      *      (     (A*EXP(-alpha*(BP$15-$H66)))     +      (B*EXP(-bêta*(BP$15-$H66)))    +   (_C*EXP(-gamma*(BP$15-$H66 )))      )","v":0},{"$f":"  $G66/[0]!Poids      *      (     (A*EXP(-alpha*(BQ$15-$H66)))     +      (B*EXP(-bêta*(BQ$15-$H66)))    +   (_C*EXP(-gamma*(BQ$15-$H66 )))      )","v":0},{"$f":"  $G66/[0]!Poids      *      (     (A*EXP(-alpha*(BR$15-$H66)))     +      (B*EXP(-bêta*(BR$15-$H66)))    +   (_C*EXP(-gamma*(BR$15-$H66 )))      )","v":0}]
[null,null,null,null,null,null,{"$f":"BI$10","v":0},255,null,null,null,null,null,null,null,null,null,null,null,null,null,null,null,null,null,null,null,null,null,null,null,null,null,null,null,null,null,null,null,null,null,null,null,null,null,null,null,null,null,null,null,null,null,null,null,null,null,null,null,null,{"$f":"  $G67/[0]!Poids      *      (     (A*EXP(-alpha*(BI$15-$H67)))     +      (B*EXP(-bêta*(BI$15-$H67)))    +   (_C*EXP(-gamma*(BI$15-$H67 )))      )","v":0},{"$f":"  $G67/[0]!Poids      *      (     (A*EXP(-alpha*(BJ$15-$H67)))     +      (B*EXP(-bêta*(BJ$15-$H67)))    +   (_C*EXP(-gamma*(BJ$15-$H67 )))      )","v":0},{"$f":"  $G67/[0]!Poids      *      (     (A*EXP(-alpha*(BK$15-$H67)))     +      (B*EXP(-bêta*(BK$15-$H67)))    +   (_C*EXP(-gamma*(BK$15-$H67 )))      )","v":0},{"$f":"  $G67/[0]!Poids      *      (     (A*EXP(-alpha*(BL$15-$H67)))     +      (B*EXP(-bêta*(BL$15-$H67)))    +   (_C*EXP(-gamma*(BL$15-$H67 )))      )","v":0},{"$f":"  $G67/[0]!Poids      *      (     (A*EXP(-alpha*(BM$15-$H67)))     +      (B*EXP(-bêta*(BM$15-$H67)))    +   (_C*EXP(-gamma*(BM$15-$H67 )))      )","v":0},{"$f":"  $G67/[0]!Poids      *      (     (A*EXP(-alpha*(BN$15-$H67)))     +      (B*EXP(-bêta*(BN$15-$H67)))    +   (_C*EXP(-gamma*(BN$15-$H67 )))      )","v":0},{"$f":"  $G67/[0]!Poids      *      (     (A*EXP(-alpha*(BO$15-$H67)))     +      (B*EXP(-bêta*(BO$15-$H67)))    +   (_C*EXP(-gamma*(BO$15-$H67 )))      )","v":0},{"$f":"  $G67/[0]!Poids      *      (     (A*EXP(-alpha*(BP$15-$H67)))     +      (B*EXP(-bêta*(BP$15-$H67)))    +   (_C*EXP(-gamma*(BP$15-$H67 )))      )","v":0},{"$f":"  $G67/[0]!Poids      *      (     (A*EXP(-alpha*(BQ$15-$H67)))     +      (B*EXP(-bêta*(BQ$15-$H67)))    +   (_C*EXP(-gamma*(BQ$15-$H67 )))      )","v":0},{"$f":"  $G67/[0]!Poids      *      (     (A*EXP(-alpha*(BR$15-$H67)))     +      (B*EXP(-bêta*(BR$15-$H67)))    +   (_C*EXP(-gamma*(BR$15-$H67 )))      )","v":0}]
[null,null,null,null,null,null,{"$f":"BJ$10","v":0},260,null,null,null,null,null,null,null,null,null,null,null,null,null,null,null,null,null,null,null,null,null,null,null,null,null,null,null,null,null,null,null,null,null,null,null,null,null,null,null,null,null,null,null,null,null,null,null,null,null,null,null,null,null,{"$f":"  $G68/[0]!Poids      *      (     (A*EXP(-alpha*(BJ$15-$H68)))     +      (B*EXP(-bêta*(BJ$15-$H68)))    +   (_C*EXP(-gamma*(BJ$15-$H68 )))      )","v":0},{"$f":"  $G68/[0]!Poids      *      (     (A*EXP(-alpha*(BK$15-$H68)))     +      (B*EXP(-bêta*(BK$15-$H68)))    +   (_C*EXP(-gamma*(BK$15-$H68 )))      )","v":0},{"$f":"  $G68/[0]!Poids      *      (     (A*EXP(-alpha*(BL$15-$H68)))     +      (B*EXP(-bêta*(BL$15-$H68)))    +   (_C*EXP(-gamma*(BL$15-$H68 )))      )","v":0},{"$f":"  $G68/[0]!Poids      *      (     (A*EXP(-alpha*(BM$15-$H68)))     +      (B*EXP(-bêta*(BM$15-$H68)))    +   (_C*EXP(-gamma*(BM$15-$H68 )))      )","v":0},{"$f":"  $G68/[0]!Poids      *      (     (A*EXP(-alpha*(BN$15-$H68)))     +      (B*EXP(-bêta*(BN$15-$H68)))    +   (_C*EXP(-gamma*(BN$15-$H68 )))      )","v":0},{"$f":"  $G68/[0]!Poids      *      (     (A*EXP(-alpha*(BO$15-$H68)))     +      (B*EXP(-bêta*(BO$15-$H68)))    +   (_C*EXP(-gamma*(BO$15-$H68 )))      )","v":0},{"$f":"  $G68/[0]!Poids      *      (     (A*EXP(-alpha*(BP$15-$H68)))     +      (B*EXP(-bêta*(BP$15-$H68)))    +   (_C*EXP(-gamma*(BP$15-$H68 )))      )","v":0},{"$f":"  $G68/[0]!Poids      *      (     (A*EXP(-alpha*(BQ$15-$H68)))     +      (B*EXP(-bêta*(BQ$15-$H68)))    +   (_C*EXP(-gamma*(BQ$15-$H68 )))      )","v":0},{"$f":"  $G68/[0]!Poids      *      (     (A*EXP(-alpha*(BR$15-$H68)))     +      (B*EXP(-bêta*(BR$15-$H68)))    +   (_C*EXP(-gamma*(BR$15-$H68 )))      )","v":0}]
[null,null,null,null,null,null,{"$f":"BK$10","v":0},265,null,null,null,null,null,null,null,null,null,null,null,null,null,null,null,null,null,null,null,null,null,null,null,null,null,null,null,null,null,null,null,null,null,null,null,null,null,null,null,null,null,null,null,null,null,null,null,null,null,null,null,null,null,null,{"$f":"  $G69/[0]!Poids      *      (     (A*EXP(-alpha*(BK$15-$H69)))     +      (B*EXP(-bêta*(BK$15-$H69)))    +   (_C*EXP(-gamma*(BK$15-$H69 )))      )","v":0},{"$f":"  $G69/[0]!Poids      *      (     (A*EXP(-alpha*(BL$15-$H69)))     +      (B*EXP(-bêta*(BL$15-$H69)))    +   (_C*EXP(-gamma*(BL$15-$H69 )))      )","v":0},{"$f":"  $G69/[0]!Poids      *      (     (A*EXP(-alpha*(BM$15-$H69)))     +      (B*EXP(-bêta*(BM$15-$H69)))    +   (_C*EXP(-gamma*(BM$15-$H69 )))      )","v":0},{"$f":"  $G69/[0]!Poids      *      (     (A*EXP(-alpha*(BN$15-$H69)))     +      (B*EXP(-bêta*(BN$15-$H69)))    +   (_C*EXP(-gamma*(BN$15-$H69 )))      )","v":0},{"$f":"  $G69/[0]!Poids      *      (     (A*EXP(-alpha*(BO$15-$H69)))     +      (B*EXP(-bêta*(BO$15-$H69)))    +   (_C*EXP(-gamma*(BO$15-$H69 )))      )","v":0},{"$f":"  $G69/[0]!Poids      *      (     (A*EXP(-alpha*(BP$15-$H69)))     +      (B*EXP(-bêta*(BP$15-$H69)))    +   (_C*EXP(-gamma*(BP$15-$H69 )))      )","v":0},{"$f":"  $G69/[0]!Poids      *      (     (A*EXP(-alpha*(BQ$15-$H69)))     +      (B*EXP(-bêta*(BQ$15-$H69)))    +   (_C*EXP(-gamma*(BQ$15-$H69 )))      )","v":0},{"$f":"  $G69/[0]!Poids      *      (     (A*EXP(-alpha*(BR$15-$H69)))     +      (B*EXP(-bêta*(BR$15-$H69)))    +   (_C*EXP(-gamma*(BR$15-$H69 )))      )","v":0}]
[null,null,null,null,null,null,{"$f":"BL$10","v":0},270,null,null,null,null,null,null,null,null,null,null,null,null,null,null,null,null,null,null,null,null,null,null,null,null,null,null,null,null,null,null,null,null,null,null,null,null,null,null,null,null,null,null,null,null,null,null,null,null,null,null,null,null,null,null,null,{"$f":"  $G70/[0]!Poids      *      (     (A*EXP(-alpha*(BL$15-$H70)))     +      (B*EXP(-bêta*(BL$15-$H70)))    +   (_C*EXP(-gamma*(BL$15-$H70 )))      )","v":0},{"$f":"  $G70/[0]!Poids      *      (     (A*EXP(-alpha*(BM$15-$H70)))     +      (B*EXP(-bêta*(BM$15-$H70)))    +   (_C*EXP(-gamma*(BM$15-$H70 )))      )","v":0},{"$f":"  $G70/[0]!Poids      *      (     (A*EXP(-alpha*(BN$15-$H70)))     +      (B*EXP(-bêta*(BN$15-$H70)))    +   (_C*EXP(-gamma*(BN$15-$H70 )))      )","v":0},{"$f":"  $G70/[0]!Poids      *      (     (A*EXP(-alpha*(BO$15-$H70)))     +      (B*EXP(-bêta*(BO$15-$H70)))    +   (_C*EXP(-gamma*(BO$15-$H70 )))      )","v":0},{"$f":"  $G70/[0]!Poids      *      (     (A*EXP(-alpha*(BP$15-$H70)))     +      (B*EXP(-bêta*(BP$15-$H70)))    +   (_C*EXP(-gamma*(BP$15-$H70 )))      )","v":0},{"$f":"  $G70/[0]!Poids      *      (     (A*EXP(-alpha*(BQ$15-$H70)))     +      (B*EXP(-bêta*(BQ$15-$H70)))    +   (_C*EXP(-gamma*(BQ$15-$H70 )))      )","v":0},{"$f":"  $G70/[0]!Poids      *      (     (A*EXP(-alpha*(BR$15-$H70)))     +      (B*EXP(-bêta*(BR$15-$H70)))    +   (_C*EXP(-gamma*(BR$15-$H70 )))      )","v":0}]
[null,null,null,null,null,null,{"$f":"BM$10","v":0},275,null,null,null,null,null,null,null,null,null,null,null,null,null,null,null,null,null,null,null,null,null,null,null,null,null,null,null,null,null,null,null,null,null,null,null,null,null,null,null,null,null,null,null,null,null,null,null,null,null,null,null,null,null,null,null,null,{"$f":"  $G71/[0]!Poids      *      (     (A*EXP(-alpha*(BM$15-$H71)))     +      (B*EXP(-bêta*(BM$15-$H71)))    +   (_C*EXP(-gamma*(BM$15-$H71 )))      )","v":0},{"$f":"  $G71/[0]!Poids      *      (     (A*EXP(-alpha*(BN$15-$H71)))     +      (B*EXP(-bêta*(BN$15-$H71)))    +   (_C*EXP(-gamma*(BN$15-$H71 )))      )","v":0},{"$f":"  $G71/[0]!Poids      *      (     (A*EXP(-alpha*(BO$15-$H71)))     +      (B*EXP(-bêta*(BO$15-$H71)))    +   (_C*EXP(-gamma*(BO$15-$H71 )))      )","v":0},{"$f":"  $G71/[0]!Poids      *      (     (A*EXP(-alpha*(BP$15-$H71)))     +      (B*EXP(-bêta*(BP$15-$H71)))    +   (_C*EXP(-gamma*(BP$15-$H71 )))      )","v":0},{"$f":"  $G71/[0]!Poids      *      (     (A*EXP(-alpha*(BQ$15-$H71)))     +      (B*EXP(-bêta*(BQ$15-$H71)))    +   (_C*EXP(-gamma*(BQ$15-$H71 )))      )","v":0},{"$f":"  $G71/[0]!Poids      *      (     (A*EXP(-alpha*(BR$15-$H71)))     +      (B*EXP(-bêta*(BR$15-$H71)))    +   (_C*EXP(-gamma*(BR$15-$H71 )))      )","v":0}]
[null,null,null,null,null,null,{"$f":"BN$10","v":0},280,null,null,null,null,null,null,null,null,null,null,null,null,null,null,null,null,null,null,null,null,null,null,null,null,null,null,null,null,null,null,null,null,null,null,null,null,null,null,null,null,null,null,null,null,null,null,null,null,null,null,null,null,null,null,null,null,null,{"$f":"  $G72/[0]!Poids      *      (     (A*EXP(-alpha*(BN$15-$H72)))     +      (B*EXP(-bêta*(BN$15-$H72)))    +   (_C*EXP(-gamma*(BN$15-$H72 )))      )","v":0},{"$f":"  $G72/[0]!Poids      *      (     (A*EXP(-alpha*(BO$15-$H72)))     +      (B*EXP(-bêta*(BO$15-$H72)))    +   (_C*EXP(-gamma*(BO$15-$H72 )))      )","v":0},{"$f":"  $G72/[0]!Poids      *      (     (A*EXP(-alpha*(BP$15-$H72)))     +      (B*EXP(-bêta*(BP$15-$H72)))    +   (_C*EXP(-gamma*(BP$15-$H72 )))      )","v":0},{"$f":"  $G72/[0]!Poids      *      (     (A*EXP(-alpha*(BQ$15-$H72)))     +      (B*EXP(-bêta*(BQ$15-$H72)))    +   (_C*EXP(-gamma*(BQ$15-$H72 )))      )","v":0},{"$f":"  $G72/[0]!Poids      *      (     (A*EXP(-alpha*(BR$15-$H72)))     +      (B*EXP(-bêta*(BR$15-$H72)))    +   (_C*EXP(-gamma*(BR$15-$H72 )))      )","v":0}]
[null,null,null,null,null,null,{"$f":"BO$10","v":0},285,null,null,null,null,null,null,null,null,null,null,null,null,null,null,null,null,null,null,null,null,null,null,null,null,null,null,null,null,null,null,null,null,null,null,null,null,null,null,null,null,null,null,null,null,null,null,null,null,null,null,null,null,null,null,null,null,null,null,{"$f":"  $G73/[0]!Poids      *      (     (A*EXP(-alpha*(BO$15-$H73)))     +      (B*EXP(-bêta*(BO$15-$H73)))    +   (_C*EXP(-gamma*(BO$15-$H73 )))      )","v":0},{"$f":"  $G73/[0]!Poids      *      (     (A*EXP(-alpha*(BP$15-$H73)))     +      (B*EXP(-bêta*(BP$15-$H73)))    +   (_C*EXP(-gamma*(BP$15-$H73 )))      )","v":0},{"$f":"  $G73/[0]!Poids      *      (     (A*EXP(-alpha*(BQ$15-$H73)))     +      (B*EXP(-bêta*(BQ$15-$H73)))    +   (_C*EXP(-gamma*(BQ$15-$H73 )))      )","v":0},{"$f":"  $G73/[0]!Poids      *      (     (A*EXP(-alpha*(BR$15-$H73)))     +      (B*EXP(-bêta*(BR$15-$H73)))    +   (_C*EXP(-gamma*(BR$15-$H73 )))      )","v":0}]
[null,null,null,null,null,null,{"$f":"BP$10","v":0},290,null,null,null,null,null,null,null,null,null,null,null,null,null,null,null,null,null,null,null,null,null,null,null,null,null,null,null,null,null,null,null,null,null,null,null,null,null,null,null,null,null,null,null,null,null,null,null,null,null,null,null,null,null,null,null,null,null,null,null,{"$f":"  $G74/[0]!Poids      *      (     (A*EXP(-alpha*(BP$15-$H74)))     +      (B*EXP(-bêta*(BP$15-$H74)))    +   (_C*EXP(-gamma*(BP$15-$H74 )))      )","v":0},{"$f":"  $G74/[0]!Poids      *      (     (A*EXP(-alpha*(BQ$15-$H74)))     +      (B*EXP(-bêta*(BQ$15-$H74)))    +   (_C*EXP(-gamma*(BQ$15-$H74 )))      )","v":0},{"$f":"  $G74/[0]!Poids      *      (     (A*EXP(-alpha*(BR$15-$H74)))     +      (B*EXP(-bêta*(BR$15-$H74)))    +   (_C*EXP(-gamma*(BR$15-$H74 )))      )","v":0}]
[null,null,null,null,null,null,{"$f":"BQ$10","v":0},295,null,null,null,null,null,null,null,null,null,null,null,null,null,null,null,null,null,null,null,null,null,null,null,null,null,null,null,null,null,null,null,null,null,null,null,null,null,null,null,null,null,null,null,null,null,null,null,null,null,null,null,null,null,null,null,null,null,null,null,null,{"$f":"  $G75/[0]!Poids      *      (     (A*EXP(-alpha*(BQ$15-$H75)))     +      (B*EXP(-bêta*(BQ$15-$H75)))    +   (_C*EXP(-gamma*(BQ$15-$H75 )))      )","v":0},{"$f":"  $G75/[0]!Poids      *      (     (A*EXP(-alpha*(BR$15-$H75)))     +      (B*EXP(-bêta*(BR$15-$H75)))    +   (_C*EXP(-gamma*(BR$15-$H75 )))      )","v":0}]
[null,null,null,null,null,null,{"$f":"BR$10","v":0},300,null,null,null,null,null,null,null,null,null,null,null,null,null,null,null,null,null,null,null,null,null,null,null,null,null,null,null,null,null,null,null,null,null,null,null,null,null,null,null,null,null,null,null,null,null,null,null,null,null,null,null,null,null,null,null,null,null,null,null,null,null,{"$f":"  $G76/[0]!Poids      *      (     (A*EXP(-alpha*(BR$15-$H76)))     +      (B*EXP(-bêta*(BR$15-$H76)))    +   (_C*EXP(-gamma*(BR$15-$H76 )))      )","v":0}]
[]
[null,null,null,null,null,null,null,"time",null,{"$f":"J15","v":0},{"$f":"K15","v":5},10,15,20,25,30,35,40,45,50,55,60,65,70,75,80,85,90,95,100,105,110,115,120,125,130,135,140,145,150,155,160,165,170,175,180,185,190,195,200,205,210,215,220,225,230,235,240,245,250,255,260,265,270,275,280,285,290,295,300]
[null,null,null,null,null,null,null,"C (t)",null,{"$f":"SUM(J16:J75)","v":0},0,0,0,0,0,0,0,0,0,0,0,0,0,0,0,0,0,0,0,0,0,0,0,0,0,0,0,0,0,{"$f":"SUM(AN16:AN75)","v":0},{"$f":"SUM(AO16:AO75)","v":0},0,0,0,0,0,0,0,0,0,0,0,0,0,0,0,0,0,0,0,0,0,0,0,0,0,0,0,{"$f":"SUM(BQ16:BQ75)","v":0},{"$f":"SUM(BR16:BR77)","v":0}]