{"text_format":"1","workbook":"xlsx","n_sheets":3,"sheets":["RPV","Formules","Exp"],"not_rendered":{"charts":6,"images":1,"macros":1,"external_links":0,"defined_names":34,"comments":0,"pivot_tables":0},"unopened":[],"bounds":{"document_bytes":16777216,"sheet_cells":100000,"rows_first":2000,"rows_last":500,"rows_between":2000,"halvings":0,"cell_chars":16384,"cell_head_chars":4096},"cells_cut":0,"cells_raw":0,"read":"whole","date_system":"1900"}

{"sheet":"RPV","index":0,"n_rows":30,"n_cols":33,"rows_kept":30,"cut":false,"hidden":false,"merged":[[12,1,12,4],[17,25,17,27]]}
[]
[null,"Ref","Entrées",null,"Ref",null,null,"Inc","Systoles",null,null,null,null,null,null,null,"Diastoles",null,null,null,null,null,null,null,null,"Calculs","Ref","Calc",null,2,3]
[null,5500,"Volémie",null,5500,null,null,250,"boucles",null,"V","P",null,null,"V","P","V","P","C","Vo","V","P","C","Vo"," ","Ets/Ea",{"$f":"B8/B10","v":2},{"$f":"Ets/Ea","v":2},null," "," "]
[null,660,"Capacitance",null,660,null,null,10,"Ref","fm",{"$f":"AA4","v":124.51364181293295},{"$f":"AA5","v":5.6158950194152029},"Calc2","fm",{"$f":"AD4","v":124.92620624376212},{"$f":"AD5","v":5.6610851253998016},{"$f":"B9","v":10},{"$f":"EXP((0.33/S4)*(Q4-T4))-1","v":0},{"$f":"B7","v":20},{"$f":"B9","v":10},{"$f":"E9","v":10},{"$f":"EXP((0.33/W4)*(U4-X4))-1","v":0},{"$f":"E7","v":20},{"$f":"E9","v":10},null,"VTD",{"$f":"(B7*AA22)-(((B7*AA22)-47)*EXP(-AA23/(B6*B7)))","v":124.51364181293295},{"$f":"(Distensibilité*PSM)-(((Distensibilité*PSM)-VTS)*EXP(-t/(ResVein*Distensibilité)))","v":124.98109342928296},null,{"$f":"(E7*AB22)-(((E7*AB22)-AA6)*EXP(-AB23/(E6*E7)))","v":124.92620624376212},{"$f":"(E7*AB22)-(((E7*AB22)-AD6)*EXP(-AB23/(E6*E7)))","v":124.97464869141257}]
[null,45,"Hématocrite",null,45,null,null,5,null,"os",{"$f":"AA4","v":124.51364181293295},{"$f":"AA7","v":114.51364181293295},null,"os",{"$f":"AD4","v":124.92620624376212},{"$f":"AD7","v":114.92620624376212},{"$f":"Q4+25","v":35},0.51058954230767273,{"$f":"RPV!$S$4","v":20},{"$f":"RPV!$T$4","v":10},{"$f":"U4+25","v":35},0.51058954230767273,{"$f":"RPV!$W$4:$X$4","v":20},10,null,"PTD",{"$f":"EXP((0.33/B7)*(AA4-B9))-1","v":5.6158950194152029},{"$f":"EXP((0.33/Distensibilité)*(VTD-Vo))-1","v":5.6671203934213148},null,{"$f":"EXP((0.33/E7)*(AD4-E9))-1","v":5.6610851253998016},{"$f":"EXP((0.33/E7)*(AE4-E9))-1","v":5.6664114617010171}]
[null,2.8752055723863631E-2,"Res. veineuses",null,{"$f":"0.0004*EXP(0.095*E5)","v":2.8752055723863631E-2},null,null,null,null,"fs",{"$f":"AA6","v":48.17121393764431},{"$f":"AA7","v":114.51364181293295},null,"fs",{"$f":"AD6","v":48.308735414587375},{"$f":"AD7","v":114.92620624376212},60,1.2818807653293041,{"$f":"RPV!$S$4","v":20},{"$f":"RPV!$T$4","v":10},60,1.2818807653293041,20,10,null,"VTS",{"$f":"((B10*AA4)+(B8*B9))/(B8+B10)","v":48.17121393764431},{"$f":"((Ea*VTD)+(Ets*Vo))/(Ets+Ea)","v":48.327031143094324},null,{"$f":"((E10*AD4)+(E8*E9))/(E8+E10)","v":48.308735414587375},{"$f":"((E10*AE4)+(E8*E9))/(E8+E10)","v":48.324882897137527}]
[null,20,"Distensibilité",null,20,null,null,1,null,"om",{"$f":"AA6","v":48.17121393764431},{"$f":"EXP((0.33/B7)*(K7-B9))-1","v":0.87728208242647332}," ","om",{"$f":"AD6","v":48.308735414587375},{"$f":"EXP((0.33/E7)*(O7-E9))-1","v":0.88154666796764447},85,2.4469852208994745,{"$f":"RPV!$S$4","v":20},{"$f":"RPV!$T$4","v":10},85,2.4469852208994745,20,10,null,"PTS",{"$f":"B10*(AA4-AA6)","v":114.51364181293295},{"$f":"Ea*(VTD-VTS)","v":114.98109342928295},null,{"$f":"E10*(AD4-AD6)","v":114.92620624376212},{"$f":"E10*(AE4-AE6)","v":114.97464869141257}]
[null,3,"Ets",null,3,null,null,4,null,"d1",{"$f":"AA6+(AA8/3)","v":73.61868989607386},{"$f":"EXP((0.33/B7)*(K8-B9))-1","v":1.8568179007280792},null,"d1",{"$f":"AD6+(AD8/3)","v":73.84789235764562},{"$f":"EXP((0.33/E7)*(O8-E9))-1","v":1.8676423860352038},110,4.2069798271798495,{"$f":"RPV!$S$4","v":20},{"$f":"RPV!$T$4","v":10},110,4.2069798271798495,20,10,null,"VES",{"$f":"AA4-AA6","v":76.342427875288635},{"$f":"VTD-VTS","v":76.654062286188633},null,{"$f":"AD4-AD6","v":76.617470829174749},{"$f":"AE4-AE6","v":76.649765794275041}]
[null,10,"Vo",null,10,null,null,10,null,"d2",{"$f":"AA6+(2*AA8/3)","v":99.066165854503396},{"$f":"EXP((0.33/B7)*(K9-B9))-1","v":3.3474598699474027},null,"d2",{"$f":"AD6+(2*AD8/3)","v":99.387049300703865},{"$f":"EXP((0.33/E7)*(O9-E9))-1","v":3.370538873249509},135,6.8656092739448917,{"$f":"RPV!$S$4","v":20},{"$f":"RPV!$T$4","v":10},135,6.8656092739448917,20,10,null,"FE",{"$f":"AA8/AA4","v":0.61312500994858155},{"$f":"VES/VTD","v":0.61332526530951803},null,{"$f":"AD8/AD4","v":0.61330182939898925},{"$f":"AE8/AE4","v":0.61332251458084641}]
[null,1.5,"Ea",null,{"$f":"RVS*FC/1000","v":1.5},null,null,1,null,"fm",{"$f":"K4","v":124.51364181293295},{"$f":"L4","v":5.6158950194152029},null,"fm",{"$f":"O4","v":124.92620624376212},{"$f":"P4","v":5.6610851253998016},160,10.881707113099401,{"$f":"RPV!$S$4","v":20},{"$f":"RPV!$T$4","v":10},160,10.881707113099401,20,10,null,"Qc",{"$f":"AA8*B12/1000","v":5.7256820906466475},{"$f":"VES*FC/1000","v":5.7490546714641475},null,{"$f":"AD8*E12/1000","v":5.7463103121881058},{"$f":"AE8*E12/1000","v":5.7487324345706288}]
[null,20,"RVS",null,20,null,null,20,null,"Vo",{"$f":"B9","v":10},0,null,null,null,null,185,16.948382509810642,{"$f":"RPV!$S$4","v":20},{"$f":"RPV!$T$4","v":10},185,16.948382509810642,20,10," ","WE",{"$f":"(AA8*(AA7-(0.5*AA5)))*0.0001333","v":1.1367669252833825},{"$f":"(VES*(PTS-(0.5*PTD)))*0.0001333","v":1.1459219808870122},null,{"$f":"(AD8*(AD7-(0.5*AD5)))*0.0001333","v":1.1448452160800304},{"$f":"(AE8*(AE7-(0.5*AE5)))*0.0001333","v":1.1457955246565925}]
[null,75,"FC",null,75,null,null,5,null,"ETS",{"$f":"(L12+(B8*B9))/B8","v":93.333333333333329},250,null,"V","P",null,210,26.112638920657893,{"$f":"RPV!$S$4","v":20},{"$f":"RPV!$T$4","v":10},210,26.112638920657893,20,10,null,"APV",{"$f":"(AA11+(0.5*(AA6-B9)*AA7*0.0001333))","v":1.4281023878993913},{"$f":"(WE+(0.5*(VTS-Vo)*PTS*0.0001333))","v":1.4396407960699444},null,{"$f":"(AD11+(0.5*(AD6-E9)*AD7*0.0001333))","v":1.4382836799325494},{"$f":"(AE11+(0.5*(AE6-E9)*AE7*0.0001333))","v":1.4394814146399995}]
[null,null,null,null,null,null,null,null,null,"VTD",{"$f":"AA4","v":124.51364181293295},0,null,150,150,null,235,39.956068817909802,{"$f":"RPV!$S$4","v":20},{"$f":"RPV!$T$4","v":10},235,39.956068817909802,20,10,null,"MVO2",{"$f":"(2.5*AA12)+(0.3*B8)+1","v":5.4702559697484787},{"$f":"(2.5*APV)+(0.3*Ets)+1","v":5.4991019901748608},null,{"$f":"(2.5*AD12)+(0.3*E8)+1","v":5.4957091998313734},{"$f":"(2.5*AE12)+(0.3*E8)+1","v":5.498703536599999}]
[null,"Vol.",{"$f":"(E3-B3)/B3*100","v":0},null,null,null,null,null,null,"Ea",0,{"$f":"B10*AA4","v":186.7704627193994},null,null,null,null,260,60.867809250367884,{"$f":"RPV!$S$4","v":20},{"$f":"RPV!$T$4","v":10},260,60.867809250367884,20,10,null,"Rd",{"$f":"AA11/AA13","v":0.20780872624058411},{"$f":"WE/_MVO2","v":0.20838347478086583},null,{"$f":"AD11/AD13","v":0.20831619258805725},{"$f":"AE11/AE13","v":0.20837557744840154}]
[null,"Capac.",{"$f":"(E4-B4)/B4*100","v":0},null,null,null,null,null,"Calc1","fm",{"$f":"AB4","v":124.98109342928296},{"$f":"AB5","v":5.6671203934213148},"Calc3","fm",{"$f":"AE4","v":124.97464869141257},{"$f":"AE5","v":5.6664114617010171},285,92.456865659091662,{"$f":"RPV!$S$4","v":20},{"$f":"RPV!$T$4","v":10},285,92.456865659091662,20,10,null,"TaO2",{"$f":"AA10*B5*1.34/0.3","v":1150.8621002199764},{"$f":"Qc*Hte*1.34/0.3","v":1155.5599889642938}]
[null,"PSM",{"$f":"(AB22-AA22)/AA22*100","v":0},null,null,null,null,null,null,"os",{"$f":"AB4","v":124.98109342928296},{"$f":"AB7","v":114.98109342928295},null,"os",{"$f":"AE4","v":124.97464869141257},{"$f":"AE7","v":114.97464869141257},310,140.17496392147686,{"$f":"RPV!$S$4","v":20},{"$f":"RPV!$T$4","v":10},310,140.17496392147686,20,10," ",null,null,null,null,null," "]
[null,"Hte",{"$f":"(E5-B5)/B5*100","v":0},null,null,null,null,null,null,"fs",{"$f":"AB6","v":48.327031143094324},{"$f":"AB7","v":114.98109342928295},null,"fs",{"$f":"AE6","v":48.324882897137527},{"$f":"AE7","v":114.97464869141257},335,212.25742413544586,{"$f":"RPV!$S$4","v":20},{"$f":"RPV!$T$4","v":10},335,212.25742413544586,20,10," "]
[null,"R vein.",{"$f":"(E6-B6)/B6*100","v":0},null,null,null,null,null,null,"om",{"$f":"AB6","v":48.327031143094324},{"$f":"EXP((0.33/E7)*(K18-E9))-1","v":0.88211475411578699},null,"om",{"$f":"AE6","v":48.324882897137527},{"$f":"EXP((0.33/E7)*(O18-E9))-1","v":0.88204804174886187},360,321.14443471847653,{"$f":"RPV!$S$4","v":20},{"$f":"RPV!$T$4","v":10},360,321.14443471847653,20,10," ","georgesmion.com"]
[null,"Ets",{"$f":"(E8-B8)/B8*100","v":0},null,null,null,null,null,null,"d1",{"$f":"AB6+(AB8/3)","v":73.878385238490537},{"$f":"EXP((0.33/E7)*(K19-E9))-1","v":1.8690855532370683},null,"d1",{"$f":"AE6+(AE8/3)","v":73.874804828562546},{"$f":"EXP((0.33/E7)*(O19-E9))-1","v":1.8689160619540313},385,485.62801419834722,{"$f":"RPV!$S$4","v":20},{"$f":"RPV!$T$4","v":10},385,485.62801419834722,20,10]
[null,"Ea",{"$f":"(E10-B10)/B10*100","v":0},null,null,null,null,null,null,"d2",{"$f":"AB6+(2*AB8/3)","v":99.429739333886744},{"$f":"EXP((0.33/E7)*(K20-E9))-1","v":3.3736185021624063},null,"d2",{"$f":"AE6+(2*AE8/3)","v":99.42472675998755},{"$f":"EXP((0.33/E7)*(O20-E9))-1","v":3.3732567862027603},410,{"$f":"EXP((0.33/S20)*(Q20-T20))-1","v":734.09518924197323},{"$f":"RPV!$S$4","v":20},{"$f":"RPV!$T$4","v":10},410,{"$f":"EXP((0.33/W20)*(U20-X20))-1","v":734.09518924197323},20,10]
[null,"Ets / Ea",{"$f":"(AB3-AA3)/AA3*100","v":0},null,null,null,null,null,null,"fm",{"$f":"K15","v":124.98109342928296},{"$f":"L15","v":5.6671203934213148},null,"fm",{"$f":"O15","v":124.97464869141257},{"$f":"P15","v":5.6664114617010171},{"$f":"Q20+25","v":435},{"$f":"EXP((0.33/S21)*(Q21-T21))-1","v":1109.4271054696039},{"$f":"RPV!$S$4","v":20},{"$f":"RPV!$T$4","v":10},{"$f":"U20+25","v":435},{"$f":"EXP((0.33/W21)*(U21-X21))-1","v":1109.4271054696039},20,10]
[null,"FC",{"$f":"(E12-B12)/B12*100","v":0},null,null,null,null,null,null,"Vo",{"$f":"E9","v":10},0,null,null,null,null,null,null,null,null,null,null,null,null,null,"PSM",{"$f":"B3/B4","v":8.3333333333333339},{"$f":"Volémie/Capacitance","v":8.3333333333333339}]
[null,"VES",{"$f":"(AB8-AA8)/AA8*100","v":0.40820605209082106},null,null,null,null,null,null,"ETS",{"$f":"(L23+(E8*E9))/E8","v":93.333333333333329},250,null,null,null,null,null,null,null,null,null,null,null,null,null,"t",{"$f":"(60/B12)-0.2","v":0.60000000000000009},{"$f":"(60/FC)-0.2","v":0.60000000000000009}]
[null,"Qc",{"$f":"(AB10-AA10)/AA10*100","v":0.40820605209082411},null,null,null,null,null,null,"VTD",{"$f":"AB4","v":124.98109342928296},0]
[null,"FE",{"$f":"(AB9-AA9)/AA9*100","v":3.2661424291480043E-2},null,null,null,null,null,null,"Ea",0,{"$f":"E10*AB4","v":187.47164014392445},null,null,null,null,null,null,null,null,null,null,null,null,null,null,"VTD","VES"]
[null,"Rd",{"$f":"(AB14-AA14)/AA14*100","v":0.27657574861236806},null,null,null,null,null,null,null,null,null,null,null,null,null,null,null,null,null,null,null,null,null,null,"Calc 1",{"$f":"AB4","v":124.98109342928296},{"$f":"AB8","v":76.654062286188633}]
[null,null,null,null,null,null,null,null,null,null,null,null,null,null,null,null,null,null,null,null,null,null,null,null,null,"Calc 2",{"$f":"AD4","v":124.92620624376212},{"$f":"AD8","v":76.617470829174749}]
[null,null,null,null,null,null,null,null,null,null,null,null,null,null,null,null,null,null,null,null,null,null,null,null,null,"Calc 3",{"$f":"AE4","v":124.97464869141257},{"$f":"AE8","v":76.649765794275041}]
[null,null,null,null,null,null,null,null,null,null,null,null,null,null,null,null,null,null,null,null,null,null,null,null,null,"Ref 1",35.704515551209262,17.136343700806172]
[null,null,null,null,null,null,null,null,null,null,null,null,null,null,null,null,null,null,null,null,null,null,null,null,null,"Ref 2",189.888418307937,119.92561220529133,null,null,null,null,"https://dons.restosducoeur.org/"]

{"sheet":"Formules","index":1,"n_rows":18,"n_cols":4,"rows_kept":18,"cut":false,"hidden":true,"merged":[]}
["Paramètres d'entrée du système",null,"Paramètres de sortie"]
[]
["Volémie","Pression systémique moyenne","PSM","Volémie/Capacitance"]
["Capacitance : Compliance du système capacitif",null,"R veineuses"," 0,0004 x EXP(0,0952 x Hte)"]
["Hématocrite","tps de remplissage diastolique","t","(60/FC)-0,2"]
["Résistances veineuses : fction Hte",null,"VTD","(PSMxCvg)-(((PSMxCvg)-VTS)xEXP(-t/(RxCvg)))"]
["Distensibilité VG : Compliance VG",null,"PTD","EXP((0,33/distensibilité)x(VTD-Vo))-1"]
["contractilité : Ets : élastance télésystolique ",null,"VTS","( (Ea x VTD)+ (ETS x Vo) ) / (ETS+Ea)"]
["Vo : volume intercept de la relation PV",null,"PTS","Ea x VES"]
["Ea : Elastance artérielle effective = RVS x FC",null,"VES","VTD - VTS"]
[null,null,"FE","VES / VTD"]
[" ",null,"Qc","VESxFC/1000"]
[" ",null,"RVS","3,444 x EXP (0,0385 x Hte)"]
[null,null,"WE(J)","VES x ( PTS - (PTD/2) )"]
[null,null,"APV","WE + (1/2 (VTS-Vo) x PTS)"]
[null,null,"MVO2","(2,5 x APV) + (0,3 x ETS) + 1"]
[null,null,"Rd","WE / MVO2"]
[null,null,"conversion","1 mmHg.ml = 1,333 x 10-4 J"]

{"sheet":"Exp","index":2,"n_rows":3,"n_cols":13,"rows_kept":3,"cut":false,"hidden":false,"merged":[]}
[]
[null,null,"H",10,45,70,null,null,null,"H",10,45,70]
[" ",null,"R",5,20,50,null,null,null,"R",1E-3,0.03,0.3]